{"text_format":"1","workbook":"xlsx","n_sheets":7,"sheets":["MEtreh","Analiz","D2","Anb","Manabeh","Report","desk"],"not_rendered":{"charts":0,"images":13,"macros":1,"external_links":1,"defined_names":16,"comments":0,"pivot_tables":0},"unopened":[],"bounds":{"document_bytes":16777216,"sheet_cells":100000,"rows_first":2000,"rows_last":500,"rows_between":2000,"halvings":0,"cell_chars":16384,"cell_head_chars":4096},"cells_cut":0,"cells_raw":0,"read":"whole","date_system":"1900"}

{"sheet":"MEtreh","index":0,"n_rows":1003,"n_cols":14,"rows_kept":1003,"cut":false,"hidden":false,"merged":[[0,4,0,10],[1,0,2,0],[1,12,1,13],[1,1,2,1],[1,2,2,2],[1,3,2,3],[1,4,2,4],[1,8,2,8],[1,10,2,10],[1,5,2,5],[1,6,2,6],[1,7,2,7]]}
[null,{"$f":"COUNTA(B4:B1003)","v":0},"\n",null,{"$f":"'D2'!B1","v":"فهرست بهای واحد پایه رشته راه، باندفرودگاه و زیرسازی راه آهن رسته راه و ترابری سال 98"}]
["ردیف","شماره آیتم","شرح","واحد","بهاي رديف","ضریب A","ضریب B","ضریب C","مقدار","بهای کل برآوردی","بهاي واحد پيشنهادي","بهاي كل پيشنهادي","درصد رشد"]
[null,null,null,null,null,null,null,null,null,{"$f":"SUM(J4:J1003)","v":0},null,{"$f":"SUM(L4:L1003)","v":0},"اضافه","تخفيف"]
[1,null,{"$f":"IFERROR(VLOOKUP(B4,ItemDB,2,0),\"\")","v":""},{"$f":"IFERROR(VLOOKUP(B4,ItemDB,3,0),\"\")","v":""},{"$f":"PRODUCT(IFERROR(VLOOKUP(B4,ItemDB,4,0),0),F4:H4)","v":0},null,null,null,null,{"$f":"I4*E4","v":0},{"$f":"IFERROR(VLOOKUP(\"شمـاره رديف آنـاليــز :   \"&B4,Anareport,9,0),0)","v":0},{"$f":"K4*I4","v":0},{"$f":"IF(K4>E4,K4/E4-1,\"\")","v":""},{"$f":"IF(K4<E4,K4/E4-1,\"\")","v":""}]
[2,null,"","",0,null,null,null,null,0,0,0,"",""]
[3,null,"","",0,null,null,null,null,0,0,0,{"$f":"IF(K6>E6,K6/E6-1,\"\")","v":""},{"$f":"IF(K6<E6,K6/E6-1,\"\")","v":""}]
[4,null,{"$f":"IFERROR(VLOOKUP(B7,ItemDB,2,0),\"\")","v":""},"",0,null,null,null,null,0,0,0,"",""]
[5,null,"","",0,null,null,null,null,0,0,0,"",""]
[6,null,"","",0,null,null,null,null,0,0,0,"",""]
[7,null,"","",0,null,null,null,null,0,0,0,"",""]
[8,null,"","",0,null,null,null,null,0,0,0,"",""]
[9,null,"","",0,null,null,null,null,0,0,0,"",""]
[10,null,"","",0,null,null,null,null,0,0,0,"",""]
[11,null,"","",0,null,null,null,null,0,0,0,"",""]
[12,null,"","",0,null,null,null,null,0,0,0,"",""]
[13,null,"","",0,null,null,null,null,0,0,0,"",""]
[14,null,"","",0,null,null,null,null,0,0,0,"",""]
[15,null,"","",0,null,null,null,null,0,0,0,"",""]
[16,null,"","",0,null,null,null,null,0,0,0,"",""]
[17,null,"","",0,null,null,null,null,0,0,0,"",""]
[18,null,"","",0,null,null,null,null,0,0,0,"",""]
[19,null,"","",0,null,null,null,null,0,0,0,"",""]
[20,null,"","",0,null,null,null,null,0,0,0,"",""]
[21,null,"","",0,null,null,null,null,0,0,0,"",""]
[22,null,"","",0,null,null,null,null,0,0,0,"",""]
[23,null,"","",0,null,null,null,null,0,0,0,"",""]
[24,null,"","",0,null,null,null,null,0,0,0,"",""]
[25,null,"","",0,null,null,null,null,0,0,0,"",""]
[26,null,"","",0,null,null,null,null,0,0,0,"",""]
[27,null,"","",0,null,null,null,null,0,0,0,"",""]
[28,null,"","",0,null,null,null,null,0,0,0,"",""]
[29,null,"","",0,null,null,null,null,0,0,0,"",""]
[30,null,"","",0,null,null,null,null,0,0,0,"",""]
[31,null,"","",0,null,null,null,null,0,0,0,"",""]
[32,null,"","",0,null,null,null,null,0,0,0,"",""]
[33,null,"","",0,null,null,null,null,0,0,0,"",""]
[34,null,"","",0,null,null,null,null,0,0,0,"",""]
[35,null,"","",0,null,null,null,null,0,0,0,"",""]
[36,null,"","",0,null,null,null,null,0,0,0,"",""]
[37,null,"","",0,null,null,null,null,0,0,0,"",""]
[38,null,"","",0,null,null,null,null,0,0,0,"",""]
[39,null,"","",0,null,null,null,null,0,0,0,"",""]
[40,null,"","",0,null,null,null,null,0,0,0,"",""]
[41,null,"","",0,null,null,null,null,0,0,0,"",""]
[42,null,"","",0,null,null,null,null,0,0,0,"",""]
[43,null,"","",0,null,null,null,null,0,0,0,"",""]
[44,null,"","",0,null,null,null,null,0,0,0,"",""]
[45,null,"","",0,null,null,null,null,0,0,0,"",""]
[46,null,"","",0,null,null,null,null,0,0,0,"",""]
[47,null,"","",0,null,null,null,null,0,0,0,"",""]
[48,null,"","",0,null,null,null,null,0,0,0,"",""]
[49,null,"","",0,null,null,null,null,0,0,0,"",""]
[50,null,"","",0,null,null,null,null,0,0,0,"",""]
[51,null,"","",0,null,null,null,null,0,0,0,"",""]
[52,null,"","",0,null,null,null,null,0,0,0,"",""]
[53,null,"","",0,null,null,null,null,0,0,0,"",""]
[54,null,"","",0,null,null,null,null,0,0,0,"",""]
[55,null,"","",0,null,null,null,null,0,0,0,"",""]
[56,null,"","",0,null,null,null,null,0,0,0,"",""]
[57,null,"","",0,null,null,null,null,0,0,0,"",""]
[58,null,"","",0,null,null,null,null,0,0,0,"",""]
[59,null,"","",0,null,null,null,null,0,0,0,"",""]
[60,null,"","",0,null,null,null,null,0,0,0,"",""]
[61,null,"","",0,null,null,null,null,0,0,0,"",""]
[62,null,"","",0,null,null,null,null,0,0,0,"",""]
[63,null,"","",0,null,null,null,null,0,0,0,"",""]
[64,null,"","",0,null,null,null,null,0,0,0,"",""]
[65,null,{"$f":"IFERROR(VLOOKUP(B68,ItemDB,2,0),\"\")","v":""},{"$f":"IFERROR(VLOOKUP(B68,ItemDB,3,0),\"\")","v":""},{"$f":"PRODUCT(IFERROR(VLOOKUP(B68,ItemDB,4,0),0),F68:H68)","v":0},null,null,null,null,{"$f":"I68*E68","v":0},{"$f":"IFERROR(VLOOKUP(\"شمـاره رديف آنـاليــز :   \"&B68,Anareport,9,0),0)","v":0},{"$f":"K68*I68","v":0},"",""]
[66,null,"","",0,null,null,null,null,0,0,0,"",""]
[67,null,"","",0,null,null,null,null,0,0,0,{"$f":"IF(K70>E70,K70/E70-1,\"\")","v":""},{"$f":"IF(K70<E70,K70/E70-1,\"\")","v":""}]
[68,null,"","",0,null,null,null,null,0,0,0,"",""]
[69,null,"","",0,null,null,null,null,0,0,0,"",""]
[70,null,"","",0,null,null,null,null,0,0,0,"",""]
[71,null,"","",0,null,null,null,null,0,0,0,"",""]
[72,null,"","",0,null,null,null,null,0,0,0,"",""]
[73,null,"","",0,null,null,null,null,0,0,0,"",""]
[74,null,"","",0,null,null,null,null,0,0,0,"",""]
[75,null,"","",0,null,null,null,null,0,0,0,"",""]
[76,null,"","",0,null,null,null,null,0,0,0,"",""]
[77,null,"","",0,null,null,null,null,0,0,0,"",""]
[78,null,"","",0,null,null,null,null,0,0,0,"",""]
[79,null,"","",0,null,null,null,null,0,0,0,"",""]
[80,null,"","",0,null,null,null,null,0,0,0,"",""]
[81,null,"","",0,null,null,null,null,0,0,0,"",""]
[82,null,"","",0,null,null,null,null,0,0,0,"",""]
[83,null,"","",0,null,null,null,null,0,0,0,"",""]
[84,null,"","",0,null,null,null,null,0,0,0,"",""]
[85,null,"","",0,null,null,null,null,0,0,0,"",""]
[86,null,"","",0,null,null,null,null,0,0,0,"",""]
[87,null,"","",0,null,null,null,null,0,0,0,"",""]
[88,null,"","",0,null,null,null,null,0,0,0,"",""]
[89,null,"","",0,null,null,null,null,0,0,0,"",""]
[90,null,"","",0,null,null,null,null,0,0,0,"",""]
[91,null,"","",0,null,null,null,null,0,0,0,"",""]
[92,null,"","",0,null,null,null,null,0,0,0,"",""]
[93,null,"","",0,null,null,null,null,0,0,0,"",""]
[94,null,"","",0,null,null,null,null,0,0,0,"",""]
[95,null,"","",0,null,null,null,null,0,0,0,"",""]
[96,null,"","",0,null,null,null,null,0,0,0,"",""]
[97,null,"","",0,null,null,null,null,0,0,0,"",""]
[98,null,"","",0,null,null,null,null,0,0,0,"",""]
[99,null,"","",0,null,null,null,null,0,0,0,"",""]
[100,null,"","",0,null,null,null,null,0,0,0,"",""]
[101,null,"","",0,null,null,null,null,0,0,0,"",""]
[102,null,"","",0,null,null,null,null,0,0,0,"",""]
[103,null,"","",0,null,null,null,null,0,0,0,"",""]
[104,null,"","",0,null,null,null,null,0,0,0,"",""]
[105,null,"","",0,null,null,null,null,0,0,0,"",""]
[106,null,"","",0,null,null,null,null,0,0,0,"",""]
[107,null,"","",0,null,null,null,null,0,0,0,"",""]
[108,null,"","",0,null,null,null,null,0,0,0,"",""]
[109,null,"","",0,null,null,null,null,0,0,0,"",""]
[110,null,"","",0,null,null,null,null,0,0,0,"",""]
[111,null,"","",0,null,null,null,null,0,0,0,"",""]
[112,null,"","",0,null,null,null,null,0,0,0,"",""]
[113,null,"","",0,null,null,null,null,0,0,0,"",""]
[114,null,"","",0,null,null,null,null,0,0,0,"",""]
[115,null,"","",0,null,null,null,null,0,0,0,"",""]
[116,null,"","",0,null,null,null,null,0,0,0,"",""]
[117,null,"","",0,null,null,null,null,0,0,0,"",""]
[118,null,"","",0,null,null,null,null,0,0,0,"",""]
[119,null,"","",0,null,null,null,null,0,0,0,"",""]
[120,null,"","",0,null,null,null,null,0,0,0,"",""]
[121,null,"","",0,null,null,null,null,0,0,0,"",""]
[122,null,"","",0,null,null,null,null,0,0,0,"",""]
[123,null,"","",0,null,null,null,null,0,0,0,"",""]
[124,null,"","",0,null,null,null,null,0,0,0,"",""]
[125,null,"","",0,null,null,null,null,0,0,0,"",""]
[126,null,"","",0,null,null,null,null,0,0,0,"",""]
[127,null,"","",0,null,null,null,null,0,0,0,"",""]
[128,null,"","",0,null,null,null,null,0,0,0,"",""]
[129,null,{"$f":"IFERROR(VLOOKUP(B132,ItemDB,2,0),\"\")","v":""},{"$f":"IFERROR(VLOOKUP(B132,ItemDB,3,0),\"\")","v":""},{"$f":"PRODUCT(IFERROR(VLOOKUP(B132,ItemDB,4,0),0),F132:H132)","v":0},null,null,null,null,{"$f":"I132*E132","v":0},{"$f":"IFERROR(VLOOKUP(\"شمـاره رديف آنـاليــز :   \"&B132,Anareport,9,0),0)","v":0},{"$f":"K132*I132","v":0},"",""]
[130,null,"","",0,null,null,null,null,0,0,0,"",""]
[131,null,"","",0,null,null,null,null,0,0,0,{"$f":"IF(K134>E134,K134/E134-1,\"\")","v":""},{"$f":"IF(K134<E134,K134/E134-1,\"\")","v":""}]
[132,null,"","",0,null,null,null,null,0,0,0,"",""]
[133,null,"","",0,null,null,null,null,0,0,0,"",""]
[134,null,"","",0,null,null,null,null,0,0,0,"",""]
[135,null,"","",0,null,null,null,null,0,0,0,"",""]
[136,null,"","",0,null,null,null,null,0,0,0,"",""]
[137,null,"","",0,null,null,null,null,0,0,0,"",""]
[138,null,"","",0,null,null,null,null,0,0,0,"",""]
[139,null,"","",0,null,null,null,null,0,0,0,"",""]
[140,null,"","",0,null,null,null,null,0,0,0,"",""]
[141,null,"","",0,null,null,null,null,0,0,0,"",""]
[142,null,"","",0,null,null,null,null,0,0,0,"",""]
[143,null,"","",0,null,null,null,null,0,0,0,"",""]
[144,null,"","",0,null,null,null,null,0,0,0,"",""]
[145,null,"","",0,null,null,null,null,0,0,0,"",""]
[146,null,"","",0,null,null,null,null,0,0,0,"",""]
[147,null,"","",0,null,null,null,null,0,0,0,"",""]
[148,null,"","",0,null,null,null,null,0,0,0,"",""]
[149,null,"","",0,null,null,null,null,0,0,0,"",""]
[150,null,"","",0,null,null,null,null,0,0,0,"",""]
[151,null,"","",0,null,null,null,null,0,0,0,"",""]
[152,null,"","",0,null,null,null,null,0,0,0,"",""]
[153,null,"","",0,null,null,null,null,0,0,0,"",""]
[154,null,"","",0,null,null,null,null,0,0,0,"",""]
[155,null,"","",0,null,null,null,null,0,0,0,"",""]
[156,null,"","",0,null,null,null,null,0,0,0,"",""]
[157,null,"","",0,null,null,null,null,0,0,0,"",""]
[158,null,"","",0,null,null,null,null,0,0,0,"",""]
[159,null,"","",0,null,null,null,null,0,0,0,"",""]
[160,null,"","",0,null,null,null,null,0,0,0,"",""]
[161,null,"","",0,null,null,null,null,0,0,0,"",""]
[162,null,"","",0,null,null,null,null,0,0,0,"",""]
[163,null,"","",0,null,null,null,null,0,0,0,"",""]
[164,null,"","",0,null,null,null,null,0,0,0,"",""]
[165,null,"","",0,null,null,null,null,0,0,0,"",""]
[166,null,"","",0,null,null,null,null,0,0,0,"",""]
[167,null,"","",0,null,null,null,null,0,0,0,"",""]
[168,null,"","",0,null,null,null,null,0,0,0,"",""]
[169,null,"","",0,null,null,null,null,0,0,0,"",""]
[170,null,"","",0,null,null,null,null,0,0,0,"",""]
[171,null,"","",0,null,null,null,null,0,0,0,"",""]
[172,null,"","",0,null,null,null,null,0,0,0,"",""]
[173,null,"","",0,null,null,null,null,0,0,0,"",""]
[174,null,"","",0,null,null,null,null,0,0,0,"",""]
[175,null,"","",0,null,null,null,null,0,0,0,"",""]
[176,null,"","",0,null,null,null,null,0,0,0,"",""]
[177,null,"","",0,null,null,null,null,0,0,0,"",""]
[178,null,"","",0,null,null,null,null,0,0,0,"",""]
[179,null,"","",0,null,null,null,null,0,0,0,"",""]
[180,null,"","",0,null,null,null,null,0,0,0,"",""]
[181,null,"","",0,null,null,null,null,0,0,0,"",""]
[182,null,"","",0,null,null,null,null,0,0,0,"",""]
[183,null,"","",0,null,null,null,null,0,0,0,"",""]
[184,null,"","",0,null,null,null,null,0,0,0,"",""]
[185,null,"","",0,null,null,null,null,0,0,0,"",""]
[186,null,"","",0,null,null,null,null,0,0,0,"",""]
[187,null,"","",0,null,null,null,null,0,0,0,"",""]
[188,null,"","",0,null,null,null,null,0,0,0,"",""]
[189,null,"","",0,null,null,null,null,0,0,0,"",""]
[190,null,"","",0,null,null,null,null,0,0,0,"",""]
[191,null,"","",0,null,null,null,null,0,0,0,"",""]
[192,null,"","",0,null,null,null,null,0,0,0,"",""]
[193,null,{"$f":"IFERROR(VLOOKUP(B196,ItemDB,2,0),\"\")","v":""},{"$f":"IFERROR(VLOOKUP(B196,ItemDB,3,0),\"\")","v":""},{"$f":"PRODUCT(IFERROR(VLOOKUP(B196,ItemDB,4,0),0),F196:H196)","v":0},null,null,null,null,{"$f":"I196*E196","v":0},{"$f":"IFERROR(VLOOKUP(\"شمـاره رديف آنـاليــز :   \"&B196,Anareport,9,0),0)","v":0},{"$f":"K196*I196","v":0},"",""]
[194,null,"","",0,null,null,null,null,0,0,0,"",""]
[195,null,"","",0,null,null,null,null,0,0,0,{"$f":"IF(K198>E198,K198/E198-1,\"\")","v":""},{"$f":"IF(K198<E198,K198/E198-1,\"\")","v":""}]
[196,null,"","",0,null,null,null,null,0,0,0,"",""]
[197,null,"","",0,null,null,null,null,0,0,0,"",""]
[198,null,"","",0,null,null,null,null,0,0,0,"",""]
[199,null,"","",0,null,null,null,null,0,0,0,"",""]
[200,null,"","",0,null,null,null,null,0,0,0,"",""]
[201,null,"","",0,null,null,null,null,0,0,0,"",""]
[202,null,"","",0,null,null,null,null,0,0,0,"",""]
[203,null,"","",0,null,null,null,null,0,0,0,"",""]
[204,null,"","",0,null,null,null,null,0,0,0,"",""]
[205,null,"","",0,null,null,null,null,0,0,0,"",""]
[206,null,"","",0,null,null,null,null,0,0,0,"",""]
[207,null,"","",0,null,null,null,null,0,0,0,"",""]
[208,null,"","",0,null,null,null,null,0,0,0,"",""]
[209,null,"","",0,null,null,null,null,0,0,0,"",""]
[210,null,"","",0,null,null,null,null,0,0,0,"",""]
[211,null,"","",0,null,null,null,null,0,0,0,"",""]
[212,null,"","",0,null,null,null,null,0,0,0,"",""]
[213,null,"","",0,null,null,null,null,0,0,0,"",""]
[214,null,"","",0,null,null,null,null,0,0,0,"",""]
[215,null,"","",0,null,null,null,null,0,0,0,"",""]
[216,null,"","",0,null,null,null,null,0,0,0,"",""]
[217,null,"","",0,null,null,null,null,0,0,0,"",""]
[218,null,"","",0,null,null,null,null,0,0,0,"",""]
[219,null,"","",0,null,null,null,null,0,0,0,"",""]
[220,null,"","",0,null,null,null,null,0,0,0,"",""]
[221,null,"","",0,null,null,null,null,0,0,0,"",""]
[222,null,"","",0,null,null,null,null,0,0,0,"",""]
[223,null,"","",0,null,null,null,null,0,0,0,"",""]
[224,null,"","",0,null,null,null,null,0,0,0,"",""]
[225,null,"","",0,null,null,null,null,0,0,0,"",""]
[226,null,"","",0,null,null,null,null,0,0,0,"",""]
[227,null,"","",0,null,null,null,null,0,0,0,"",""]
[228,null,"","",0,null,null,null,null,0,0,0,"",""]
[229,null,"","",0,null,null,null,null,0,0,0,"",""]
[230,null,"","",0,null,null,null,null,0,0,0,"",""]
[231,null,"","",0,null,null,null,null,0,0,0,"",""]
[232,null,"","",0,null,null,null,null,0,0,0,"",""]
[233,null,"","",0,null,null,null,null,0,0,0,"",""]
[234,null,"","",0,null,null,null,null,0,0,0,"",""]
[235,null,"","",0,null,null,null,null,0,0,0,"",""]
[236,null,"","",0,null,null,null,null,0,0,0,"",""]
[237,null,"","",0,null,null,null,null,0,0,0,"",""]
[238,null,"","",0,null,null,null,null,0,0,0,"",""]
[239,null,"","",0,null,null,null,null,0,0,0,"",""]
[240,null,"","",0,null,null,null,null,0,0,0,"",""]
[241,null,"","",0,null,null,null,null,0,0,0,"",""]
[242,null,"","",0,null,null,null,null,0,0,0,"",""]
[243,null,"","",0,null,null,null,null,0,0,0,"",""]
[244,null,"","",0,null,null,null,null,0,0,0,"",""]
[245,null,"","",0,null,null,null,null,0,0,0,"",""]
[246,null,"","",0,null,null,null,null,0,0,0,"",""]
[247,null,"","",0,null,null,null,null,0,0,0,"",""]
[248,null,"","",0,null,null,null,null,0,0,0,"",""]
[249,null,"","",0,null,null,null,null,0,0,0,"",""]
[250,null,"","",0,null,null,null,null,0,0,0,"",""]
[251,null,"","",0,null,null,null,null,0,0,0,"",""]
[252,null,"","",0,null,null,null,null,0,0,0,"",""]
[253,null,"","",0,null,null,null,null,0,0,0,"",""]
[254,null,"","",0,null,null,null,null,0,0,0,"",""]
[255,null,"","",0,null,null,null,null,0,0,0,"",""]
[256,null,"","",0,null,null,null,null,0,0,0,"",""]
[257,null,{"$f":"IFERROR(VLOOKUP(B260,ItemDB,2,0),\"\")","v":""},{"$f":"IFERROR(VLOOKUP(B260,ItemDB,3,0),\"\")","v":""},{"$f":"PRODUCT(IFERROR(VLOOKUP(B260,ItemDB,4,0),0),F260:H260)","v":0},null,null,null,null,{"$f":"I260*E260","v":0},{"$f":"IFERROR(VLOOKUP(\"شمـاره رديف آنـاليــز :   \"&B260,Anareport,9,0),0)","v":0},{"$f":"K260*I260","v":0},"",""]
[258,null,"","",0,null,null,null,null,0,0,0,"",""]
[259,null,"","",0,null,null,null,null,0,0,0,{"$f":"IF(K262>E262,K262/E262-1,\"\")","v":""},{"$f":"IF(K262<E262,K262/E262-1,\"\")","v":""}]
[260,null,"","",0,null,null,null,null,0,0,0,"",""]
[261,null,"","",0,null,null,null,null,0,0,0,"",""]
[262,null,"","",0,null,null,null,null,0,0,0,"",""]
[263,null,"","",0,null,null,null,null,0,0,0,"",""]
[264,null,"","",0,null,null,null,null,0,0,0,"",""]
[265,null,"","",0,null,null,null,null,0,0,0,"",""]
[266,null,"","",0,null,null,null,null,0,0,0,"",""]
[267,null,"","",0,null,null,null,null,0,0,0,"",""]
[268,null,"","",0,null,null,null,null,0,0,0,"",""]
[269,null,"","",0,null,null,null,null,0,0,0,"",""]
[270,null,"","",0,null,null,null,null,0,0,0,"",""]
[271,null,"","",0,null,null,null,null,0,0,0,"",""]
[272,null,"","",0,null,null,null,null,0,0,0,"",""]
[273,null,"","",0,null,null,null,null,0,0,0,"",""]
[274,null,"","",0,null,null,null,null,0,0,0,"",""]
[275,null,"","",0,null,null,null,null,0,0,0,"",""]
[276,null,"","",0,null,null,null,null,0,0,0,"",""]
[277,null,"","",0,null,null,null,null,0,0,0,"",""]
[278,null,"","",0,null,null,null,null,0,0,0,"",""]
[279,null,"","",0,null,null,null,null,0,0,0,"",""]
[280,null,"","",0,null,null,null,null,0,0,0,"",""]
[281,null,"","",0,null,null,null,null,0,0,0,"",""]
[282,null,"","",0,null,null,null,null,0,0,0,"",""]
[283,null,"","",0,null,null,null,null,0,0,0,"",""]
[284,null,"","",0,null,null,null,null,0,0,0,"",""]
[285,null,"","",0,null,null,null,null,0,0,0,"",""]
[286,null,"","",0,null,null,null,null,0,0,0,"",""]
[287,null,"","",0,null,null,null,null,0,0,0,"",""]
[288,null,"","",0,null,null,null,null,0,0,0,"",""]
[289,null,"","",0,null,null,null,null,0,0,0,"",""]
[290,null,"","",0,null,null,null,null,0,0,0,"",""]
[291,null,"","",0,null,null,null,null,0,0,0,"",""]
[292,null,"","",0,null,null,null,null,0,0,0,"",""]
[293,null,"","",0,null,null,null,null,0,0,0,"",""]
[294,null,"","",0,null,null,null,null,0,0,0,"",""]
[295,null,"","",0,null,null,null,null,0,0,0,"",""]
[296,null,"","",0,null,null,null,null,0,0,0,"",""]
[297,null,"","",0,null,null,null,null,0,0,0,"",""]
[298,null,"","",0,null,null,null,null,0,0,0,"",""]
[299,null,"","",0,null,null,null,null,0,0,0,"",""]
[300,null,"","",0,null,null,null,null,0,0,0,"",""]
[301,null,"","",0,null,null,null,null,0,0,0,"",""]
[302,null,"","",0,null,null,null,null,0,0,0,"",""]
[303,null,"","",0,null,null,null,null,0,0,0,"",""]
[304,null,"","",0,null,null,null,null,0,0,0,"",""]
[305,null,"","",0,null,null,null,null,0,0,0,"",""]
[306,null,"","",0,null,null,null,null,0,0,0,"",""]
[307,null,"","",0,null,null,null,null,0,0,0,"",""]
[308,null,"","",0,null,null,null,null,0,0,0,"",""]
[309,null,"","",0,null,null,null,null,0,0,0,"",""]
[310,null,"","",0,null,null,null,null,0,0,0,"",""]
[311,null,"","",0,null,null,null,null,0,0,0,"",""]
[312,null,"","",0,null,null,null,null,0,0,0,"",""]
[313,null,"","",0,null,null,null,null,0,0,0,"",""]
[314,null,"","",0,null,null,null,null,0,0,0,"",""]
[315,null,"","",0,null,null,null,null,0,0,0,"",""]
[316,null,"","",0,null,null,null,null,0,0,0,"",""]
[317,null,"","",0,null,null,null,null,0,0,0,"",""]
[318,null,"","",0,null,null,null,null,0,0,0,"",""]
[319,null,"","",0,null,null,null,null,0,0,0,"",""]
[320,null,"","",0,null,null,null,null,0,0,0,"",""]
[321,null,{"$f":"IFERROR(VLOOKUP(B324,ItemDB,2,0),\"\")","v":""},{"$f":"IFERROR(VLOOKUP(B324,ItemDB,3,0),\"\")","v":""},{"$f":"PRODUCT(IFERROR(VLOOKUP(B324,ItemDB,4,0),0),F324:H324)","v":0},null,null,null,null,{"$f":"I324*E324","v":0},{"$f":"IFERROR(VLOOKUP(\"شمـاره رديف آنـاليــز :   \"&B324,Anareport,9,0),0)","v":0},{"$f":"K324*I324","v":0},"",""]
[322,null,"","",0,null,null,null,null,0,0,0,"",""]
[323,null,"","",0,null,null,null,null,0,0,0,{"$f":"IF(K326>E326,K326/E326-1,\"\")","v":""},{"$f":"IF(K326<E326,K326/E326-1,\"\")","v":""}]
[324,null,"","",0,null,null,null,null,0,0,0,"",""]
[325,null,"","",0,null,null,null,null,0,0,0,"",""]
[326,null,"","",0,null,null,null,null,0,0,0,"",""]
[327,null,"","",0,null,null,null,null,0,0,0,"",""]
[328,null,"","",0,null,null,null,null,0,0,0,"",""]
[329,null,"","",0,null,null,null,null,0,0,0,"",""]
[330,null,"","",0,null,null,null,null,0,0,0,"",""]
[331,null,"","",0,null,null,null,null,0,0,0,"",""]
[332,null,"","",0,null,null,null,null,0,0,0,"",""]
[333,null,"","",0,null,null,null,null,0,0,0,"",""]
[334,null,"","",0,null,null,null,null,0,0,0,"",""]
[335,null,"","",0,null,null,null,null,0,0,0,"",""]
[336,null,"","",0,null,null,null,null,0,0,0,"",""]
[337,null,"","",0,null,null,null,null,0,0,0,"",""]
[338,null,"","",0,null,null,null,null,0,0,0,"",""]
[339,null,"","",0,null,null,null,null,0,0,0,"",""]
[340,null,"","",0,null,null,null,null,0,0,0,"",""]
[341,null,"","",0,null,null,null,null,0,0,0,"",""]
[342,null,"","",0,null,null,null,null,0,0,0,"",""]
[343,null,"","",0,null,null,null,null,0,0,0,"",""]
[344,null,"","",0,null,null,null,null,0,0,0,"",""]
[345,null,"","",0,null,null,null,null,0,0,0,"",""]
[346,null,"","",0,null,null,null,null,0,0,0,"",""]
[347,null,"","",0,null,null,null,null,0,0,0,"",""]
[348,null,"","",0,null,null,null,null,0,0,0,"",""]
[349,null,"","",0,null,null,null,null,0,0,0,"",""]
[350,null,"","",0,null,null,null,null,0,0,0,"",""]
[351,null,"","",0,null,null,null,null,0,0,0,"",""]
[352,null,"","",0,null,null,null,null,0,0,0,"",""]
[353,null,"","",0,null,null,null,null,0,0,0,"",""]
[354,null,"","",0,null,null,null,null,0,0,0,"",""]
[355,null,"","",0,null,null,null,null,0,0,0,"",""]
[356,null,"","",0,null,null,null,null,0,0,0,"",""]
[357,null,"","",0,null,null,null,null,0,0,0,"",""]
[358,null,"","",0,null,null,null,null,0,0,0,"",""]
[359,null,"","",0,null,null,null,null,0,0,0,"",""]
[360,null,"","",0,null,null,null,null,0,0,0,"",""]
[361,null,"","",0,null,null,null,null,0,0,0,"",""]
[362,null,"","",0,null,null,null,null,0,0,0,"",""]
[363,null,"","",0,null,null,null,null,0,0,0,"",""]
[364,null,"","",0,null,null,null,null,0,0,0,"",""]
[365,null,"","",0,null,null,null,null,0,0,0,"",""]
[366,null,"","",0,null,null,null,null,0,0,0,"",""]
[367,null,"","",0,null,null,null,null,0,0,0,"",""]
[368,null,"","",0,null,null,null,null,0,0,0,"",""]
[369,null,"","",0,null,null,null,null,0,0,0,"",""]
[370,null,"","",0,null,null,null,null,0,0,0,"",""]
[371,null,"","",0,null,null,null,null,0,0,0,"",""]
[372,null,"","",0,null,null,null,null,0,0,0,"",""]
[373,null,"","",0,null,null,null,null,0,0,0,"",""]
[374,null,"","",0,null,null,null,null,0,0,0,"",""]
[375,null,"","",0,null,null,null,null,0,0,0,"",""]
[376,null,"","",0,null,null,null,null,0,0,0,"",""]
[377,null,"","",0,null,null,null,null,0,0,0,"",""]
[378,null,"","",0,null,null,null,null,0,0,0,"",""]
[379,null,"","",0,null,null,null,null,0,0,0,"",""]
[380,null,"","",0,null,null,null,null,0,0,0,"",""]
[381,null,"","",0,null,null,null,null,0,0,0,"",""]
[382,null,"","",0,null,null,null,null,0,0,0,"",""]
[383,null,"","",0,null,null,null,null,0,0,0,"",""]
[384,null,"","",0,null,null,null,null,0,0,0,"",""]
[385,null,{"$f":"IFERROR(VLOOKUP(B388,ItemDB,2,0),\"\")","v":""},{"$f":"IFERROR(VLOOKUP(B388,ItemDB,3,0),\"\")","v":""},{"$f":"PRODUCT(IFERROR(VLOOKUP(B388,ItemDB,4,0),0),F388:H388)","v":0},null,null,null,null,{"$f":"I388*E388","v":0},{"$f":"IFERROR(VLOOKUP(\"شمـاره رديف آنـاليــز :   \"&B388,Anareport,9,0),0)","v":0},{"$f":"K388*I388","v":0},"",""]
[386,null,"","",0,null,null,null,null,0,0,0,"",""]
[387,null,"","",0,null,null,null,null,0,0,0,{"$f":"IF(K390>E390,K390/E390-1,\"\")","v":""},{"$f":"IF(K390<E390,K390/E390-1,\"\")","v":""}]
[388,null,"","",0,null,null,null,null,0,0,0,"",""]
[389,null,"","",0,null,null,null,null,0,0,0,"",""]
[390,null,"","",0,null,null,null,null,0,0,0,"",""]
[391,null,"","",0,null,null,null,null,0,0,0,"",""]
[392,null,"","",0,null,null,null,null,0,0,0,"",""]
[393,null,"","",0,null,null,null,null,0,0,0,"",""]
[394,null,"","",0,null,null,null,null,0,0,0,"",""]
[395,null,"","",0,null,null,null,null,0,0,0,"",""]
[396,null,"","",0,null,null,null,null,0,0,0,"",""]
[397,null,"","",0,null,null,null,null,0,0,0,"",""]
[398,null,"","",0,null,null,null,null,0,0,0,"",""]
[399,null,"","",0,null,null,null,null,0,0,0,"",""]
[400,null,"","",0,null,null,null,null,0,0,0,"",""]
[401,null,"","",0,null,null,null,null,0,0,0,"",""]
[402,null,"","",0,null,null,null,null,0,0,0,"",""]
[403,null,"","",0,null,null,null,null,0,0,0,"",""]
[404,null,"","",0,null,null,null,null,0,0,0,"",""]
[405,null,"","",0,null,null,null,null,0,0,0,"",""]
[406,null,"","",0,null,null,null,null,0,0,0,"",""]
[407,null,"","",0,null,null,null,null,0,0,0,"",""]
[408,null,"","",0,null,null,null,null,0,0,0,"",""]
[409,null,"","",0,null,null,null,null,0,0,0,"",""]
[410,null,"","",0,null,null,null,null,0,0,0,"",""]
[411,null,"","",0,null,null,null,null,0,0,0,"",""]
[412,null,"","",0,null,null,null,null,0,0,0,"",""]
[413,null,"","",0,null,null,null,null,0,0,0,"",""]
[414,null,"","",0,null,null,null,null,0,0,0,"",""]
[415,null,"","",0,null,null,null,null,0,0,0,"",""]
[416,null,"","",0,null,null,null,null,0,0,0,"",""]
[417,null,"","",0,null,null,null,null,0,0,0,"",""]
[418,null,"","",0,null,null,null,null,0,0,0,"",""]
[419,null,"","",0,null,null,null,null,0,0,0,"",""]
[420,null,"","",0,null,null,null,null,0,0,0,"",""]
[421,null,"","",0,null,null,null,null,0,0,0,"",""]
[422,null,"","",0,null,null,null,null,0,0,0,"",""]
[423,null,"","",0,null,null,null,null,0,0,0,"",""]
[424,null,"","",0,null,null,null,null,0,0,0,"",""]
[425,null,"","",0,null,null,null,null,0,0,0,"",""]
[426,null,"","",0,null,null,null,null,0,0,0,"",""]
[427,null,"","",0,null,null,null,null,0,0,0,"",""]
[428,null,"","",0,null,null,null,null,0,0,0,"",""]
[429,null,"","",0,null,null,null,null,0,0,0,"",""]
[430,null,"","",0,null,null,null,null,0,0,0,"",""]
[431,null,"","",0,null,null,null,null,0,0,0,"",""]
[432,null,"","",0,null,null,null,null,0,0,0,"",""]
[433,null,"","",0,null,null,null,null,0,0,0,"",""]
[434,null,"","",0,null,null,null,null,0,0,0,"",""]
[435,null,"","",0,null,null,null,null,0,0,0,"",""]
[436,null,"","",0,null,null,null,null,0,0,0,"",""]
[437,null,"","",0,null,null,null,null,0,0,0,"",""]
[438,null,"","",0,null,null,null,null,0,0,0,"",""]
[439,null,"","",0,null,null,null,null,0,0,0,"",""]
[440,null,"","",0,null,null,null,null,0,0,0,"",""]
[441,null,"","",0,null,null,null,null,0,0,0,"",""]
[442,null,"","",0,null,null,null,null,0,0,0,"",""]
[443,null,"","",0,null,null,null,null,0,0,0,"",""]
[444,null,"","",0,null,null,null,null,0,0,0,"",""]
[445,null,"","",0,null,null,null,null,0,0,0,"",""]
[446,null,"","",0,null,null,null,null,0,0,0,"",""]
[447,null,"","",0,null,null,null,null,0,0,0,"",""]
[448,null,"","",0,null,null,null,null,0,0,0,"",""]
[449,null,{"$f":"IFERROR(VLOOKUP(B452,ItemDB,2,0),\"\")","v":""},{"$f":"IFERROR(VLOOKUP(B452,ItemDB,3,0),\"\")","v":""},{"$f":"PRODUCT(IFERROR(VLOOKUP(B452,ItemDB,4,0),0),F452:H452)","v":0},null,null,null,null,{"$f":"I452*E452","v":0},{"$f":"IFERROR(VLOOKUP(\"شمـاره رديف آنـاليــز :   \"&B452,Anareport,9,0),0)","v":0},{"$f":"K452*I452","v":0},"",""]
[450,null,"","",0,null,null,null,null,0,0,0,"",""]
[451,null,"","",0,null,null,null,null,0,0,0,{"$f":"IF(K454>E454,K454/E454-1,\"\")","v":""},{"$f":"IF(K454<E454,K454/E454-1,\"\")","v":""}]
[452,null,"","",0,null,null,null,null,0,0,0,"",""]
[453,null,"","",0,null,null,null,null,0,0,0,"",""]
[454,null,"","",0,null,null,null,null,0,0,0,"",""]
[455,null,"","",0,null,null,null,null,0,0,0,"",""]
[456,null,"","",0,null,null,null,null,0,0,0,"",""]
[457,null,"","",0,null,null,null,null,0,0,0,"",""]
[458,null,"","",0,null,null,null,null,0,0,0,"",""]
[459,null,"","",0,null,null,null,null,0,0,0,"",""]
[460,null,"","",0,null,null,null,null,0,0,0,"",""]
[461,null,"","",0,null,null,null,null,0,0,0,"",""]
[462,null,"","",0,null,null,null,null,0,0,0,"",""]
[463,null,"","",0,null,null,null,null,0,0,0,"",""]
[464,null,"","",0,null,null,null,null,0,0,0,"",""]
[465,null,"","",0,null,null,null,null,0,0,0,"",""]
[466,null,"","",0,null,null,null,null,0,0,0,"",""]
[467,null,"","",0,null,null,null,null,0,0,0,"",""]
[468,null,"","",0,null,null,null,null,0,0,0,"",""]
[469,null,"","",0,null,null,null,null,0,0,0,"",""]
[470,null,"","",0,null,null,null,null,0,0,0,"",""]
[471,null,"","",0,null,null,null,null,0,0,0,"",""]
[472,null,"","",0,null,null,null,null,0,0,0,"",""]
[473,null,"","",0,null,null,null,null,0,0,0,"",""]
[474,null,"","",0,null,null,null,null,0,0,0,"",""]
[475,null,"","",0,null,null,null,null,0,0,0,"",""]
[476,null,"","",0,null,null,null,null,0,0,0,"",""]
[477,null,"","",0,null,null,null,null,0,0,0,"",""]
[478,null,"","",0,null,null,null,null,0,0,0,"",""]
[479,null,"","",0,null,null,null,null,0,0,0,"",""]
[480,null,"","",0,null,null,null,null,0,0,0,"",""]
[481,null,"","",0,null,null,null,null,0,0,0,"",""]
[482,null,"","",0,null,null,null,null,0,0,0,"",""]
[483,null,"","",0,null,null,null,null,0,0,0,"",""]
[484,null,"","",0,null,null,null,null,0,0,0,"",""]
[485,null,"","",0,null,null,null,null,0,0,0,"",""]
[486,null,"","",0,null,null,null,null,0,0,0,"",""]
[487,null,"","",0,null,null,null,null,0,0,0,"",""]
[488,null,"","",0,null,null,null,null,0,0,0,"",""]
[489,null,"","",0,null,null,null,null,0,0,0,"",""]
[490,null,"","",0,null,null,null,null,0,0,0,"",""]
[491,null,"","",0,null,null,null,null,0,0,0,"",""]
[492,null,"","",0,null,null,null,null,0,0,0,"",""]
[493,null,"","",0,null,null,null,null,0,0,0,"",""]
[494,null,"","",0,null,null,null,null,0,0,0,"",""]
[495,null,"","",0,null,null,null,null,0,0,0,"",""]
[496,null,"","",0,null,null,null,null,0,0,0,"",""]
[497,null,"","",0,null,null,null,null,0,0,0,"",""]
[498,null,"","",0,null,null,null,null,0,0,0,"",""]
[499,null,"","",0,null,null,null,null,0,0,0,"",""]
[500,null,"","",0,null,null,null,null,0,0,0,"",""]
[501,null,"","",0,null,null,null,null,0,0,0,"",""]
[502,null,"","",0,null,null,null,null,0,0,0,"",""]
[503,null,"","",0,null,null,null,null,0,0,0,"",""]
[504,null,"","",0,null,null,null,null,0,0,0,"",""]
[505,null,"","",0,null,null,null,null,0,0,0,"",""]
[506,null,"","",0,null,null,null,null,0,0,0,"",""]
[507,null,"","",0,null,null,null,null,0,0,0,"",""]
[508,null,"","",0,null,null,null,null,0,0,0,"",""]
[509,null,"","",0,null,null,null,null,0,0,0,"",""]
[510,null,"","",0,null,null,null,null,0,0,0,"",""]
[511,null,"","",0,null,null,null,null,0,0,0,"",""]
[512,null,"","",0,null,null,null,null,0,0,0,"",""]
[513,null,{"$f":"IFERROR(VLOOKUP(B516,ItemDB,2,0),\"\")","v":""},{"$f":"IFERROR(VLOOKUP(B516,ItemDB,3,0),\"\")","v":""},{"$f":"PRODUCT(IFERROR(VLOOKUP(B516,ItemDB,4,0),0),F516:H516)","v":0},null,null,null,null,{"$f":"I516*E516","v":0},{"$f":"IFERROR(VLOOKUP(\"شمـاره رديف آنـاليــز :   \"&B516,Anareport,9,0),0)","v":0},{"$f":"K516*I516","v":0},"",""]
[514,null,"","",0,null,null,null,null,0,0,0,"",""]
[515,null,"","",0,null,null,null,null,0,0,0,{"$f":"IF(K518>E518,K518/E518-1,\"\")","v":""},{"$f":"IF(K518<E518,K518/E518-1,\"\")","v":""}]
[516,null,"","",0,null,null,null,null,0,0,0,"",""]
[517,null,"","",0,null,null,null,null,0,0,0,"",""]
[518,null,"","",0,null,null,null,null,0,0,0,"",""]
[519,null,"","",0,null,null,null,null,0,0,0,"",""]
[520,null,"","",0,null,null,null,null,0,0,0,"",""]
[521,null,"","",0,null,null,null,null,0,0,0,"",""]
[522,null,"","",0,null,null,null,null,0,0,0,"",""]
[523,null,"","",0,null,null,null,null,0,0,0,"",""]
[524,null,"","",0,null,null,null,null,0,0,0,"",""]
[525,null,"","",0,null,null,null,null,0,0,0,"",""]
[526,null,"","",0,null,null,null,null,0,0,0,"",""]
[527,null,"","",0,null,null,null,null,0,0,0,"",""]
[528,null,"","",0,null,null,null,null,0,0,0,"",""]
[529,null,"","",0,null,null,null,null,0,0,0,"",""]
[530,null,"","",0,null,null,null,null,0,0,0,"",""]
[531,null,"","",0,null,null,null,null,0,0,0,"",""]
[532,null,"","",0,null,null,null,null,0,0,0,"",""]
[533,null,"","",0,null,null,null,null,0,0,0,"",""]
[534,null,"","",0,null,null,null,null,0,0,0,"",""]
[535,null,"","",0,null,null,null,null,0,0,0,"",""]
[536,null,"","",0,null,null,null,null,0,0,0,"",""]
[537,null,"","",0,null,null,null,null,0,0,0,"",""]
[538,null,"","",0,null,null,null,null,0,0,0,"",""]
[539,null,"","",0,null,null,null,null,0,0,0,"",""]
[540,null,"","",0,null,null,null,null,0,0,0,"",""]
[541,null,"","",0,null,null,null,null,0,0,0,"",""]
[542,null,"","",0,null,null,null,null,0,0,0,"",""]
[543,null,"","",0,null,null,null,null,0,0,0,"",""]
[544,null,"","",0,null,null,null,null,0,0,0,"",""]
[545,null,"","",0,null,null,null,null,0,0,0,"",""]
[546,null,"","",0,null,null,null,null,0,0,0,"",""]
[547,null,"","",0,null,null,null,null,0,0,0,"",""]
[548,null,"","",0,null,null,null,null,0,0,0,"",""]
[549,null,"","",0,null,null,null,null,0,0,0,"",""]
[550,null,"","",0,null,null,null,null,0,0,0,"",""]
[551,null,"","",0,null,null,null,null,0,0,0,"",""]
[552,null,"","",0,null,null,null,null,0,0,0,"",""]
[553,null,"","",0,null,null,null,null,0,0,0,"",""]
[554,null,"","",0,null,null,null,null,0,0,0,"",""]
[555,null,"","",0,null,null,null,null,0,0,0,"",""]
[556,null,"","",0,null,null,null,null,0,0,0,"",""]
[557,null,"","",0,null,null,null,null,0,0,0,"",""]
[558,null,"","",0,null,null,null,null,0,0,0,"",""]
[559,null,"","",0,null,null,null,null,0,0,0,"",""]
[560,null,"","",0,null,null,null,null,0,0,0,"",""]
[561,null,"","",0,null,null,null,null,0,0,0,"",""]
[562,null,"","",0,null,null,null,null,0,0,0,"",""]
[563,null,"","",0,null,null,null,null,0,0,0,"",""]
[564,null,"","",0,null,null,null,null,0,0,0,"",""]
[565,null,"","",0,null,null,null,null,0,0,0,"",""]
[566,null,"","",0,null,null,null,null,0,0,0,"",""]
[567,null,"","",0,null,null,null,null,0,0,0,"",""]
[568,null,"","",0,null,null,null,null,0,0,0,"",""]
[569,null,"","",0,null,null,null,null,0,0,0,"",""]
[570,null,"","",0,null,null,null,null,0,0,0,"",""]
[571,null,"","",0,null,null,null,null,0,0,0,"",""]
[572,null,"","",0,null,null,null,null,0,0,0,"",""]
[573,null,"","",0,null,null,null,null,0,0,0,"",""]
[574,null,"","",0,null,null,null,null,0,0,0,"",""]
[575,null,"","",0,null,null,null,null,0,0,0,"",""]
[576,null,"","",0,null,null,null,null,0,0,0,"",""]
[577,null,{"$f":"IFERROR(VLOOKUP(B580,ItemDB,2,0),\"\")","v":""},{"$f":"IFERROR(VLOOKUP(B580,ItemDB,3,0),\"\")","v":""},{"$f":"PRODUCT(IFERROR(VLOOKUP(B580,ItemDB,4,0),0),F580:H580)","v":0},null,null,null,null,{"$f":"I580*E580","v":0},{"$f":"IFERROR(VLOOKUP(\"شمـاره رديف آنـاليــز :   \"&B580,Anareport,9,0),0)","v":0},{"$f":"K580*I580","v":0},"",""]
[578,null,"","",0,null,null,null,null,0,0,0,"",""]
[579,null,"","",0,null,null,null,null,0,0,0,{"$f":"IF(K582>E582,K582/E582-1,\"\")","v":""},{"$f":"IF(K582<E582,K582/E582-1,\"\")","v":""}]
[580,null,"","",0,null,null,null,null,0,0,0,"",""]
[581,null,"","",0,null,null,null,null,0,0,0,"",""]
[582,null,"","",0,null,null,null,null,0,0,0,"",""]
[583,null,"","",0,null,null,null,null,0,0,0,"",""]
[584,null,"","",0,null,null,null,null,0,0,0,"",""]
[585,null,"","",0,null,null,null,null,0,0,0,"",""]
[586,null,"","",0,null,null,null,null,0,0,0,"",""]
[587,null,"","",0,null,null,null,null,0,0,0,"",""]
[588,null,"","",0,null,null,null,null,0,0,0,"",""]
[589,null,"","",0,null,null,null,null,0,0,0,"",""]
[590,null,"","",0,null,null,null,null,0,0,0,"",""]
[591,null,"","",0,null,null,null,null,0,0,0,"",""]
[592,null,"","",0,null,null,null,null,0,0,0,"",""]
[593,null,"","",0,null,null,null,null,0,0,0,"",""]
[594,null,"","",0,null,null,null,null,0,0,0,"",""]
[595,null,"","",0,null,null,null,null,0,0,0,"",""]
[596,null,"","",0,null,null,null,null,0,0,0,"",""]
[597,null,"","",0,null,null,null,null,0,0,0,"",""]
[598,null,"","",0,null,null,null,null,0,0,0,"",""]
[599,null,"","",0,null,null,null,null,0,0,0,"",""]
[600,null,"","",0,null,null,null,null,0,0,0,"",""]
[601,null,"","",0,null,null,null,null,0,0,0,"",""]
[602,null,"","",0,null,null,null,null,0,0,0,"",""]
[603,null,"","",0,null,null,null,null,0,0,0,"",""]
[604,null,"","",0,null,null,null,null,0,0,0,"",""]
[605,null,"","",0,null,null,null,null,0,0,0,"",""]
[606,null,"","",0,null,null,null,null,0,0,0,"",""]
[607,null,"","",0,null,null,null,null,0,0,0,"",""]
[608,null,"","",0,null,null,null,null,0,0,0,"",""]
[609,null,"","",0,null,null,null,null,0,0,0,"",""]
[610,null,"","",0,null,null,null,null,0,0,0,"",""]
[611,null,"","",0,null,null,null,null,0,0,0,"",""]
[612,null,"","",0,null,null,null,null,0,0,0,"",""]
[613,null,"","",0,null,null,null,null,0,0,0,"",""]
[614,null,"","",0,null,null,null,null,0,0,0,"",""]
[615,null,"","",0,null,null,null,null,0,0,0,"",""]
[616,null,"","",0,null,null,null,null,0,0,0,"",""]
[617,null,"","",0,null,null,null,null,0,0,0,"",""]
[618,null,"","",0,null,null,null,null,0,0,0,"",""]
[619,null,"","",0,null,null,null,null,0,0,0,"",""]
[620,null,"","",0,null,null,null,null,0,0,0,"",""]
[621,null,"","",0,null,null,null,null,0,0,0,"",""]
[622,null,"","",0,null,null,null,null,0,0,0,"",""]
[623,null,"","",0,null,null,null,null,0,0,0,"",""]
[624,null,"","",0,null,null,null,null,0,0,0,"",""]
[625,null,"","",0,null,null,null,null,0,0,0,"",""]
[626,null,"","",0,null,null,null,null,0,0,0,"",""]
[627,null,"","",0,null,null,null,null,0,0,0,"",""]
[628,null,"","",0,null,null,null,null,0,0,0,"",""]
[629,null,"","",0,null,null,null,null,0,0,0,"",""]
[630,null,"","",0,null,null,null,null,0,0,0,"",""]
[631,null,"","",0,null,null,null,null,0,0,0,"",""]
[632,null,"","",0,null,null,null,null,0,0,0,"",""]
[633,null,"","",0,null,null,null,null,0,0,0,"",""]
[634,null,"","",0,null,null,null,null,0,0,0,"",""]
[635,null,"","",0,null,null,null,null,0,0,0,"",""]
[636,null,"","",0,null,null,null,null,0,0,0,"",""]
[637,null,"","",0,null,null,null,null,0,0,0,"",""]
[638,null,"","",0,null,null,null,null,0,0,0,"",""]
[639,null,"","",0,null,null,null,null,0,0,0,"",""]
[640,null,"","",0,null,null,null,null,0,0,0,"",""]
[641,null,{"$f":"IFERROR(VLOOKUP(B644,ItemDB,2,0),\"\")","v":""},{"$f":"IFERROR(VLOOKUP(B644,ItemDB,3,0),\"\")","v":""},{"$f":"PRODUCT(IFERROR(VLOOKUP(B644,ItemDB,4,0),0),F644:H644)","v":0},null,null,null,null,{"$f":"I644*E644","v":0},{"$f":"IFERROR(VLOOKUP(\"شمـاره رديف آنـاليــز :   \"&B644,Anareport,9,0),0)","v":0},{"$f":"K644*I644","v":0},"",""]
[642,null,"","",0,null,null,null,null,0,0,0,"",""]
[643,null,"","",0,null,null,null,null,0,0,0,{"$f":"IF(K646>E646,K646/E646-1,\"\")","v":""},{"$f":"IF(K646<E646,K646/E646-1,\"\")","v":""}]
[644,null,"","",0,null,null,null,null,0,0,0,"",""]
[645,null,"","",0,null,null,null,null,0,0,0,"",""]
[646,null,"","",0,null,null,null,null,0,0,0,"",""]
[647,null,"","",0,null,null,null,null,0,0,0,"",""]
[648,null,"","",0,null,null,null,null,0,0,0,"",""]
[649,null,"","",0,null,null,null,null,0,0,0,"",""]
[650,null,"","",0,null,null,null,null,0,0,0,"",""]
[651,null,"","",0,null,null,null,null,0,0,0,"",""]
[652,null,"","",0,null,null,null,null,0,0,0,"",""]
[653,null,"","",0,null,null,null,null,0,0,0,"",""]
[654,null,"","",0,null,null,null,null,0,0,0,"",""]
[655,null,"","",0,null,null,null,null,0,0,0,"",""]
[656,null,"","",0,null,null,null,null,0,0,0,"",""]
[657,null,"","",0,null,null,null,null,0,0,0,"",""]
[658,null,"","",0,null,null,null,null,0,0,0,"",""]
[659,null,"","",0,null,null,null,null,0,0,0,"",""]
[660,null,"","",0,null,null,null,null,0,0,0,"",""]
[661,null,"","",0,null,null,null,null,0,0,0,"",""]
[662,null,"","",0,null,null,null,null,0,0,0,"",""]
[663,null,"","",0,null,null,null,null,0,0,0,"",""]
[664,null,"","",0,null,null,null,null,0,0,0,"",""]
[665,null,"","",0,null,null,null,null,0,0,0,"",""]
[666,null,"","",0,null,null,null,null,0,0,0,"",""]
[667,null,"","",0,null,null,null,null,0,0,0,"",""]
[668,null,"","",0,null,null,null,null,0,0,0,"",""]
[669,null,"","",0,null,null,null,null,0,0,0,"",""]
[670,null,"","",0,null,null,null,null,0,0,0,"",""]
[671,null,"","",0,null,null,null,null,0,0,0,"",""]
[672,null,"","",0,null,null,null,null,0,0,0,"",""]
[673,null,"","",0,null,null,null,null,0,0,0,"",""]
[674,null,"","",0,null,null,null,null,0,0,0,"",""]
[675,null,"","",0,null,null,null,null,0,0,0,"",""]
[676,null,"","",0,null,null,null,null,0,0,0,"",""]
[677,null,"","",0,null,null,null,null,0,0,0,"",""]
[678,null,"","",0,null,null,null,null,0,0,0,"",""]
[679,null,"","",0,null,null,null,null,0,0,0,"",""]
[680,null,"","",0,null,null,null,null,0,0,0,"",""]
[681,null,"","",0,null,null,null,null,0,0,0,"",""]
[682,null,"","",0,null,null,null,null,0,0,0,"",""]
[683,null,"","",0,null,null,null,null,0,0,0,"",""]
[684,null,"","",0,null,null,null,null,0,0,0,"",""]
[685,null,"","",0,null,null,null,null,0,0,0,"",""]
[686,null,"","",0,null,null,null,null,0,0,0,"",""]
[687,null,"","",0,null,null,null,null,0,0,0,"",""]
[688,null,"","",0,null,null,null,null,0,0,0,"",""]
[689,null,"","",0,null,null,null,null,0,0,0,"",""]
[690,null,"","",0,null,null,null,null,0,0,0,"",""]
[691,null,"","",0,null,null,null,null,0,0,0,"",""]
[692,null,"","",0,null,null,null,null,0,0,0,"",""]
[693,null,"","",0,null,null,null,null,0,0,0,"",""]
[694,null,"","",0,null,null,null,null,0,0,0,"",""]
[695,null,"","",0,null,null,null,null,0,0,0,"",""]
[696,null,"","",0,null,null,null,null,0,0,0,"",""]
[697,null,"","",0,null,null,null,null,0,0,0,"",""]
[698,null,"","",0,null,null,null,null,0,0,0,"",""]
[699,null,"","",0,null,null,null,null,0,0,0,"",""]
[700,null,"","",0,null,null,null,null,0,0,0,"",""]
[701,null,"","",0,null,null,null,null,0,0,0,"",""]
[702,null,"","",0,null,null,null,null,0,0,0,"",""]
[703,null,"","",0,null,null,null,null,0,0,0,"",""]
[704,null,"","",0,null,null,null,null,0,0,0,"",""]
[705,null,{"$f":"IFERROR(VLOOKUP(B708,ItemDB,2,0),\"\")","v":""},{"$f":"IFERROR(VLOOKUP(B708,ItemDB,3,0),\"\")","v":""},{"$f":"PRODUCT(IFERROR(VLOOKUP(B708,ItemDB,4,0),0),F708:H708)","v":0},null,null,null,null,{"$f":"I708*E708","v":0},{"$f":"IFERROR(VLOOKUP(\"شمـاره رديف آنـاليــز :   \"&B708,Anareport,9,0),0)","v":0},{"$f":"K708*I708","v":0},"",""]
[706,null,"","",0,null,null,null,null,0,0,0,"",""]
[707,null,"","",0,null,null,null,null,0,0,0,{"$f":"IF(K710>E710,K710/E710-1,\"\")","v":""},{"$f":"IF(K710<E710,K710/E710-1,\"\")","v":""}]
[708,null,"","",0,null,null,null,null,0,0,0,"",""]
[709,null,"","",0,null,null,null,null,0,0,0,"",""]
[710,null,"","",0,null,null,null,null,0,0,0,"",""]
[711,null,"","",0,null,null,null,null,0,0,0,"",""]
[712,null,"","",0,null,null,null,null,0,0,0,"",""]
[713,null,"","",0,null,null,null,null,0,0,0,"",""]
[714,null,"","",0,null,null,null,null,0,0,0,"",""]
[715,null,"","",0,null,null,null,null,0,0,0,"",""]
[716,null,"","",0,null,null,null,null,0,0,0,"",""]
[717,null,"","",0,null,null,null,null,0,0,0,"",""]
[718,null,"","",0,null,null,null,null,0,0,0,"",""]
[719,null,"","",0,null,null,null,null,0,0,0,"",""]
[720,null,"","",0,null,null,null,null,0,0,0,"",""]
[721,null,"","",0,null,null,null,null,0,0,0,"",""]
[722,null,"","",0,null,null,null,null,0,0,0,"",""]
[723,null,"","",0,null,null,null,null,0,0,0,"",""]
[724,null,"","",0,null,null,null,null,0,0,0,"",""]
[725,null,"","",0,null,null,null,null,0,0,0,"",""]
[726,null,"","",0,null,null,null,null,0,0,0,"",""]
[727,null,"","",0,null,null,null,null,0,0,0,"",""]
[728,null,"","",0,null,null,null,null,0,0,0,"",""]
[729,null,"","",0,null,null,null,null,0,0,0,"",""]
[730,null,"","",0,null,null,null,null,0,0,0,"",""]
[731,null,"","",0,null,null,null,null,0,0,0,"",""]
[732,null,"","",0,null,null,null,null,0,0,0,"",""]
[733,null,"","",0,null,null,null,null,0,0,0,"",""]
[734,null,"","",0,null,null,null,null,0,0,0,"",""]
[735,null,"","",0,null,null,null,null,0,0,0,"",""]
[736,null,"","",0,null,null,null,null,0,0,0,"",""]
[737,null,"","",0,null,null,null,null,0,0,0,"",""]
[738,null,"","",0,null,null,null,null,0,0,0,"",""]
[739,null,"","",0,null,null,null,null,0,0,0,"",""]
[740,null,"","",0,null,null,null,null,0,0,0,"",""]
[741,null,"","",0,null,null,null,null,0,0,0,"",""]
[742,null,"","",0,null,null,null,null,0,0,0,"",""]
[743,null,"","",0,null,null,null,null,0,0,0,"",""]
[744,null,"","",0,null,null,null,null,0,0,0,"",""]
[745,null,"","",0,null,null,null,null,0,0,0,"",""]
[746,null,"","",0,null,null,null,null,0,0,0,"",""]
[747,null,"","",0,null,null,null,null,0,0,0,"",""]
[748,null,"","",0,null,null,null,null,0,0,0,"",""]
[749,null,"","",0,null,null,null,null,0,0,0,"",""]
[750,null,"","",0,null,null,null,null,0,0,0,"",""]
[751,null,"","",0,null,null,null,null,0,0,0,"",""]
[752,null,"","",0,null,null,null,null,0,0,0,"",""]
[753,null,"","",0,null,null,null,null,0,0,0,"",""]
[754,null,"","",0,null,null,null,null,0,0,0,"",""]
[755,null,"","",0,null,null,null,null,0,0,0,"",""]
[756,null,"","",0,null,null,null,null,0,0,0,"",""]
[757,null,"","",0,null,null,null,null,0,0,0,"",""]
[758,null,"","",0,null,null,null,null,0,0,0,"",""]
[759,null,"","",0,null,null,null,null,0,0,0,"",""]
[760,null,"","",0,null,null,null,null,0,0,0,"",""]
[761,null,"","",0,null,null,null,null,0,0,0,"",""]
[762,null,"","",0,null,null,null,null,0,0,0,"",""]
[763,null,"","",0,null,null,null,null,0,0,0,"",""]
[764,null,"","",0,null,null,null,null,0,0,0,"",""]
[765,null,"","",0,null,null,null,null,0,0,0,"",""]
[766,null,"","",0,null,null,null,null,0,0,0,"",""]
[767,null,"","",0,null,null,null,null,0,0,0,"",""]
[768,null,"","",0,null,null,null,null,0,0,0,"",""]
[769,null,{"$f":"IFERROR(VLOOKUP(B772,ItemDB,2,0),\"\")","v":""},{"$f":"IFERROR(VLOOKUP(B772,ItemDB,3,0),\"\")","v":""},{"$f":"PRODUCT(IFERROR(VLOOKUP(B772,ItemDB,4,0),0),F772:H772)","v":0},null,null,null,null,{"$f":"I772*E772","v":0},{"$f":"IFERROR(VLOOKUP(\"شمـاره رديف آنـاليــز :   \"&B772,Anareport,9,0),0)","v":0},{"$f":"K772*I772","v":0},"",""]
[770,null,"","",0,null,null,null,null,0,0,0,"",""]
[771,null,"","",0,null,null,null,null,0,0,0,{"$f":"IF(K774>E774,K774/E774-1,\"\")","v":""},{"$f":"IF(K774<E774,K774/E774-1,\"\")","v":""}]
[772,null,"","",0,null,null,null,null,0,0,0,"",""]
[773,null,"","",0,null,null,null,null,0,0,0,"",""]
[774,null,"","",0,null,null,null,null,0,0,0,"",""]
[775,null,"","",0,null,null,null,null,0,0,0,"",""]
[776,null,"","",0,null,null,null,null,0,0,0,"",""]
[777,null,"","",0,null,null,null,null,0,0,0,"",""]
[778,null,"","",0,null,null,null,null,0,0,0,"",""]
[779,null,"","",0,null,null,null,null,0,0,0,"",""]
[780,null,"","",0,null,null,null,null,0,0,0,"",""]
[781,null,"","",0,null,null,null,null,0,0,0,"",""]
[782,null,"","",0,null,null,null,null,0,0,0,"",""]
[783,null,"","",0,null,null,null,null,0,0,0,"",""]
[784,null,"","",0,null,null,null,null,0,0,0,"",""]
[785,null,"","",0,null,null,null,null,0,0,0,"",""]
[786,null,"","",0,null,null,null,null,0,0,0,"",""]
[787,null,"","",0,null,null,null,null,0,0,0,"",""]
[788,null,"","",0,null,null,null,null,0,0,0,"",""]
[789,null,"","",0,null,null,null,null,0,0,0,"",""]
[790,null,"","",0,null,null,null,null,0,0,0,"",""]
[791,null,"","",0,null,null,null,null,0,0,0,"",""]
[792,null,"","",0,null,null,null,null,0,0,0,"",""]
[793,null,"","",0,null,null,null,null,0,0,0,"",""]
[794,null,"","",0,null,null,null,null,0,0,0,"",""]
[795,null,"","",0,null,null,null,null,0,0,0,"",""]
[796,null,"","",0,null,null,null,null,0,0,0,"",""]
[797,null,"","",0,null,null,null,null,0,0,0,"",""]
[798,null,"","",0,null,null,null,null,0,0,0,"",""]
[799,null,"","",0,null,null,null,null,0,0,0,"",""]
[800,null,"","",0,null,null,null,null,0,0,0,"",""]
[801,null,"","",0,null,null,null,null,0,0,0,"",""]
[802,null,"","",0,null,null,null,null,0,0,0,"",""]
[803,null,"","",0,null,null,null,null,0,0,0,"",""]
[804,null,"","",0,null,null,null,null,0,0,0,"",""]
[805,null,"","",0,null,null,null,null,0,0,0,"",""]
[806,null,"","",0,null,null,null,null,0,0,0,"",""]
[807,null,"","",0,null,null,null,null,0,0,0,"",""]
[808,null,"","",0,null,null,null,null,0,0,0,"",""]
[809,null,"","",0,null,null,null,null,0,0,0,"",""]
[810,null,"","",0,null,null,null,null,0,0,0,"",""]
[811,null,"","",0,null,null,null,null,0,0,0,"",""]
[812,null,"","",0,null,null,null,null,0,0,0,"",""]
[813,null,"","",0,null,null,null,null,0,0,0,"",""]
[814,null,"","",0,null,null,null,null,0,0,0,"",""]
[815,null,"","",0,null,null,null,null,0,0,0,"",""]
[816,null,"","",0,null,null,null,null,0,0,0,"",""]
[817,null,"","",0,null,null,null,null,0,0,0,"",""]
[818,null,"","",0,null,null,null,null,0,0,0,"",""]
[819,null,"","",0,null,null,null,null,0,0,0,"",""]
[820,null,"","",0,null,null,null,null,0,0,0,"",""]
[821,null,"","",0,null,null,null,null,0,0,0,"",""]
[822,null,"","",0,null,null,null,null,0,0,0,"",""]
[823,null,"","",0,null,null,null,null,0,0,0,"",""]
[824,null,"","",0,null,null,null,null,0,0,0,"",""]
[825,null,"","",0,null,null,null,null,0,0,0,"",""]
[826,null,"","",0,null,null,null,null,0,0,0,"",""]
[827,null,"","",0,null,null,null,null,0,0,0,"",""]
[828,null,"","",0,null,null,null,null,0,0,0,"",""]
[829,null,"","",0,null,null,null,null,0,0,0,"",""]
[830,null,"","",0,null,null,null,null,0,0,0,"",""]
[831,null,"","",0,null,null,null,null,0,0,0,"",""]
[832,null,"","",0,null,null,null,null,0,0,0,"",""]
[833,null,{"$f":"IFERROR(VLOOKUP(B836,ItemDB,2,0),\"\")","v":""},{"$f":"IFERROR(VLOOKUP(B836,ItemDB,3,0),\"\")","v":""},{"$f":"PRODUCT(IFERROR(VLOOKUP(B836,ItemDB,4,0),0),F836:H836)","v":0},null,null,null,null,{"$f":"I836*E836","v":0},{"$f":"IFERROR(VLOOKUP(\"شمـاره رديف آنـاليــز :   \"&B836,Anareport,9,0),0)","v":0},{"$f":"K836*I836","v":0},"",""]
[834,null,"","",0,null,null,null,null,0,0,0,"",""]
[835,null,"","",0,null,null,null,null,0,0,0,{"$f":"IF(K838>E838,K838/E838-1,\"\")","v":""},{"$f":"IF(K838<E838,K838/E838-1,\"\")","v":""}]
[836,null,"","",0,null,null,null,null,0,0,0,"",""]
[837,null,"","",0,null,null,null,null,0,0,0,"",""]
[838,null,"","",0,null,null,null,null,0,0,0,"",""]
[839,null,"","",0,null,null,null,null,0,0,0,"",""]
[840,null,"","",0,null,null,null,null,0,0,0,"",""]
[841,null,"","",0,null,null,null,null,0,0,0,"",""]
[842,null,"","",0,null,null,null,null,0,0,0,"",""]
[843,null,"","",0,null,null,null,null,0,0,0,"",""]
[844,null,"","",0,null,null,null,null,0,0,0,"",""]
[845,null,"","",0,null,null,null,null,0,0,0,"",""]
[846,null,"","",0,null,null,null,null,0,0,0,"",""]
[847,null,"","",0,null,null,null,null,0,0,0,"",""]
[848,null,"","",0,null,null,null,null,0,0,0,"",""]
[849,null,"","",0,null,null,null,null,0,0,0,"",""]
[850,null,"","",0,null,null,null,null,0,0,0,"",""]
[851,null,"","",0,null,null,null,null,0,0,0,"",""]
[852,null,"","",0,null,null,null,null,0,0,0,"",""]
[853,null,"","",0,null,null,null,null,0,0,0,"",""]
[854,null,"","",0,null,null,null,null,0,0,0,"",""]
[855,null,"","",0,null,null,null,null,0,0,0,"",""]
[856,null,"","",0,null,null,null,null,0,0,0,"",""]
[857,null,"","",0,null,null,null,null,0,0,0,"",""]
[858,null,"","",0,null,null,null,null,0,0,0,"",""]
[859,null,"","",0,null,null,null,null,0,0,0,"",""]
[860,null,"","",0,null,null,null,null,0,0,0,"",""]
[861,null,"","",0,null,null,null,null,0,0,0,"",""]
[862,null,"","",0,null,null,null,null,0,0,0,"",""]
[863,null,"","",0,null,null,null,null,0,0,0,"",""]
[864,null,"","",0,null,null,null,null,0,0,0,"",""]
[865,null,"","",0,null,null,null,null,0,0,0,"",""]
[866,null,"","",0,null,null,null,null,0,0,0,"",""]
[867,null,"","",0,null,null,null,null,0,0,0,"",""]
[868,null,"","",0,null,null,null,null,0,0,0,"",""]
[869,null,"","",0,null,null,null,null,0,0,0,"",""]
[870,null,"","",0,null,null,null,null,0,0,0,"",""]
[871,null,"","",0,null,null,null,null,0,0,0,"",""]
[872,null,"","",0,null,null,null,null,0,0,0,"",""]
[873,null,"","",0,null,null,null,null,0,0,0,"",""]
[874,null,"","",0,null,null,null,null,0,0,0,"",""]
[875,null,"","",0,null,null,null,null,0,0,0,"",""]
[876,null,"","",0,null,null,null,null,0,0,0,"",""]
[877,null,"","",0,null,null,null,null,0,0,0,"",""]
[878,null,"","",0,null,null,null,null,0,0,0,"",""]
[879,null,"","",0,null,null,null,null,0,0,0,"",""]
[880,null,"","",0,null,null,null,null,0,0,0,"",""]
[881,null,"","",0,null,null,null,null,0,0,0,"",""]
[882,null,"","",0,null,null,null,null,0,0,0,"",""]
[883,null,"","",0,null,null,null,null,0,0,0,"",""]
[884,null,"","",0,null,null,null,null,0,0,0,"",""]
[885,null,"","",0,null,null,null,null,0,0,0,"",""]
[886,null,"","",0,null,null,null,null,0,0,0,"",""]
[887,null,"","",0,null,null,null,null,0,0,0,"",""]
[888,null,"","",0,null,null,null,null,0,0,0,"",""]
[889,null,"","",0,null,null,null,null,0,0,0,"",""]
[890,null,"","",0,null,null,null,null,0,0,0,"",""]
[891,null,"","",0,null,null,null,null,0,0,0,"",""]
[892,null,"","",0,null,null,null,null,0,0,0,"",""]
[893,null,"","",0,null,null,null,null,0,0,0,"",""]
[894,null,"","",0,null,null,null,null,0,0,0,"",""]
[895,null,"","",0,null,null,null,null,0,0,0,"",""]
[896,null,"","",0,null,null,null,null,0,0,0,"",""]
[897,null,{"$f":"IFERROR(VLOOKUP(B900,ItemDB,2,0),\"\")","v":""},{"$f":"IFERROR(VLOOKUP(B900,ItemDB,3,0),\"\")","v":""},{"$f":"PRODUCT(IFERROR(VLOOKUP(B900,ItemDB,4,0),0),F900:H900)","v":0},null,null,null,null,{"$f":"I900*E900","v":0},{"$f":"IFERROR(VLOOKUP(\"شمـاره رديف آنـاليــز :   \"&B900,Anareport,9,0),0)","v":0},{"$f":"K900*I900","v":0},"",""]
[898,null,"","",0,null,null,null,null,0,0,0,"",""]
[899,null,"","",0,null,null,null,null,0,0,0,{"$f":"IF(K902>E902,K902/E902-1,\"\")","v":""},{"$f":"IF(K902<E902,K902/E902-1,\"\")","v":""}]
[900,null,"","",0,null,null,null,null,0,0,0,"",""]
[901,null,"","",0,null,null,null,null,0,0,0,"",""]
[902,null,"","",0,null,null,null,null,0,0,0,"",""]
[903,null,"","",0,null,null,null,null,0,0,0,"",""]
[904,null,"","",0,null,null,null,null,0,0,0,"",""]
[905,null,"","",0,null,null,null,null,0,0,0,"",""]
[906,null,"","",0,null,null,null,null,0,0,0,"",""]
[907,null,"","",0,null,null,null,null,0,0,0,"",""]
[908,null,"","",0,null,null,null,null,0,0,0,"",""]
[909,null,"","",0,null,null,null,null,0,0,0,"",""]
[910,null,"","",0,null,null,null,null,0,0,0,"",""]
[911,null,"","",0,null,null,null,null,0,0,0,"",""]
[912,null,"","",0,null,null,null,null,0,0,0,"",""]
[913,null,"","",0,null,null,null,null,0,0,0,"",""]
[914,null,"","",0,null,null,null,null,0,0,0,"",""]
[915,null,"","",0,null,null,null,null,0,0,0,"",""]
[916,null,"","",0,null,null,null,null,0,0,0,"",""]
[917,null,"","",0,null,null,null,null,0,0,0,"",""]
[918,null,"","",0,null,null,null,null,0,0,0,"",""]
[919,null,"","",0,null,null,null,null,0,0,0,"",""]
[920,null,"","",0,null,null,null,null,0,0,0,"",""]
[921,null,"","",0,null,null,null,null,0,0,0,"",""]
[922,null,"","",0,null,null,null,null,0,0,0,"",""]
[923,null,"","",0,null,null,null,null,0,0,0,"",""]
[924,null,"","",0,null,null,null,null,0,0,0,"",""]
[925,null,"","",0,null,null,null,null,0,0,0,"",""]
[926,null,"","",0,null,null,null,null,0,0,0,"",""]
[927,null,"","",0,null,null,null,null,0,0,0,"",""]
[928,null,"","",0,null,null,null,null,0,0,0,"",""]
[929,null,"","",0,null,null,null,null,0,0,0,"",""]
[930,null,"","",0,null,null,null,null,0,0,0,"",""]
[931,null,"","",0,null,null,null,null,0,0,0,"",""]
[932,null,"","",0,null,null,null,null,0,0,0,"",""]
[933,null,"","",0,null,null,null,null,0,0,0,"",""]
[934,null,"","",0,null,null,null,null,0,0,0,"",""]
[935,null,"","",0,null,null,null,null,0,0,0,"",""]
[936,null,"","",0,null,null,null,null,0,0,0,"",""]
[937,null,"","",0,null,null,null,null,0,0,0,"",""]
[938,null,"","",0,null,null,null,null,0,0,0,"",""]
[939,null,"","",0,null,null,null,null,0,0,0,"",""]
[940,null,"","",0,null,null,null,null,0,0,0,"",""]
[941,null,"","",0,null,null,null,null,0,0,0,"",""]
[942,null,"","",0,null,null,null,null,0,0,0,"",""]
[943,null,"","",0,null,null,null,null,0,0,0,"",""]
[944,null,"","",0,null,null,null,null,0,0,0,"",""]
[945,null,"","",0,null,null,null,null,0,0,0,"",""]
[946,null,"","",0,null,null,null,null,0,0,0,"",""]
[947,null,"","",0,null,null,null,null,0,0,0,"",""]
[948,null,"","",0,null,null,null,null,0,0,0,"",""]
[949,null,"","",0,null,null,null,null,0,0,0,"",""]
[950,null,"","",0,null,null,null,null,0,0,0,"",""]
[951,null,"","",0,null,null,null,null,0,0,0,"",""]
[952,null,"","",0,null,null,null,null,0,0,0,"",""]
[953,null,"","",0,null,null,null,null,0,0,0,"",""]
[954,null,"","",0,null,null,null,null,0,0,0,"",""]
[955,null,"","",0,null,null,null,null,0,0,0,"",""]
[956,null,"","",0,null,null,null,null,0,0,0,"",""]
[957,null,"","",0,null,null,null,null,0,0,0,"",""]
[958,null,"","",0,null,null,null,null,0,0,0,"",""]
[959,null,"","",0,null,null,null,null,0,0,0,"",""]
[960,null,"","",0,null,null,null,null,0,0,0,"",""]
[961,null,{"$f":"IFERROR(VLOOKUP(B964,ItemDB,2,0),\"\")","v":""},{"$f":"IFERROR(VLOOKUP(B964,ItemDB,3,0),\"\")","v":""},{"$f":"PRODUCT(IFERROR(VLOOKUP(B964,ItemDB,4,0),0),F964:H964)","v":0},null,null,null,null,{"$f":"I964*E964","v":0},{"$f":"IFERROR(VLOOKUP(\"شمـاره رديف آنـاليــز :   \"&B964,Anareport,9,0),0)","v":0},{"$f":"K964*I964","v":0},"",""]
[962,null,"","",0,null,null,null,null,0,0,0,"",""]
[963,null,"","",0,null,null,null,null,0,0,0,{"$f":"IF(K966>E966,K966/E966-1,\"\")","v":""},{"$f":"IF(K966<E966,K966/E966-1,\"\")","v":""}]
[964,null,"","",0,null,null,null,null,0,0,0,"",""]
[965,null,"","",0,null,null,null,null,0,0,0,"",""]
[966,null,"","",0,null,null,null,null,0,0,0,"",""]
[967,null,"","",0,null,null,null,null,0,0,0,"",""]
[968,null,"","",0,null,null,null,null,0,0,0,"",""]
[969,null,"","",0,null,null,null,null,0,0,0,"",""]
[970,null,"","",0,null,null,null,null,0,0,0,"",""]
[971,null,"","",0,null,null,null,null,0,0,0,"",""]
[972,null,"","",0,null,null,null,null,0,0,0,"",""]
[973,null,"","",0,null,null,null,null,0,0,0,"",""]
[974,null,"","",0,null,null,null,null,0,0,0,"",""]
[975,null,"","",0,null,null,null,null,0,0,0,"",""]
[976,null,"","",0,null,null,null,null,0,0,0,"",""]
[977,null,"","",0,null,null,null,null,0,0,0,"",""]
[978,null,"","",0,null,null,null,null,0,0,0,"",""]
[979,null,"","",0,null,null,null,null,0,0,0,"",""]
[980,null,"","",0,null,null,null,null,0,0,0,"",""]
[981,null,"","",0,null,null,null,null,0,0,0,"",""]
[982,null,"","",0,null,null,null,null,0,0,0,"",""]
[983,null,"","",0,null,null,null,null,0,0,0,"",""]
[984,null,"","",0,null,null,null,null,0,0,0,"",""]
[985,null,"","",0,null,null,null,null,0,0,0,"",""]
[986,null,"","",0,null,null,null,null,0,0,0,"",""]
[987,null,"","",0,null,null,null,null,0,0,0,"",""]
[988,null,"","",0,null,null,null,null,0,0,0,"",""]
[989,null,"","",0,null,null,null,null,0,0,0,"",""]
[990,null,"","",0,null,null,null,null,0,0,0,"",""]
[991,null,"","",0,null,null,null,null,0,0,0,"",""]
[992,null,"","",0,null,null,null,null,0,0,0,"",""]
[993,null,"","",0,null,null,null,null,0,0,0,"",""]
[994,null,"","",0,null,null,null,null,0,0,0,"",""]
[995,null,"","",0,null,null,null,null,0,0,0,"",""]
[996,null,"","",0,null,null,null,null,0,0,0,"",""]
[997,null,"","",0,null,null,null,null,0,0,0,"",""]
[998,null,"","",0,null,null,null,null,0,0,0,"",""]
[999,null,"","",0,null,null,null,null,0,0,0,"",""]
[1000,null,"","",0,null,null,null,null,0,0,0,"",""]

{"sheet":"Analiz","index":1,"n_rows":115,"n_cols":26,"rows_kept":115,"cut":false,"hidden":true,"merged":[[111,11,111,14],[112,11,112,14],[113,11,113,14],[113,8,113,9],[5,11,7,15],[34,8,34,10],[34,13,34,14],[61,8,61,10],[61,13,61,14],[88,8,88,10],[88,13,88,14],[110,8,110,10],[110,13,110,14],[111,8,111,10],[5,8,5,10],[112,8,112,9]]}
[null,{"$f":"C7","v":2},null,null,null,"جدید (مقیاس)",{"$f":"IF(F1=F3,TRUE,FALSE)","v":true},null,null,null,null,null,null,null,null,null,null,null,"ضریب عامل","مقدار/ مقیاس"]
[null,2,null,null,null,"قدیم (4951)",null,null,null,null,null,{"$f":"IF(G1,N9,M9)","v":"مقدار/مقیاس"},null,null,null,null,null,"ضرایب ثابت آنالیز سازمان",null,null,"نت"]
[null,2,null,null,null,"جدید (مقیاس)",null,null,null,null,null,null,null,null,null,null,null,"اعمال درصد(مینوس/پلوس)معکوس",null,null,"آمار"]
["-",2,null,null,null,null,{"$f":"VLOOKUP(E7,ItemDB,3,0)","v":"مترطول"},null,null,null,null,null,null,null,null,null,null,null,"COL_INEDX",null,"روز"]
[null,{"$f":"B7","v":2},null,null,"050101",null,null,null,{"$f":"VLOOKUP(F6,FsolDB,2,0)","v":" فصل 5 . حفاری، شمع کوبی و سپرکوبی"},null,null,null,null,null,null,null,null,"ضرایب ثابت آنالیز سازمان",{"$f":"IF(G1,4,+IF(R5=\"ضرایب ثابت آنالیز سازمان\",7,6))","v":4},null,"نت",5]
[null,{"$f":"C7","v":2},null,null,"030102",{"$f":"ROUND(E7*0.0001,0)","v":5},null,null,"شرح ردیف : ",null,null,{"$f":"IFERROR(VLOOKUP(E7,ItemDB,2,0),\"\")","v":"حفاری ماشینی محل شمع، با مقطع دایره ای و به قطر 60 سانتیمتر، به طور عمودی تا عمق 20 متر در زمین هایی که در آن ها 50 =>N باشد، بیرون آوردن مصالح و حمل آن ها به دپو تا فاصله 50 متری مرکز ثقل محل حفاری، با هر وسیله، و تمیزکردن محل عملیات."},null,null,null,null,{"$f":"P112","v":1520851.2775000001},"مقدار",{"$f":"IF(G1,+IF(R5=\"ضرایب ثابت آنالیز سازمان\",3,2),10)","v":3},null,null,{"$f":"V5/100+1","v":1.05}]
[null,{"$f":"C7","v":2},{"$f":"IF(F6>0,2,0)","v":2},null,"050101",null,null,null,{"$f":"\"شمـاره رديف آنـاليــز :   \"&E7","v":"شمـاره رديف آنـاليــز :   050101"},null,null,null,null,null,null,null,{"$f":"P112","v":1520851.2775000001},"بهای واحد",{"$f":"IF(U5=\"نت\",4,IF(U5=\"آمار\",5,6))","v":4}]
[null,2,null,null,null,null,null,null,{"$f":"\"واحـد :   \"&VLOOKUP(E7,ItemDB,3,0)","v":"واحـد :   مترطول"},null,{"$f":"\" مقدار :            \"&Q8","v":{"$error":"#N/A"}},null,null,null,null,null,{"$f":"VLOOKUP(E7,metreh,8,0)","v":{"$error":"#N/A"}},null,null,null,"ضريب صفر","ضريب پيشنهاد",null,null,"مقدار/مقیاس صفر","مقدار مقیاس پیشنهادی"]
[null,{"$f":"IF(I10>0,2,0)","v":2},null,null,null,null,null,null,"رديف","کد عامل","نيروي انساني","واحد",{"$f":"IF(G1,\"مقیاس1\",\"ضریب عامل\")","v":"مقیاس1"},{"$f":"IF(G1,\"مقدار/مقیاس\",\"مقدار\")","v":"مقدار/مقیاس"},"بهای واحد عامل","بهاي کل",null,null,"قيمت نت در مقداردر ضريب","ضريب سازمان",{"$f":"V9","v":1520851.2775000001},{"$f":"P112","v":1520851.2775000001},"قيمت درمقیاس در مقدار/مقیاس","مقدار / مقیاس"]
[{"$f":"B10*C10","v":50101.000000009997},{"$f":"COUNTIF(Anb!A:A,C10)","v":1},{"$f":"D10+(G10*F10)","v":50101.000000009997},{"$f":"$E$7","v":"050101"},null,1E-8,1,null,{"$f":"VLOOKUP(A10,AnalizDB,16,0)","v":1},{"$f":"VLOOKUP(A10,AnalizDB,13,0)","v":13010402},{"$f":"VLOOKUP(A10,AnalizDB,12,0)","v":"جوشکار درجه دو"},{"$f":"VLOOKUP(A10,AnalizDB,11,0)","v":"نفر ساعت"},{"$f":"VLOOKUP(A10,AnalizDB,$S$5,0)","v":1},{"$f":"VLOOKUP(A10,AnalizDB,$S$6,0)","v":0.15},{"$f":"VLOOKUP(J10,ManabehDB,$S$7,0)","v":109041.1},{"$f":"IFERROR(O10*N10*M10,0)","v":16356.165000000001},{"$f":"VLOOKUP(A10,AnalizDB,10,0)*$Q$8","v":{"$error":"#N/A"}},null,{"$f":"IFERROR(O10*N10*T10,0)","v":16356.165000000001},{"$f":"VLOOKUP(A10,AnalizDB,7,0)","v":1},{"$f":"$S$114*T10","v":{"$error":"#N/A"}},{"$f":"$V$6*U10","v":{"$error":"#N/A"}},{"$f":"IFERROR(X10*O10,0)","v":16356.165000000001},{"$f":"VLOOKUP(A10,AnalizDB,3,0)","v":0.15},{"$f":"$W$114*X10","v":{"$error":"#N/A"}},{"$f":"Y10*$V$6","v":{"$error":"#N/A"}}]
[50101.000000020002,{"$f":"COUNTIF(Anb!A:A,C11)","v":1},50101.000000020002,{"$f":"$E$7","v":"050101"},null,1E-8,2,null,2,14010102,"كارگر ساده","نفر- ساعت",{"$f":"VLOOKUP(A11,AnalizDB,$S$5,0)","v":1},{"$f":"VLOOKUP(A11,AnalizDB,$S$6,0)","v":0.65},70696,{"$f":"IFERROR(O11*N11*M11,0)","v":45952.4},{"$error":"#N/A"},null,{"$f":"IFERROR(O11*N11*T11,0)","v":45952.4},1,{"$f":"$S$114*T11","v":{"$error":"#N/A"}},{"$f":"$V$6*U11","v":{"$error":"#N/A"}},{"$f":"IFERROR(X11*O11,0)","v":45952.4},0.65,{"$f":"$W$114*X11","v":{"$error":"#N/A"}},{"$f":"Y11*$V$6","v":{"$error":"#N/A"}}]
[50101.000000029999,{"$f":"COUNTIF(Anb!A:A,C12)","v":1},50101.000000029999,"050101",null,1E-8,3,null,3,14250101,"تکنیسین عملیات حفاری و شمعکوبی","نفر- ساعت",1,{"$f":"VLOOKUP(A12,AnalizDB,$S$6,0)","v":0.1},207415.9,{"$f":"IFERROR(O12*N12*M12,0)","v":20741.59},{"$error":"#N/A"},null,20741.59,1,{"$f":"$S$114*T12","v":{"$error":"#N/A"}},{"$f":"$V$6*U12","v":{"$error":"#N/A"}},20741.59,0.1,{"$error":"#N/A"},{"$f":"Y12*$V$6","v":{"$error":"#N/A"}}]
[50101.000000040003,{"$f":"COUNTIF(Anb!A:A,C13)","v":1},50101.000000040003,"050101",null,1E-8,4,null,{"$f":"VLOOKUP(A13,AnalizDB,16,0)","v":4},14250201,"حفار درجه یک شمع های درجا","نفر ساعت",1,0.25,163546.5,40886.625,{"$error":"#N/A"},null,40886.625,1,{"$error":"#N/A"},{"$error":"#N/A"},40886.625,0.25,{"$error":"#N/A"},{"$error":"#N/A"}]
[50101.00000005,{"$f":"COUNTIF(Anb!A:A,C14)","v":1},50101.00000005,"050101",null,1E-8,5,null,5,14250203,"کمک حفار شمع های درجا","نفر ساعت",1,0.25,92940.6,23235.15,{"$error":"#N/A"},null,23235.15,1,{"$error":"#N/A"},{"$error":"#N/A"},23235.15,0.25,{"$error":"#N/A"},{"$error":"#N/A"}]
[50101.000000059998,{"$f":"COUNTIF(Anb!A:A,C15)","v":1},50101.000000059998,"050101",null,1E-8,6,null,6,14250204,"کارگر حفاری","نفر ساعت",1,0.25,81390.899999999994,20347.724999999999,{"$error":"#N/A"},null,20347.724999999999,1,{"$error":"#N/A"},{"$error":"#N/A"},20347.724999999999,0.25,{"$error":"#N/A"},{"$error":"#N/A"}]
[0,{"$f":"COUNTIF(Anb!A:A,C16)","v":0},50101.000000070002,"050101",null,1E-8,7,null,{"$error":"#N/A"},{"$error":"#N/A"},{"$error":"#N/A"},{"$error":"#N/A"},{"$error":"#N/A"},{"$error":"#N/A"},{"$error":"#N/A"},0,{"$error":"#N/A"},null,0,{"$error":"#N/A"},{"$error":"#N/A"},{"$error":"#N/A"},0,{"$error":"#N/A"},{"$error":"#N/A"},{"$error":"#N/A"}]
[0,{"$f":"COUNTIF(Anb!A:A,C17)","v":0},50101.000000079999,"050101",null,1E-8,8,null,{"$error":"#N/A"},{"$error":"#N/A"},{"$error":"#N/A"},{"$error":"#N/A"},{"$error":"#N/A"},{"$error":"#N/A"},{"$error":"#N/A"},0,{"$error":"#N/A"},null,0,{"$error":"#N/A"},{"$error":"#N/A"},{"$error":"#N/A"},0,{"$error":"#N/A"},{"$error":"#N/A"},{"$error":"#N/A"}]
[0,{"$f":"COUNTIF(Anb!A:A,C18)","v":0},50101.000000090004,"050101",null,1E-8,9,null,{"$error":"#N/A"},{"$error":"#N/A"},{"$error":"#N/A"},{"$error":"#N/A"},{"$error":"#N/A"},{"$error":"#N/A"},{"$error":"#N/A"},0,{"$error":"#N/A"},null,0,{"$error":"#N/A"},{"$error":"#N/A"},{"$error":"#N/A"},0,{"$error":"#N/A"},{"$error":"#N/A"},{"$error":"#N/A"}]
[0,{"$f":"COUNTIF(Anb!A:A,C19)","v":0},50101.000000100001,"050101",null,1E-8,10,null,{"$error":"#N/A"},{"$error":"#N/A"},{"$error":"#N/A"},{"$error":"#N/A"},{"$error":"#N/A"},{"$error":"#N/A"},{"$error":"#N/A"},0,{"$error":"#N/A"},null,0,{"$error":"#N/A"},{"$error":"#N/A"},{"$error":"#N/A"},0,{"$error":"#N/A"},{"$error":"#N/A"},{"$error":"#N/A"}]
[0,{"$f":"COUNTIF(Anb!A:A,C20)","v":0},50101.000000109998,"050101",null,1E-8,11,null,{"$error":"#N/A"},{"$error":"#N/A"},{"$error":"#N/A"},{"$error":"#N/A"},{"$error":"#N/A"},{"$error":"#N/A"},{"$error":"#N/A"},0,{"$error":"#N/A"},null,0,{"$error":"#N/A"},{"$error":"#N/A"},{"$error":"#N/A"},0,{"$error":"#N/A"},{"$error":"#N/A"},{"$error":"#N/A"}]
[0,{"$f":"COUNTIF(Anb!A:A,C21)","v":0},50101.000000120002,"050101",null,1E-8,12,null,{"$error":"#N/A"},{"$error":"#N/A"},{"$error":"#N/A"},{"$error":"#N/A"},{"$error":"#N/A"},{"$error":"#N/A"},{"$error":"#N/A"},0,{"$error":"#N/A"},null,0,{"$error":"#N/A"},{"$error":"#N/A"},{"$error":"#N/A"},0,{"$error":"#N/A"},{"$error":"#N/A"},{"$error":"#N/A"}]
[0,{"$f":"COUNTIF(Anb!A:A,C22)","v":0},50101.00000013,"050101",null,1E-8,13,null,{"$error":"#N/A"},{"$error":"#N/A"},{"$error":"#N/A"},{"$error":"#N/A"},{"$error":"#N/A"},{"$error":"#N/A"},{"$error":"#N/A"},0,{"$error":"#N/A"},null,0,{"$error":"#N/A"},{"$error":"#N/A"},{"$error":"#N/A"},0,{"$error":"#N/A"},{"$error":"#N/A"},{"$error":"#N/A"}]
[0,{"$f":"COUNTIF(Anb!A:A,C23)","v":0},50101.000000139997,"050101",null,1E-8,14,null,{"$error":"#N/A"},{"$error":"#N/A"},{"$error":"#N/A"},{"$error":"#N/A"},{"$error":"#N/A"},{"$error":"#N/A"},{"$error":"#N/A"},0,{"$error":"#N/A"},null,0,{"$error":"#N/A"},{"$error":"#N/A"},{"$error":"#N/A"},0,{"$error":"#N/A"},{"$error":"#N/A"},{"$error":"#N/A"}]
[0,{"$f":"COUNTIF(Anb!A:A,C24)","v":0},50101.000000150001,"050101",null,1E-8,15,null,{"$error":"#N/A"},{"$error":"#N/A"},{"$error":"#N/A"},{"$error":"#N/A"},{"$error":"#N/A"},{"$error":"#N/A"},{"$error":"#N/A"},0,{"$error":"#N/A"},null,0,{"$error":"#N/A"},{"$error":"#N/A"},{"$error":"#N/A"},0,{"$error":"#N/A"},{"$error":"#N/A"},{"$error":"#N/A"}]
[0,{"$f":"COUNTIF(Anb!A:A,C25)","v":0},50101.000000159998,"050101",null,1E-8,16,null,{"$error":"#N/A"},{"$error":"#N/A"},{"$error":"#N/A"},{"$error":"#N/A"},{"$error":"#N/A"},{"$error":"#N/A"},{"$error":"#N/A"},0,{"$error":"#N/A"},null,0,{"$error":"#N/A"},{"$error":"#N/A"},{"$error":"#N/A"},0,{"$error":"#N/A"},{"$error":"#N/A"},{"$error":"#N/A"}]
[0,{"$f":"COUNTIF(Anb!A:A,C26)","v":0},50101.000000170003,"050101",null,1E-8,17,null,{"$error":"#N/A"},{"$error":"#N/A"},{"$error":"#N/A"},{"$error":"#N/A"},{"$error":"#N/A"},{"$error":"#N/A"},{"$error":"#N/A"},0,{"$error":"#N/A"},null,0,{"$error":"#N/A"},{"$error":"#N/A"},{"$error":"#N/A"},0,{"$error":"#N/A"},{"$error":"#N/A"},{"$error":"#N/A"}]
[0,{"$f":"COUNTIF(Anb!A:A,C27)","v":0},50101.00000018,"050101",null,1E-8,18,null,{"$error":"#N/A"},{"$error":"#N/A"},{"$error":"#N/A"},{"$error":"#N/A"},{"$error":"#N/A"},{"$error":"#N/A"},{"$error":"#N/A"},0,{"$error":"#N/A"},null,0,{"$error":"#N/A"},{"$error":"#N/A"},{"$error":"#N/A"},0,{"$error":"#N/A"},{"$error":"#N/A"},{"$error":"#N/A"}]
[0,{"$f":"COUNTIF(Anb!A:A,C28)","v":0},50101.000000189997,"050101",null,1E-8,19,null,{"$error":"#N/A"},{"$error":"#N/A"},{"$error":"#N/A"},{"$error":"#N/A"},{"$error":"#N/A"},{"$error":"#N/A"},{"$error":"#N/A"},0,{"$error":"#N/A"},null,0,{"$error":"#N/A"},{"$error":"#N/A"},{"$error":"#N/A"},0,{"$error":"#N/A"},{"$error":"#N/A"},{"$error":"#N/A"}]
[0,{"$f":"COUNTIF(Anb!A:A,C29)","v":0},50101.000000200002,"050101",null,1E-8,20,null,{"$error":"#N/A"},{"$error":"#N/A"},{"$error":"#N/A"},{"$error":"#N/A"},{"$error":"#N/A"},{"$error":"#N/A"},{"$error":"#N/A"},0,{"$error":"#N/A"},null,0,{"$error":"#N/A"},{"$error":"#N/A"},{"$error":"#N/A"},0,{"$error":"#N/A"},{"$error":"#N/A"},{"$error":"#N/A"}]
[0,{"$f":"COUNTIF(Anb!A:A,C30)","v":0},50101.000000209999,"050101",null,1E-8,21,null,{"$error":"#N/A"},{"$error":"#N/A"},{"$error":"#N/A"},{"$error":"#N/A"},{"$error":"#N/A"},{"$error":"#N/A"},{"$error":"#N/A"},0,{"$error":"#N/A"},null,0,{"$error":"#N/A"},{"$error":"#N/A"},{"$error":"#N/A"},0,{"$error":"#N/A"},{"$error":"#N/A"},{"$error":"#N/A"}]
[0,{"$f":"COUNTIF(Anb!A:A,C31)","v":0},50101.000000220003,"050101",null,1E-8,22,null,{"$error":"#N/A"},{"$error":"#N/A"},{"$error":"#N/A"},{"$error":"#N/A"},{"$error":"#N/A"},{"$error":"#N/A"},{"$error":"#N/A"},0,{"$error":"#N/A"},null,0,{"$error":"#N/A"},{"$error":"#N/A"},{"$error":"#N/A"},0,{"$error":"#N/A"},{"$error":"#N/A"},{"$error":"#N/A"}]
[0,{"$f":"COUNTIF(Anb!A:A,C32)","v":0},50101.00000023,"050101",null,1E-8,23,null,{"$error":"#N/A"},{"$error":"#N/A"},{"$error":"#N/A"},{"$error":"#N/A"},{"$error":"#N/A"},{"$error":"#N/A"},{"$error":"#N/A"},0,{"$error":"#N/A"},null,0,{"$error":"#N/A"},{"$error":"#N/A"},{"$error":"#N/A"},0,{"$error":"#N/A"},{"$error":"#N/A"},{"$error":"#N/A"}]
[0,{"$f":"COUNTIF(Anb!A:A,C33)","v":0},50101.000000239997,"050101",null,1E-8,24,null,{"$error":"#N/A"},{"$error":"#N/A"},{"$error":"#N/A"},{"$error":"#N/A"},{"$error":"#N/A"},{"$error":"#N/A"},{"$error":"#N/A"},0,{"$error":"#N/A"},null,0,{"$error":"#N/A"},{"$error":"#N/A"},{"$error":"#N/A"},0,{"$error":"#N/A"},{"$error":"#N/A"},{"$error":"#N/A"}]
[0,{"$f":"COUNTIF(Anb!A:A,C34)","v":0},50101.000000250002,"050101",null,1E-8,25,null,{"$error":"#N/A"},{"$error":"#N/A"},{"$error":"#N/A"},{"$error":"#N/A"},{"$error":"#N/A"},{"$error":"#N/A"},{"$error":"#N/A"},0,{"$error":"#N/A"},null,0,{"$error":"#N/A"},{"$error":"#N/A"},{"$error":"#N/A"},0,{"$error":"#N/A"},{"$error":"#N/A"},{"$error":"#N/A"}]
[null,{"$f":"IF(SUM(B10:B34)>0,2,0)","v":2},null,"050101",null,null,null,null,"درصد وزنی",null,null,{"$f":"ROUND(IFERROR(P35/P112,0),4)","v":0.1101},null,"جمع نيروي انساني",null,{"$f":"SUM(P10:P34)","v":167519.655},null,null,null,null,{"$error":"#N/A"},{"$error":"#N/A"},0,null,{"$error":"#N/A"},{"$error":"#N/A"}]
[null,{"$f":"B37","v":1},null,"050101",null,null,null,null,"رديف","کد عامل","ماشين آلات 2","واحد",{"$f":"M9","v":"مقیاس1"},{"$f":"N9","v":"مقدار/مقیاس"},{"$f":"O9","v":"بهای واحد عامل"},"بهاي کل",null,null,null,null,{"$error":"#N/A"},{"$error":"#N/A"},0,null,{"$error":"#N/A"},{"$error":"#N/A"}]
[{"$f":"B37*C37","v":50101.000001},{"$f":"COUNTIF(Anb!A:A,C37)","v":1},{"$f":"D37+(G37*F37)","v":50101.000001},"050101",null,9.9999999999999995E-7,1,null,{"$f":"VLOOKUP(A37,AnalizDB,16,0)","v":1},{"$f":"VLOOKUP(A37,AnalizDB,13,0)","v":25010802},{"$f":"VLOOKUP(A37,AnalizDB,12,0)","v":"لودرچرخ لاستيکي به قدرت حدود150  اسب بخار باراننده"},{"$f":"VLOOKUP(A37,AnalizDB,11,0)","v":"دستگاه-ساعت"},{"$f":"VLOOKUP(A37,AnalizDB,$S$5,0)","v":1},{"$f":"VLOOKUP(A37,AnalizDB,$S$6,0)","v":0.15},{"$f":"VLOOKUP(J37,ManabehDB,$S$7,0)","v":552613.80000000005},{"$f":"IFERROR(O37*N37*M37,0)","v":82892.070000000007},{"$f":"VLOOKUP(A37,AnalizDB,10,0)*$Q$8","v":{"$error":"#N/A"}},null,{"$f":"IFERROR(O37*N37*T37,0)","v":82892.070000000007},{"$f":"VLOOKUP(A37,AnalizDB,7,0)","v":1},{"$error":"#N/A"},{"$error":"#N/A"},82892.070000000007,{"$f":"VLOOKUP(A37,AnalizDB,3,0)","v":0.15},{"$error":"#N/A"},{"$error":"#N/A"}]
[50101.000002000001,{"$f":"COUNTIF(Anb!A:A,C38)","v":1},50101.000002000001,"050101",null,9.9999999999999995E-7,2,null,2,25020301,"دستگاه حفاري شمع هاي درجا","دستگاه ساعت",1,{"$f":"VLOOKUP(A38,AnalizDB,$S$6,0)","v":0.25},5049402.01,1262350.5024999999,{"$error":"#N/A"},null,{"$f":"IFERROR(O38*N38*T38,0)","v":1262350.5024999999},1,{"$error":"#N/A"},{"$error":"#N/A"},1262350.5024999999,0.25,{"$error":"#N/A"},{"$error":"#N/A"}]
[50101.000003000001,{"$f":"COUNTIF(Anb!A:A,C39)","v":1},50101.000003000001,"050101",null,9.9999999999999995E-7,3,null,3,26020502,"موتور جوش150 تا250 آمپر","دستگاه ساعت",1,0.15,53927,8089.0499999999993,{"$error":"#N/A"},null,8089.0499999999993,1,{"$error":"#N/A"},{"$error":"#N/A"},8089.0499999999993,0.15,{"$error":"#N/A"},{"$error":"#N/A"}]
[0,{"$f":"COUNTIF(Anb!A:A,C40)","v":0},50101.000004000001,"050101",null,9.9999999999999995E-7,4,null,{"$error":"#N/A"},{"$error":"#N/A"},{"$error":"#N/A"},{"$error":"#N/A"},{"$error":"#N/A"},{"$error":"#N/A"},{"$error":"#N/A"},0,{"$error":"#N/A"},null,0,{"$error":"#N/A"},{"$error":"#N/A"},{"$error":"#N/A"},0,{"$error":"#N/A"},{"$error":"#N/A"},{"$error":"#N/A"}]
[0,{"$f":"COUNTIF(Anb!A:A,C41)","v":0},50101.000005000002,"050101",null,9.9999999999999995E-7,5,null,{"$error":"#N/A"},{"$error":"#N/A"},{"$error":"#N/A"},{"$error":"#N/A"},{"$error":"#N/A"},{"$error":"#N/A"},{"$error":"#N/A"},0,{"$error":"#N/A"},null,0,{"$error":"#N/A"},{"$error":"#N/A"},{"$error":"#N/A"},0,{"$error":"#N/A"},{"$error":"#N/A"},{"$error":"#N/A"}]
[0,{"$f":"COUNTIF(Anb!A:A,C42)","v":0},50101.000006000002,"050101",null,9.9999999999999995E-7,6,null,{"$error":"#N/A"},{"$error":"#N/A"},{"$error":"#N/A"},{"$error":"#N/A"},{"$error":"#N/A"},{"$error":"#N/A"},{"$error":"#N/A"},0,{"$error":"#N/A"},null,0,{"$error":"#N/A"},{"$f":"$S$114*T42","v":{"$error":"#N/A"}},{"$f":"$V$6*U42","v":{"$error":"#N/A"}},0,{"$error":"#N/A"},{"$error":"#N/A"},{"$error":"#N/A"}]
[0,{"$f":"COUNTIF(Anb!A:A,C43)","v":0},50101.000007000002,"050101",null,9.9999999999999995E-7,7,null,{"$error":"#N/A"},{"$error":"#N/A"},{"$error":"#N/A"},{"$error":"#N/A"},{"$error":"#N/A"},{"$error":"#N/A"},{"$error":"#N/A"},0,{"$error":"#N/A"},null,0,{"$error":"#N/A"},{"$error":"#N/A"},{"$error":"#N/A"},0,{"$error":"#N/A"},{"$error":"#N/A"},{"$error":"#N/A"}]
[0,{"$f":"COUNTIF(Anb!A:A,C44)","v":0},50101.000008000003,"050101",null,9.9999999999999995E-7,8,null,{"$error":"#N/A"},{"$error":"#N/A"},{"$error":"#N/A"},{"$error":"#N/A"},{"$error":"#N/A"},{"$error":"#N/A"},{"$error":"#N/A"},0,{"$error":"#N/A"},null,0,{"$error":"#N/A"},{"$error":"#N/A"},{"$error":"#N/A"},0,{"$error":"#N/A"},{"$error":"#N/A"},{"$error":"#N/A"}]
[0,{"$f":"COUNTIF(Anb!A:A,C45)","v":0},50101.000009000003,"050101",null,9.9999999999999995E-7,9,null,{"$error":"#N/A"},{"$error":"#N/A"},{"$error":"#N/A"},{"$error":"#N/A"},{"$error":"#N/A"},{"$error":"#N/A"},{"$error":"#N/A"},0,{"$error":"#N/A"},null,0,{"$error":"#N/A"},{"$error":"#N/A"},{"$error":"#N/A"},0,{"$error":"#N/A"},{"$error":"#N/A"},{"$error":"#N/A"}]
[0,{"$f":"COUNTIF(Anb!A:A,C46)","v":0},50101.000010000003,"050101",null,9.9999999999999995E-7,10,null,{"$error":"#N/A"},{"$error":"#N/A"},{"$error":"#N/A"},{"$error":"#N/A"},{"$error":"#N/A"},{"$error":"#N/A"},{"$error":"#N/A"},0,{"$error":"#N/A"},null,0,{"$error":"#N/A"},{"$error":"#N/A"},{"$error":"#N/A"},0,{"$error":"#N/A"},{"$error":"#N/A"},{"$error":"#N/A"}]
[0,{"$f":"COUNTIF(Anb!A:A,C47)","v":0},50101.000010999996,"050101",null,9.9999999999999995E-7,11,null,{"$error":"#N/A"},{"$error":"#N/A"},{"$error":"#N/A"},{"$error":"#N/A"},{"$error":"#N/A"},{"$error":"#N/A"},{"$error":"#N/A"},0,{"$error":"#N/A"},null,0,{"$error":"#N/A"},{"$error":"#N/A"},{"$error":"#N/A"},0,{"$error":"#N/A"},{"$error":"#N/A"},{"$error":"#N/A"}]
[0,{"$f":"COUNTIF(Anb!A:A,C48)","v":0},50101.000011999997,"050101",null,9.9999999999999995E-7,12,null,{"$error":"#N/A"},{"$error":"#N/A"},{"$error":"#N/A"},{"$error":"#N/A"},{"$error":"#N/A"},{"$error":"#N/A"},{"$error":"#N/A"},0,{"$error":"#N/A"},null,0,{"$error":"#N/A"},{"$error":"#N/A"},{"$error":"#N/A"},0,{"$error":"#N/A"},{"$error":"#N/A"},{"$error":"#N/A"}]
[0,{"$f":"COUNTIF(Anb!A:A,C49)","v":0},50101.000012999997,"050101",null,9.9999999999999995E-7,13,null,{"$error":"#N/A"},{"$error":"#N/A"},{"$error":"#N/A"},{"$error":"#N/A"},{"$error":"#N/A"},{"$error":"#N/A"},{"$error":"#N/A"},0,{"$error":"#N/A"},null,0,{"$error":"#N/A"},{"$error":"#N/A"},{"$error":"#N/A"},0,{"$error":"#N/A"},{"$error":"#N/A"},{"$error":"#N/A"}]
[0,{"$f":"COUNTIF(Anb!A:A,C50)","v":0},50101.000013999997,"050101",null,9.9999999999999995E-7,14,null,{"$error":"#N/A"},{"$error":"#N/A"},{"$error":"#N/A"},{"$error":"#N/A"},{"$error":"#N/A"},{"$error":"#N/A"},{"$error":"#N/A"},0,{"$error":"#N/A"},null,0,{"$error":"#N/A"},{"$error":"#N/A"},{"$error":"#N/A"},0,{"$error":"#N/A"},{"$error":"#N/A"},{"$error":"#N/A"}]
[0,{"$f":"COUNTIF(Anb!A:A,C51)","v":0},50101.000014999998,"050101",null,9.9999999999999995E-7,15,null,{"$error":"#N/A"},{"$error":"#N/A"},{"$error":"#N/A"},{"$error":"#N/A"},{"$error":"#N/A"},{"$error":"#N/A"},{"$error":"#N/A"},0,{"$error":"#N/A"},null,0,{"$error":"#N/A"},{"$error":"#N/A"},{"$error":"#N/A"},0,{"$error":"#N/A"},{"$error":"#N/A"},{"$error":"#N/A"}]
[0,{"$f":"COUNTIF(Anb!A:A,C52)","v":0},50101.000015999998,"050101",null,9.9999999999999995E-7,16,null,{"$error":"#N/A"},{"$error":"#N/A"},{"$error":"#N/A"},{"$error":"#N/A"},{"$error":"#N/A"},{"$error":"#N/A"},{"$error":"#N/A"},0,{"$error":"#N/A"},null,0,{"$error":"#N/A"},{"$error":"#N/A"},{"$error":"#N/A"},0,{"$error":"#N/A"},{"$error":"#N/A"},{"$error":"#N/A"}]
[0,{"$f":"COUNTIF(Anb!A:A,C53)","v":0},50101.000016999998,"050101",null,9.9999999999999995E-7,17,null,{"$error":"#N/A"},{"$error":"#N/A"},{"$error":"#N/A"},{"$error":"#N/A"},{"$error":"#N/A"},{"$error":"#N/A"},{"$error":"#N/A"},0,{"$error":"#N/A"},null,0,{"$error":"#N/A"},{"$error":"#N/A"},{"$error":"#N/A"},0,{"$error":"#N/A"},{"$error":"#N/A"},{"$error":"#N/A"}]
[0,{"$f":"COUNTIF(Anb!A:A,C54)","v":0},50101.000017999999,"050101",null,9.9999999999999995E-7,18,null,{"$error":"#N/A"},{"$error":"#N/A"},{"$error":"#N/A"},{"$error":"#N/A"},{"$error":"#N/A"},{"$error":"#N/A"},{"$error":"#N/A"},0,{"$error":"#N/A"},null,0,{"$error":"#N/A"},{"$error":"#N/A"},{"$error":"#N/A"},0,{"$error":"#N/A"},{"$error":"#N/A"},{"$error":"#N/A"}]
[0,{"$f":"COUNTIF(Anb!A:A,C55)","v":0},50101.000018999999,"050101",null,9.9999999999999995E-7,19,null,{"$error":"#N/A"},{"$error":"#N/A"},{"$error":"#N/A"},{"$error":"#N/A"},{"$error":"#N/A"},{"$error":"#N/A"},{"$error":"#N/A"},0,{"$error":"#N/A"},null,0,{"$error":"#N/A"},{"$error":"#N/A"},{"$error":"#N/A"},0,{"$error":"#N/A"},{"$error":"#N/A"},{"$error":"#N/A"}]
[0,{"$f":"COUNTIF(Anb!A:A,C56)","v":0},50101.000019999999,"050101",null,9.9999999999999995E-7,20,null,{"$error":"#N/A"},{"$error":"#N/A"},{"$error":"#N/A"},{"$error":"#N/A"},{"$error":"#N/A"},{"$error":"#N/A"},{"$error":"#N/A"},0,{"$error":"#N/A"},null,0,{"$error":"#N/A"},{"$error":"#N/A"},{"$error":"#N/A"},0,{"$error":"#N/A"},{"$error":"#N/A"},{"$error":"#N/A"}]
[0,{"$f":"COUNTIF(Anb!A:A,C57)","v":0},50101.000021,"050101",null,9.9999999999999995E-7,21,null,{"$error":"#N/A"},{"$error":"#N/A"},{"$error":"#N/A"},{"$error":"#N/A"},{"$error":"#N/A"},{"$error":"#N/A"},{"$error":"#N/A"},0,{"$error":"#N/A"},null,0,{"$error":"#N/A"},{"$error":"#N/A"},{"$error":"#N/A"},0,{"$error":"#N/A"},{"$error":"#N/A"},{"$error":"#N/A"}]
[0,{"$f":"COUNTIF(Anb!A:A,C58)","v":0},50101.000022,"050101",null,9.9999999999999995E-7,22,null,{"$error":"#N/A"},{"$error":"#N/A"},{"$error":"#N/A"},{"$error":"#N/A"},{"$error":"#N/A"},{"$error":"#N/A"},{"$error":"#N/A"},0,{"$error":"#N/A"},null,0,{"$error":"#N/A"},{"$error":"#N/A"},{"$error":"#N/A"},0,{"$error":"#N/A"},{"$error":"#N/A"},{"$error":"#N/A"}]
[0,{"$f":"COUNTIF(Anb!A:A,C59)","v":0},50101.000023000001,"050101",null,9.9999999999999995E-7,23,null,{"$error":"#N/A"},{"$error":"#N/A"},{"$error":"#N/A"},{"$error":"#N/A"},{"$error":"#N/A"},{"$error":"#N/A"},{"$error":"#N/A"},0,{"$error":"#N/A"},null,0,{"$error":"#N/A"},{"$error":"#N/A"},{"$error":"#N/A"},0,{"$error":"#N/A"},{"$error":"#N/A"},{"$error":"#N/A"}]
[0,{"$f":"COUNTIF(Anb!A:A,C60)","v":0},50101.000024000001,"050101",null,9.9999999999999995E-7,24,null,{"$error":"#N/A"},{"$error":"#N/A"},{"$error":"#N/A"},{"$error":"#N/A"},{"$error":"#N/A"},{"$error":"#N/A"},{"$error":"#N/A"},0,{"$error":"#N/A"},null,0,{"$error":"#N/A"},{"$error":"#N/A"},{"$error":"#N/A"},0,{"$error":"#N/A"},{"$error":"#N/A"},{"$error":"#N/A"}]
[0,{"$f":"COUNTIF(Anb!A:A,C61)","v":0},50101.000025000001,"050101",null,9.9999999999999995E-7,25,null,{"$error":"#N/A"},{"$error":"#N/A"},{"$error":"#N/A"},{"$error":"#N/A"},{"$error":"#N/A"},{"$error":"#N/A"},{"$error":"#N/A"},0,{"$error":"#N/A"},null,0,{"$error":"#N/A"},{"$error":"#N/A"},{"$error":"#N/A"},0,{"$error":"#N/A"},{"$error":"#N/A"},{"$error":"#N/A"}]
[null,{"$f":"IF(SUM(B37:B61)>0,2,0)","v":2},null,null,null,null,null,null,"درصد وزنی",null,null,{"$f":"ROUND(IFERROR(P62/P112,0),4)","v":0.88990000000000002},null,"جمع ماشين آلات ",null,{"$f":"SUM(P37:P61)","v":1353331.6225000001},null,null,null,null,{"$error":"#N/A"},{"$error":"#N/A"},0,null,{"$error":"#N/A"},{"$error":"#N/A"}]
[null,{"$f":"B64","v":0},null,null,null,null,null,null,"رديف","کد عامل","مصالح","واحد",{"$f":"M36","v":"مقیاس1"},{"$f":"N36","v":"مقدار/مقیاس"},{"$f":"O36","v":"بهای واحد عامل"},"بهاي کل",null,null,null,null,{"$error":"#N/A"},{"$error":"#N/A"},0,null,{"$error":"#N/A"},{"$error":"#N/A"}]
[{"$f":"B64*C64","v":0},{"$f":"COUNTIF(Anb!A:A,C64)","v":0},{"$f":"D64+(G64*F64)","v":50101.000099999997},{"$f":"$E$7","v":"050101"},null,1E-4,1,null,{"$f":"VLOOKUP(A64,AnalizDB,16,0)","v":{"$error":"#N/A"}},{"$f":"VLOOKUP(A64,AnalizDB,13,0)","v":{"$error":"#N/A"}},{"$f":"VLOOKUP(A64,AnalizDB,12,0)","v":{"$error":"#N/A"}},{"$f":"VLOOKUP(A64,AnalizDB,11,0)","v":{"$error":"#N/A"}},{"$f":"VLOOKUP(A64,AnalizDB,$S$5,0)","v":{"$error":"#N/A"}},{"$f":"VLOOKUP(A64,AnalizDB,$S$6,0)","v":{"$error":"#N/A"}},{"$f":"VLOOKUP(J64,ManabehDB,$S$7,0)","v":{"$error":"#N/A"}},{"$f":"IFERROR(O64*N64*M64,0)","v":0},{"$f":"VLOOKUP(A64,AnalizDB,10,0)*$Q$8","v":{"$error":"#N/A"}},null,{"$f":"IFERROR(O64*N64*T64,0)","v":0},{"$f":"VLOOKUP(A64,AnalizDB,7,0)","v":{"$error":"#N/A"}},{"$error":"#N/A"},{"$error":"#N/A"},0,{"$f":"VLOOKUP(A64,AnalizDB,3,0)","v":{"$error":"#N/A"}},{"$error":"#N/A"},{"$error":"#N/A"}]
[0,{"$f":"COUNTIF(Anb!A:A,C65)","v":0},50101.000200000002,"050101",null,1E-4,2,null,{"$error":"#N/A"},{"$error":"#N/A"},{"$error":"#N/A"},{"$error":"#N/A"},{"$error":"#N/A"},{"$error":"#N/A"},{"$error":"#N/A"},0,{"$error":"#N/A"},null,{"$f":"IFERROR(O65*N65*T65,0)","v":0},{"$error":"#N/A"},{"$error":"#N/A"},{"$error":"#N/A"},0,{"$error":"#N/A"},{"$error":"#N/A"},{"$error":"#N/A"}]
[0,{"$f":"COUNTIF(Anb!A:A,C66)","v":0},50101.0003,"050101",null,1E-4,3,null,{"$error":"#N/A"},{"$error":"#N/A"},{"$error":"#N/A"},{"$error":"#N/A"},{"$error":"#N/A"},{"$error":"#N/A"},{"$error":"#N/A"},0,{"$error":"#N/A"},null,0,{"$error":"#N/A"},{"$error":"#N/A"},{"$error":"#N/A"},0,{"$error":"#N/A"},{"$error":"#N/A"},{"$error":"#N/A"}]
[0,{"$f":"COUNTIF(Anb!A:A,C67)","v":0},50101.000399999997,"050101",null,1E-4,4,null,{"$error":"#N/A"},{"$error":"#N/A"},{"$error":"#N/A"},{"$error":"#N/A"},{"$error":"#N/A"},{"$error":"#N/A"},{"$error":"#N/A"},0,{"$error":"#N/A"},null,0,{"$error":"#N/A"},{"$error":"#N/A"},{"$error":"#N/A"},0,{"$error":"#N/A"},{"$error":"#N/A"},{"$error":"#N/A"}]
[0,{"$f":"COUNTIF(Anb!A:A,C68)","v":0},50101.000500000002,"050101",null,1E-4,5,null,{"$error":"#N/A"},{"$error":"#N/A"},{"$error":"#N/A"},{"$error":"#N/A"},{"$error":"#N/A"},{"$error":"#N/A"},{"$error":"#N/A"},0,{"$error":"#N/A"},null,0,{"$error":"#N/A"},{"$error":"#N/A"},{"$error":"#N/A"},0,{"$error":"#N/A"},{"$error":"#N/A"},{"$error":"#N/A"}]
[0,{"$f":"COUNTIF(Anb!A:A,C69)","v":0},50101.000599999999,"050101",null,1E-4,6,null,{"$error":"#N/A"},{"$error":"#N/A"},{"$error":"#N/A"},{"$error":"#N/A"},{"$error":"#N/A"},{"$error":"#N/A"},{"$error":"#N/A"},0,{"$error":"#N/A"},null,0,{"$error":"#N/A"},{"$error":"#N/A"},{"$error":"#N/A"},0,{"$error":"#N/A"},{"$error":"#N/A"},{"$error":"#N/A"}]
[0,{"$f":"COUNTIF(Anb!A:A,C70)","v":0},50101.000699999997,"050101",null,1E-4,7,null,{"$error":"#N/A"},{"$error":"#N/A"},{"$error":"#N/A"},{"$error":"#N/A"},{"$error":"#N/A"},{"$error":"#N/A"},{"$error":"#N/A"},0,{"$error":"#N/A"},null,0,{"$error":"#N/A"},{"$error":"#N/A"},{"$error":"#N/A"},0,{"$error":"#N/A"},{"$error":"#N/A"},{"$error":"#N/A"}]
[0,{"$f":"COUNTIF(Anb!A:A,C71)","v":0},50101.000800000002,"050101",null,1E-4,8,null,{"$error":"#N/A"},{"$error":"#N/A"},{"$error":"#N/A"},{"$error":"#N/A"},{"$error":"#N/A"},{"$error":"#N/A"},{"$error":"#N/A"},0,{"$error":"#N/A"},null,0,{"$error":"#N/A"},{"$error":"#N/A"},{"$error":"#N/A"},0,{"$error":"#N/A"},{"$error":"#N/A"},{"$error":"#N/A"}]
[0,{"$f":"COUNTIF(Anb!A:A,C72)","v":0},50101.000899999999,"050101",null,1E-4,9,null,{"$error":"#N/A"},{"$error":"#N/A"},{"$error":"#N/A"},{"$error":"#N/A"},{"$error":"#N/A"},{"$error":"#N/A"},{"$error":"#N/A"},0,{"$error":"#N/A"},null,0,{"$error":"#N/A"},{"$error":"#N/A"},{"$error":"#N/A"},0,{"$error":"#N/A"},{"$error":"#N/A"},{"$error":"#N/A"}]
[0,{"$f":"COUNTIF(Anb!A:A,C73)","v":0},50101.000999999997,"050101",null,1E-4,10,null,{"$error":"#N/A"},{"$error":"#N/A"},{"$error":"#N/A"},{"$error":"#N/A"},{"$error":"#N/A"},{"$error":"#N/A"},{"$error":"#N/A"},0,{"$error":"#N/A"},null,0,{"$error":"#N/A"},{"$error":"#N/A"},{"$error":"#N/A"},0,{"$error":"#N/A"},{"$error":"#N/A"},{"$error":"#N/A"}]
[0,{"$f":"COUNTIF(Anb!A:A,C74)","v":0},50101.001100000001,"050101",null,1E-4,11,null,{"$error":"#N/A"},{"$error":"#N/A"},{"$error":"#N/A"},{"$error":"#N/A"},{"$error":"#N/A"},{"$error":"#N/A"},{"$error":"#N/A"},0,{"$error":"#N/A"},null,0,{"$error":"#N/A"},{"$f":"$S$114*T74","v":{"$error":"#N/A"}},{"$f":"$V$6*U74","v":{"$error":"#N/A"}},0,{"$error":"#N/A"},{"$error":"#N/A"},{"$error":"#N/A"}]
[0,{"$f":"COUNTIF(Anb!A:A,C75)","v":0},50101.001199999999,"050101",null,1E-4,12,null,{"$error":"#N/A"},{"$error":"#N/A"},{"$error":"#N/A"},{"$error":"#N/A"},{"$error":"#N/A"},{"$error":"#N/A"},{"$error":"#N/A"},0,{"$error":"#N/A"},null,0,{"$error":"#N/A"},{"$error":"#N/A"},{"$error":"#N/A"},{"$f":"IFERROR(X75*O75,0)","v":0},{"$error":"#N/A"},{"$f":"$W$114*X75","v":{"$error":"#N/A"}},{"$error":"#N/A"}]
[0,{"$f":"COUNTIF(Anb!A:A,C76)","v":0},50101.001300000004,"050101",null,1E-4,13,null,{"$error":"#N/A"},{"$error":"#N/A"},{"$error":"#N/A"},{"$error":"#N/A"},{"$error":"#N/A"},{"$error":"#N/A"},{"$error":"#N/A"},0,{"$error":"#N/A"},null,0,{"$error":"#N/A"},{"$error":"#N/A"},{"$error":"#N/A"},0,{"$error":"#N/A"},{"$error":"#N/A"},{"$f":"Y76*$V$6","v":{"$error":"#N/A"}}]
[0,{"$f":"COUNTIF(Anb!A:A,C77)","v":0},50101.001400000001,"050101",null,1E-4,14,null,{"$error":"#N/A"},{"$error":"#N/A"},{"$error":"#N/A"},{"$error":"#N/A"},{"$error":"#N/A"},{"$error":"#N/A"},{"$error":"#N/A"},0,{"$error":"#N/A"},null,0,{"$error":"#N/A"},{"$error":"#N/A"},{"$error":"#N/A"},0,{"$error":"#N/A"},{"$error":"#N/A"},{"$error":"#N/A"}]
[0,{"$f":"COUNTIF(Anb!A:A,C78)","v":0},50101.001499999998,"050101",null,1E-4,15,null,{"$error":"#N/A"},{"$error":"#N/A"},{"$error":"#N/A"},{"$error":"#N/A"},{"$error":"#N/A"},{"$error":"#N/A"},{"$error":"#N/A"},0,{"$error":"#N/A"},null,0,{"$error":"#N/A"},{"$error":"#N/A"},{"$error":"#N/A"},0,{"$error":"#N/A"},{"$error":"#N/A"},{"$error":"#N/A"}]
[0,{"$f":"COUNTIF(Anb!A:A,C79)","v":0},50101.001600000003,"050101",null,1E-4,16,null,{"$error":"#N/A"},{"$error":"#N/A"},{"$error":"#N/A"},{"$error":"#N/A"},{"$error":"#N/A"},{"$error":"#N/A"},{"$error":"#N/A"},0,{"$error":"#N/A"},null,0,{"$error":"#N/A"},{"$error":"#N/A"},{"$error":"#N/A"},0,{"$error":"#N/A"},{"$error":"#N/A"},{"$error":"#N/A"}]
[0,{"$f":"COUNTIF(Anb!A:A,C80)","v":0},50101.001700000001,"050101",null,1E-4,17,null,{"$error":"#N/A"},{"$error":"#N/A"},{"$error":"#N/A"},{"$error":"#N/A"},{"$error":"#N/A"},{"$error":"#N/A"},{"$error":"#N/A"},0,{"$error":"#N/A"},null,0,{"$error":"#N/A"},{"$error":"#N/A"},{"$error":"#N/A"},0,{"$error":"#N/A"},{"$error":"#N/A"},{"$error":"#N/A"}]
[0,{"$f":"COUNTIF(Anb!A:A,C81)","v":0},50101.001799999998,"050101",null,1E-4,18,null,{"$error":"#N/A"},{"$error":"#N/A"},{"$error":"#N/A"},{"$error":"#N/A"},{"$error":"#N/A"},{"$error":"#N/A"},{"$error":"#N/A"},0,{"$error":"#N/A"},null,0,{"$error":"#N/A"},{"$error":"#N/A"},{"$error":"#N/A"},0,{"$error":"#N/A"},{"$error":"#N/A"},{"$error":"#N/A"}]
[0,{"$f":"COUNTIF(Anb!A:A,C82)","v":0},50101.001900000003,"050101",null,1E-4,19,null,{"$error":"#N/A"},{"$error":"#N/A"},{"$error":"#N/A"},{"$error":"#N/A"},{"$error":"#N/A"},{"$error":"#N/A"},{"$error":"#N/A"},0,{"$error":"#N/A"},null,0,{"$error":"#N/A"},{"$error":"#N/A"},{"$error":"#N/A"},0,{"$error":"#N/A"},{"$error":"#N/A"},{"$error":"#N/A"}]
[0,{"$f":"COUNTIF(Anb!A:A,C83)","v":0},50101.002,"050101",null,1E-4,20,null,{"$error":"#N/A"},{"$error":"#N/A"},{"$error":"#N/A"},{"$error":"#N/A"},{"$error":"#N/A"},{"$error":"#N/A"},{"$error":"#N/A"},0,{"$error":"#N/A"},null,0,{"$error":"#N/A"},{"$error":"#N/A"},{"$error":"#N/A"},0,{"$error":"#N/A"},{"$error":"#N/A"},{"$error":"#N/A"}]
[0,{"$f":"COUNTIF(Anb!A:A,C84)","v":0},50101.002099999998,"050101",null,1E-4,21,null,{"$error":"#N/A"},{"$error":"#N/A"},{"$error":"#N/A"},{"$error":"#N/A"},{"$error":"#N/A"},{"$error":"#N/A"},{"$error":"#N/A"},0,{"$error":"#N/A"},null,0,{"$error":"#N/A"},{"$error":"#N/A"},{"$error":"#N/A"},0,{"$error":"#N/A"},{"$error":"#N/A"},{"$error":"#N/A"}]
[0,{"$f":"COUNTIF(Anb!A:A,C85)","v":0},50101.002200000003,"050101",null,1E-4,22,null,{"$error":"#N/A"},{"$error":"#N/A"},{"$error":"#N/A"},{"$error":"#N/A"},{"$error":"#N/A"},{"$error":"#N/A"},{"$error":"#N/A"},0,{"$error":"#N/A"},null,0,{"$error":"#N/A"},{"$error":"#N/A"},{"$error":"#N/A"},0,{"$error":"#N/A"},{"$error":"#N/A"},{"$error":"#N/A"}]
[0,{"$f":"COUNTIF(Anb!A:A,C86)","v":0},50101.0023,"050101",null,1E-4,23,null,{"$error":"#N/A"},{"$error":"#N/A"},{"$error":"#N/A"},{"$error":"#N/A"},{"$error":"#N/A"},{"$error":"#N/A"},{"$error":"#N/A"},0,{"$error":"#N/A"},null,0,{"$error":"#N/A"},{"$error":"#N/A"},{"$error":"#N/A"},0,{"$error":"#N/A"},{"$error":"#N/A"},{"$error":"#N/A"}]
[0,{"$f":"COUNTIF(Anb!A:A,C87)","v":0},50101.002399999998,"050101",null,1E-4,24,null,{"$error":"#N/A"},{"$error":"#N/A"},{"$error":"#N/A"},{"$error":"#N/A"},{"$error":"#N/A"},{"$error":"#N/A"},{"$error":"#N/A"},0,{"$error":"#N/A"},null,0,{"$error":"#N/A"},{"$error":"#N/A"},{"$error":"#N/A"},0,{"$error":"#N/A"},{"$error":"#N/A"},{"$error":"#N/A"}]
[0,{"$f":"COUNTIF(Anb!A:A,C88)","v":0},50101.002500000002,"050101",null,1E-4,25,null,{"$error":"#N/A"},{"$error":"#N/A"},{"$error":"#N/A"},{"$error":"#N/A"},{"$error":"#N/A"},{"$error":"#N/A"},{"$error":"#N/A"},0,{"$error":"#N/A"},null,0,{"$error":"#N/A"},{"$error":"#N/A"},{"$error":"#N/A"},0,{"$error":"#N/A"},{"$error":"#N/A"},{"$error":"#N/A"}]
[null,{"$f":"IF(SUM(B64:B88)>0,2,0)","v":0},null,null,null,null,null,null,"درصد وزنی",null,null,{"$f":"ROUND(IFERROR(P89/P112,0),4)","v":0},null,"جمع مصالح",null,{"$f":"SUM(P64:P88)","v":0},null,null,null,null,{"$error":"#N/A"},{"$error":"#N/A"},0,null,{"$error":"#N/A"},{"$error":"#N/A"}]
[null,{"$f":"B91","v":0},null,null,null,null,null,null,"رديف","کد عامل","حمل مصالح","واحد",{"$f":"M63","v":"مقیاس1"},{"$f":"N63","v":"مقدار/مقیاس"},{"$f":"O63","v":"بهای واحد عامل"},"بهاي کل",null,null,null,null,{"$error":"#N/A"},{"$error":"#N/A"},0,null,{"$error":"#N/A"},{"$error":"#N/A"}]
[{"$f":"B91*C91","v":0},{"$f":"COUNTIF(Anb!A:A,C91)","v":0},{"$f":"D91+(G91*F91)","v":50101.01},{"$f":"$E$7","v":"050101"},null,0.01,1,null,{"$f":"VLOOKUP(A91,AnalizDB,16,0)","v":{"$error":"#N/A"}},{"$f":"VLOOKUP(A91,AnalizDB,13,0)","v":{"$error":"#N/A"}},{"$f":"VLOOKUP(A91,AnalizDB,12,0)","v":{"$error":"#N/A"}},{"$f":"VLOOKUP(A91,AnalizDB,11,0)","v":{"$error":"#N/A"}},{"$f":"VLOOKUP(A91,AnalizDB,$S$5,0)","v":{"$error":"#N/A"}},{"$f":"VLOOKUP(A91,AnalizDB,$S$6,0)","v":{"$error":"#N/A"}},{"$f":"VLOOKUP(J91,ManabehDB,$S$7,0)","v":{"$error":"#N/A"}},{"$f":"IFERROR(O91*N91*M91,0)","v":0},{"$f":"VLOOKUP(A91,AnalizDB,10,0)*$Q$8","v":{"$error":"#N/A"}},null,{"$f":"IFERROR(O91*N91*T91,0)","v":0},{"$f":"VLOOKUP(A91,AnalizDB,7,0)","v":{"$error":"#N/A"}},{"$error":"#N/A"},{"$error":"#N/A"},0,{"$f":"VLOOKUP(A91,AnalizDB,3,0)","v":{"$error":"#N/A"}},{"$error":"#N/A"},{"$error":"#N/A"}]
[0,{"$f":"COUNTIF(Anb!A:A,C92)","v":0},50101.02,"050101",null,0.01,2,null,{"$error":"#N/A"},{"$error":"#N/A"},{"$error":"#N/A"},{"$error":"#N/A"},{"$error":"#N/A"},{"$error":"#N/A"},{"$error":"#N/A"},0,{"$error":"#N/A"},null,0,{"$error":"#N/A"},{"$error":"#N/A"},{"$error":"#N/A"},0,{"$error":"#N/A"},{"$error":"#N/A"},{"$error":"#N/A"}]
[0,{"$f":"COUNTIF(Anb!A:A,C93)","v":0},50101.03,"050101",null,0.01,3,null,{"$error":"#N/A"},{"$error":"#N/A"},{"$error":"#N/A"},{"$error":"#N/A"},{"$error":"#N/A"},{"$error":"#N/A"},{"$error":"#N/A"},0,{"$error":"#N/A"},null,0,{"$error":"#N/A"},{"$error":"#N/A"},{"$error":"#N/A"},0,{"$error":"#N/A"},{"$error":"#N/A"},{"$error":"#N/A"}]
[0,{"$f":"COUNTIF(Anb!A:A,C94)","v":0},50101.04,"050101",null,0.01,4,null,{"$error":"#N/A"},{"$error":"#N/A"},{"$error":"#N/A"},{"$error":"#N/A"},{"$error":"#N/A"},{"$error":"#N/A"},{"$error":"#N/A"},0,{"$error":"#N/A"},null,0,{"$error":"#N/A"},{"$error":"#N/A"},{"$error":"#N/A"},0,{"$error":"#N/A"},{"$error":"#N/A"},{"$error":"#N/A"}]
[0,{"$f":"COUNTIF(Anb!A:A,C95)","v":0},50101.05,"050101",null,0.01,5,null,{"$error":"#N/A"},{"$error":"#N/A"},{"$error":"#N/A"},{"$error":"#N/A"},{"$error":"#N/A"},{"$error":"#N/A"},{"$error":"#N/A"},0,{"$error":"#N/A"},null,0,{"$error":"#N/A"},{"$error":"#N/A"},{"$error":"#N/A"},0,{"$error":"#N/A"},{"$error":"#N/A"},{"$error":"#N/A"}]
[0,{"$f":"COUNTIF(Anb!A:A,C96)","v":0},50101.06,"050101",null,0.01,6,null,{"$error":"#N/A"},{"$error":"#N/A"},{"$error":"#N/A"},{"$error":"#N/A"},{"$error":"#N/A"},{"$error":"#N/A"},{"$error":"#N/A"},0,{"$error":"#N/A"},null,0,{"$error":"#N/A"},{"$error":"#N/A"},{"$error":"#N/A"},0,{"$error":"#N/A"},{"$error":"#N/A"},{"$error":"#N/A"}]
[0,{"$f":"COUNTIF(Anb!A:A,C97)","v":0},50101.07,"050101",null,0.01,7,null,{"$error":"#N/A"},{"$error":"#N/A"},{"$error":"#N/A"},{"$error":"#N/A"},{"$error":"#N/A"},{"$error":"#N/A"},{"$error":"#N/A"},0,{"$error":"#N/A"},null,0,{"$error":"#N/A"},{"$error":"#N/A"},{"$error":"#N/A"},0,{"$error":"#N/A"},{"$error":"#N/A"},{"$error":"#N/A"}]
[0,{"$f":"COUNTIF(Anb!A:A,C98)","v":0},50101.08,"050101",null,0.01,8,null,{"$error":"#N/A"},{"$error":"#N/A"},{"$error":"#N/A"},{"$error":"#N/A"},{"$error":"#N/A"},{"$error":"#N/A"},{"$error":"#N/A"},0,{"$error":"#N/A"},null,0,{"$error":"#N/A"},{"$error":"#N/A"},{"$error":"#N/A"},0,{"$error":"#N/A"},{"$error":"#N/A"},{"$error":"#N/A"}]
[0,{"$f":"COUNTIF(Anb!A:A,C99)","v":0},50101.09,"050101",null,0.01,9,null,{"$error":"#N/A"},{"$error":"#N/A"},{"$error":"#N/A"},{"$error":"#N/A"},{"$error":"#N/A"},{"$error":"#N/A"},{"$error":"#N/A"},0,{"$error":"#N/A"},null,0,{"$error":"#N/A"},{"$error":"#N/A"},{"$error":"#N/A"},0,{"$error":"#N/A"},{"$error":"#N/A"},{"$error":"#N/A"}]
[0,{"$f":"COUNTIF(Anb!A:A,C100)","v":0},50101.1,"050101",null,0.01,10,null,{"$error":"#N/A"},{"$error":"#N/A"},{"$error":"#N/A"},{"$error":"#N/A"},{"$error":"#N/A"},{"$error":"#N/A"},{"$error":"#N/A"},0,{"$error":"#N/A"},null,0,{"$error":"#N/A"},{"$error":"#N/A"},{"$error":"#N/A"},0,{"$error":"#N/A"},{"$error":"#N/A"},{"$error":"#N/A"}]
[0,{"$f":"COUNTIF(Anb!A:A,C101)","v":0},50101.11,"050101",null,0.01,11,null,{"$error":"#N/A"},{"$error":"#N/A"},{"$error":"#N/A"},{"$error":"#N/A"},{"$error":"#N/A"},{"$error":"#N/A"},{"$error":"#N/A"},0,{"$error":"#N/A"},null,0,{"$error":"#N/A"},{"$error":"#N/A"},{"$error":"#N/A"},0,{"$error":"#N/A"},{"$error":"#N/A"},{"$error":"#N/A"}]
[0,{"$f":"COUNTIF(Anb!A:A,C102)","v":0},50101.120000000003,"050101",null,0.01,12,null,{"$error":"#N/A"},{"$error":"#N/A"},{"$error":"#N/A"},{"$error":"#N/A"},{"$error":"#N/A"},{"$error":"#N/A"},{"$error":"#N/A"},0,{"$error":"#N/A"},null,0,{"$error":"#N/A"},{"$error":"#N/A"},{"$error":"#N/A"},0,{"$error":"#N/A"},{"$error":"#N/A"},{"$error":"#N/A"}]
[0,{"$f":"COUNTIF(Anb!A:A,C103)","v":0},50101.13,"050101",null,0.01,13,null,{"$error":"#N/A"},{"$error":"#N/A"},{"$error":"#N/A"},{"$error":"#N/A"},{"$error":"#N/A"},{"$error":"#N/A"},{"$error":"#N/A"},0,{"$error":"#N/A"},null,0,{"$error":"#N/A"},{"$error":"#N/A"},{"$error":"#N/A"},0,{"$error":"#N/A"},{"$error":"#N/A"},{"$error":"#N/A"}]
[0,{"$f":"COUNTIF(Anb!A:A,C104)","v":0},50101.14,"050101",null,0.01,14,null,{"$error":"#N/A"},{"$error":"#N/A"},{"$error":"#N/A"},{"$error":"#N/A"},{"$error":"#N/A"},{"$error":"#N/A"},{"$error":"#N/A"},0,{"$error":"#N/A"},null,0,{"$error":"#N/A"},{"$error":"#N/A"},{"$error":"#N/A"},0,{"$error":"#N/A"},{"$error":"#N/A"},{"$error":"#N/A"}]
[0,{"$f":"COUNTIF(Anb!A:A,C105)","v":0},50101.15,"050101",null,0.01,15,null,{"$error":"#N/A"},{"$error":"#N/A"},{"$error":"#N/A"},{"$error":"#N/A"},{"$error":"#N/A"},{"$error":"#N/A"},{"$error":"#N/A"},0,{"$error":"#N/A"},null,0,{"$error":"#N/A"},{"$error":"#N/A"},{"$error":"#N/A"},0,{"$error":"#N/A"},{"$error":"#N/A"},{"$error":"#N/A"}]
[0,{"$f":"COUNTIF(Anb!A:A,C106)","v":0},50101.16,"050101",null,0.01,16,null,{"$error":"#N/A"},{"$error":"#N/A"},{"$error":"#N/A"},{"$error":"#N/A"},{"$error":"#N/A"},{"$error":"#N/A"},{"$error":"#N/A"},0,{"$error":"#N/A"},null,0,{"$error":"#N/A"},{"$f":"$S$114*T106","v":{"$error":"#N/A"}},{"$f":"$V$6*U106","v":{"$error":"#N/A"}},0,{"$error":"#N/A"},{"$error":"#N/A"},{"$error":"#N/A"}]
[0,{"$f":"COUNTIF(Anb!A:A,C107)","v":0},50101.17,"050101",null,0.01,17,null,{"$error":"#N/A"},{"$error":"#N/A"},{"$error":"#N/A"},{"$error":"#N/A"},{"$error":"#N/A"},{"$error":"#N/A"},{"$error":"#N/A"},0,{"$error":"#N/A"},null,0,{"$error":"#N/A"},{"$f":"$S$114*T107","v":{"$error":"#N/A"}},{"$f":"$V$6*U107","v":{"$error":"#N/A"}},0,{"$error":"#N/A"},{"$error":"#N/A"},{"$error":"#N/A"}]
[0,{"$f":"COUNTIF(Anb!A:A,C108)","v":0},50101.18,"050101",null,0.01,18,null,{"$error":"#N/A"},{"$error":"#N/A"},{"$error":"#N/A"},{"$error":"#N/A"},{"$error":"#N/A"},{"$error":"#N/A"},{"$error":"#N/A"},0,{"$error":"#N/A"},null,0,{"$error":"#N/A"},{"$f":"$S$114*T108","v":{"$error":"#N/A"}},{"$f":"$V$6*U108","v":{"$error":"#N/A"}},0,{"$error":"#N/A"},{"$error":"#N/A"},{"$error":"#N/A"}]
[0,{"$f":"COUNTIF(Anb!A:A,C109)","v":0},50101.19,"050101",null,0.01,19,null,{"$error":"#N/A"},{"$error":"#N/A"},{"$error":"#N/A"},{"$error":"#N/A"},{"$error":"#N/A"},{"$error":"#N/A"},{"$error":"#N/A"},0,{"$error":"#N/A"},null,0,{"$error":"#N/A"},{"$f":"$S$114*T109","v":{"$error":"#N/A"}},{"$f":"$V$6*U109","v":{"$error":"#N/A"}},0,{"$error":"#N/A"},{"$error":"#N/A"},{"$error":"#N/A"}]
[0,{"$f":"COUNTIF(Anb!A:A,C110)","v":0},50101.2,"050101",null,0.01,20,null,{"$error":"#N/A"},{"$error":"#N/A"},{"$error":"#N/A"},{"$error":"#N/A"},{"$error":"#N/A"},{"$error":"#N/A"},{"$error":"#N/A"},0,{"$error":"#N/A"},null,0,{"$error":"#N/A"},{"$f":"$S$114*T110","v":{"$error":"#N/A"}},{"$f":"$V$6*U110","v":{"$error":"#N/A"}},0,{"$error":"#N/A"},{"$error":"#N/A"},{"$error":"#N/A"}]
[null,{"$f":"IF(SUM(B86:B110)>0,2,0)","v":0},null,null,null,null,null,null,"درصد به قیمت ردیف",null,null,{"$f":"ROUND(IFERROR(P111/P112,0),4)","v":0},null,"جمع حمل مصالح",null,{"$f":"SUM(P91:P110)","v":0}]
[null,2,null,null,null,null,null,null,{"$f":"\" شماره رديف يا رديفهاي معادل :                    \"&E7","v":" شماره رديف يا رديفهاي معادل :                    050101"},null,null,"بهای واحد کار:",null,null,null,{"$f":"P111+P89+P62+P35","v":1520851.2775000001},null,"قيمت آناليز",{"$f":"SUM(S10:S111)","v":1520851.2775000001},null,null,"قيمت آناليز",{"$f":"SUM(W10:W111)","v":1520851.2775000001}]
[null,{"$f":"B112","v":2},null,null,null,null,null,null," بهای واحد رديف :",null,{"$f":"VLOOKUP(E7,ItemMetreh,4,0)","v":{"$error":"#N/A"}},"مقايسه پيشنهاد نسبت به برآورد (درصد)  ±",null,null,null,{"$f":"ROUND((P112/VLOOKUP(E7,ItemMetreh,4,0))-1,5)","v":{"$error":"#N/A"}},null,"قيمت رديف",{"$f":"K113","v":{"$error":"#N/A"}},null,null,"قيمت رديف",{"$f":"K113","v":{"$error":"#N/A"}}]
[null,{"$f":"B113","v":2},null,null,null,null,null,null," بهای کل کار:",null,{"$f":"K113*VLOOKUP(E7,metreh,8,0)","v":{"$error":"#N/A"}},"بهای کل کار:",null,null,null,{"$f":"VLOOKUP(E7,metreh,8,0)*P112","v":{"$error":"#N/A"}},null,null,{"$f":"S113/S112","v":{"$error":"#N/A"}},null,null,null,{"$f":"W113/W112","v":{"$error":"#N/A"}}]
[null,{"$f":"B114","v":2},null,null,null,null,null,null,"پ"]

{"sheet":"D2","index":2,"n_rows":811,"n_cols":7,"rows_kept":811,"cut":false,"hidden":true,"merged":[]}
[null,"فهرست بهای واحد پایه رشته راه، باندفرودگاه و زیرسازی راه آهن رسته راه و ترابری سال 98","فهرست بهای  راه، باندفرودگاه 98",null,null,"شماره فصل","شرح فصل"]
["شماره","شـرح فهرست بها","واحـد","بهاي واحد",null,1," فصل 1 . عملیات تخریب"]
["010101"," بوته کني در زمينهاي پوشيده شده از بوته و خارج کردن ريشه هاي آن از محل عمليات.","متر مربع",325,null,2," فصل 2 . عملیات خاکی بادست"]
["010102"," کندن و يا بريدن و در صورت لزوم ريشه کن کردن درخت از هر نوع، در صورتي که محيط تنه درخت در سطح زمين تا 15 سانتي متر باشد، به ازاي هر 5 سانتي متر محيط تنه (کسر 5 سانتي متر به تناسب محاسبه مي شود) و حمل آن به خارج محل عمليات.","اصله",12800,null,3," فصل 3 . عملیات خاکی باماشین"]
["010111"," پر کردن و کوبيدن جاي ريشه با خاک مناسب در صورتي که محيط تنه درخت در سطح زمين تا 15 سانتيمتر باشد به ازاي هر 5 سانتيمتر محيط تنه (کسر 5 سانتيمتر، به تناسـب محاسبه مي شود.).","اصله",10900,null,4," فصل 4 . حفاری تونل"]
["010112"," پر کردن و کوبيدن جاي ريشه با خاک مناسب در صورتي که محيط تنه درخت در سطح زمين بيش از 15 تا 30 سانتي متر باشد.","اصله",53900,null,5," فصل 5 . حفاری، شمع کوبی و سپرکوبی"]
["010113"," پر کردن و کوبيدن جاي ريشه با خاک مناسب در صورتي که محيط تنه درخت در سطح زمين بيش از 30 تا 60 سانتي متر باشد.","اصله",178000,null,6," فصل 6 . عملیات بنایی باسنگ"]
["010114"," پر کردن و کوبيدن جاي ريشه با خاک مناسب در صورتي که محيط تنه درخت در سطح زمين بيش از 60 تا 90 سانتي متر باشد.","اصله",285000,null,7," فصل 7 . اندود و بندکشی"]
["010115"," اضافه بها به رديـف 010114، به ازاي هر 10 سانتيمتر که به محيط تنه درخـت اضافه شود (کسر 10 سانتيمتر، به تناسـب محاسبه مي شود).","اصله",32700,null,8," فصل 8 . قالب بندی و چوب بست"]
["010121","جابجايي درخت در صورتي که محيط تنه درخت تا 30 سانتي‌متر باشد.","اصله",null,null,9," فصل 9 . کارهای فولادی با میلگرد"]
["010122","جابجايي درخت در صورتي که محيط تنه درخت از 30 تا 60 سانتي‌متر باشد.","اصله",null,null,10," فصل 10 . کارهای فولادی سنگین"]
["010123","جابجايي درخت در صورتي که محيط تنه درخت از 60 تا 100 سانتي‌متر باشد.","اصله",null,null,11," فصل 11 . کارهای فولادی سبک"]
["010124","جابجايي درخت در صورتي که محيط تنه درخت بيش از 100 سانتي‌متر باشد.","اصله",null,null,12," فصل 12 . بتن درجا"]
["010201"," تخريـب کلي ساختمان هاي خشتي ، گلي و چينه اي، شامل تمام عمليات تخريـب.","متر مربع",369000,null,13," فصل 13 . بتن پیش ساخته"]
["010202"," تخريـب کلي ساختمان هاي آجري، سنگي و بلوکي با ملاتهاي مختلـف، شامل تمام عمليات تخريـب.","متر مربع",418500,null,14," فصل 14 . زیراساس،اساس وبالاست"]
["010301"," تخريـب بنايي هاي خشتي يا چينه هاي گلي (چينه باغي.).","مترمكعب",118000,null,15," فصل 15 . آسفالت"]
["010302"," تخريـب بناييهاي آجري و بلوکي که باملات ماسه و سيمان يا با تارد چيده شده باشد.","مترمكعب",199500,null,16," فصل 16 . عایقکاری"]
["010303"," تخريـب بناييهاي آجري و بلوکي که با ملات گل وآهک ياگچ و خاک و يا ماسه وآهک چيده شده باشد.","مترمكعب",171000,null,17," فصل 17 . تأسیسات تونلها،پلها، نقاط  مه گیر و سطوح پروازی"]
["010304"," تخريـب بناييهاي سنگي که با ملات ماسه سيمان يا با تارد چيده شده باشد.","مترمكعب",199500,null,18," فصل 18 . ساختمان ها،علایم و تجهیزات ایمنی"]
["010305"," تخريـب بناييهاي سنگي که با ملات گل آهک يا ماسه آهک ياگچ و خاک چيده شده باشد.","مترمكعب",171000,null,19," فصل 19 . متفرقه"]
["010306"," تخريـب بنايي از سنـگ تراش که سنگهاي آن سالم از کار درآيد و دسته کردن آنها.","مترمكعب",457000,null,20," فصل 20 . حمل و نقل"]
["010307","تخریب انواع بتن غیر مسلح، با هر عیار سیمان با استفاده از کمپرسور، چنانچه بخشی از سازه تخریب شود.","مترمكعب",1908000,null,21," فصل 21 . کارهای دستمزدی"]
["010308","تخریب بتن مسلح، با هر عیار سیمان و بریدن میلگردها با استفاده از کمپرسور، چنانچه بخشی از سازه تخریب شود.","مترمكعب",2965000,null,22," فصل 22 . ريل، سوزن و ملحقات"]
["010309"," مضرس کردن يا چکشي کردن يا آجدار کردن يا راه راه کردن رويه هاي بتني موجود.","متر مربع",null,null,23," فصل 23 . اجراي روسازي راه آهن"]
["010310"," تفکيک، دسته بندي و يا چيدن آجرها، بلوکها، سنگ ها و مصالح مشابه حاصل از تخريـب، بر حسـب حجم ظاهري مصالح چيده شده.","مترمكعب",254500,null,24," فصل 24 . ژئوسنتتیک ها"]
["010311"," برچيدن جدولهاي بتني پيش ساخته.","متر طول",73900,null,41," فصل 41 . مصالح پایکار"]
["010403"," شيار انداختن و کندن آسفالـت به عرض تا 8 سانتيمتر و عمق تا 10 سانتيمتر براي اجراي کارهاي تاسيساتي با ماشين شيار زن.","متر طول",37600,null,42," فصل 42 . تجهیز و برچیدن کارگاه"]
["010404"," اضافه بها به رديـف 010403، به ازاي هر سانتيمتر عمق مازاد بر 10 سانتيمتر (کسر سانتيمتر، به تناسب محاسبه مي شود).","متر طول",3340]
["010405"," برش آسفالت با کاتر به عمق تا 7 سانتيمتر (اندازه گيري بر حسب طول هر خط برش).","متر طول",12600]
["010406"," اضافه بها نسبت به رديـف 010405، به ازاي هر سانتيمتر اضافه عمق مازاد بر 7 سانتيمتر (اندازه گيري بر حسب طول هر خط برش).","متر طول",1610]
["010407"," تخريب کلي هر نوع آسفالت و اساس قيري به ضخامت تا 5 سانتيمتر.","متر مربع",23600]
["010408"," اضافه بها به رديـف 010407، به ازاي هر سانتيمتر اضافه ضخامت مازاد بر 5 سانتيمتر. (کسر سانتيمتر به تناسب محاسبه مي شود).","متر مربع",4810]
["010409"," تخريب آسفالت بين دو خط برش (با فاصله حداکثر 1.5 متر) با وسايل مکانيکي مانند کمپرسور يا بيل مکانيکي، به ضخامت تا 7 سانتيمتر و برداشتن آن.","متر مربع",6300]
["010410"," اضافه بها به رديف 010409 به ازاي هر سانتي متر اضافه ضخامت مازاد بر 7 سانتي متر (کسر سانتي متر به تناسب محاسبه مي شود).","متر مربع",2410]
["010501","تراشیدن هر نوع آسفالت و اساس قیری با ماشین مخصوص آسفالت تراش و بارگیری، به ضخامت تا ۵ سانتی متر و به طول حداکثر ۵۰ متر.","متر مربع",23100]
["010502"," اضافه بها به رديف 010501 به ازاي هر سانتي متر اضافه ضخامت مازاد بر 5 سانتي متر (کسر سانتي متر به تناسب محاسبه مي شود).","متر مربع",4590]
["010503","تراشیدن هر نوع آسفالت و اساس قیری با ماشین مخصوص آسفالت تراش و بارگیری، به ضخامت تا ۵ سانتی متر و به طول بیش از ۵۰ متر.","مترمربع",16900]
["010504"," اضافه بها به رديف 010503 به ازاي هر سانتي‌متر اضافه ضخامت مازاد بر  5 سانتي‌متر (کسر سانتي‌متر به تناسب محاسبه مي‌شود).","مترمربع",3310]
["020101"," خاکبرداري، پي کني و کانال کني در زمين هاي غير سنگي تا عمق 2 متر و ريختن خاک هاي کنده شده، به کنار محل هاي مربوط.","مترمكعب",144000]
["020201","اضافه بها به ردیف 020101، هر گاه عمق پیکنی و کانال کنی بیش از2 متر باشد، برای حجم واقع بین عمق 2 تا 4 متر یک بار، 4 تا 6 متر دوبار و 6 تا 8 متر سه بار و به همین ترتیب، برای عمقهای بیشتر.","مترمکعب",69900]
["020202","اضافه بها به ردیف 020101، در صورتی که، عملیات پایین تر از سطح آبهای زیرزمینی صورت گرفته باشد و برای آبکشی ضمن اجرای کار، به کاربردن تلمبه موتوری ضروری باشد.","مترمکعب",190500]
["020301"," حفر ميله چاه به قطرتا 1.2 متر و کوره و مخزن با مقاطع مورد نياز در زمينهاي غير سنگي تا عمق 20 متر از دهانه چاه وحمل خاکهاي حاصله تا فاصله 10 متر از دهانه چاه.","مترمكعب",910500]
["020302"," اضافه بها به رديـف 020301، هر گاه عمق چاه بيـش از20 متر از دهانه چاه باشد، براي حجم واقع در 5 متر اول مازادبر 20 متر يک بار، براي حجم واقع در 5 متردوم مازاد بر20 متر دو بار، براي حجم واقع در5 مترسوم سه بار و به همين ترتيـب براي عمقهاي بيشتر.","مترمكعب",124000]
["020401"," بارگيري مواد حاصله از هر نوع عمليات خاکي و حمل با هر نوع وسيله دستي تا 20 متر و تخليه آن در مواردي که استفاده از ماشين براي حمل ممکن نباشد.","مترمكعب",121500]
["020402"," اضافه بها به رديفهاي 020101 و 020401، براي 20 متر حمل اضافي با وسايل دستي. ( کسر20 متر به تناسـب محاسبه مي شود).","مترمكعب",85100]
["020501"," تسطيح و رگلاژ کـف پي ها و کانالهاي کنده شده .","متر مربع",6570]
["020502"," ريختن خاکها يا مصالح سنگي موجود در کنار پي ها و کانالها، به درون پي ها و کانالها در قشرهاي حداکثر 15 سانتيمتر در هرعمق پخـش، تراکم با حداقل 90 درصد کوبيدگي و تسطيح لازم.","مترمكعب",51000]
["020503"," آب پاشي و کوبيدن خاکهاي پخـش شده در قشرهاي حداکثر 15 سانتيمتر با تراکم 90 درصد به روش آشتوي اصلاحي در هرعمق.","مترمكعب",100000]
["030101"," شخم زدن هرنوع زمين غيرسنگي با وسيله مکانيکي، به عمق تا 15 سانتيمتر ‎.‎","متر مربع",770]
["030102"," لجن برداري در زمينهاي لجني با هر وسيله مکانيکي، و حمل مواد تا فاصله 20 متر از مرکز ثقل برداشـت و تخليه آن.","مترمكعب",55300]
["030103","خاکبرداری در زمین های خاکی نرم (یا زمین های سنگی خرد شده با GSI\nکوچکتر از ٢٠ ) با هر وسیله مکانیکی، حمل مواد حاصل از خاکبرداری تا فاصله ٢٠ متر از مرکز ثقل برداشت و توده کردن آن.","مترمكعب",9180]
["030104","خاکبرداری در زمین های خاکی سخت (یا زمین های سنگی با GSI\nبزرگتر از ٢٠ و کوچکتر مساوی ٣۵ ) با هر وسیله مکانیکی، حمل مواد حاصل ازخاکبرداری تا فاصله ٢٠ متر از مرکز ثقل برداشت و توده کردن آن.","مترمكعب",22500]
["030105","خاکبرداری در زمین های سنگی (یا زمین های سنگی با GSI\nبزرگتر از ٣۵ و کوچکتر مساوی ۵٠ ) با هر وسیله مکانیکی، حمل مواد حاصل ازخاکبرداری تا فاصله ٢٠ متر از مرکز ثقل برداشت و توده کردن آن.","مترمكعب",89600]
["030201","خاکبرداری در زمین های سنگی با استفاده از مواد سوزا (یا زمین های سنگی با GSI بزرگتر از ۵٠ )، حمل مواد حاصل از خاکبرداری تا فاصله ٢٠ متر از مرکز ثقل برداشت و توده کردن آن.","مترمكعب",119500]
["030203"," خاکبرداري در زمين هاي سنگي بدون استفاده از مواد سوزا، ولي با استفاده از مواد منبسط شونده.","مترمكعب"]
["030204","اضافه بها به ردیف ٠٣٠٢٠١ چنانچه در انفجار از سیستم نانل به جای چاشنی الکتریکی استفاده شود.","مترمكعب",3870]
["030301"," برداشـت مواد ناشي از ريزش هر نوع زمين (ريزش برداري)، حمل آن تا فاصله 20 متر از مرکز ثقل برداشـت و ريختن در خاکريزها يا توده کردن آن.","مترمكعب",7940]
["030401"," برداشـت مواد ناشي از ريزش (ريزش برداري)، حمل آن تا فاصله 20 متر از مرکز ثقل برداشـت و ريختن در خاکريزها يا توده کردن آن، براي آن قسمـت از ريزش که مربوط به سنگهاي بزرگ غير قابل حمل باشد و براي خرد کردن آنها ازمواد منفجره يا روشهاي ديگر استفاده شود.","مترمكعب",50100]
["030501","رگلاژ و پروفیله کردن سطح شیروانی و قنوهای کنار راه در ترانشه ها.","متر مربع",4370]
["030601"," اضافه بها به رديـف 030102، چنانچه فاصله حمل بيـش از20 متر و حداکثر50 متر باشد.","مترمكعب",18400]
["030602"," اضافه بها به رديـف 030103 تا 030105، 030202،030201، 030301 و 030401، هر گاه فاصله حمل بيـش از20 متر و حداکثر50 متر باشد.","مترمكعب",5900]
["030701"," پي کني و کانال کني با وسيله مکانيکي در زمينهاي خاکي تا عمق 2 متر و ريختن خاک کنده شده به کنار محلهاي مربوط.","مترمكعب",36000]
["030702"," پي کني و کانال کني با وسيله مکانيکي در زمينهاي لجني تا عمق 2 متر و حمل و تخليه مواد کنده شده تا فاصله 20 متر از مرکز ثقل برداشت.","مترمكعب",67700]
["030703"," پي کني، کانال کني و گودبرداري با چکش هيدروليکي در زمينهاي سنگي تا عمق 2 متر و حمل و تخليه مواد کنده شده تا فاصله 20 متر از مرکز ثقل برداشت.","مترمكعب",364000]
["030801"," اضافه بها به رديفهاي 030701 تا 30703، هر گاه عمق کانال و پي کني بيـش از 2 متر باشد، براي حجم خاک واقع شده درعمق 2 تا 3 متر يک بار، 3 تا 4 متر دوبار، 4 تا 5 متر سه بار و به همين ترتيـب براي عمقهاي بيشتر.","مترمكعب",5640]
["030802","اضافه بها به ردیفهای 030701 و 030703 در صورتی که عملیات زیر سطح تراز آبهای زیرزمینی انجام شود و برای آبکشی، ضمن اجرای کار، بکاربردن تلمبه موتوری ضروری باشد.","مترمکعب",37900]
["030901"," بارگيري مواد حاصل از عمليات خاکي يا خاکهاي توده شده و حمل آن با کاميون يا هر نوع وسيله مکانيکي ديگر، تا فاصله 100 متري مرکز ثقل برداشـت و تخليه آن (صرفا برای یک بار).","مترمكعب",23800]
["030902"," حمل مواد حاصل از عمليات خاکي يا خاکهاي توده شده ، وقتي که فاصله حمل بيـش از 100 متر و حداکثر تا 500 متر باشد به ازاي هر 100 مترمازاد بر100 متر اول، کسر صدمتر به تناسب محاسبه مي شود.","مترمكعب",1950]
["030903"," حمل مواد حاصل از عمليات خاکي يا خاکهاي توده شده در راههاي آسفالتي، در صورتيکه فاصله حمل بيـش از500 متر تا10 کيلومتر باشد، براي هر کيلومتر اضافه بر 500 متر اول، کسر کيلومتر، به تناسـب محاسبه مي شود.","مترمكعب -  كیلومتر‏",3750]
["030904"," حمل مواد حاصل از عمليات خاکي يا خاکهاي توده شده در راههاي  آسفالتي، در صورتي که فاصله حمل بيـش از10 کيلومتر تا 30 کيلومتر باشد، براي هر کيلومتر اضافه بر10 کيلومتر، کسر کيلومتر به تناسـب محاسبه مي شود.","مترمكعب -  كیلومتر‏",3170]
["030905","حمل مواد حاصل از عملیات ترانشه برداری برای مصرف در خاکریزی در راه های آسفالتی،در صورتی که فاصله حمل بیش از 30 کیلومتر تا 50 کیلومتر باشد، برای هر کیلومتر اضافه بر 30 کیلومتر،کسر کیلومتر به تناسب محاسبه میشود.","مترمکعب -  کیلومتر",2890]
["030910"," حمل آب در صورتي که فاصله حمل بيـش از يک کيلومتر باشد، براي هر کيلومتر اضافه بر يک کيلومتر اول. (کسرکيلومتر به تناسـب محاسبه مي شود).","مترمكعب -  كیلومتر‏",7440]
["031001"," تسطيح بستر خاکريزها با گريدر.","متر مربع",560]
["031002"," آب پاشي و کوبيدن بستر خاکريزها يا کـف ترانشه ها و مانند آنها، با تراکم 85 درصد، به روش آشتو اصلاحي تا عمق 15 سانتيمتر.","متر مربع",1110]
["031003"," آب پاشي و کوبيدن بستر خاکريزها يا کـف ترانشه ها و مانند آنها، با تراکم 90 درصد، به روش آشتو اصلاحي تا عمق 15 سانتيمتر.","متر مربع",1570]
["031004"," آب پاشي و کوبيدن بستر خاکريزها يا کـف ترانشه ها و مانند آنها، با تراکم 95 درصد، به روش آشتو اصلاحي تا عمق 15 سانتيمتر.","متر مربع",2080]
["031005"," آب پاشي و کوبيدن بستر خاکريزها يا کـف ترانشه ها و مانند آنها، با تراکم 100 درصد، به روش آشتو اصلاحي تا عمق 15 سانتيمتر.","متر مربع",3290]
["031006"," غرقاب کردن و کوبيدن ماسه بادي خشک در بستر خاکريزها يا کـف ترانشه ها تا عمق 15 سانتيمتر.","متر مربع",2480]
["031007","تحکیم زمین های ماسه ای به روش تراکم دینامیکی (Dynamic Compaction)، همراه با افزودن خاک مناسب."]
["031101"," پخـش، آب پاشي، تسطيح، پروفيله کردن، رگلاژ و کوبيدن قشرهاي خاکريزي و تونان با 85 درصد کوبيدگي، به روش آشتو اصلاحي، وقتي که ضخامـت قشرهاي خاکريزي پـس از کوبيده شدن، حداکثر 15 سانتيمتر باشد.","مترمكعب",22100]
["031102"," پخـش، آب پاشي، تسطيح، پروفيله کردن، رگلاژ و کوبيدن قشرهاي خاکريزي و تونان با 90 درصد کوبيدگي، به روش آشتو اصلاحي، وقتي که ضخامـت قشرهاي خاکريزي پـس از کوبيده شدن، حداکثر 15 سانتيمتر باشد.","مترمكعب",24800]
["031103"," پخـش، آب پاشي، تسطيح، پروفيله کردن، رگلاژ و کوبيدن قشرهاي خاکريزي و تونان با 95 درصد کوبيدگي، به روش آشتو اصلاحي، وقتي که ضخامـت قشرهاي خاکريزي پـس از کوبيده شدن، حداکثر 15 سانتيمتر باشد.","مترمكعب",27200]
["031104"," پخـش، آب پاشي، تسطيح، پروفيله کردن، رگلاژ و کوبيدن قشرهاي خاکريزي و تونان با 100 درصد کوبيدگي، به روش آشتو اصلاحي، وقتي که ضخامـت قشرهاي خاکريزي پـس از کوبيده شدن، حداکثر 15 سانتيمتر باشد.","مترمكعب",36400]
["031105","پخـش، آب پاشی، تسطیح، پروفیله کردن، و کوبیدن قشرهای خاکریزی سنگی، وقتی که ضخامـت قشرهای خاکریزی پـس از کوبیده شدن، حداکثر 60 سانتیمتر بوده و مشخصات فنی کار با انجام آزمایش بارگذاری صفحه تایید شده باشد.","مترمکعب",13500]
["031106"," پخـش، آب پاشي، تسطيح، پروفيله کردن و کوبيدن قشرهاي خاکريزي روي ورودي و خروجي تونلها و گالري ها طبق مشخصات.","مترمكعب"]
["031107"," اضافه‌بها به ‌رديفهاي 031101 تا 031104 وقتي در عمليات خاکي براي مسلح کردن خاک از جوشن به‌ شکل تسمه‌هاي فولادي استفاده گردد و ضخامت قشرهاي خاکريزي پس از کوبيده شدن حداکثر 37.5 سانتي‌متر باشد.","مترمكعب",11900]
["031201"," ريختن خاکها يا مصالح سنگي موجود کنارپي ها و کانالها به درون آنها با ماشين، پخش و تراکم تا 90 درصد کوبيدگي.","مترمكعب",5530]
["031202"," اختلاط دو يا چند نوع مصالح، به منظورساختن زيرسازي راه يا تقويـت بستر.","مترمكعب",7500]
["031203"," پخـش خاکهاي نباتي ريسه شده، تنظيم و رگلاژ آن در محلهاي مورد نظر.","مترمكعب",5120]
["031204"," پخـش مصالح حاصل از خاک برداري، که درمحلهاي تعين شده دپو شده باشند، با هر ضخامـت.","مترمكعب",3590]
["031205"," ترميم و تسطيح راههاي انحرافي با گريدر يا ساير وسايل مکانيکي.","کیلومتر - ماه",4549000]
["031206"," پروف رولينـگ در سواره روي فرودگاهها با غلطک چرخ لاستيکي حداقل 60 تني و کشنده مربوط به ازاي هر بار عبور غلطک (اين رديـف حداکثر براي ده بار عبور براي هر مترمربع قابل پرداخـت اسـت).","متر مربع",370]
["031301"," تهيه ماسه بادي مرطوب، شامل کندن، بارگيري و حمل تا فاصله 500 متر و باراندازي در محل مصرف.","مترمكعب",45100]
["031302"," پخـش، تسطيح، غرقاب کردن و کوبيدن ماسه بادي مرطوب براي ساختمان بدنه راه.","مترمكعب",43300]
["031303"," تهيه ماسه بادي خشک، شامل کندن، بارگيري و حمل تا فاصله 500 متر و باراندازي درمحل مصرف.","مترمكعب",49900]
["031304"," پخـش، تسطيح، غرقاب کردن و کوبيدن ماسه بادي خشک براي ساختمان بدنه راه.","مترمكعب",54800]
["031305"," پخـش، تسطيح و کوبيدن ماسه بادي، براي تحکيم بستر راه.","مترمكعب",37500]
["040101"," حفاري در زمين هاي پايدار و حمل مصالح حاصل از حفاري تا 100 متري دهانه تونل.","مترمكعب",782500]
["040102"," حفاري در زمين هاي نيمه پايدار و حمل مصالح حاصل از حفاري تا 100 متري دهانه تونل.","مترمكعب",791500]
["040103"," حفاري در زمين هاي ناپايدار و حمل مصالح حاصل از حفاري تا 100 متري دهانه تونل.","مترمكعب",1069000]
["040104"," حفاري تونل‌هاي با سطح مقطع حفاري 40 مترمربع، در زمين غيرسنگي، با استفاده از هر نوع دستگاه TBM.","متر مکعب",3230000]
["040105"," حفاري تونل‌هاي با سطح مقطع حفاري 40 مترمربع، در زمين سنگي، با استفاده از هر نوع دستگاه TBM.","متر مکعب",2468000]
["040201"," اضافه بها ناشي از صعوبت اجراي تحکيمات به رديف 040102","متر مکعب",117000]
["040202"," اضافه بها ناشي از صعوبت اجراي تحکيمات به رديف 040103","مترمكعب",220000]
["040203"," اضافه بها براي رديف هاي 040101 تا 040103، در صورت استفاده از کله گاوي (Road header).","درصد",10]
["040204"," اضافه بها به رديف‌هاي 040101 تا 040103 در صورتي که مقطع کل حفاري طبق نقشه کو چکتر از 30 متر مربع باشد.","درصد",24]
["040205"," اضافه بها به رديف‌هاي 040101 تا 040103 به گونه‌اي که حفاري در زمين‌هاي آبدار با  نشت آب به صورت قطره‌اي و ناپيوسته باشد.","درصد",3]
["040206"," اضافه بها به رديف‌هاي 040101 تا 040103 به گونه‌اي که حفاري در زمين‌هاي آبدار با نشت آب به صورت پيوسته، روان و جاري باشد.","درصد",7]
["040207"," اضافه بها به رديف‌هاي 040101 تا 040103 به گونه‌اي که حفاري در زمين‌هاي آبدار با نشت آب بسيار زياد توام با ريزش باشد.","درصد",15]
["040208"," اضافه بها به رديف‌هاي 040102 و 040103 در صورتي که به دليل ناپايداري زمين يا بزرگ بودن مقطع حفاري در بيش از سه مرحله انجام پذيرد.","درصد",12]
["040209"," اضافه بها براي رديف‌هاي حفاري در صورتي که حفاري در شفت و براي مقطع تا 20 متر مربع انجام پذيرد.","درصد",33]
["040210"," اضافه بها به رديف‌هاي حفاري (040101 تا  040103) در تونل هرگاه فاصله مقطع حفاري از نزديکترين دهانه دسترسي بيش از 250 متر باشد، به ازاي هر 250 متر، براي 250 متر دوم يکبار، 250 متر سوم دوبار، و به همين ترتيب براي طو ل‌هاي بيشتر.","درصد",10]
["040211"," اضافه بها به رديف‌هاي‌  040104 و 040105 به ازاي هر متر مربع کمتر از 40 متر مربع.","درصد",2]
["040212"," کسر بها به رديف‌هاي‌  040104 و 040105 به ازاي هر متر مربع بيش‌تر از 40 متر مربع و حداکثر تا 140 متر مربع.","درصد",-0.45]
["040213"," اضافه بها به رديف‌هاي حفاري تونل با استفاده از دستگاه حفار TBM (رديف‌هاي 040104 و 040105) در عمق بيشتر از 250 متر، براي 250 متر دوم يك بار، براي 250 متر سوم دو بارو به همين ترتيب براي طول‌هاي بيشتر.","درصد",1]
["040214","اضافه بها به ردیف های حفاری در زمین های پایدار و نیمه پایدار چنانچه در انفجار از سیستم نانل به جای چاشنی الکتریکی استفاده شود.","مترمكعب",34400]
["040301"," بارگيري هر نوع مصالح ناشي از ريزش در هر نوع زمين خارج از قصور پيمانکار و حمل و تخليه تا 100 متري دهانه.","مترمكعب",55300]
["040401"," حفاري و تهيه تمامي مصالح و اجراي ميل هاي مهاری ناتنيده به قطر 25 ميلي متر و کمتر در داخل تونل به طول 3 متر در هر زاويه و ارتفاع.","متر طول",642000]
["040402"," حفاري و تهيه تمامي مصالح و اجراي ميل مهار ناتنيده به قطر بيش از 25 ميلي متر و تا 32 ميلي متر در داخل تونل به طول 3 متر در هر زاويه و ارتفاع.","متر طول",802500]
["040403","  حفاري و تهيه تمامي مصالح و اجراي ميل مهار تنيده به قطر 25 ميلي‌متر و کمتر در داخل تونل به طول 3 متر در هر زاويه و ارتفاع.","متر طول",732000]
["040404","  حفاري و تهيه تمامي مصالح و اجراي ميل مهار تنيده به قطر بيش از 25 ميلي‌متر و تا 32 ميلي‌متر به طول 3 متر در هر زاويه و ارتفاع.","مترطول",907500]
["040405"," اضافه بها به رديف‌هاي ميل مهار تنيده و ناتنيده براي طول مازاد بر 3 متر اول به ازاي هر متر.","درصد",5]
["040501"," آماده نمودن، استقرار دستگاه و حفاري به قطر حداکثر 56 ميليمتر در داخل سنگ، تهيه مصالح و تزريق جهت انجام تزريق اتصالي و پرکننده با هر زاويه نسبت به افق.","متر طول",1559000]
["040502"," آماده نمودن، استقرار دستگاه و حفاري به قطر حداکثر 56 ميليمتر در داخل سنگ، تهيه مصالح و تزريق جهت انجام تزريق تحکيمي و پرکننده با هر زاويه نسبت به افق.","متر طول",1714000]
["040503"," اضافه بها به رديف تزريق تحکيمي در صورتي که لوله فولادي در کار باقي بماند(فقط براي روش فور پولينگ).","متر طول",620000]
["040504"," اضافه بها به ازاي هر عدد چال تزريق چنانچه قفل کوپلينگ (Retainer ،Ring bit، Casing shoe) در کار باقي بماند.(فقط براي روش فور پولينگ).","عدد",7914000]
["040505","اضافه بها به ردیف های تزریق و میل مهار درتونل هرگاه فاصله چال زنی از نزدیکترین دهانه دسترسی بیش از 250 متر باشد، به ازای هر250 متر. برای 250 متر دوم یکبار، 250 متر سوم دوبار، و به همین ترتیب برای طول های بیشتر.","درصد",6]
["040601"," انجام تمامي عمليات لازم براي نصب ابزار دقيق همگرايي سنج سه نقطه اي در تونل در حين عمليات حفاري.","سری (3 عدد)",794000]
["040602"," انجام تمامي عمليات لازم براي قرائت ابزار دقيق همگرايي سنج براي هر نقطه در تونل در حين عمليات حفاري.","قرائت",299500]
["040603"," اضافه بها به رديف 040601 به ازاي نصب هر نقطه همگرايي سنج مازاد بر سه نقطه اول.","عدد",504000]
["040604"," انجام تمامي عمليات لازم براي نصب و قرائت هر نوع ‌ابزار دقيق (Extenso Meter) واگراسنج در تونل حين عمليات حفاري، براي طول تا 5 متر.","متر طول",2965000]
["040605"," اضافه بها به رديف 040604 به ازاي هر متر افزايش طول مازاد بر 5 متر اول.","متر طول",699000]
["040701"," حفر سوراخ هاي آبچکان به قطر 56 ميلي متر.","متر طول",342000]
["050101","حفاری ماشینی محل شمع، با مقطع دایره ای و به قطر 60 سانتیمتر، به طور عمودی تا عمق 20 متر در زمین هایی که در آن ها 50 =>N باشد، بیرون آوردن مصالح و حمل آن ها به دپو تا فاصله 50 متری مرکز ثقل محل حفاری، با هر وسیله، و تمیزکردن محل عملیات.","مترطول",1553000]
["050102","حفاری ماشینی محل شمع، با مقطع دایره ای و به قطر 80 سانتیمتر، به طور عمودی تا عمق 20 متر در زمین هایی که در آن ها N<=50 باشد، بیرون آوردن مصالح و حمل آن ها به دپو تا فاصله 50 متری مرکز ثقل محل حفاری، با هر وسیله، و تمیزکردن محل عملیات.","مترطول",1738000]
["050103","حفاری ماشینی محل شمع، با مقطع دایره ای و به قطر 100 سانتیمتر، به طور عمودی تا عمق 20 متر در زمین هایی که در آن ها 50 =>N  باشد، بیرون آوردن مصالح و حمل آن ها به دپو تا فاصله 50 متری مرکز ثقل محل حفاری، با هر وسیله، و تمیز کردن محل عملیات.","مترطول",2046000]
["050104","حفاری ماشینی محل شمع، با مقطع دایره ای و به قطر 120 سانتیمتر، به طور عمودی تا عمق 20 متر در زمین هایی که در آن ها 50 =>N  باشد، بیرون آوردن مصالح و حمل آن ها به دپو تا فاصله 50 متری مرکز ثقل محل حفاری، با هر وسیله ، و تمیز کردن محل عملیات.","مترطول",2306000]
["050105","حفاری ماشینی محل شمع، با مقطع دایره ای و به قطر 150 سانتیمتر، به طور عمودی تا عمق 20 متر در زمین هایی که در آن ها 50 =>N  باشد، بیرون آوردن مصالح و حمل آن ها به دپو تا فاصله 50 متری مرکز ثقل محل حفاری، با هر وسیله ، و تمیز کردن محل عملیات.","مترطول",2731000]
["050201"," اضافه‌بها به رديف‌هاي 050101 و 050102، براي حفاري در عمق‌هاي بيشتر از 20 متر، به ازاي هر متر طول مازاد بر 20 متر اوليه براي عمق 20 تا 25 متر يک بار، براي عمق 25 تا30 متر دوبار و به همين ترتيب براي عمق‌هاي بيشتر.","متر طول",150000]
["050202"," اضافه بها به رديفهاي 050103 و 050104، براي حفاري در عمقهاي بيشتر از20 متر، به ازاي هر متر طول مازاد بر20 متر اوليه. براي عمق 20 تا 25 متر يک بار، براي عمق 25 تا30 متر دوبار و به همين ترتيـب براي عمقهاي بيشتر.","متر طول",197000]
["050203"," اضافه بها به رديـف 050105، براي حفاري در عمقهاي بيشتر از20 متر، به ازاي هرمتر طول مازاد بر20 متر اوليه. براي عمق 20 تا 25 متر يک بار، براي عمق 25 تا30 متر دو بار و به همين ترتيـب براي عمقهاي بيشتر.","متر طول",248500]
["050301","اجرای حفاری محل بارت با عرض (ضخامـت 60 سانتیمتر)، و طول های 180 تا 260 سانتیمتر به طور عمودی تا عمق 20 متر در زمین هایی که در آن ها  50 =>N  باشد، بیرون آوردن مصالح و حمل آن ها به محل دپو تا فاصله 50 متری مرکز ثقل محل حفاری، با هر وسیله، و تمیزکردن محل عملیات.","مترمربع",979000]
["050302","اجرای حفاری محل بارت باعرض (ضخامـت 80 سانتیمتر)، و طول های 180 تا 260 سانتیمتر به طور عمودی تا عمق 20 متر در زمین هایی که در آن ها 50 =>N  باشد، بیرون آوردن مصالح و حمل آن ها به محل دپو تا فاصله 50 متری مرکز ثقل محل حفاری، با هر وسیله، و تمیزکردن محل عملیات.","مترمربع",1091000]
["050303","اجرای حفاری محل بارت با عرض (ضخامـت 100سانتیمتر)، وطول های 180 تا260 سانتیمتر به طور عمودی تا عمق 20 متر در زمین هایی که در آن ها 50 =>N  باشد، بیرون آوردن مصالح و حمل آن ها به محل دپو تا فاصله 50 متری مرکز ثقل محل حفاری ، با هر وسیله، و تمیزکردن محل عملیات.","مترمربع",1186000]
["050401","اجرای حفاری محل دیوار زیرزمینی به طور قایم تا عمق 20 متر و به عرض (ضخامـت 60 سانتیمتر)، در زمین هایی که در آن ها 50 =>N  باشد، بیرون آوردن مصالح و حمل آن ها به دپو تا فاصله 50 متری مرکز ثقل محل حفاری، با هر وسیله و تمیز کردن محل عملیات.","مترمربع",1125000]
["050402","اجرای حفاری محل دیوار زیر زمینی به طور قایم تا عمق 20 متر و به عرض (ضخامـت 80 سانتیمتر)، در زمین هایی که در آن ها  50 =>N  باشد، بیرون آوردن مصالح و حمل آن ها به دپو تا فاصله 50 متری مرکز ثقل محل حفاری ، با هر وسیله و تمیز کردن محل عملیات.","مترمربع",1255000]
["050403","اجرای حفاری محل دیوار زیرزمینی به طور قایم تا عمق 20 متر و به عرض (ضخامـت 100 سانتیمتر)، در زمین هایی که در آن ها 50 =>N  باشد، بیرون آوردن مصالح و حمل آن ها به دپو تا فاصله 50 متری مرکز ثقل محل حفاری با هر وسیله و تمیزکردن محل عملیات.","مترمربع",1364000]
["050501"," اضافه بها به رديـف 050401، براي حفاري در عمقهاي بيـش از20 متر، به ازاي هر متر طول مازاد بر20 متر اوليه. براي عمق 20 تا 25 متر يک بار، براي عمق 25 تا30 متر دو بار و به همين ترتيـب براي عمقهاي بيشتر.","متر مربع",102500]
["050502"," اضافه بها به رديـف 050402 ، براي حفاري در عمقهاي بيـش از20 متر، به ازاي هر متر طول مازاد بر20 متر اوليه. براي عمق 20 تا 25 متر يک بار، براي عمق 25 تا30 متر دو بار و به همين ترتيـب براي عمقهاي بيشتر.","متر مربع",113500]
["050503"," اضافه بها به رديـف 050403، براي حفاري در عمقهاي بيشتر از20 متر، به ازاي هر متر طول مازاد بر20 متر اوليه، براي عمق 20 تا 25 متر يک بار، براي عمق 25 تا30 متر دو بار و به همين ترتيـب براي عمقهاي بيشتر.","متر مربع",124500]
["050601"," تهيه تمام مصالح، وسايل و جاگذاري لوله هاي فلزي ( CASING ) به هر قطر تا عمق 6 متر، براي آن قسمـت ازحفاري که به لوله گذاري نياز دارد و خارج کردن لوله درحين بتن ريزي.","متر مربع",164000]
["050602"," بارگيري و حمل لوله هاي فلزي ( CASING ) به هر قطر از پاي کار تا محل حفاري، تهيه تمام وسايل لازم و جاگذاري آنها تا عمق 6 متر، براي آن قسمـت از حفاري که به لوله گذاري نياز دارد و لوله ها الزاما بايد در محل باقي بمانند.","متر مربع",107500]
["050603","تهیه تمام مصالح، وسایل و جاگذاری لوله های محل درزها (درز انقطاع) بین قطعات مختلـف دیوارهای زیرزمینی به صورت قایم، و بیرون کشیدن آن پـس از انجام بتن ریزی.","مترمربع",278000]
["050701"," اضافه بها به رديفهاي حفاري محل شمع، بارت يا ديوار زير زميني، چنانچه استفاده از گل حفاري (حسب نیاز توام با ماسه گيري)  ضروري باشد.","مترمكعب",639500]
["050703"," اضافه‌بها به رديف‌هاي حفاري محل شمع، بارت يا ديوار زيرزميني که N بيشتر از 50 و حداکثر برابر 100 باشد.","مترمكعب",3565000]
["050704"," اضافه بها به رديف‌هاي حفاري محل شمع، بارت يا ديوار زيرزميني که N بیشتر از 100 باشد و لزوما از ترپان یا اوگر یا راک اوگر یا دور بر الماسه یا وسایل مشابه براي حفاري استفاده شود.","مترمكعب",8913000]
["050801"," اضافه بها به رديفهاي فصل کارهاي فولادي باميل گرد در صورتي که ميل گرد در شمع ها، بارتها و ديوارهاي زير زميني مصرف شود.","كیلوگرم",1520]
["050802"," اضافه بها به رديفهاي فصل بتن درجا در صورتي که بتن به صورت درجا براي شمع ها، بارتها يا ديوارهاي زير زميني اجرا شود.","مترمكعب",303000]
["051001","بارگیری شمع فلزی از تیر آهن نوع H تا نمره 24 سانتیمتر و یا شمع های ساخته شده از تیر آهن، ورق، ناودانی، نبشی یا ترکیبی از آنها که وزن حاصله حدود وزن تیرآهن H نظیر باشد، حمل از پای کار، استقرار در محل شمع و کوبیدن آن به  طور عمودی تا عمق 12 متر در زمینهایی که در آنها 25 => N باشد.","مترطول",296000]
["051002","بارگیری شمع فلزی از لوله به  قطر خارجی تا 24 سانتیمتر و یا شمع  های توخالی ساخته شده با سپر فلزی یا ورق که وزن حاصله حدود وزن لوله نظیر باشد حمل از پای کار، استقرار در محل شمع و کوبیدن آن به  طور عمودی تا عمق 12 متر در زمینهایی که در آنها 25 => N باشد.","مترطول",444000]
["051003","بارگیری شمع فلزی از تیر آهن نوع H تا نمره ۲۴ سانتی‌متر و یا شمع‌های ساخته شده از تیر آهن، ورق، ناودانی، نبشی یا ترکیبی از آنها که وزن حاصله حدود وزن تیرآهن H نظیر باشد، حمل از پای کار، استقرار در محل شمع و کوبیدن آن به‌ طور عمودی تاعمق ۱۲ متر در زمین‌هایی که در آن‌ها  N بزرگ‌تراز ۲۵ باشد.","مترطول",577500]
["051004","بارگیری شمع فلزی از لوله به  قطر خارجی تا 24 سانتیمتر، یاشمع های تو خالی ساخته شده با سپر فلزی و یا ورق، که وزن حاصله حدود وزن لوله نظیر باشد حمل از پای کار، استقرار در محل شمع و کوبیدن آن به  طور عمودی تا عمق 12 متر در زمین هایی که در آنها N بزرگتر از 25 باشد.","مترطول",866500]
["051101"," اضافه بها به رديـف 051001، در صورتي که طول شمع فلزي از 12 متر بيشتر باشد، به ازاي هر متر مازاد بر 12 متر.","متر طول",279000]
["051102"," اضافه بها به رديـف 051002، در صورتي که طول شمع فلزي از 12 متر بيشتر باشد، به ازاي هر متر مازاد بر 12 متر.","متر طول",338000]
["051103"," اضافه بها به رديف 051003، درصورتيکه طول شمع فلزي از 12 متر بيشتر باشد به ازاء هر متر مازاد بر 12 متر.","متر طول",488500]
["051104"," اضافه بها به رديف 051004، درصورتيکه طول شمع فلزي از 12 متر بيشتر باشد به ازاء هر متر مازاد بر 12 متر.","متر طول",623500]
["051105","اضافه بها به ردیفهای 051001 و 051003، به  ازای هر 2 سانتیمتر که به نمره تیرآهن اضافه شود. این ردیف برای شمع های ساخته شده از تیرآهن، ورق، ناودانی، نبشی و یا ترکیبی از آنها که وزن حاصله حدود وزن تیرآهن H نظیر باشد نیز قابل پرداخت است.","مترطول",41800]
["051106"," اضافه بها به رديفهاي 051002 و 051004، به ازاي هر 2 سانتيمتر که به اندازه قطر خارجي لوله اضافه شود. اين رديف براي شمع هاي توخالي ساخته شده از سپر فلزي يا ورق که وزن حاصله حدود وزن لوله نظير باشد نيز قابل پرداخت است.","متر طول",63700]
["051107"," خارج کردن انواع شمعهاي فلزي.","متر طول",235500]
["051201"," بارگيري شمع بتني مسلح با سطح مقطع 30×30 سانتيمتر، حمل ازدپوي محل ساخـت تا پاي کار، استقرار در محل شمع و کوبيدن آن به طورعمودي تا عمق 11 متر.","متر طول",470000]
["051202"," اضافه بها به رديـف 051201، به ازاي هر 5 سانتيمتر که به هر دو بعد مقطع شمع اضافه شود.","متر طول",47000]
["051203"," اضافه بها به رديـف 051201، در صورتيکه طول شمع بتن مسلح از 11 متر بيشتر باشد، به ازاي هر متر طول مازاد بر11 متر اوليه براي عمق تا 20 متر.","متر طول",338500]
["051204","اضافه بها برای کوبیدن شمع های بتنی به طور مایل، با شیب حداکثر یک افقی و 5 قائم.","مترطول",59700]
["051205","اضافه بها برای کوبیدن شمعهای بتنی به طور مایل، باشیب از یک افقی و 5 قائم تا حداکثر یک افقی و 3 قائم.","مترطول",119500]
["051301"," بارگيري و حمل سپرفلزي به ابعاد مختلـف تهيه شده توسط کارفرما، از پاي کار، استقرار در محل سپرکوبي و کوبيدن تا عمق 12 متر، در حالتي که سپر در محل کوبيده شده باقي بماند و وزن سپر هر مترمربع 122 کيلوگرم باشد در زمين هايي که N  کوچکتر يا برابر 25 باشد.","متر مربع",412500]
["051302"," تهيه، بارگيري و حمل سپرفلزي به ابعاد مختلـف از پاي کار، استقرار در محل سپرکوبي و کوبيدن تا عمق 12 متر، در حالتي که سپر در محل کوبيده شده باقي بماند و وزن سپر هر مترمربع 122 کيلوگرم باشد در زمينهايي که N کوچکتر يا برابر 25 باشد.(هزينه تهيه سپر مطابق بند 7 مقدمه فصل دهم).","متر مربع",412500]
["051303"," بارگيري و حمل سپرفلزي به ابعاد مختلـف تهيه شده توسط کارفرما از پاي کار، استقرار در محل سپرکوبي و کوبيدن آن تا عمق 12 متر، در حالتي که سپر در محل کوبيده شده باقي بماند و وزن سپر هر مترمربع 122 کيلوگرم باشد در زمين هايي که N بزرگتر از 25 باشد.","متر مربع",816000]
["051304"," تهيه، بارگيري و حمل سپرفلزي به ابعاد مختلف از پاي کار، استقرار در محل سپرکوبي و کوبيدن آن تا عمق 12 متر، در حالتي که سپر در محل کوبيده شده باقي بماند و وزن سپر هر مترمربع 122 کيلوگرم باشد در زمينهايي که N  بزرگتر از 25 باشد.(هزينه تهيه سپر مطابق بند 7 مقدمه فصل دهم پرداخت مي گردد).","متر مربع",816000]
["051305"," بارگيري و حمل سپرفلزي به ابعاد مختلف تهيه شده توسط کارفرما از پاي کار، استقرار در محل سپرکوبي و کوبيدن آن تا عمق 12 متر و خارج کردن سپر وقتي که وزن سپر هر مترمربع 122 کيلوگرم باشد در زمينهايي که N  کوچکتر يا برابر 25باشد.","متر مربع",725500]
["051306"," تهيه، بارگيري و حمل سپرفلزي به ابعاد مختلف از پاي کار، استقرار در محل سپرکوبي و کوبيدن آن تا عمق 12 متر و خارج کردن سپر وقتي که وزن سپر هر مترمربع 122 کيلوگرم باشد در زمينهايي که  N  کوچکتر يا برابر 25باشد.","متر مربع",859000]
["051307"," بارگيري و حمل سپرفلزي به ابعاد مختلف تهيه شده توسط کارفرما از پاي کار، استقرار در محل سپرکوبي و کوبيدن آن تا عمق 12 متر و خارج کردن سپر وقتي که وزن سپر هر مترمربع 122 کيلوگرم باشد در زمينهايي که N  بزرگتر از 25 باشد.","متر مربع",1160000]
["051308"," تهيه، بارگيري و حمل سپرفلزي به ابعاد مختلف از پاي کار، استقرار در محل سپرکوبي و کوبيدن آن تا عمق 12 متر و خارج کردن سپر وقتي که وزن سپر هر مترمربع 122 کيلوگرم باشد در زمينهايي که N  بزرگتر از 25باشد.","متر مربع",1338000]
["051309"," اضافه بها يا کسربها به رديفهاي 051301 و 051303 براي هر 25 کيلوگرم در مترمربع که از وزن سپر کم يا اضافه گردد.(کسر 25 کيلوگرم به تناسب محاسبه مي گردد).","متر مربع",66900]
["051310"," اضافه بها يا کسربها به رديفهاي 051305 و 051307 براي هر 25 کيلوگرم در مترمربع که از وزن سپر کم يا اضافه گردد.(کسر 25 کيلوگرم به تناسب محاسبه مي گردد).","متر مربع",96700]
["051311"," خارج کردن سپر فلزي.","متر مربع",222500]
["051401"," بارگيري سپربتني مسلح به ابعاد مختلـف، حمل از دپوي محل ساخـت، استقرار در محل سپرکوبي و کوبيدن آن تا عمق 6 متر.","متر مربع",1044000]
["060101","سنگ ریزی پشت دیوارها و پل ها (درناژ) با قلوه سنگ یا سنگ لاشه.","مترمكعب",169500]
["060105"," تهيه، ساخـت و نصـب تور سنـگ (گابيون) با تور سيمي گالوانيزه و قلوه سنـگ.","مترمكعب",1246000]
["060106"," تهيه، ساخـت و نصـب تور سنـگ (گابيون) با تور سيمي گالوانيزه و سنـگ لاشه.","مترمكعب",1584000]
["060201"," بنايي با سنـگ لاشه و ملات ماسه سيمان 1:5 در پي.","مترمكعب",1294000]
["060202"," بنايي با سنـگ لاشه و ملات ماسه سيمان 1:4 در پي.","مترمكعب",1328000]
["060203"," بنايي با سنـگ لاشه و ملات ماسه سيمان 1:3 در پي.","مترمكعب",1371000]
["060301"," اضافه بها به رديفهاي بنايي با سنـگ لاشه در پي، براي بنايي در ديوار.","مترمكعب",361000]
["060401"," اضافه بها به رديفهاي بنايي با سنـگ لاشه، بابـت نماسازي با سنـگ لاشه موزاييکي.","متر مربع",155000]
["060402"," اضافه بها به رديفهاي بنايي با سنـگ لاشه، بابـت نماسازي با سنـگ بادبر ، با ارتفاع مساوي در هر رگ.","متر مربع",329500]
["060403","اضافه بها به ردیف های بنایی با سنگ لاشه، برای سطوح شیب دار در شیروانی ها.","مترمربع",32300]
["060404"," اضافه بها به رديفهاي بنايي با سنـگ لاشه، بابـت نماسازي با سنـگ سر تراش.","متر مربع",502000]
["060501"," بنايي باسنـگ سر تراش و ملات ماسه سيمان 1:3.","مترمكعب",2804000]
["060502"," بنايي با سنـگ نيم تراش و ملات ماسه سيمان 1:3.","مترمكعب",2986000]
["060601"," اضافه بها براي بنايي در طاق پلهاي قوسي شکل (اين اضافه بها شامل بهاي چوب بسـت پلهاي قوسي تا دهانه 10 متر و خود10 متر اسـت).","مترمكعب",220500]
["060602"," اضافه بها به عمليات بنايي سنگي خارج از پي، در صورتيکه بنايي در انحنا انجام شود.","مترمكعب",220500]
["060603"," اضافه بها براي هرنوع بنايي سنگي که در ارتفاع بيـش از 5 متر از تراز زمين طبيعي انجام شود. اين اضافه بها براي حجم بنايي واقع در ارتفاع 5 تا 10 متر يک بار، براي حجم بنايي واقع در10 تا 15 متر دو بار و به همين ترتيـب براي ارتفاعهاي بيشتر پرداخـت مي شود.","مترمكعب",188500]
["060604"," اضافه بها به بناييهاي سنگي، هر گاه عمليات بنايي پايين تر از تراز آب زيرزميني انجام شود و تخليه آب با پمـپ درحين اجراي عمليات، الزامي باشد.","مترمكعب",165500]
["060605"," کسربها به رديفهاي بنايي با سنـگ، در صورتي که از مصالح سنـگ لاشه حاصل از کوه بري ترانشه هاي واقع در مسير استفاده شود.","مترمكعب",-252000]
["060606"," تعبيه درز انقطاع در بناييهاي سنگي، با تمام عمليات لازم و به هر شکل.","متر مربع",188000]
["060701"," حمل مصالح (طبق مقدمه فصل) در راه هاي آسفالتي، بيش از يک کيلومتر تا 10 کيلومتر.","مترمكعب -  كیلومتر‏",4390]
["060702"," حمل مصالح (طبق مقدمه فصل) در راه هاي آسفالتي، بيش از 10 کيلومتر تا 30 کيلومتر.","مترمکعب -کیلومتر",3880]
["060703"," حمل مصالح (طبق مقدمه فصل) در راه هاي آسفالتي، بيش از 30 تا 50 کيلومتر.","مترمكعب -  كیلومتر‏",3230]
["070101","اندود سیمانی به ضخامـت حدود 1 سانتیمتر روی سطوح افقی، قائم و مورب، با ملات ماسه سیمان 1:3.","مترمربع",103500]
["070102","اندود سیمانی به ضخامـت حدود 2 سانتیمتر روی سطوح افقی، قئم و مورب، با ملات ماسه سیمان 1:3.","مترمربع",135000]
["070103","اندود سیمانی به ضخامـت حدود 3 سانتیمتر روی سطوح افقی، قائم و مورب، با ملات ماسه سیمان 1:3.","مترمربع",161500]
["070104","اندود سیمانی به ضخامـت حدود 5 سانتیمتر روی سطوح افقی، قائم و مورب، با ملات ماسه سیمان 1:3.","مترمربع",240500]
["070201","بندکشی نمای سنگی با سنـگ لاشه موزاییک با ملات ماسه سیمان 1:3 در سطوح افقی، قائم یا مورب تا ارتفاع 5 متر.","مترمربع",82100]
["070202","بندکشی نمای سنگی بادبر، سر تراش، نیم تراش و تمام تراش، با ملات ماسه سیمان 1:3 درسطوح افقی، قائم یا مورب تا ارتفاع 5 متر.","مترمربع",56200]
["070203"," اضافه بهاي بندکشي در ديوارهاي سنگي از هر نوع، در ارتفاع بيـش از 5 متر. اين اضافه بها از 5 تا 10 متر يک بار، 10 تا 15 متر دو بار و به همين ترتيـب در ارتفاعات بعدي پرداخـت مي شود.","متر مربع",41300]
["070301","تهیه مصالح لازم و پرکردن درزهای تعبیه شده مابین جدول‌های بتنی پرسی ماشینی با ملات ماسه و سیمان 1:4، چنانچه ارتفاع جدول 50 سانتی‌متر یا کمتر باشد.","مترمربع",87300]
["070302","اضافه بها به ردیف ٠٧٠٣٠١ ، هرگاه ارتفاع جدول ها بیش از 50 سانتی متر باشد به ازای هر ١٠ (ده) سانتی متر ارتفاع مازاد بر ۵٠ سانتی متر. (کسر ١٠ سانتی متر به تناسب محاسبه می شود).","مترمربع",2160]
["070303","تهیه تمام مصالح و بندکشی بین جدول های بتنی پیش ساخته پرسی ماشینی با ملات پودرسنگ و سیمان 2:1، به ازای طول بندکشی اجرا شده.","مترطول",6630]
["080101"," تهيه وسايل و قالـب بندي در پي ها‎.‎","متر مربع",362500]
["080102"," تهيه وسايل و قالب بندي جداول به هر ارتفاع براي بتن ريزي درجا.","متر مربع",204000]
["080201"," تهيه وسايل و قالـب بندي ديوارها و ستونهاي بتني که، ارتفاع آنها حداکثر 2 متر باشد.","متر مربع",435000]
["080202"," تهيه وسايل و قالـب بندي ديوارها و ستونهاي بتني که، ارتفاع آنها بيـش از 2 متر و حداکثر 3 متر باشد.","متر مربع",458500]
["080203"," تهيه وسايل و قالـب بندي ديوارها و ستونهاي بتني که، ارتفاع آنها بيـش از 3 متر و حداکثر 5 متر باشد.","متر مربع",595500]
["080204"," تهيه وسايل و قالـب بندي ديوارها و ستونهاي بتني که، ارتفاع آنها بيـش از 5 متر و حداکثر 7 متر باشد.","متر مربع",669500]
["080205"," تهيه وسايل و قالـب بندي ديوارها و ستونهاي بتني که، ارتفاع آنها بيـش از 7 متر و حداکثر 10 متر باشد.","متر مربع",750500]
["080301"," تهيه وسايل و قالـب بندي تابليه پلهاي با دهانه تا 5 متر که از دال ساده تشکيل شده باشد.","متر مربع",450000]
["080302"," تهيه وسايل و قالـب بندي تابليه پلهاي با دهانه بيـش از 5 متر تا 10 متر که از دال ساده تشکيل شده باشد.","متر مربع",587000]
["080303"," تهيه وسايل و قالـب بندي تابليه پلهاي با دهانه 8 متر تا 12 متر، که مرکـب از تير و دال وقتي که ارتفاع تا زير تير حداکثر 3 متر باشد.","متر مربع",551500]
["080304"," تهيه وسايل و قالـب بندي تابليه پلهاي با دهانه 8 متر تا 12 متر، مرکـب از تير و دال وقتي که ارتفاع تا زير تير بيـش از 3 متر و حداکثر 5 متر باشد.","متر مربع",650000]
["080305"," تهيه وسايل و قالـب بندي تابليه پلهاي با دهانه 8 متر تا 12 متر، مرکـب از تير و دال وقتي که ارتفاع تا زير تير بيـش از 5 متر و حداکثر 7 متر باشد.","متر مربع",743000]
["080306"," تهيه وسايل و قالـب بندي تابليه پلهاي با دهانه 8 متر تا 12 متر، مرکـب از تير و دال وقتي که ارتفاع تا زير تير بيـش از 7 متر و حداکثر 10 متر باشد.","متر مربع",949000]
["080307"," تهيه وسايل و قالـب بندي تابليه پلهاي با دهانه بيـش از 12 متر تا20 متر، مرکـب از تير و دال وقتي که ارتفاع آن تا زير تير حداکثر 3 متر باشد.","متر مربع",616500]
["080308"," تهيه وسايل و قالـب بندي تابليه پلهاي با دهانه بيـش از12 متر تا20 متر، مرکـب از تير و دال وقتي که ارتفاع تا زير تير بيـش از 3 متر و حداکثر 5 متر باشد.","متر مربع",720500]
["080309"," تهيه وسايل وقالـب بندي تابليه پلهاي با دهانه بيـش از 12 متر تا20 متر، مرکـب از تير و دال وقتي که ارتفاع تا زير تير بيـش از 5 متر و حداکثر 7 متر باشد.","متر مربع",822000]
["080310"," تهيه وسايل و قالـب بندي تابليه پلهاي با دهانه بيـش از 12 متر تا20 متر، مرکـب از تير و دال وقتي که ارتفاع تا زير تير بيـش از 7 متر و حداکثر10 متر باشد.","متر مربع",1038000]
["080311"," تهيه وسايل و قالب بندي تابليه پلهاي به شکل صندوقه (طره اي) با هر دهانه و هر عرض و هر ارتفاع صندوقه با دستگاه شاريو.","متر مربع",2057000]
["080401"," اضافه بها براي سطوحي از قالـب که داراي انحنا باشد.","متر مربع",295500]
["080402"," اضافه بها به رديفهاي قالـب بندي هرگاه قالـب الزاما در کار باقي بماند.","متر مربع",89800]
["080403"," اضافه بهاي قالـب بندي هر گاه عمليات در زير تراز سطح آبهاي زيرزميني انجام شود و آبکشي با تلمبه موتوري در حين اجراي کار ضروري باشد.","متر مربع",96600]
["080501"," تهيه وسايل و قالـب بندي درز انبساط در بتن با تمام مصالح لازم، به استثناي کـف سازيهاي بتني بر حسب حجم درز.","دسیمترمکعب",31400]
["080502"," تعبيه انواع درزها در کـف سازي هاي بتني در موقع اجرا به انضمام وسايل لازم، بدون پرکردن درز بر حسب حجم درز.","دسیمترمکعب",20100]
["080601"," تهيه وسايل، چوب بست و تخته کوبي براي جلوگيري از ريزش خاک در پي ها در هر عمق.","متر مربع",354000]
["080701"," تهيه وسايل و قالـب بندي تيرهاي پيـش ساخته بتني با استفاده از قالب فلزي، (چنانچه تعداد تيرهاي پيش ساخته بيشتر از 24 عدد باشد، کسر بهاي رديف 080702 اعمال مي شود).","متر مربع",385500]
["080702"," کسر بها به رديـف 080701 در صورتي که تعداد تيرها بيشتر از 24 عدد باشد، به ازاي هر عدد تير مازاد بر 24 عدد، براي تير بيست و پنجم يک بار، براي تير بيست و ششم دو بار و به همين ترتيب براي تعداد تيرهاي بيشتر.","متر مربع",-2000]
["080801","تهیه وسایل و قالـب بندی با پشـت بند، چوب بسـت و داربسـت و سکوها و تمام تجهیزات لازم برای قالبهای لغزنده قایم در صورتی که سطح مقطع سازه ثابـت باشد.","مترمربع"]
["080802","تهیه وسایل و قالـب بندی با پشـت بند، چوب بسـت و داربسـت و سکوها و تمام تجهیزات لازم برای قالبهای لغزنده قایم در صورتی که سطح مقطع سازه متغیر باشد.","مترمربع"]
["080901"," تهيه وسايل و چوب بسـت براي تثبيـت جدار تونل در زمينهاي سنگي سخـت ترک دار و سنگي فرسوده و غير همگن.","مترمكعب",295500]
["080902","تهیه وسایل و چوب بست برای تثبیت جدار تونل در زمین های خاکی سست و یا غیر مقاوم و ریزشی.","مترمکعب",816500]
["081001"," تهيه وسايل و قالـب بندي بتن پوششي تونلها تا ارتفاع 2 متر از خط پروژه.","متر مربع",596000]
["081002"," تهيه وسايل و قالب بندي بتن پوششي تونل ها به ارتفاع بيش از 2 متر از خط پروژه با استفاده از قالب يک پارچه.","متر مربع",1076000]
["081003"," تهيه وسايل و قالب‌بندي کله‌گي‌هاي قالب يک پارچه لاينيگ با قطع آرماتور.","مترمربع",761500]
["081004"," تهيه وسايل و قالب‌بندي کله‌گي‌هاي قالب يک پارچه لاينيگ بدون قطع آرماتور.","مترمربع",958000]
["081005"," اضافه بها به رديف‌هاي قالب‌بندي درتونل هرگاه فاصله قالب‌بندي از نزديکترين دهانه دسترسي بيش از 250 متر باشد، به ازاي هر250 متر. براي 250 متر دوم يکبار، 250 متر سوم دوبار، و به ‌همين ترتيب براي طول‌هاي بيشتر.","درصد",4]
["081006"," اضافه بها به رديف‌هاي 081001 الي 081004 در صورتي که قالب‌بندي در زمين‌هاي آبداربوده و نشت آب به صورت قطره اي و ناپيوسته باشد.","درصد",1.5]
["081007"," اضافه بها به رديف‌هاي 081001 الي 081004 در صورتي که قالب‌بندي در زمين‌هاي آبدار بوده و نشت آب به صورت روان و جاري باشد.","درصد",4]
["090101"," تهيه، بريدن، خم کردن و کار گذاشتن ميل گرد ساده به قطر تا 10 ميليمتر براي بتن مسلح با سيم پيچي لازم‎.‎","كیلوگرم",59900]
["090102"," تهيه، بريدن، خم کردن و کار گذاشتن ميل گرد ساده به قطر 12 تا 18 ميليمتر براي بتن مسلح با سيم پيچي لازم.","كیلوگرم",56900]
["090103"," تهيه، بريدن، خم کردن و کار گذاشتن ميل گرد ساده به قطر 20 و بيش از 20 ميليمتر براي بتن مسلح با سيم پيچي لازم.","كیلوگرم",55200]
["090104"," تهيه و نصب قلاب آهنگري شده براي نصب در قطعات پيش ساخته بتني.","عدد",36500]
["090201"," تهيه، بريدن، خم کردن و کار گذاشتن ميل گرد آجدار از نوع AII به قطر تا 10 ميليمتر براي بتن مسلح با سيم پيچي لازم.","كیلوگرم",56800]
["090202","تهیه، بریدن، خم کردن و کار گذاشتن میلگرد آجدار از نوع  AII به قطر 12 تا 18 میلیمتر برای بتن مسلح با سیم پیچی لازم.","کیلوگرم",45600]
["090203"," تهيه، بريدن، خم کردن و کار گذاشتن ميل گردآجدار از نوع AII به قطر 20 و بيـش از20 ميليمتر، براي بتن مسلح با سيم پيچي لازم.","كیلوگرم",43400]
["090204"," تهيه، بريدن، خم کردن و کار گذاشتن ميل گرد آجدار از نوع AIII به قطر تا 10 ميليمتر براي بتن مسلح با سيم پيچي لازم.","كیلوگرم",57500]
["090205"," تهيه، بريدن، خم کردن و کار گذاشتن ميل گرد آجدار از نوع AIII به قطر 12 تا 18 ميليمتر براي بتن مسلح با سيم پيچي لازم.","كیلوگرم",46100]
["090206"," تهيه، بريدن، خم کردن و کار گذاشتن ميل گرد آجدار از نوع AIII به قطر20 و بيـش از20 ميليمتر براي بتن مسلح با سيم پيچي لازم.","كیلوگرم",43800]
["090401"," اضافه بها به رديفهاي ميل گرد چنانچه عمليات پايين تراز آبهاي زيرزميني انجام شود و آبکشي با تلمبه موتوري در حين اجراي کار، ضروري باشد.","كیلوگرم",2410]
["090501"," تهيه و نصـب ميل مهار با جوشکاري لازم.","كیلوگرم",73600]
["090502"," تهيه و نصـب ميل مهار با پيچ و مهره.","كیلوگرم",90900]
["090503"," تهيه، ساخـت و نصـب ميل مهار دنده شده (بولـت) از هر نوع ميل گرد، با پيچ و مهره مربوط و کار گذاري در محلهاي لازم، قبل از بتن ريزي.","كیلوگرم",86400]
["090504"," تهيه مصالح و وسايل و اجراي بست به وسيله تپانچه.","عدد",20100]
["090601","تهیه و اجرای داول از میل گرد ساده با پوشش رنگ اپوکسی ( 300 میکرون) یا مانند آن، برای استفاده در روسازی بتنی راه ها و باند فرودگاه و موارد مشابه.","كیلوگرم",68000]
["090602","تهیه و اجرای داول از میل گرد ساده با رنگ اپوکسی (300 میکرون)  یا مانند آن، در صورتی که داول دارای کلاهک (Cap) باشد، برای استفاده در روسازی بتنی راه ها و باند فرودگاه و موارد مشابه.","كیلوگرم",73700]
["090701"," تهيه کابل و ساير مصالح و وسايل لازم و انجام عمليات کشيدن کابل، در تيرهاي بتني پيـش ساخته يا اجرا شده به صورت درجا، بر حسـب وزن کابل نصـب شده.","كیلوگرم"]
["090702"," تهيه و نصب ميل مهار دوسر رزوه با پيچ و مهره.","كیلوگرم",109000]
["090703","تهیه کابل برای جاگذاری در نیوجرسی های بتنی درجا بر حسب وزن کابل مصرفی.","کیلوگرم"]
["100101"," تهيه مصالح، ساخـت و نصـب تيرها و بادبندهاي پلهاي فلزي به دهانه تا 24 متر، در هر ارتفاع.","كیلوگرم",79900]
["100102"," تهيه مصالح، ساخـت و نصـب تيرها و بادبندهاي پلهاي فلزي به دهانه بيـش از 24 متر تا 36 متر، در هر ارتفاع.","كیلوگرم",83900]
["100103"," تهيه مصالح، ساخـت و نصـب تيرها و بادبندهاي پلهاي فلزي به دهانه بيـش از 36 متر تا 48 متر، در هر ارتفاع.","كیلوگرم",85500]
["100104"," تهيه مصالح، ساخـت و نصـب تيرها و بادبندهاي پلهاي فلزي به دهانه بيـش از 48 متر تا 60 متر، در هر ارتفاع.","كیلوگرم",93900]
["100201"," تهيه مصالح، ساخـت و نصـب خرپاها و بادبندهاي پلهاي فلزي به دهانه تا 24 متر، در هر ارتفاع.","كیلوگرم",121500]
["100202"," تهيه مصالح، ساخـت و نصـب خرپاها و بادبندهاي پلهاي فلزي به دهانه بيـش از 24 متر تا 36 متر، در هر ارتفاع.","كیلوگرم",125500]
["100203"," تهيه مصالح، ساخـت و نصـب خرپاها و بادبندهاي پلهاي فلزي به دهانه بيـش از 36 متر تا 48 متر، در هر ارتفاع.","كیلوگرم",127000]
["100204"," تهيه مصالح، ساخـت و نصـب خرپاها و بادبندهاي پلهاي فلزي به دهانه بيـش از 48 متر تا 60 متر، در هر ارتفاع.","كیلوگرم",135500]
["100301"," تهيه مصالح فلزي گالريهاي بهمن گير و ساخـت و نصـب آنها با مقاطع فولادي، به طور کامل.","كیلوگرم"]
["100302"," تهيه مصالح فلزي براي کلافبندي داخل تونلها از تير آهن معمولي، و مانند آن(قاب) ساخت و نصب آنها به طور کامل، در حالي که در کار باقي بماند.","كیلوگرم",87600]
["100303"," تهيه مصالح فلزي براي کلاف بندي از ميل گرد و مانند آن (لتيس) ساخت و نصب آنها به طور کامل داخل تونل، در حالي که در کار باقي بماند.","كیلوگرم",68600]
["100304"," اضافه بها به رديف‌هاي 100302و100303 درتونل هرگاه فاصله از نزديکترين دهانه دسترسي بيش از 250 متر باشد، به ازاي هر250 متر. براي 250 متر دوم يکبار، 250 متر سوم دو بار، و به همين ترتيب براي طول‌هاي بيشتر.","درصد",5]
["100305"," اضافه بها به رديف 100302، در صورت استفاده از پروفيل بال پهن.","کیلو گرم",34400]
["100306"," اضافه بها به رديف‌هاي 100302 و  100303 در صورتي که قاب گذاري يا لتيس در زمين‌هاي آبدار و نشت آب به صورت قطره‌اي باشد.","درصد",1.5]
["100307"," اضافه بها به رديف‌هاي 100302 و  100303 در صورتي که قاب گذاري يا لتيس در زمين‌هاي آبدار بوده و نشت آب به صورت روان و جاري باشد.","درصد",4]
["100401"," تهيه مصالح و نصـب کامل پوشـش درز انبساط شانه اي فولادي دندانه دار خارجي با ميزان جابجايي 25 ميليمتر، با ورقه لاستيکي آب بندي و پيچ و مهره مربوط در سطح اتومبيل روي پل.","متر طول"]
["100402"," تهيه مصالح و نصـب کامل پوشـش درز انبساط شانه اي فولادي دندانه دار خارجي با ميزان جابجايي 50 ميليمتر، با ورقه لاستيکي آب بندي و پيچ و مهره مربوط در سطح اتومبيل روي پل.","متر طول"]
["100403"," تهيه مصالح فلزي و ساخـت و نصـب پوشـش فلزي براي درز انبساط در پلها.","كیلوگرم",76400]
["100501"," تهيه شمعهاي فلزي بامقطع H به هر اندازه.","كیلوگرم"]
["100502"," تهيه شمعهاي فلزي لوله اي به هر اندازه.","كیلوگرم",50300]
["100503"," تهيه سپرفلزي به هراندازه، در صورتي که سپر در محل کوبيده شده باقي بماند.","كیلوگرم",48400]
["100504"," تهيه لوله هاي فلزي ( CASING ) به هر قطر براي عمليات حفاري، در حالتي که لوله در محل حفاري باقي بماند.","كیلوگرم",48700]
["100505"," تهيه و نصـب حفاظ فلزي نوک شمعها و سپرهاي بتني پيـش ساخته.","كیلوگرم",82500]
["100506"," تهيه شمع فلزي از تيرآهن، ورق، ناوداني، نبشي يا ترکيبي از آنها.","كیلوگرم",51500]
["100507"," تهيه شمع فلزي توخالي از سپر فلزي يا ورق.","كیلوگرم",52000]
["100601","اضافه بها به ردیف های 100101 تا 100104، در صورت استفاده از فولاد ST52 به جای فولاد ST37 .","کیلوگرم"]
["100701","تهيه مصالح و نصب کامل ورق موجدار به ضخامت 3.5 ( سه و نيم ) ميلي‌متر با پوشش گالوانيزه گرم به همراه پيچ و مهره و بيس چنل نشيمن با پوشش گالوانيزه براي آبرو همسطح و با مقطع نيم دايره به قطر 2 متر .","مترطول",26600000]
["100702","تهيه مصالح و نصب کامل ورق موجدار به ضخامت 2 (دو) ميلي‌متر با پوشش گالوانيزه گرم به همراه پيچ و مهره و بيس چنل نشيمن با پوشش گالوانيزه براي آبرو زيرخاکي و با مقطع نيم دايره به قطر 2 متر.","مترطول",15580000]
["100703","تهيه مصالح و نصب کامل ورق موجدار به ضخامت 4 ( چهار ) ميلي‌متر با پوشش گالوانيزه گرم به همراه پيچ و مهره و بيس چنل نشيمن با پوشش گالوانيزه براي آبرو همسطح و با مقطع مستطيلي دهانه 2 متر و ارتفاع 1 متر.","مترطول",45600000]
["100704","تهيه مصالح و نصب کامل ورق موجدار به ضخامت 2.5 ( دو و نيم ) ميلي‌متر با پوشش گالوانيزه گرم به همراه پيچ و مهره و بيس چنل نشيمن با پوشش گالوانيزه براي آبرو زيرخاکي و با مقطع مستطيلي دهانه 2 متر و ارتفاع 1 متر.","مترطول",34200000]
["100705","تهيه مصالح و نصب کامل ورق موجدار به ضخامت 3.5 ( سه و نيم ) ميلي‌متر با پوشش گالوانيزه گرم به همراه پيچ و مهره و بيس چنل نشيمن با پوشش گالوانيزه براي آبرو همسطح و با مقطع نيم دايره به قطر 3 متر.","مترطول",44650000]
["100706","تهيه مصالح و نصب کامل ورق موجدار به ضخامت 2 (دو) ميلي‌متر با پوشش گالوانيزه گرم به همراه پيچ و مهره و بيس چنل نشيمن با پوشش گالوانيزه براي آبرو زيرخاکي با مقطع نيم دايره به قطر 3 متر.","مترطول",26030000]
["100707","تهيه مصالح و نصب کامل ورق موجدار به ضخامت 4 ( چهار ) ميلي‌متر با پوشش گالوانيزه گرم به همراه پيچ و مهره و بيس چنل نشيمن با پوشش گالوانيزه براي آبرو همسطح و با مقطع مستطيلي دهانه 3 متر و ارتفاع 1/20 متر.","مترطول",66500000]
["100708","تهيه مصالح و نصب کامل ورق موجدار به ضخامت 2.5 ( دو و نيم ) ميلي‌متر با پوشش گالوانيزه گرم به همراه پيچ و مهره و بيس چنل نشيمن با پوشش گالوانيزه براي آبرو زيرخاکي و با مقطع مستطيلي دهانه 3 متر و ارتفاع 1/20 متر.","مترطول",43700000]
["100709","تهيه مصالح و نصب کامل ورق موجدار 4/0 ( چهار ) ميلي‌متر با پوشش گالوانيزه گرم به همراه پيچ و مهره و بيس چنل نشيمن با پوشش گالوانيزه براي آبرو يا پل زيرگذر همسطح و مقطع مستطيلي با ابعاد 2/40 × 8/0 متر.","مترطول",136800000]
["100710","تهيه مصالح و نصب کامل ورق موجدار به ضخامت 2.5 (دو و نيم) ميلي‌متر با پوشش گالوانيزه گرم به همراه پيچ و مهره و بيس چنل نشيمن با پوشش گالوانيزه براي آبرو يا پل زيرگذر زيرخاکي و مقطع مستطيلي با ابعاد 2/40 × 8/0 متر.","مترطول",81700000]
["110102","تهیه مصالح، ساخت و نصب حفاظ جانبی راه (گاردریل) از ورق گالوانیزه با پایه ها و اتصالات مربوط برای کناره های راه و پل ها.","كیلوگرم",98900]
["110103"," تهيه و نصـب تسمه هاي آجدار فولادي به ابعاد مختلف براي مسلح کردن خاک با پيچ و مهره لازم.","كیلوگرم",90100]
["110104"," تهيه و جاگذاري زبانه هاي تسمه گير فولادي در قطعات بتني پيش ساخته براي مسلح کردن خاک.","كیلوگرم",52700]
["110105"," اضافه بها به رديفهاي 110103 و 110104 در صورتي که تسمه ها و زبانه ها به ميزان 100 ميکرون گالوانيزه شوند.","كیلوگرم",37800]
["110201"," تهيه مصالح فلزي پايه تابلوها و علايم راه به هرشکل و اندازه، ساخـت و نصـب کامل آنها به غير از صفحه تابلو.","كیلوگرم",66000]
["110202"," تهيه مصالح فلزي پايه حفاظ تور سيمي (فنـس) به هرشکل و اندازه و نصـب کامل آن.","كیلوگرم",75300]
["110203"," تهيه مصالح، ساخـت و نصـب نرده جان پناه با نبشي، ناوداني و مانند آنها.","كیلوگرم",86200]
["110204"," تهيه مصالح، ساخـت و نصـب نرده جان پناه با پروفيلهاي توخالي.","كیلوگرم",91300]
["110205"," تهيه و نصـب تور سيمي گالوانيزه حصاري براي حفاظ اطراف جاده ها پلها و مانند آنها با لوازم اتصال.","كیلوگرم",82200]
["110206"," تهيه و نصـب سيم خاردار با اتصالات لازم.","كیلوگرم",79900]
["110207"," تهيه، ساخـت و کارگزاري پايه، دستک فلزي از نبشي، سپري، ناوداني، تيرآهن و مانند آن، براي نصـب سيم خاردار يا تور سيمي و ساير کارهاي مشابه.","كیلوگرم",58200]
["110208"," تهيه مصالح فلزي و ساخـت و نصب تابلوهاي علايم ثابت خطي خطوط راه‌آهن.","كیلوگرم",82000]
["110301"," تهيه و نصب لوله، سر ناودان و درپوشهاي چدني، براي تخليه آبهاي سطحي روي پلها و موارد مشابه آن.","كیلوگرم",78800]
["110302"," تهيه درپوشهاي چدني با قابهاي مربوط و نصـب آنها روي چاهکها، به انضمام تهيه و به کار بردن مصالح لازم براي تحکيم قابها.","كیلوگرم",62900]
["110303"," تهيه و نصـب دريچه هاي فلزي و انواع پلهاي فلزي روي ابروها و کانالها از ناوداني، تيرآهن، ورق و ساير پروفيلهاي لازم با جوشکاري و ساييدن.","كیلوگرم",51200]
["110401"," تهيه شبکه ميل گرد پيش جوش (مش) ساخته شده از ميل گرد ساده، به انضمام بريدن و کار گذاشتن همراه با سيم پيچي لازم.","كیلوگرم",70600]
["110402"," تهيه شبکه ميل گرد پيش جوش (مش) ساخته شده از ميل گردآجدار، به انضمام بريدن و کار گذاشتن همراه با سيم پيچي لازم.","كیلوگرم",64900]
["110403"," تهيه شبکه ميل‌گرد پيش جوش (مش) ساخته شده از ميل‌گرد ساده داخل تونل‌ها، به انضمام بريدن و کار گذاشتن همراه با سيم پيچي و سيم انتظار لازم.","کیلو گرم",107000]
["110404"," تهيه شبکه ميل‌گرد پيش جوش (مش) ساخته شده از ميل‌گرد آجدار داخل تونل‌ها، به انضمام بريدن و کار گذاشتن همراه با سيم پيچي و سيم انتظارلازم.","کیلو گرم",101500]
["110405"," اضافه بها به رديف‌هاي مش بندي درتونل هرگاه فاصله مش‌بندي از نزديکترين دهانه دسترسي بيش از 250 متر باشد، به ازاي هر250 متر.  براي 250 متر دوم يکبار، 250 متر سوم دو بار، و به همين ترتيب براي طول‌هاي بيشتر.","درصد",5.5]
["110406"," اضافه بها به رديف‌هاي 110403 و 110404 در صورتي که مش‌بندي در زمين‌هاي آبدار و نشت آب به صورت قطره‌اي باشد.","درصد",1.5]
["110407"," اضافه بها به رديف‌هاي 110403 و 110404 در صورتي که مش‌بندي در زمين‌هاي آبدار و نشت آب به صورت جاري باشد.","درصد",4]
["120101","تهیه و اجرای بتن، با 100 کیلوگرم سیمان در مترمکعب بتن.","مترمكعب",982500]
["120102","تهیه و اجرای بتن، با 150 کیلوگرم سیمان در مترمکعب بتن.","مترمكعب",1074000]
["120103","تهیه و اجرای بتن، با مقاومت فشاری مشخصه 12 مگا پاسکال.","مترمكعب",1192000]
["120104","تهیه و اجرای بتن، با مقاومت فشاری مشخصه 16 مگا پاسکال.","مترمكعب",1296000]
["120105","تهیه و اجرای بتن، با مقاومت فشاری مشخصه 20 مگا پاسکال.","مترمكعب",1389000]
["120106","تهیه و اجرای بتن، با مقاومت فشاری مشخصه 25 مگا پاسکال.","مترمكعب",1473000]
["120107","تهیه و اجرای بتن، با مقاومت فشاری مشخصه 30 مگا پاسکال.","مترمكعب",1554000]
["120201","تهیه مصالح، تولید بتن (با مقاومت خمشی حداقل 4 مگا پاسکال و مقاومت فشاری حداقل 30 مگا پاسکال) و اجرای رویه بتنی ساده درزدار.","مترمكعب",2338000]
["120202","تهیه مصالح و تولید بتن (با مقاومت فشاری حداقل 30 مگاپاسکال) و اجرای نیوجرسی با بتن درجا.","مترمکعب",2528000]
["120301","  اضافه بها به رديفهاي بتن ريزي چنانچه بتن درضخامتهاي 15 سانتيمتر يا کمتر اجرا شود.","مترمكعب",91000]
["120302","  اضافه بهاي بتن ريزي ازپي به بالا در ديوارها و پايه پلها، براي حجمهاي واقع تا ارتفاع 5 متر.","مترمكعب",153000]
["120303","  اضافه بهاي بتن ريزي از پي به بالادر ديوارها و پايه پلها، براي حجمهاي واقع در ارتفاع بيـش از 5 متر تا10 متر.","مترمكعب",285000]
["120304","  اضافه بهاي بتن ريزي تابليه و پياده روي پلها(دال، تير و تيرچه)، هرگاه ارتفاع تا زير تير تا 5 متر باشد.","مترمكعب",132500]
["120305","  اضافه بهاي بتن ريزي تابليه و پياده روي پلها (دال ، تير و تيرچه)، هرگاه ارتفاع تازيرتير بيـش از 5 متر تا 10 متر باشد.","مترمكعب",203500]
["120306","  اضافه بها به رديفهاي بتن درجا براي بتن ريزي تيرهاي تنيده پـس کشيده.","مترمكعب",143500]
["120307","  اضافه بهاي هر نوع بتن ريزي که زير سطح آب انجام شود و آبکشي حين انجام کار با تلمبه موتوري الزامي باشد.","مترمكعب",183500]
["120308","  زبرکردن و شيار انداختن سطح رويه هاي بتني.","متر مربع"]
["120310","  اضافه بها به رديفهاي بتن ريزي درصورت مصرف بتن دربتن مسلح.","مترمكعب",44800]
["120401","  تهيه و اجراي بتن پاشي جداره تونل با بتن 300 کيلوگرم سيمان در هر متر مکعب، لايه اول به ازاي هر سانتي متر ضخامت.","متر مربع",96000]
["120402","  تهيه و اجراي بتن پاشي لايه هاي بعدي جداره تونل با بتن 300 کيلوگرم سيمان در هر متر مکعب، به ازاي هر سانتي متر ضخامت.","متر مربع",67000]
["120403","  اضافه بها به رديف هاي بتن پاشي در صورتي که بتن پاشي زمين هاي آبدرا و نشت آب به صورت قطره اي باشد.","درصد",3]
["120404","  اضافه بها به رديف هاي بتن پاشي در صورتي که بتن پاشي زمين هاي آبدار و نشت آب به صورت روان و جاري باشد.","درصد",7]
["120405","  اضافه بها به رديف‌هاي بتن پاشي در صورتي که بتن پاشي زمين‌هاي آبدار با نشت آب بسيار زياد توام با ريزش باشد.","درصد",15]
["120406","  اضافه بها به رديف‌هاي بتن پاشي درتونل هرگاه فاصله بتن پاشي از نزديکترين دهانه دسترسي بيش از 250 متر باشد، به ازاي هر250 متر. براي 250 متر دوم يکبار، 250 متر سوم دوبار، و به همين ترتيب براي طول‌هاي بيشتر.","درصد",10]
["120501","  تهيه مصالح و اجراي عمليات تزريق با ملات ماسه سيمان در تونلها.","مترمكعب"]
["120502","  تهيه مصالح و اجراي عمليات تزريق با دوغاب سيمان در تونلها.","تن"]
["120503","  تهيه مصالح و اجراي عمليات تزريق با خاک رس اصلاح شده محلي در تونلها.","تن"]
["120504","  تهيه مصالح و اجراي عمليات تزريق با بنتونيـت در تونلها.","تن"]
["120505","  تهيه مصالح و اجراي عمليات تزريق با سليکات سديم در تونلها.","تن"]
["120601","  اضافه بها به رديفهاي بتن ريزي يا بتن پاشي، در صورتي که شن و ماسه بتن از سنـگ کوهي تهيه شود.","مترمكعب",14800]
["120701","  اضافه بها براي مصرف سيمان نوع 2 در بتن و يا ملاتها به جاي سيمان نوع 1.","كیلوگرم",1]
["120702","  اضافه بها براي مصرف سيمان نوع 5 در بتن و ياملاتها به جاي سيمان نوع 1.","كیلوگرم",1]
["120801","  حمل بتن با تراک ميکسر از محل دستگاه بتن ساز تا محل مصرف، به ازاي هريک کيلومتر. کسر کيلومتر به تناسـب محاسبه مي شود.","مترمكعب -  كیلومتر‏",11700]
["120901","تهیه و اجرای بتن، تا ارتفاع 2 متر از خط پروژه داخل تونل، با 300 کیلوگرم سیمان در مترمکعب بتن.","مترمكعب",1557000]
["120902","تهیه و اجرای بتن، ارتفاع بیش از 2 متر از خط پروژه داخل تونل، با 300 کیلوگرم سیمان در مترمکعب بتن.","مترمكعب",1636000]
["120903","  اضافه بها به رديف‌هاي بتن ريزي درتونل هرگاه فاصله بتن ريزي از نزديکترين دهانه دسترسي بيش از 250 متر باشد، به ازاي هر250 متر. براي 250 متر دوم يکبار، 250 متر سوم دوبار، و به همين ترتيب براي طول‌هاي بيشتر.","درصد",5]
["121001","  حمل مصالح (طبق مقدمه فصل) در راههاي آسفالتي، بيش از يک کيلومتر تا 10 کيلومتر.","مترمکعب -کیلومتر",4390]
["121002","  حمل مصالح (طبق مقدمه فصل) در راههاي آسفالتي، بيش از 10 کیلومتر تا 30 کيلومتر.","مترمكعب -  كیلومتر‏",3880]
["121003","حمل مصالح (طبق مقدمه فصل) در راه های آسفالتی، بیش از ٣٠ کیلومتر.","مترمكعب -  كیلومتر‏",3230]
["121101","  تهيه تمام مصالح و اجراي رويه‌ي بتني غلتكي (RCCP) تا ضخامت 20 سانتي‌متر.","مترمكعب",2009000]
["121102","  تهيه تمام مصالح و اجراي رويه‌ي بتني غلتكي (RCCP) براي حجم واقع در ضخامت بيشتر از 20 سانتي‌متر.","مترمكعب",1840000]
["121111","  ايجاد درز انبساط در رويه‌ي بتني غلتكي (RCCP) به هر عمق و عرض 4 تا 8 ميلي‌متر به همراه تميز كردن محل درز و تهيه مصالح و پركردن درز با مواد درزگير نظير ماسه قير.","مترطول"]
["121114","اضافه بها به ردیف های ۱۲۰۲۰۱ یا ۱۲۰۲۰۲ یا ۱۲۱۱۰۱ و یا ۱۲۱۱۰۲ در صورت استفاده از الیاف مرکب پلیمری به شکل تک رشته ای متشکل از ریز رشته های به هم چسبیده - تارهای شبکه ای ماکرو از جنس پلی الفین.","مترمكعب"]
["130101"," تهيه تيرهاي بتني پيـش ساخته با عيار400 کيلو سيمان ، بارگيري و حمل به دپوي محل ساخـت و باراندازي.","مترمكعب",2112000]
["130202"," اضافه بها به رديـف تهيه و اجراي تيرهاي بتني پيـش ساخته براي تيرهاي با طول بيش از 10 متر، به ازاي هر 5 متر که به طول تير اضافه شود. کسر 5 متر به تناسب محاسبه مي شود.","مترمكعب",123000]
["130301"," اضافه بها به رديـف تهيه واجراي تيرهاي بتني پيـش ساخته، چنانچه تيرپيـش ساخته به صورت تنيده پيـش کشيده باشد.","مترمكعب",99100]
["130302"," اضافه بها به رديـف تهيه واجراي تيرهاي بتني پيـش ساخته چنانچه تير پيـش ساخته به صورت تنيده پـس کشيده باشد.","مترمكعب",124000]
["130401"," بارگيري تيرهاي بتني پيـش ساخته به طول 10 متر و کمتر، از دپوي محل ساخـت و حمل به محل نصـب و نصـب آن.","مترمكعب",1621000]
["130402"," بارگيري تيرهاي بتني پيـش ساخته به طول بيـش از10 متر تا 15 متر، از دپوي محل ساخـت و حمل به محل نصـب و نصـب آن.","عدد",9792000]
["130403"," بارگيري تيرهاي بتني پيـش ساخته به طول بيـش از 15 متر تا20 متر، از دپوي محل ساخـت و حمل به محل نصـب و نصـب آن.","عدد",16222000]
["130404"," بارگيري تيرهاي بتني پيـش ساخته به طول بيـش از20 متر تا 25 متر، از دپوي محل ساخـت و حمل به محل نصـب و نصـب آن.","عدد",26791000]
["130405"," بارگيري تيرهاي بتني پيـش ساخته به طول بيـش از 25 متر تا30 متر، از دپوي محل ساخـت و حمل به محل نصـب و نصـب آن براي دهانه اول.","عدد",45244000]
["130406"," بارگيري تيرهاي بتني پيـش ساخته به طول بيـش از30 متر تا 35 متر، از دپوي محل ساخـت و حمل به محل نصـب و نصـب آن براي دهانه اول.","عدد",61965000]
["130407"," بارگيري تيرهاي بتني پيـش ساخته به طول بيـش از 35 متر تا40 متر، از دپوي محل ساخـت و حمل به محل نصـب و نصـب آن براي دهانه اول.","عدد",87382000]
["130501"," اضافه بها به رديـف 130405، براي هر دهانه اضافي مازاد بردهانه اول. اين اضافه بها براي دهانه دوم يک بار، براي دهانه سوم دوبار وبه همين ترتيـب براي دهانه هاي بعدي.","عدد",5281000]
["130502"," اضافه بهابه رديـف 130406، براي هر دهانه اضافي مازاد بردهانه اول. اين اضافه بها براي دهانه دوم يک بار، براي دهانه سوم دو بار و به همين ترتيـب براي دهانه هاي بعدي.","عدد",7973000]
["130503"," اضافه بها به رديـف 130407، براي هردهانه اضافي مازاد بردهانه اول. اين اضافه بها براي دهانه دوم يک بار، براي دهانه سوم دو بار و به همين ترتيـب براي دهانه هاي بعدي.","عدد",11179000]
["130601"," بهاي حمل تيرها به طول 10 متر و کمتر و پل هاي جعبه اي بتني پيش ساخته، در صورتي که فاصله حمل از محل ساخـت تا محل دپو و از محل دپو تا محل نصـب بيـش از يک کيلو مترباشد، براي هر کيلومتر اضافه بر يک کيلومتر اول بر حسب حجم فيزيکي تير يا پل جعبه اي. کسر کيلومتر به تناسـب محاسبه مي شود.","مترمكعب",14900]
["130602"," اضافه بها به رديـف 130601، به ازاي هر 5 متر که به طول تيراضافه شود.","مترمكعب",7770]
["130701"," تهيه و نصـب قطعات بتني پيـش ساخته به ضخامـت 5 سانتيمتر( PREDALL ) به منظور قالـب بندي دالهاي واقع بين تيرها، در پلهاي بزرگ.","متر مربع",380000]
["130801"," تهيه و نصـب جدولهاي بتني پيـش ساخته با سطح مقطع تا 0.05 مترمربع به عيار250 کيلوگرم سيمان در متر مکعـب با ملات ماسه سيمان 1:5.","مترمكعب",4101000]
["130802"," تهيه و نصـب جدولهاي بتني پيـش ساخته با سطح مقطع بيـش از 0.05 تا 0.1 مترمربع بابتن به عيار250 کيلو گرم سيمان در مترمکعـب و ملات ماسه سيمان 1:5.","مترمكعب",3573000]
["130803"," تهيه و نصـب جدولهاي بتني پيـش ساخته با سطح مقطع بيـش از 0.1 متر مربع، با بتن به عيار250 کيلوگرم سيمان در متر مکعـب و ملات ماسه سيمان 1:5.","مترمكعب",2700000]
["130804"," تهيه و نصـب قطعات بتني پيـش ساخته با عيار300 کيلو سيمان در متر مکعـب، براي دال روي کانالها، درپوش چاهها و قناتها و موارد مشابه.","مترمكعب",4486000]
["130805"," تهيه و نصـب قطعات بتني پيـش ساخته با عيار350 کيلو سيمان در متر مکعب و حجم تا 0.21 متر مکعب براي مسلح کردن خاک.","مترمكعب",6317000]
["130806"," تهيه و نصـب قطعات بتني پيـش ساخته باعيار350 کيلو سيمان در متر مکعب و حجم بيش از 0.21 تا 0.60 متر مکعب براي مسلح کردن خاک.","مترمكعب",5537000]
["130807","تهیه و نصب بتن های پیش ساخته پرسی (جدول)، با سطح مقطع  تا 0.03 مترمربع و با ملات ماسه سیمان 1:5 و با حداقل مقاومت استوانه ای استاندارد 280 کیلوگرم بر سانتیمتر مربع،در صورتی که بعد هم راستای قطعات بتنی با مسیر جدول گذاری 0.5 متر باشد.","مترمکعب",4698000]
["130808","تهیه و نصب بتن های پیش ساخته پرسی (جدول) با سطح مقطع بیش از ٠٫٠٣ تا ٠٫٠۶ مترمربع با ملات ماسه سیمان 1:5 و با حداقل مقاومت استوانه ای استاندارد ٢٨٠ کیلوگرم برسانتی متر مربع، در صورتی که بعد هم راستای قطعات بتنی با مسیر جدول گذاری ٠٫۵ متر باشد.","مترمكعب",4181000]
["130809","تهیه و نصب بتن‌های پیش ساخته پرسی (جدول) با سطح مقطع بیش از 0.06 تا 0.09 مترمربع با ملات ماسه سیمان 1:5 و با حداقل مقاومت استوانه‌ای استاندارد 280 کیلوگرم برسانتی‌متر مربع، در صورتی که بعد هم راستای قطعات بتنی با مسیر جدول‌گذاری 0.5 متر باشد.","مترمکعب",3805000]
["130810","تهیه و نصب بتن‌های پیش ساخته پرسی (جدول) با سطح مقطع بیش از 0.09 تا 0.12 مترمربع با ملات ماسه سیمان 1:5 و با حداقل مقاومت استوانه‌ای استاندارد 280 کیلوگرم برسانتی‌متر مربع، در صورتی که بعد هم راستای قطعات بتنی با مسیر جدول­‌گذاری 0.5 متر باشد.","مترمکعب",3664000]
["130811","تهیه و نصب بتن‌های پیش ساخته پرسی (جدول) با سطح مقطع بیش از 0.12 مترمربع با ملات ماسه سیمان 1:5 و با حداقل مقاومت استوانه‌ای استاندارد 280 کیلوگرم برسانتی‌متر مربع، در صورتی که بعد هم راستای قطعات بتنی با مسیر جدول‌گذاری 0.5 متر باشد.","مترمکعب",3523000]
["130812","اضافه بها به ردیف های تهیه و نصب جدول های بتنی پیش ساخته پرسی ماشینی هرگاه بعد هم راستای قطعات بتنی با مسیر جدول گذاری کمتر از نیم متر باشد، به ازای هر ١٠سانتی متر (کسر ١٠ سانتی متر به تناسب محاسبه می شود).","مترمكعب",104500]
["130813","کسر بها به ردیف های تهیه و نصب جدول های بتنی پیش ساخته پرسی ماشینی هرگاه بعد هم راستای قطعات بتنی با مسیر جدول گذاری بیشتر از نیم متر باشد، به ازای هر ١٠ سانتی متر (کسر ١٠ سانتی متر به تناسب محاسبه می شود).","مترمكعب",-47100]
["130901"," تهيه و جاگذاري بلوکهاي حفاظ (گارد بلوک)، با بتن به عيار250 کيلو گرم سيمان در متر مکعـب بتن.","مترمكعب",3041000]
["131001"," تهيه و نصـب بلوکهاي بتني جدا کننده ترافيک (نيوجرسي بارير)، با بتن به عيار350 کيلو گرم سيمان در متر مکعـب بتن.","مترمكعب",3561000]
["131101"," تهيه و نصب لوله سيماني به قطر داخلي 10 سانتيمتر، با بتن به عيار 300 کيلو سيمان در متر مکعـب بتن.","متر طول",189000]
["131102"," تهيه و نصـب لوله سيماني به قطر داخلي 15 سانتيمتر، با بتن به عيار 300 کيلو سيمان درمتر مکعـب بتن.","متر طول",202500]
["131103"," تهيه و نصـب لوله سيماني به قطر داخلي 20 سانتيمتر، با بتن به عيار 300 کيلو سيمان در مترمکعـب بتن.","متر طول",264500]
["131104"," تهيه و نصـب لوله سيماني به قطر داخلي 25 سانتيمتر، با بتن به عيار 300 کيلو سيمان در متر مکعـب بتن.","متر طول",309500]
["131105"," تهيه و نصـب لوله بتني به قطر داخلي 30 سانتيمتر، با بتن به عيار 300 کيلو سيمان در متر مکعـب بتن.","متر طول",460000]
["131106"," تهيه و نصـب لوله بتني به قطر داخلي 40 سانتيمتر، با بتن به عيار 300 کيلو سيمان در متر مکعـب بتن.","متر طول",586000]
["131107"," تهيه و نصـب لوله بتني به قطر داخلي 50 سانتيمتر، با بتن به عيار300 کيلو سيمان در متر مکعـب بتن.","متر طول",780000]
["131108"," تهيه و نصـب لوله بتني مسلح به قطر داخلي 60 سانتيمتر و ضخامـت جدار 8 سانتيمتر، بابتن به عيار350 کيلو سيمان در متر مکعـب بتن.","متر طول",851500]
["131109"," تهيه و نصـب لوله بتني مسلح به قطر داخلي 80 سانتيمتر و ضخامـت جدار10 سانتيمتر، با بتن به عيار350 کيلو سيمان در مترمکعـب بتن.","متر طول",998500]
["131110"," تهيه و نصـب لوله بتني مسلح به قطر داخلي يک متر و ضخامـت جدار 12 سانتيمتر، با بتن به عيار350 کيلو سيمان در متر مکعـب بتن.","متر طول",1383000]
["131201"," تهيه و نصـب کولهاي بتني مسلح پيـش ساخته متشکل ازسه قطعه در هر عمق، به منظور تحکيم قناتها با بتن به عيار 350 کيلو سيمان در مترمکعـب بتن، به انضمام پرکردن پشـت کول.","متر طول",2294000]
["131301"," تهيه و نصـب پل هاي بتني پيـش ساخته به شکل جعبه اي یا U شکل با عيار350 کيلو سيمان در مترمکعـب و به دهانه  تا 3 متر و به  طول يک متر.","مترمكعب",1915000]
["131401"," تهيه و نصب قطعات پيش ساخته بتني (سگمنت) براي نصب در تونل هاي حفاري شده با دستگاه TBM.","مترمكعب",6805000]
["131501"," حمل مصالح (طبق مقدمه فصل) در راه‌هاي آسفالتي، بيش از يک کيلو متر تا 10 کيلومتر.","مترمكعب -  كیلومتر‏",3750]
["131502"," حمل مصالح (طبق مقدمه فصل) در راه‌هاي آسفالتي، بيش از  10 تا 30 کيلومتر.","مترمكعب -  كیلومتر‏",3170]
["131503","حمل مصالح (طبق مقدمه فصل) در راه های آسفالتی، بیش از ٣٠ کیلومتر.","مترمكعب -  كیلومتر‏",2890]
["131601","تهیه تمامی مصالح و ساخت تراورس بتنی پیش تنیده B70 تیپ وسلو، بارگیری، حمل تا یک کیلومتر، تخلیه و دپو در کارگاه مونتاژ خط.","قطعه",1350000]
["131602","تهیه تمامی مصالح و ساخت تراورس بتنی دیبلوک پیش تنیده B70 تیپ وسلو، برای استفاده در خطوط اسلب تراک، بارگیری، حمل تا یک کیلومتر، تخلیه و دپو در کارگاه مونتاژ خط.","قطعه",2000000]
["140101","تهيه مصالح زير اساس، بارگيري و حمل تا فاصله يک کيلومتري معدن و باراندازي در محل مصرف، وقتي که دانه بندي صفر تا50 ميليمتر باشد.","مترمكعب",127000]
["140102"," تهيه مصالح زير اساس، بارگيري و حمل تا فاصله يک کيلومتري معدن و باراندازي در محل مصرف، وقتي که دانه بندي صفر تا 38 ميليمتر باشد.","مترمكعب",130000]
["140103"," تهيه مصالح زيراساس، بارگيري و حمل تا فاصله يک کيلومتري معدن و باراندازي در محل مصرف، وقتي که دانه بندي صفر تا 25 ميليمتر باشد.","مترمكعب",140000]
["140401"," تهيه مصالح اساس ازمصالح رودخانه اي، بارگيري و حمل تا فاصله يک کيلومتري معدن و باراندازي در محل مصرف، وقتي که دانه بندي صفر تا 50 ميليمتر باشد و حداقل 75 درصد مصالح مانده روي الک نمره 4 در دو جبهه شکسته شود.","مترمكعب",214000]
["140402"," تهيه مصالح اساس از مصالح رودخانه اي، بارگيري و حمل تا فاصله يک کيلومتري معدن و باراندازي در محل مصرف، وقتي که دانه بندي صفر تا 38 ميليمتر باشد و حداقل 75 درصد مصالح مانده روي الک نمره 4 در دو جبهه شکسته شود.","مترمكعب",224000]
["140403"," تهيه مصالح اساس از مصالح رودخانه اي، بارگيري و حمل تا فاصله يک کيلومتري معدن و باراندازي در محل مصرف، وقتي که دانه بندي صفر تا 25 ميليمتر باشد و حداقل 75 درصد مصالح مانده روي الک نمره 4 در دو جبهه شکسته شود.","مترمكعب",226500]
["140601"," تهيه مصالح اساس ازسنـگ کوهي بارگيري و حمل تا فاصله يک کيلومتري معدن و باراندازي در محل مصرف، وقتي که دانه بندي صفر تا 50 ميليمتر باشد، و100 درصد مصالح مانده روي الک نمره 4 در دو جبهه شکسته شود.","مترمكعب",372500]
["140602"," تهيه مصالح اساس ازسنـگ کوهي بارگيري و حمل تا فاصله يک کيلومتري معدن و باراندازي در محل مصرف، وقتي که دانه بندي صفر تا 38 ميليمتر باشد، و 100 درصد مصالح مانده روي الک نمره 4 در دو جبهه شکسته شود.","مترمكعب",388000]
["140603"," تهيه مصالح اساس از سنـگ کوهي بارگيري و حمل تا فاصله يک کيلو متري معدن و باراندازي در محل مصرف، وقتي که دانه بندي صفر تا 25 ميليمتر باشد، و100 درصد مصالح مانده روي الک نمره 4 در دو جبهه شکسته شود.","مترمكعب",404000]
["140701"," پخـش، آب پاشي، تسطيح و کوبيدن قشر زير اساس به ضخامـت تا 15 سانتيمتر با حداقل 100 درصد تراکم، به روش آشتو اصلاحي.","مترمكعب",42800]
["140702"," پخـش، آب پاشي، تسطيح و کوبيدن قشر زيراساس به ضخامـت بيشتر از 15 سانتيمتر با حداقل 100 درصد تراکم، به روش آشتو اصلاحي.","مترمكعب",37400]
["140703","رطوبت دهی، پخش با فینیشر و کوبیدن قشر اساس به ضخامت تا 10 سانتی متر با حداقل 100 درصد تراکم، به روش آشتو اصلاحی.","مترمكعب",58900]
["140704","رطوبت دهی، پخش با فینیشر و کوبیدن قشر اساس به ضخامت بیش از 10 تا 15 سانتی متر با حداقل 100 درصد تراکم، به روش آشتو اصلاحی.","مترمكعب",52900]
["140705","کسربها به رديف 140703 و 140704 چنانچه از گريدر به جاي فينيشر استفاده شود.","مترمكعب",-5290]
["140801"," اضافه بها به رديفهاي 140701 تا 140704، بابـت سختي اجراي زير اساس و اساس در شانه سازيهاي به عرض تا 2 متر.","مترمكعب",21800]
["140901"," تنظيم وآماده سازي سطح نهايي اساس سنگي به منظور اجراي آسفالـت سطحي.","متر مربع",975]
["141001"," تهيه مصالح رودخانه اي (تونان)، براي روسازي راههاي انحرافي، بارگيري و حمل تا فاصله يک کيلومتر، و باراندازي و پخـش ان روي راه.","مترمكعب",68500]
["141002"," تهيه مصالح رودخانه اي (تونان)، براي تحکيم بستر راه يا اجراي قشر تقويتي در زيرسازي راه، بارگيري و حمل تا فاصله يک کيلو متر، و باراندازي.","مترمكعب",48800]
["141101","تثبیت و تقویت زیرسازی راه و سطوح پروازی فرودگاه ها، به وسیله اختلاط خاک یا مصالح بستر با آهک شکفته به ضخامت ١۵ سانتی متر، با عیار ۵٠ کیلوگرم آهک در متر مکعب مصالح تثبیت شده، شامل کندن زمین، تهیه و حمل آهک، سرند کردن، پخش و اختلاط، آب پاشی و کوبیدن با تراکم ٩٠ درصد.","مترمكعب",132000]
["141102","تثبیت و تقویت زیرسازی راه و سطوح پروازی فرودگاه ها، به وسیله اختلاط خاک یا مصالح بستر با آهک شکفته به ضخامت ١۵ سانتی متر، با عیار ۵٠ کیلوگرم آهک در مترمکعب مصالح تثبیت شده، شامل کندن زمین، تهیه و حمل آهک، سرندکردن، پخش و اختلاط، آب پاشی و کوبیدن با تراکم ٩۵ درصد.","مترمكعب",136000]
["141103","تثبیت و تقویت زیرسازی و زیراساس راه و سطوح پروازی فرودگاه ها، به وسیله اختلاط خاک یا مصالح بستر با آهک شکفته به ضخامت ١۵ سانتی متر، با عیار ۵٠کیلوگرم آهک در مترمکعب مصالح تثبیت شده، شامل کندن زمین، تهیه و حمل آهک، سرندکردن، پخش و اختلاط، آب پاشی و کوبیدن با تراکم ١٠٠ درصد","مترمكعب",144500]
["141104"," اضافه بها به رديفهاي 141101 تا 141103، به ازاي هر50 کيلوگرم آهک اضافي. کسر 50 کيلوگرم به تناسب محاسبه مي شود.","مترمكعب",91300]
["141201","تثبیت زیرسازی و روسازی راه و سطوح پروازی فرودگاه ها به وسیله اختلاط خاک یا مصالح بستر با سیمان پرتلند معمولی به ضخامت ١۵ سانتی متر و با عیار ۵٠ کیلوگرم سیمان در متر مکعب مصالح تثبیت شده، شامل کندن زمین، تهیه و حمل سیمان، پخش و اختلاط، آب پاشی و کوبیدن با تراکم ١٠٠ درصد.","مترمكعب",177000]
["141202"," اضافه بها به رديف 141201، به ازاي هر50 کيلوگرم سيمان اضافي. کسر 50 کيلوگرم به تناسب محاسبه مي شود.","مترمكعب",93000]
["141301"," تثبيت  زيرسازي و روسازي راه و سطوح پروازي فرودگاه ها به وسيله اختلاط مصالح بستر با قير محلول به ضخامت 15 سانتي متر و با عيار 50 کيلوگرم قير در متر مکعب مصالح تثبيت شده، شامل کندن زمين، تهيه و حمل قير، پخش و اختلاط، هوا دهي و کوبيدن.","مترمكعب",2036000]
["141302"," اضافه بها به رديف 141301، به ازاي هر50 کيلوگرم قير محلول اضافي. کسر 50 کيلوگرم به تناسب محاسبه مي شود.","مترمكعب",1869000]
["141401"," اضافه بها به رديف 141101 تا 141103 و 141201 و 141301، چنانچه ضخامت لایه تقویت شده  کمتر از 15 سانتيمتر باشد.","مترمكعب",3540]
["141402"," کسر بها به رديف 141101 تا 141103 و 141201 و 141301، چنانچه ضخامت لایه تقويت شده بيشتر از 15 سانتيمتر باشد.","مترمكعب",-3540]
["141501"," اضافه بها به رديفهاي 141101 تا 141103، 141201 و 141301 در صورتي که از خاک قرضه استفاده شود.","مترمكعب",49200]
["141601"," تهيه بالاسـت از سنـگ کوهي، با دانه بندي 20 تا60 ميليمتر، بارگيري و حمل تا فاصله يک کيلومتري معدن و باراندازي و دپو در محلهاي تعيين شده به انضمام رگلاژ و پروفيله کردن به شکل هندسي.","مترمكعب",358000]
["141602"," تهيه بالاسـت از سنـگ کوهي، با دانه بندي 20 تا60 ميليمتر، بارگيري و حمل تا فاصله يک کيلومتري معدن، باراندازي روي خط، پخـش و پروفيله کردن آن.","مترمكعب",331000]
["141701"," تهيه بالاسـت از سنـگ قلوه رودخانه اي، با دانه بندي 20 تا60 ميليمتر، بارگيري و حمل تا فاصله يک کيلومتري معدن، باراندازي و دپو در محلهاي تعيين شده به انضمام رگلاژ و پروفيله کردن به شکل هندسي.","مترمكعب",263000]
["141702"," تهيه بالاسـت از سنـگ قلوه رودخانه اي، بادانه بندي 20 تا 60 ميليمتر، بارگيري و حمل تا فاصله يک کيلومتري معدن، باراندازي روي خط، پخـش و پروفيله کردن آن.","مترمكعب",244500]
["141901"," حمل مصالح (طبق مقدمه فصل) در راههاي آسفالتي، بيش از يک کيلومتر تا 10 کيلومتر.","مترمكعب -  كیلومتر‏",3750]
["141902"," حمل مصالح (طبق مقدمه فصل) در راه هاي آسفالتي، بيش از  10 کيلومتر تا 25 کيلومتر.","مترمكعب -  كیلومتر‏",3170]
["141903","حمل مصالح (طبق مقدمه فصل) در راه‌ هاي آسفالتي، بيش از 25 کيلومتر تا 50 کیلومتر.","مترمكعب -  كیلومتر‏",2890]
["141904","حمل بالاست و یا آهک در راه های آسفالتی، بیش از ۵٠کیلومتر.","مترمكعب -  كیلومتر‏",1880]
["150101","  تهيه مصالح و اجراي اندود نفوذي (پريمکت) با قير محلول.","كیلوگرم",42800]
["150102","  تهيه مصالح و اجراي اندود با قیرامولسیون کاتیونیک CSS با حداقل قیر باقیمانده 57 درصد در آزمایش تقطیر.","كیلوگرم",39000]
["150103","تهيه مصالح و اجراي اندود با قير امولسيون کاتيونيک CRS با حداقل قير باقيمانده 60 درصد در آزمايش تقطير.","كیلوگرم",34000]
["150104","تهيه مصالح و اجراي اندود با قير امولسيون کاتيونيک CMS با حداقل قير باقيمانده 65 درصد در آزمايش تقطير.","كیلوگرم",42300]
["150105","تهيه مصالح و اجراي اندود با قير امولسيون آنيونيک SS با حداقل قير باقيمانده 57 درصد در آزمايش تقطير.","كیلوگرم",34500]
["150106","تهيه مصالح و اجراي اندود با قير امولسيون آنيونيک RS با حداقل قير باقيمانده 55 درصد در آزمايش تقطير.","كیلوگرم",27300]
["150107","تهيه مصالح و اجراي اندود با قير امولسيون آنيونيک MS با حداقل قير باقيمانده 55 درصد در آزمايش تقطير.","كیلوگرم",32400]
["150201","  تهيه مصالح و اجراي اندود قير، براي انجام آسفالت سطحي با قير محلول.","كیلوگرم",42800]
["150401","تهیه مصالح (به جز قیر) و اجرای آسفالت سطحی با سنگ شکسته از مصالح رودخانه ای، در دو لایه، هرگاه دانه بندی مصالح از نوع ٢ و ۴ مشخصات باشد.","تن",673000]
["150402"," تهیه مصالح (به جز قیر) و اجرای آسفالت سطحی با سنگ شکسته از مصالح رودخانه ای، در دو لایه، هرگاه دانه بندی مصالح از نوع ١ و ٣ مشخصات باشد.","تن",770500]
["150403","تهیه مصالح سنگی و اجرای آسفالت سطحی با سنـگ شکسته از مصالح رودخانه ای، در یک لایه، هرگاه دانه بندی مصالح از نوع 4 مشخصات باشد.","تن",650000]
["150404","تهیه مصالح سنگی و اجرای آسفالت سطحی با سنگ شکسته از مصالح رودخانه ای، در یک لایه، هرگاه دانه بندی مصالح از نوع 5 مشخصات باشد.","تن",698000]
["150501","  تهيه و اجراي آسفالت سرد مخلوط در محل (ردميکـس) با سنگ شکسته از مصالح رودخانه اي، هرگاه مصالح با دانه بندي پيوسته صفر تا 19 ميليمتر باشد، به ازاي هر سانتيمتر ضخامت آسفالت.","متر مربع",39400]
["150502","  تهيه و اجراي آسفالـت سرد مخلوط در محل (ردميکـس) با سنگ شکسته از مصالح رودخانه اي، هرگاه مصالح بادانه بندي پيوسته صفر تا 25 ميليمتر باشد، به ازاي هر سانتيمتر ضخامت آسفالت.","متر مربع",39000]
["150503","  اضافه بها به رديف هاي 150501 و 150502 هرگاه آسفالت سرد با فينيشر اجرا شود.","مترمربع"]
["150601","  تهيه و اجراي بتن آسفالتي با سنگ شکسته از مصالح رودخانه اي، براي قشر اساس قيري، هرگاه دانه بندي مصالح صفر تا 37.5 ميليمتر باشد، به ازاي هر سانتيمتر ضخامت آسفالت.","متر مربع",36900]
["150602","  تهيه و اجراي بتن آسفالتي با سنگ شکسته از مصالح رودخانه اي، براي قشر اساس قيري، هرگاه دانه بندي مصالح صفر تا 25 ميليمتر باشد، به ازاي هر سانتيمتر ضخامت آسفالت.","متر مربع",37300]
["150603","  تهيه و اجراي بتن آسفالتي با سنگ شکسته از مصالح رودخانه اي و قیر مناسب از رده عملکردی (PG)، برای قشر آستر (بیندر)،  هرگاه دانه بندي مصالح صفر تا 25 ميلي متر باشد، به ازاي هر سانتي متر ضخامت آسفالت.","متر مربع",46700]
["150604","  تهيه و اجراي بتن آسفالتي با سنگ شکسته از مصالح رودخانه اي و قیر مناسب از رده عملکردی (PG)، برای قشر آستر (بیندر)، هرگاه دانه بندي مصالح صفر تا 19 ميلي متر باشد، به ازاي هر سانتي متر ضخامت آسفالت.","متر مربع",47600]
["150605","  تهيه و اجراي بتن آسفالتي با سنگ شکسته از مصالح رودخانه اي و قیر مناسب از رده عملکردی (PG)، برای قشر رویه (توپکا)، هرگاه دانه بندي مصالح صفر تا 19 ميلي متر باشد، به ازاي هر سانتي متر ضخامت آسفالت.","متر مربع",51100]
["150606","  تهيه و اجراي بتن آسفالتي با سنگ شکسته از مصالح رودخانه اي و قیر مناسب از رده عملکردی (PG)، برای قشر رویه (توپکا)، هرگاه دانه بندي مصالح صفر تا 12.5 ميلي متر باشد، به ازاي هر سانتي متر ضخامت آسفالت.","متر مربع",51300]
["150608","تهیه تمام مصالح و قیر مناسب از رده عملکردی (PG) و اجرای آسفالت ماستیک سنگدانه ای SMA به ازای هر یک سانتی متر ضخامت.","مترمربع",69200]
["150609","  اضافه بها به رديف‌هاي 150603 الي 150606 و 150608 چنانچه در توليد قير خالص استفاده شده از مواد افزودني استفاده شده باشد، به ازاي هر سانتي‌متر ضخامت آسفالت.","مترمربع"]
["150611","اضافه‌بها به ردیف‌های ۱۵۰۶۰۳ تا ۱۵۰۶۰۶ چنانچه در تولید بتن آسفالتی از الیاف مرکب آرامید-پلی‌الیفین استفاده شده باشد، به ازای هر سانتی‌متر ضخامت آسفالت","مترمربع"]
["150612","تهیه و اجرای ماسه آسفالتی از مصالح رودخانه‌ای به ازای هر سانتی‌متر ضخامت آسفالت.","مترمربع",52300]
["150613","تهیه، حمل و افزودن پودر لاستیک (تولید داخل) با سایز ٠ تا ۴٠ میکرون و افزودنی شیمیایی مربوطه به قیر مصرفی.","كیلوگرم",25000]
["150701","  اضافه بها به رديف هاي 150401 تا 150404، هرگاه از مصالح سنگ کوهي به جاي مصالح رودخانه اي استفاده شود.","تن",155500]
["150702","اضافه بها به ردیف های 150501، 150502 و 150601 تا 150606 ، 150608و 150612، هرگاه از مصالح سنگ کوهی به جای مصالح رودخانه ای استفاده شود.","متر مربع",3440]
["150801","  اضافه بها به رديف هاي 150501، 150502 و 150601 تا 150606، 150608 و 150612 بابت اضافه هر 0.1 کيلوگرم قير مصرفي در هر مترمربع آسفالت، به ازاي هر سانتيمتر ضخامت.(كسر 0.1 كيلوگرم به تناسب محاسبه مي شود)","متر مربع",3310]
["150802","  کسربها به رديف هاي 150501، 150502 و 150601 تا 150606، 150608 و 150612 بابت کسر هر 0.1 کيلوگرم قير مصرفي در هر مترمربع آسفالت، به ازاي هر سانتيمتر ضخامت.(کسر 0.1 کيلوگرم به تناسب محاسبه مي شود.)","متر مربع",-3310]
["150803","اضافه بها به رديف‌هاي 150601 تا 150606و 150612 بابت اجراي آسفالت در لکه‌گيري‌ها چنانچه مساحت لکه 20 مترمربع و کمتر باشد.","مترمربع",5580]
["150804","کسربها به ردیف های شماره ١۵٠۶٠١ تا ١۵٠۶٠۶\n، ١۵٠۶٠٨ و ١۵٠۶١٢ چنانچه مصالح ریزدانه آسفالت مطابق بند ٢۵ مقدمه فصل تفکیک نشده و یا صورتجلسه مربوطه تنظیم نشود.","مترمربع",-4670]
["150805","اضافه بها به ردیف های 150601 تا 150606 و 150612 بابت اجرای آسفالت در لکه گیریها چنانچه مساحت لکه بیشتر از 20 مترمربع و کمتر از 50 مترمربع باشد.","مترمربع",2790]
["150806","اضافه بها به ردیف های 150601 تا 150606 و 150612 بابت اجرای آسفالت در لکه گیریها چنانچه مساحت لکه بیشتر از 50 مترمربع باشد.","مترمربع",560]
["150807","کسربها به ردیف های بتن آسفالتی بیندر بابت استفاده از مصالح حاصل از تراش آسفالت تا حجم 20 درصد مصالح آسفالت (Rap).","مترمربع",-4120]
["150901","  تهيه فيلر از سيمان و اضافه نمودن آن به مصالح آسفالت در کارخانه.","كیلوگرم",1590]
["150902","  تهيه فيلر از پودر آهک شکفته و اضافه نمودن آن به مصالح آسفالت در کارخانه.","كیلوگرم",1420]
["151001","بازیافت آسفالت تراشیده شده با دستگاه بازیافت سرد کارخانه ای، شامل جمع آوری آسفالت کنده شده و خرد کردن کلوخه ها و مخلوط کردن آن با مواد اضافی مانند قیر امولسیون، سیمان، آهک و سنگ دانه جدید به صورت شکسته بدون محاسبه مواد اضافی و نیز پخش با فینیشر و کوبیدن آن به ازای هر سانتیمتر ضخامت نهایی بازیافت.","مترمربع",3390]
["151002","بازیافت آسفالت با دستگاه بازیافت سرد درجا، شامل تراش، خرد کردن کلوخه ها و مخلوط کردن آن با مواد اضافی مانند کف قیر، سیمان و آهک بدون محاسبه مواد اضافی و نیز پخش و کوبیدن آن به ازی هر سانتیمتر ضخامت نهایی بازیافت.","مترمربع",3940]
["151004","اضافه بها به ردیف های 151001 و 151002 به ازای هر کیلوگرم سیمان که به مخلوط آسفالت بازیافت اضافه شود.","کیلوگرم",1800]
["151005","اضافه بها به ردیف های 151001 و 151002 به ازای هر کیلوگرم آهک شکفته که به مخلوط آسفالت بازیافت اضافه شود.","کیلوگرم",1800]
["151007","  اضافه بها به رديف 151001 به ازاي هر کيلوگرم سنگ شکسته که به مخلوط آسفالت بازيافت اضافه شود.","كیلوگرم",170]
["151008","  اضافه بها به رديف 151001 به ازاي هر کيلوگرم قير امولسيون که به مخلوط آسفالت بازيافت اضافه شود.","كیلوگرم",34200]
["151009","  اضافه بها به رديف 151002 به ازاي هر کيلوگرم قير که به صورت کف قير درآمده و به مخلوط آسفالت بازيافت اضافه شود.","كیلوگرم",35200]
["151101","  بازيافت گرم در جاي آسفالت به ازاي هر يک سانتي متر ضخامت.","مترمربع",31200]
["151201","  حمل مصالح (طبق مقدمه فصل) در راه‌هاي آسفالتي، بيش از يک کيلو متر تا 10 کيلومتر.","مترمكعب -  كیلومتر‏",3750]
["151202","  حمل مصالح (طبق مقدمه فصل) در راه‌هاي آسفالتي، بيش از  10 تا 30 کيلومتر.","مترمكعب -  كیلومتر‏",3170]
["151203","حمل مصالح (طبق مقدمه فصل) در راه های آسفالتی، بیش از ٣٠ کیلومتر.","مترمكعب -  كیلومتر‏",2890]
["160101"," عايق کاري رطوبتي با يک قشر اندود قيري‎.‎","متر مربع",79300]
["160102"," عايق کاري رطوبتي با دو قشر اندود قيري و يک لايه گوني.","متر مربع",283000]
["160103"," عايق کاري رطوبتي با سه قشر اندود قيري و دولايه گوني.","متر مربع",479000]
["170101"," تهيه وسايل و اجراي عمليات تهويه تونلها براي دوره ساختمان‎.‎","مترمكعب",50900]
["170201"," تهيه و نصـب وسايل لازم و تامين روشنايي تونلها براي دوره ساختمان.","متر طول",1529000]
["170202"," کسر بها به رديف 170201 در صورتي‌که مقطع نهايي تونل کمتر از 25 مترمربع باشد.","درصد",-30]
["170301"," اضافه بها به رديف هاي تهويه و روشنايي در تونل هر گاه فاصله از نزديکترين دهانه دسترسي بيش از 250 متر باشد، به ازاي هر 250 متر. براي 250 متر دوم يکبار، 250 متر سوم دوبار، و به همين ترتيب براي طول هاي بيشتر.","درصد",7]
["180101"," تهيه مصالح و اجراي ساختمان راهدارخانه‎.‎","دستگاه"]
["180102"," تهيه مصالح و اجراي ساختمان بين راه.","دستگاه"]
["180103"," تهيه مصالح و اجراي ساختمان پسـت نگهباني.","دستگاه"]
["180202"," تهيه مصالح و رنـگ آميزي با رنـگ شبرنـگ.","متر مربع"]
["180301","تهیه مصالح و خط کشی منقطع و متناوب 3 متر پر و 9 متر خالی به عرض 15 سانتیمتر، با رنگ گرم ترافیکی اسپری با ضخامت 2000 میکرون همراه باگلاسبید بادوام 18 ماهه.","مترطول",55700]
["180306","تهیه مصالح و خط کشی منقطع و متناوب 3 متر پر و 6 متر خالی به عرض 15 سانتیمتر، با رنگ گرم ترافیکی اسپری با ضخامت 2000 میکرون همراه باگلاسبید بادوام 18 ماهه.","مترمربع",66200]
["180307","تهیه مصالح و خط کشی متصل و مداوم به عرض ۲۰ سانتی متر، با رنگ گرم ترافیکی اسپری با ضخامت ۲۰۰۰ میکرون همراه با گلاسبید با دوام ۱۸ ماهه.","مترمربع",192000]
["180401","تهیه مصالح و خط کشی منقطع و متناوب 3 متر پر و 9 متر خالی به عرض 15 سانتیمتر، با رنگ گرم ترافیکی به روش اسکرید با ضخامت 3500 میکرون همراه باگلاسبید بادوام 36 ماهه.","مترطول",85200]
["180402","تهیه مصالح و خط کشی متصل و مداوم به عرض 15 سانتی متر، با رنگ گرم ترافیکی به روش اسکرید با ضخامت 3500 میکرون همراه باگلاسبید بادوام 36 ماهه.","مترطول",270000]
["180405","تهیه مصالح و خط کشی منقطع و متناوب ۳ متر پر و ۶ متر خالی به عرض ۱۵ سانتی متر، با رنگ گرم ترافیکی به روش اسکرید با ضخامت ۳۵۰۰ میکرون همراه با گلاسبید با دوام ۳۶ ماهه.","مترطول",105700]
["180406","تهیه مصالح و خط کشی متصل و مداوم به عرض ۲۰ سانتی متر، با رنگ گرم ترافیکی به روش اسکرید با ضخامت ۳۵۰۰ میکرون همراه با گلاسبید با دوام ۳۶ ماهه.","مترطول",325000]
["180601","تهیه مصالح و خط کشی برجسته (لقمه ای) به روش اکستروژن با عرض 15 سانتیمتر با رنگ گرم ترافیکی همراه با گلاسبید با دوام 36 ماهه و ضخامت 5000 میکرون.","مترطول",212000]
["180605","تهیه مصالح و خط کشی برجسته (لقمه ای) به روش اکستروژن با عرض ۲۰ سانتی متر با رنگ گرم ترافیکی همراه با گلاسبید با دوام ۳۶ ماهه و ضخامت ۵۰۰۰ میکرون.","مترطول",263000]
["180701","تهیه مصالح و خط کشی منقطع و متناوب 3 متر پر و 6 متر خالی به عرض 12 سانتیمتر، با رنگ سرد ترافیکی آکریلیک همراه باگلاسبید با ضخامت خشک 400 میکرون.","مترطول",18200]
["180702","تهیه مصالح و خط کشی متصل و مداوم به عرض 12 سانتیمتر، با رنگ سرد ترافیکی آکریلیک همراه با گلاسبید با ضخامت خشک 400 میکرون.","مترطول",32900]
["180707","تهیه مصالح و خط کشی منقطع و متناوب 3 متر پر و 6 متر خالی به عرض 15 سانتیمتر، با رنگ سرد ترافیکی آکریلیک همراه با گلاسبید با ضخامت خشک 400 میکرون.","مترطول",20700]
["180708","تهیه مصالح و خط کشی منقطع و متناوب 3 متر پر و 9 متر خالی به عرض 15 سانتیمتر، با رنگ سرد ترافیکی آکریلیک همراه با گلاسبید با ضخامت خشک 400 میکرون.","مترطول",18400]
["180709","تهیه مصالح و خط کشی متصل و مداوم به عرض ۱۵ سانتی متر، با رنگ سرد ترافیکی آکریلیک همراه با گلاسبید با ضخامت خشک ۴۰۰ میکرون.","مترطول",39000]
["180710","تهیه مصالح و خط کشی منقطع و متناوب ۳ متر پر و ۶ متر خالی به عرض ۱۰ سانتی متر، با رنگ سرد ترافیکی آکریلیک همراه با گلاسبید با ضخامت خشک۴۰۰ میکرون.","مترطول",17000]
["180711","تهیه مصالح و خط کشی منقطع و متناوب ۲ متر پر و ۷ متر خالی به عرض ۱۰ سانتی متر، با رنگ سرد ترافیکی آکریلیک همراه با گلاسبید با ضخامت خشک۴۰۰ میکرون.","مترطول",15000]
["180712","تهیه مصالح و خط کشی متصل و مداوم به عرض ۱۰ سانتی متر، بارنگ سرد ترافیکی آکریلیک همراه با گلاسبید با ضخامت خشک ۴۰۰ میکرون.","مترطول",29200]
["180713","تهیه مصالح و خط کشی متصل و مداوم به عرض ۲۰ سانتی متر، بارنگ سرد ترافیکی آکریلیک همراه با گلاسبید با ضخامت خشک ۴۰۰ میکرون.","مترطول",48000]
["180720","تهیه مصالح و ترسیم سطوح از جمله نقوش، فلش و خط نوشته با رنگ سرد ترافیکی آکریلیک همراه با گلاسبید با ضخامت خشک ۴۰۰ میکرون برحسب سطح رنگ شده.","مترمربع",388000]
["180801","تهیه مصالح و اجرای خط کشی و ترسیم نقوش،فلش و خط نوشته با رنگ دوجزئی بر پایه رزین آکریلیک با ضخامت 1500 میکرون و دوام 36 ماهه برحسب سطح رنگ شده.","مترمربع",1256000]
["180840","تهیه و نصب نقوش، فلش، خط نوشته و نظایر آن به شکل پیش ساخته (Premarks).","مترمربع",1012000]
["180850","کسربها به ردیف های خط کشی همراه  با گلاسبید، در صورتی که در خط کشی، از  گلاسبید استفاده نشود.","مترطول"]
["180855","اضافه بها به ردیف های خط کشی و سطوح (به جز Premarks) چنانچه از رنگ فام غیرسفید استفاده شود.","درصد",2]
["180901","پاک کردن خط یا علائم از سطح راه با استفاده از روش مکانیکی(برس های مخصوص).","مترمربع",329500]
["181045","تهیه، برش و نصب نوار با شبرنگ EGP (رده مهندسی).","مترمربع",2135000]
["181046","تهیه، برش و نصب نوار با شبرنگ HIP (پربازتاب).","مترمربع",3455000]
["181051","تهیه صفحه تابلوی اطلاعاتی با ورق گالوانیزه 1.25 میلی متر با شبرنگ EGP (رده مهندسی).","مترمربع",5808000]
["181052","تهیه صفحه تابلوی اطلاعاتی با ورق گالوانیزه 1.25 میلی متر با شبرنگ HIP (پربازتاب).","مترمربع",7063000]
["181053","تهیه صفحه تابلوی اطلاعاتی با ریل گالوانیزه 1.25 میلی متر با شبرنگ EGP (رده مهندسی).","مترمربع",6595000]
["181054","تهیه صفحه تابلوی اطلاعاتی با ریل گالوانیزه 1.25 میلی متر با شبرنگ HIP (پربازتاب).","مترمربع",7850000]
["181056","تهیه صفحه تابلوی اطلاعاتی با ورق گالوانیزه 1.25 میلی متر با شبرنگ DIG (رده الماسه).","مترمربع",7781000]
["181057","تهیه صفحه تابلوی اطلاعاتی با ریل گالوانیزه 1.25 میلی متر با شبرنگ DIG (رده الماسه).","مترمربع",8568000]
["181062","تهیه صفحه تابلوی اطلاعاتی با ورق روغنی 1.25 میلی متر و رنگ الکترواستاتیک با شبرنگ EGP (رده مهندسی).","مترمربع",6108000]
["181063","تهیه صفحه تابلوی اطلاعاتی با ورق روغنی 1.25 میلی متر و رنگ الکترواستاتیک با شبرنگ HIP (پربازتاب).","مترمربع",7363000]
["181064","تهیه صفحه تابلوی اطلاعاتی با ورق روغنی 1.25 میلی متر ورنگ الکترواستاتیک با شبرنگ DIG (رده الماسه).","مترمربع",8081000]
["181065","اضافه بها به ردیف های ۱۸۱۰۵۱ تا ۱۸۱۰۵۴ چنانچه ضخامت ورق گالوانیزه 1.5 میلی متر باشد.","مترمربع",260000]
["181066","اضافه بها به ردیف های ۱۸۱۰۶۲ تا ۱۸۱۰۶۴ چنانچه ضخامت ورق روغنی 1.5 میلی متر باشد.","مترمربع",196000]
["181067","اضافه بها به ردیف های ۱۸۱۰۶۲ تا ۱۸۱۰۶۴ چنانچه ضخامت ورق روغنی 2 میلی متر باشد.","مترمربع",590000]
["181068","تهیه صفحه تابلوی اطلاعاتی با ریل آلومینیوم 3 میلی متر با شبرنگ EGP (رده مهندسی).","مترمربع",8115000]
["181069","تهیه صفحه تابلوی اطلاعاتی با ریل آلومینیوم 3 میلی متر باشبرنگ HIP (پربازتاب).","مترمربع",9375000]
["181070","تهیه صفحه تابلوی اطلاعاتی با ریل آلومینیوم 3 میلی متر با شبرنگ DIG (رده الماسه).","مترمربع",10080000]
["181075","تهیه صفحه تابلوی تیپ ساده با ورق روغنی 1.25 میلی متر و رنگ الکترواستاتیک و شبرنگ رده مهندسی EGP و متعلقات.","مترمربع",5553000]
["181076","تهیه صفحه تابلوی تیپ ساده با ورق گالوانیزه 1.25 میلی متر و شبرنگ رده مهندسی EGP و متعلقات.","مترمربع",5280000]
["181077","تهیه صفحه تابلوی تیپ ساده با ورق روغنی 1.25 میلی متر و رنگ الکترواستاتیک و شبرنگ پربازتاب HIP و متعلقات.","مترمربع",6810000]
["181078","تهیه صفحه تابلوی تیپ ساده با ورق گالوانیزه 1.25 میلی مترو شبرنگ پربازتاب HIP و متعلقات.","مترمربع",6535000]
["181079","تهیه صفحه تابلوی تیپ لبه دار با ورق روغنی 1.25 میلی متر و رنگ الکترواستاتیک و شبرنگ رده مهندسی EGP و متعلقات.","مترمربع",6563000]
["181080","تهیه صفحه تابلوی تیپ لبه دار با ورق گالوانیزه 1.25 میلی مترو شبرنگ رده مهندسی EGP و متعلقات.","مترمربع",6290000]
["181081","تهیه صفحه تابلوی تیپ لبه دار با ورق روغنی 1.25 میلی متر و رنگ الکترواستاتیک و شبرنگ پربازتاب HIP و متعلقات.","مترمربع",7839000]
["181082","تهیه صفحه تابلوی تیپ لبه دار با ورق گالوانیزه 1.25 میلی مترو شبرنگ پربازتاب HIP و متعلقات.","مترمربع",7545000]
["181083","اضافه بها به ردیف های ۱۸۱۰۷۵ تا ۱۸۱۰۷۸ چنانچه تابلوها رخ دار (دارای لبه داخلی) باشد.","مترمربع",275000]
["181084","اضافه بها به ردیف های ۱۸۱۰۷۵ و ۱۸۱۰۷۷ و ۱۸۱۰۷۹ و ۱۸۱۰۸۱چنانچه ضخامت ورق روغنی 1.5 میلی متر باشد.","مترمربع",196000]
["181085","اضافه بها به ردیف های ۱۸۱۰۷۵ و ۱۸۱۰۷۷ و ۱۸۱۰۷۹ و ۱۸۱۰۸۱چنانچه ضخامت ورق روغنی ۲ میلی متر باشد.","مترمربع",590000]
["181086","اضافه بها به ردیف های ۱۸۱۰۷۶ و ۱۸۱۰۷۸ و ۱۸۱۰۸۰ و ۱۸۱۰۸۲چنانچه ضخامت ورق گالوانیزه 1.5 میلی متر باشد.","مترمربع",230000]
["181087","اضافه بها به ردیف های ۱۸۱۰۷۶ و ۱۸۱۰۷۸ و ۱۸۱۰۸۰ و ۱۸۱۰۸۲چنانچه ضخامت ورق گالوانیزه ۲ میلی متر باشد.","مترمربع",689000]
["181088","اضافه بهای استفاده از شبرنگ فلورسنت سبز-زرد POP به جای شبرنگ رده مهندسی EGP.","مترمربع",1860000]
["181089","اضافه بهای استفاده از شبرنگ فلورسنت سبز-زرد POP به جای شبرنگ پربازتاب HIP.","مترمربع",533000]
["181090","کسربهای استفاده از شبرنگ فلورسنت سبز-زرد POP به جای شبرنگ رده الماسه DIG.","مترمربع"]
["181101","نصب بازتاب (چشم گربه ای) طبق مشخصات فنی، پیاده کردن محل نصب و استفاده از چسب های مخصوص حداقل ۱۲۰ گرم و رعایت فاصله و زاویه نصب طبق دستور کار.","عدد",65600]
["181106","تهیه بازتاب چشم گربه ای یک طرفه طبق مشخصات فنی، بدنه از جنس ABS.","عدد"]
["181107","تهیه بازتاب چشم گربه ای دو طرفه طبق مشخصات فنی، بدنه از جنس ABS.","عدد"]
["181108","اضافه بها به ردیف ۱۸۱۱۰۱ در شرایط دمای زیر ۱۵ درجه و با استفاده از گرم کردن غیرمستقیم چسب طبق دستورالعمل مربوطه.","عدد"]
["181110","خرید بازتاب (گل میخ) پلاستیکی طبق مشخصات فنی.","عدد"]
["181201","نصب و راه اندازی چراغ چشمک زن تنظیم شونده تکخانه یک جهت طبق مشخصات فنی و دستور کار مربوط.","عدد",3376000]
["181202","نصب و راه اندازی چراغ چشمک زن تنظیم شونده دوخانه یک جهت طبق مشخصات فنی و دستور کار مربوط.","عدد",3798000]
["181203","نصب و راه اندازی چراغ چشمک زن تنظیم شونده سه خانه یک جهت طبق مشخصات فنی و دستور کار مربوط.","عدد",4220000]
["181204","اضافه بها به ردیف های ۱۸۱۲۰۱، ۱۸۱۲۰۲ و ۱۸۱۲۰۳ وقتی از چراغ دوجهت تک پایه استفاده شود .","عدد",1070000]
["181205","اضافه بها به ردیف های ۱۸۱۲۰۱، ۱۸۱۲۰۲ و ۱۸۱۲۰۳ وقتی از چراغ سه جهت تک پایه استفاده شود.","عدد",1605000]
["181207","تهیه چراغ چشمک زن تنظیم شونده تک خانه طبق مشخصات فنی و دستور کار مربوط.","عدد"]
["181208","تهیه چراغ چشمک زن تنظیم شونده دو خانه طبق مشخصات فنی و دستور کار مربوط.","عدد"]
["181209","تهیه چراغ چشمک زن تنظیم شونده سه خانه طبق مشخصات فنی و دستور کار مربوط.","عدد"]
["181301","تهیه و نصب ضربه گیر با استفاده از استوانه های لاستیک یا پلاستیک انعطاف پذیر طبق مشخصات فنی مربوط و مهاربندی لازم و رنگ آمیزی قطعات با هدایت مجدد خودرو به مسیر.","عدد"]
["181302","تهیه و نصب ضربه گیر با استفاده از محفظه های پر از مایع (آب) طبق مشخصات فنی مربوط و مهاربندی لازم و رنگ آمیزی قطعات با هدایت مجدد خودرو به مسیر.","عدد"]
["181303","تهیه و نصب ضربه گیر با استفاده از استوانه های بتنی سبک طبق مشخصات فنی مربوط و مهاربندی لازم و رنگ آمیزی قطعات با هدایت مجدد خودرو به مسیر.","عدد"]
["181304","تهیه و نصب ضربه گیر با استفاده از استوانه های توخالی فولادی طبق مشخصات فنی مربوط و مهاربندی لازم و رنگ آمیزی قطعات با هدایت مجدد خودرو به مسیر.","عدد"]
["181401","تهیه و نصب تابلوهای هوشمند با پیام وضعیت ترافیک.","عدد"]
["181402","تهیه و نصب تابلوهای هوشمند با پیام اخباری.","عدد"]
["181501","تهیه و نصب ورق های صداگیر از جنس بتن طبق مشخصات فنی مربوط.","مترمربع"]
["181502","تهیه و نصب ورق های صداگیر چوبی.","مترمربع"]
["181503","تهیه و نصب ورق های صداگیر از نوع  ساندویچ پانل .","مترمربع"]
["181601","تهیه و نصب صفحات نوربند از جنس پلی اتیلن همراه با پایه  و قاب لازم.","مترمربع"]
["181602","تهیه و نصب صفحات نوربند از جنس آلومینیوم رنگ شده همراه با پایه  و قاب لازم.","مترمربع"]
["190101"," بريدن درزها در روسازيهاي بتني پـس از بتن ريزي با وسايل و ابزار لازم‎.‎","دسیمترمکعب",181500]
["190102"," تهيه مصالح و پرکردن درزهاي کـف سازيهاي بتني با ماسه آسفالـت بر حسـب حجم درز.","دسیمترمکعب",19400]
["190103"," تهيه مصالح و پرکردن درز هاي کـف سازيهاي بتني با آيرولاستيک و لاستيک متراکم شونده و يا مشابه آنها بر حسـب حجم درز.","دسیمترمکعب",226000]
["190104"," تهيه مصالح و اندود پرايمر و پرکردن درزهاي عميق کـف سازيهاي بتني با آئرولاستيک و مواد پرکننده مانند پلاستوفوم، برحسـب حجم درز.","دسیمترمکعب",35800]
["190203","تهیه و نصب تکیه گاه یا ضربه گیر سازه از مواد الاستومری و بدون لایه مسلح کننده.","دسيمتر مكعب",720000]
["190204","اضافه بها به ردیف ١٩٠٢٠٣ بابت تسلیح با ورق فولادی به ضخامت ده میلی متر (تولید کارخانه ای).","دسیمتر مربع",74000]
["190205","اضافه بها به ردیف ١٩٠٢٠٣ بابت تسلیح با ورق فولادی به ضخامت بیست میلی متر (تولید کارخانه ای).","دسیمتر مربع",148000]
["190206","تهیه و نصب تکیه گاه سازه ای الاستومری با لایه های الاستومری و فولادی.","دسيمتر مكعب",920000]
["190207","تهیه و نصب تکیه گاه سازه ای الاستومری مسلح با امکان اتصال مکانیکی به سازه و بدون ورق اضافی.","دسيمتر مكعب",1100000]
["190208","تهیه و نصب تکیه گاه سازه ای الاستومری مسلح دارای هسته سربی جهت افزایش میرایی.","دسيمتر مكعب",1180000]
["190209","تهیه و نصب تکیه گاه سازه ای مسلح با هسته سربی دارای قابلیت میراگری و اتصال مکانیکی به سازه.","دسيمتر مكعب",1350000]
["190301"," تهيه و پخـش مواد بيتوپلاستيک در توقـف گاه هواپيما.","كیلوگرم",142500]
["190401"," سمباده يا برس زدن (زنـگ زدايي) سطوح فلزي.","كیلوگرم",750]
["190402"," زنـگ زدايي سطوح فلزي به روش ماسه پاشي (سندبلاسـت).","كیلوگرم",3100]
["190403"," تهيه مصالح و اجراي يک دسـت ضد زنـگ روي سطوح فلزي.","كیلوگرم",1160]
["190404"," تهيه مصالح و اجراي يک دسـت ضد زنـگ و دو دسـت اکليل روغني شامل آستر و و رويه روي کارهاي فلزي.","كیلوگرم",2840]
["190405"," تهيه مصالح و اجراي يک دسـت ضد زنـگ و دو دسـت رنـگ روغني شامل آستر و رويه روي کارهاي فلزي.","كیلوگرم",2740]
["190406"," تهيه مصالح و اجراي دو قشرضد زنـگ مناسـب و دو دسـت رنـگ اپکسي شامل آستر و رويه روي کارهاي فلزي.","كیلوگرم",5400]
["190501"," تهيه و کارگذاري لوله پلاستيکي در ابنيه فني براي عبور آب.","كیلوگرم",419000]
["190502"," تهيه ونصب واتراستاپ به عرض 15 سانتيمتر از جنس پي وي سي.","متر طول",220000]
["190503"," اضافه بها به رديف 190502 براي هر سانتيمتر اضافه بر 15 سانتيمتر.","متر طول",9240]
["190504"," تهيه و نصب واتراستاپ به عرض 15 سانتيمتر از جنس لاستيک.","متر طول",237000]
["190505"," اضافه بها به رديف 190504 براي هر سانتيمتر اضافه بر 15 سانتيمتر.","متر طول",6160]
["190506"," تهيه و نصب بالشتک تکيه گاهي از جنس کائوچو به ابعاد تقريبي 2×8.5×10 سانتيمتر.","عدد",44800]
["190507"," تهيه و نصب فوم پلي اورتان داراي سلول باز و با مقطع 4×4 سانتيمتر.","متر طول",18600]
["190508"," تهيه ، سوراخ کاري و جاگذاري لوله پلاستيکي براي زهکشي.","كیلوگرم",240000]
["191101"," تهيه لوازم و انجام عمليات آبکشي داخل تونل‌ها.","متر مکعب",2750]
["191102"," تهيه و نصب لوله جهت هدايت آب پمپاژ شده به بيرون تونل.","مترطول",161500]
["191201","تهیه و نصب درز انبساط الاستومری با میزان جابجایی ۵٠ میلی متر.","مترطول",14500000]
["191202","تهیه و نصب درز انبساط الاستومری با میزان جابجایی 80 میلی متر.","مترطول",17350000]
["191203","تهیه و نصب درز انبساط الاستومری با میزان جابجایی 110 میلی متر.","مترطول",25500000]
["191204","تهیه و نصب درز انبساط الاستومری با میزان جابجایی 150 میلی متر.","مترطول",34800000]
["191205","تهیه و نصب درز انبساط الاستومری با میزان جابجایی 220 میلی متر.","مترطول",47200000]
["191206","تهیه و نصب درز انبساط الاستومری با میزان جابجایی 320 میلی متر.","مترطول",55900000]
["200101"," حمل آهن الات، سيمان پاکتي نسبـت به مازادبر 30 کيلومتر تا فاصله 75 کيلومتر ‎.‎","تن -  کیلومتر‏",2020]
["200102"," حمل آهن الات، سيمان پاکتي نسبـت به مازاد بر 75 کيلومتر تا فاصله 150 کيلومتر.","تن -  کیلومتر‏",1360]
["200103"," حمل آهن الات، سيمان پاکتي نسبـت به مازادبر 150 کيلومتر تا فاصله 300 کيلومتر.","تن -  کیلومتر‏",860]
["200104"," حمل آهن الات، سيمان پاکتي نسبـت به مازادبر300 کيلومتر تا فاصله 450 کيلومتر.","تن -  کیلومتر‏",705]
["200105"," حمل آهن الات، سيمان پاکتي نسبـت به مازاد بر450 کيلومتر تا فاصله 750 کيلومتر.","تن -  کیلومتر‏",605]
["200106"," حمل آهن الات، سيمان پاکتي نسبـت به مازادبر750 کيلومتر.","تن -  کیلومتر‏",505]
["200201"," حمل قيرفله نسبـت به مازاد30 کيلومتر تا فاصله 75 کيلومتر.","تن -  کیلومتر‏",3410]
["200202"," حمل قيرفله نسبـت به مازاد 75 کيلومتر تا فاصله 150 کيلومتر.","تن -  کیلومتر‏",2390]
["200203"," حمل قيرفله نسبـت به مازاد150 کيلومتر تا فاصله 300 کيلومتر.","تن -  کیلومتر‏",1560]
["200204"," حمل قيرفله نسبـت به مازاد 300 کيلومتر تا فاصله 450 کيلومتر.","تن -  کیلومتر‏",1260]
["200205"," حمل قيرفله نسبـت به مازاد450 کيلومتر تا فاصله 750 کيلومتر.","تن -  کیلومتر‏",1080]
["200206"," حمل قير فله نسبـت به مازاد750 کيلومتر.","تن -  کیلومتر‏",900]
["200301"," حمل ريلي بالاست تا 500 کيلومتر.","تن -  کیلومتر‏",960]
["200302"," حمل ريلي بالاست بيش از 500 کيلومتر.","تن -  کیلومتر‏",960]
["200303"," حمل ريلي خط بسته، ريل، تراورس و ساير ادوات تا 500 کيلومتر.","تن -  کیلومتر‏",638]
["200304"," حمل ريلي خط بسته، ريل، تراورس و ساير ادوات بيش از 500 کيلومتر.","تن -  کیلومتر‏",532]
["200401","حمل دريايي مصالح سنگي، قير، آهن آلات و سيمان پاکتي تا فاصله 10 مايل دريايي.","تن - مایل دریایی",10880]
["200402","حمل دريايي مصالح سنگي، قير، آهن آلات و سيمان پاکتي مازاد بر 10 مايل تا فاصله 30 مايل دريايي.","تن - مایل دریایی",3060]
["200403","حمل دريايي مصالح سنگي، قير، آهن آلات و سيمان پاکتي  مازاد بر 30 مايل تا فاصله 60 مايل دريايي.","تن - مایل دریایی",2470]
["200404","حمل دريايي مصالح سنگي، قير، آهن آلات و سيمان پاکتي  مازاد بر 60 مايل تا فاصله 90 مايل دريايي.","تن - مایل دریایی",2200]
["200405","حمل دريايي مصالح سنگي، قير، آهن آلات و سيمان پاکتي  مازاد بر 90 مايل تا فاصله 150 مايل دريايي.","تن - مایل دریایی",2200]
["210201"," انجام تمام عمليات مورد نياز نقشه‌برداري براي اجراي روسازي راه آهن تازه احداث، بازسازي خط يا بهسازي خطوط راه آهن، از جمله ميخ‌کوبي، ريل‌نويسي و تهيه جدولهاي نيولمان.","کیلومتر",25860000]
["210202"," اضافه بها به رديف 0210201 در بخشهايي از مسير راه آهن که داراي قوسهاي افقي کمتر از 400 متر باشد.","درصد",30]
["210203"," اضافه بها به رديف 0210201 در بخشهايي از مسير راه آهن که در داخل تونل واقع شده است.","درصد",50]
["220101"," تهيه ريل UIC60 با گريد 900Aبارگيري، حمل و تخليه در کارگاه مونتاژ خط","تن",75000000]
["220201"," تهيه سوزن UIC60 با شعاع 300 متر و تانژانت 1 به 9، با تراورس بتني حمل و تخليه در کارگاه مونتاژ خط.","دستگاه",5200000000]
["220202"," تهيه سوزن UIC60 با شعاع 300 متر و تانژانت 1 به 9، با تراورس چوبي حمل و تخليه در کارگاه مونتاژ خط.","دستگاه",5260000000]
["220203"," تهيه سوزن UIC60 با شعاع 190 متر و تانژانت 1 به 9، با تراورس بتني حمل و تخليه در کارگاه مونتاژ خط.","دستگاه",3750000000]
["220204"," تهيه سوزن UIC60 با شعاع 190 متر و تانژانت 1 به 9، با تراورس چوبي حمل و تخليه در کارگاه مونتاژ خط.","دستگاه",3760000000]
["220301"," تهيه پيچ سيستم پابند فنري وسلو و بستهبندي در کارگاه.","عدد",60000]
["220302","تهیه فنر وسلو 14SKL و بسته بندی در کارگاه.","عدد",65000]
["220303"," تهيه گايد پليت پلاستيکي سيستم پابند وسلو و بسته بندي در کارگاه.","عدد",70000]
["220304"," تهيه پد پلاستيکي سيستم پابند وسلو و بسته‌بندي در کارگاه.","عدد",60000]
["220401","تهیه تمام مصالح جوش ترمیت پیش گرم بلند.","بند",5500000]
["220402","تهیه تمام مصالح جوش ترمیت پیش گرم کوتاه.","بند",13000000]
["220501","تهیه تمام مصالح جوش قوسی بسته (شیار باریک).","بند",1500000]
["230101","تهیه خط بسته (کوبلاژ) با سیستم پابند وسلو 14 SKL تراورس بتنی و دپو در کنار خط برای استفاده در روسازی خط آهن تازه احداث شده.","کیلومتر",385260000]
["230201"," بارگيري بالاست از محل دپو، حمل تا محل پخش و پخش قشر اول بالاست در عرض 3.5 متر و ضخامت 15 سانتي‌متر، با فينيشر. در اجراي روسازي خط آهن تازه احداث شده.","کیلومتر",76557000]
["230301"," بارگيري خط بسته، تخليه و نصب خط به روش منقطع با جرثقيل  ریلی، تنظيم درز و بستن اتصالي. در اجراي روسازي خط آهن تازه احداث شده.","کیلومتر",533290000]
["230305","عملیات بالاست ریزی با واگن بر روی خط نصب شده در اجرای روسازی خط آهن تازه احداث.","کیلومتر",437190000]
["230401","تسطیح با خط‌ آرا و رلواژ اول و دوم با زیرکوب ۰۸ در اجرای روسازی خط آهن تازه احداث شده.","کیلومتر",418170000]
["230501","آماده‌سازی ریل‌ها و جوش‌کاری توسط ماشین جوش الکتریک، روزنی، بغل‌زنی و تنش‌زدایی جوش طویل به همراه تست التراسونیک. در اجرای روسازی خط آهن تازه احداث شده.","بند",10140000]
["230503","اجرای عملیات جوشکاری ریل با جوش ترمیت، روزنی، بغل‌زنی و تنش‌زدایی جوش طویل به همراه تست التراسونیک، در اجرای روسازی خط آهن تازه احداث شده","بند",4490000]
["230504","اجرای عملیات جوشکاری ریل با جوش قوسی بسته (شیار باریک) ، روزنی، بغل زنی و تنش زدایی جوش طویل به همراه تست التراسونیک، در اجرای روسازی خط آهن تازه احداث شده.","بند",2640000]
["230601"," رلواژ نهايي با زيرکوب 09، رگلاژ شيرواني بالاست با خطآرا و تثبيت خط، توسط ماشين پايدارساز در اجراي روسازي خط آهن تازه احداث.","کیلومتر",429580000]
["230701"," نصب انواع سوزن با تراورس بتني و انجام تمامي اقدامات مورد نياز از جمله باراندازي، مونتاژ، نقشه برداري، بالاست ريزي و رلواژ سهگانه.","دستگاه",578250000]
["230702"," نصب انواع سوزن با تراورس چوبي و انجام تمامي اقدامات مورد نياز از جمله باراندازي، مونتاژ، نقشه برداري، بالاست ريزي و رلواژ سهگانه.","دستگاه",256260000]
["230801"," تهيه تمامي مصالح، ساخت قطعات نقاط ثابت خطي (fix point)، پي‌کني و نصب آن.","عدد",1813000]
["230901"," جمع آوري کوپلاژهاي قديمي و بالاست موجود، بارگيري و حمل و تخليه در محلهاي مشخص شده، تسطيح بستر و غلتک‌زني در طولي از مسير که شعاع افقي خط بيشتر از 400 متر باشد.","کیلومتر",194700000]
["231001"," بارگيري و حمل خطوط بسته مستعمل به نزديکترين ايستگاه،  تخليه و دپوي آ‌ن‌ها.","کیلومتر",184748000]
["231101"," عمليات دمونتاژ سوزن با تراورس چوبي، جمعآوري، تسطيح بستر و غلتک زني و تراکم.","دستگاه",17240000]
["231201"," تفکيک بالاست با دستگاه سرند در عمليات بهسازي خط.","کیلومتر",915270000]
["231301"," تخليه و توزيع  تراورس‌هاي بتني جهت تعويض تمامي تراورس‌هاي خط براي عمليات بهسازي خط.","کیلومتر",49780000]
["231302"," تخليه موردي تراورس بتني و توزيع در محل مورد نياز براي عمليات بهسازي خط.","قطعه",79600]
["231303"," تخليه موردي تراورس چوبي و توزيع در محل مورد نياز براي عمليات بهسازي خط.","اصله",66400]
["231304","تعویض تمامی تراورس های چوبی خط با تراورس های بتنی نو با بستن و سفت کردن پیچ ها برای عملیات بهسازی خط.","کیلومتر",470910000]
["231305","تعویض تمامی تراورس های بتنی خط با تراورس های بتنی نو به همراه بستن و سفت کردن پیچ ها برای عملیات بهسازی خط.","کیلومتر",667130000]
["231306"," تعويض موردي تراورس چوبي فرسوده در عمليات بهسازي خط به همراه بستن و سفت کردن پيچ‌ها.","اصله",750000]
["231307"," تعويض موردي تراورس بتني فرسوده در عمليات بهسازي خط به همراه بستن و سفت کردن پيچ‌ها.","قطعه",1224000]
["231403","بالاست ریزی موردی (لکه گیری) در عملیات بهسازی خط.","مترمکعب",273000]
["231601"," تنظيم و تثبيت علايم ثابت خط در عمليات بهسازي خط.","عدد",866000]
["231701"," جمع آوري و انتقال هر اصله تراورس چوبي با ادوات مربوطه حاصل از تعويض در عمليات بهسازي خط به نزديکترين ايستگاه.","اصله",100000]
["231702"," شکستن هر قطعه تراورس بتني فرسوده و انتقال ادوات حاصل از تعويض درعمليات بهسازي خط به نزديکترين ايستگاه.","قطعه",161500]
["231801"," تعويض  هر شاخه ريل معيوب براي عمليات بهسازي خط.","شاخه",7230000]
["240101","تهيه مصالح و اجراي ژئوگريد تک سويه مسلح کننده خاک داراي مقاومت نهايي 120 ساله (LTDS) در محيط خاکي (با PH بيشتر از 4 و کمتر از 9) به ميزان KN/m 20 جهت ساخت ديوارهاي حايل خاک مسلح و تسليح شيب‌ها.","مترمربع",130000]
["240102","اضافه‌بها به رديف 240101 به ازاي هر  KN/m 5 افزايش در مقاومت کشش نهايي 120 ساله (LTDS) در جهت طولي (افزايش کمتر از 5 کيلونيوتن به تناسب محاسبه مي‌شود).","مترمربع",12500]
["240103","تهيه مصالح و اجراي ژئوگريد دو سويه در محيط خاکي (با PH بيشتر از 4 و کمتر از 9) با مقاومت کششي نهايي 120 ساله (LTDS) به ميزان KN/m 10 جهت تثبيت بسترهاي سست، باتلاقي و افزايش ظرفيت باربري خاک.","مترمربع",120000]
["240104","اضافه‌بها به رديف 240103 به ازاي هر  KN/m 5 افزايش در مقاومت کشش نهايي 120 ساله (LTDS) در هر دو جهت. (افزايش کمتر از 5 کيلونيوتن به تناسب محاسبه مي‌شود).","مترمربع",12000]
["240201","تهيه مصالح و اجراي ژئوگريد پلي استري براي مسلح سازي آسفالت با مقاومت کششي دو سويهkN/m 50.","مترمربع",185000]
["240202","تهيه مصالح و اجراي ژئوگريد فايبرگلاس براي مسلح سازي آسفالت با کرنش گسيختگي کمتر از 3 درصد و مقاومت کششي دو سويهkN/m 50 بر متر.","مترمربع",220000]
["240203","اضافه‌بها به رديف‌هاي 240201 و 240202 به ازاي هر kN/m 10 مقاومت کششي مازاد در هر دو جهت‌. (افزايش کمتر از 10 کيلونيوتن به تناسب محاسبه مي‌شود.)","مترمربع",10000]
["240204","اضافه‌بها به رديف 240201 و 240202 در صورتي که يک لايه ژئوتکستايل نبافته به ژئوگريد توسط توليد کننده اضافه شود.","مترمربع"]
["240205","اضافه‌بها به رديف 240201 و 240202 در صورتي که يک لايه ژئوتکستايل نبافته قير اندود شده توسط توليد کننده به ژئوگريد اضافه شود.","مترمربع"]
["240301","تهيه و اجراي ژئوتکستايل نبافته با مقاومت کششي حداقل 7 کيلونيوتن بر متر در هر دو جهت براي کاربرد در جداسازي، زهکشي و کنترل غوطه‌وري و نظاير آن.","مترمربع",50000]
["240302","اضافه‌بها به رديف 240301 به ازاي هر يک کيلونيوتن افزايش مقاومت کششي در هر جهت (افزايش کمتر از 1 کيلونيوتن به تناسب محاسبه مي شود.)","مترمربع",6000]
["240401","تهيه و اجراي ژئوتکستايل نبافته با وزن 300 گرم بر مترمربع مطابق استاندارد GT12 جهت محافظت از ژئوممبران.","مترمربع",45000]
["240402","اضافه يا کاهش‌ بها به رديف 240401 به ازاي هر صد گرم افزايش و يا کاهش وزن هر مترمربع سطح (اضافه و يا کاهش صد گرم به تناسب پرداخت مي شود.)","مترمربع",8000]
["240501","تهيه مصالح و اجراي ژئوتکستايل بافته (زمين پارچه) با مقاومت کششي 100 کيلو نيوتن بر متر طول به منظور افزايش ظرفيت باربري و تسليح خاک.","مترمربع",150000]
["240502","اضافه‌ يا کسربها به رديف 240501 به ازاي هر 50 کيلونيوتن افزايش يا کاهش در مقاومت کششي در هر دوجهت. (افزايش کمتر از 50 کيلونيوتن به تناسب محاسبه مي شود.)","مترمربع",70000]
["240601","تهيه مصالح و اجراي ژئوتكستايل نبافته با گرماژ حداقل 140 گرم و حداکثر 200 گرم، با حداقل جذب قير 725 گرم در مترمربع، کرنش 50% و مقاومت گراب (grab) حداقل 450 نيوتن و مقاومت کششي طولي و عرضي حداقل 8 کيلونيوتن بر متر جهت آب‌بندي آسفالت.","مترمربع",49000]
["240602","تهيه مصالح و اجراي ژئوکامپوزيت متشکل از ژئوتکستايل نبافته پلي‌پروپيلن (يا پلي استر) مسلح شده، با ژئوگريد الياف شيشه و مقاومت کششي دو سويه 50 کيلونيوتن بر متر و کرنش گسيختگي حداکثر 3% و داراي کاربرد در تسليح و آب‌بندي آسفالت.","مترمربع",250000]
["240603","اضافه‌بها به رديف 240602 بابت هر 10 کيلونيوتن افزايش مقاومت کششي در هردو جهت.","مترمربع",10000]
["240701","تهيه مصالح و اجراي ژئوممبرين (زمين غشا) از جنس پلي وينيل کلريد (PVC) به ضخامت 1.5 ميلي‌متر براي عايق‌بندي سطوح و سازه‌هاي مختلف مانند مخازن آب، سدها، حوضچه‌هاي فاضلاب، گود ساختمان، تونل، کانال‌هاي انتقال آب، استخرهاي کشاورزي و غيره.","مترمربع",388000]
["240702","تهيه مصالح و اجراي ژئوممبرين (زمين غشا) از جنس پلي اتيلن سنگين (HDPE) به ضخامت 1.5 ميلي‌متر براي عايق‌بندي سطوح و سازه‌هاي مختلف مانند مخازن آب، سدها، حوضچه­‌هاي فاضلاب، کانال‌هاي انتقال آب، استخرهاي کشاورزي و غيره.","مترمربع",290000]
["240703","تهيه مصالح و اجراي ژئوممبرين (زمين غشا) از جنس پلي اتيلن سبک خطي (LLDPE) به ضخامت 1.5 ميلي‌متر براي عايق‌بندي سطوح و سازه‌هاي مختلف مانند مخازن آب، سدها، حوضچه‌­هاي فاضلاب، گود ساختمان، تونل، کانال‌هاي انتقال آب، استخرهاي کشاورزي و غيره.","مترمربع",310000]
["240704","تهيه مصالح و اجراي ژئوممبرين (زمين غشا) از جنس پليمير خيلي سبک (VLDPE) به ضخامت 1.5 ميلي‌متر براي عايق‌بندي سطوح و سازه‌­هاي مختلف مانند مخازن آب، سدها، حوضچه­‌هاي فاضلاب، گود ساختمان، تونل، کانال‌هاي انتقال آب، استخرهاي کشاورزي و غيره.","مترمربع"]
["240705","اضافه‌بها به رديف‌هاي 240701، 240702، 240703 و 240704 چنانچه اين مصالح در سقف تونل استفاده شود.","مترمربع",50000]
["240801","تهيه مصالح و اجراي عايق ژئوسنتتيک رسي سوزني شده (GCL) با وزن نهايي 5 کيلوگرم بر مترمربع براي عايق‌بندي سطوح و سازه‌هاي مختلف مانند مخازن آب، سدها، حوضچه­‌هاي فاضلاب، گود ساختمان، تونل، کانال­‌هاي انتقال آب، استخرهاي کشاورزي و غيره.","مترمربع",370000]
["240802","اضافه‌بها به رديف هاي 240701، 240702، 240703 و 240704 و 240801 چنانچه اين مصالح در ديواره‌هايي با شيب بيش از 60 درجه نسبت به افق استفاده شود.","مترمربع",50000]
["410101"," ماسه شسته‎.‎","مترمكعب",272000]
["410102"," شن شسته.","مترمكعب",202000]
["410201"," بالاسـت از قلوه سنـگ رودخانه اي.","مترمكعب",255000]
["410202"," بالاسـت ازسنـگ کوهي.","مترمكعب",356500]
["410301","مصالح زير اساس.","مترمكعب",103500]
["410302"," مصالح اساس شکسته از مصالح رودخانه اي.","مترمكعب",150000]
["410303"," مصالح اساس شکسته از سنـگ کوهي.","مترمكعب",373500]
["410304"," مصالح سنگي آسفالـت سطحي نوع  2 و 4.","مترمكعب",593500]
["410305"," مصالح سنگي آسفالـت سطحي نوع  1 و 3 .","مترمكعب",712000]
["410306"," مصالح سنگي آسفالـت سطحي نوع 4.","مترمكعب",775000]
["410307"," مصالح سنگي آسفالـت سطحي نوع 5.","مترمكعب",809500]
["410308"," مصالح سنگي آسفالـت ردميکـس.","مترمكعب",182500]
["410309"," مصالح سنگي اساس آسفالتي (بلاک بيـس).","مترمكعب",189500]
["410310"," مصالح سنگي قشر بيندر.","مترمكعب",316000]
["410311"," مصالح سنگي قشر توپکا.","مترمكعب",343500]
["410401"," سنـگ لاشه بنايي.","مترمكعب",301500]
["410404"," سنـگ بادبر.","مترمكعب",396500]
["410405"," سنـگ سر تراش.","مترمكعب",576500]
["410406"," سنـگ نيم تراش.","مترمكعب",626500]
["410407"," سنـگ تمام تراش.","مترمكعب",726500]
["410501"," سيمان پرتلند نوع يک پاکتي.","تن",1824000]
["410502"," سيمان پرتلند نوع يک فله.","تن",1481000]
["410503"," سيمان پرتلند نوع دو پاکتي.","تن",1814000]
["410504"," سيمان پرتلند نوع دو فله.","تن",1471000]
["410505"," سيمان پرتلند نوع 5 پاکتي.","تن",1824000]
["410506"," سيمان پرتلند نوع 5 فله.","تن",1481000]
["410601"," مواد منفجره.","كیلوگرم",85500]
["410602"," انواع فتيله .","متر طول",7290]
["410603"," انواع چاشني.","عدد",26100]
["410701"," انواع تيرآهن.","كیلوگرم",40600]
["410702"," انواع تيرآهن بال پهن.","كیلوگرم",84500]
["410703"," انواع ناوداني.","كیلوگرم",43800]
["410704"," انواع نبشي.","كیلوگرم",43800]
["410705"," انواع سپري.","كیلوگرم",43800]
["410706"," انواع تسمه.","كیلوگرم",44000]
["410707"," انواع ورق سياه.","كیلوگرم",44000]
["410708"," انواع سپر فلزي.","كیلوگرم",43800]
["410801"," انواع ميل گردساده.","كیلوگرم",46700]
["410802"," انواع ميل گرد آجدار.","كیلوگرم",38000]
["410901","انواع قیرهای محلول و امولسیونی.","كیلوگرم",36300]
["410902"," سايرقيرها.","كیلوگرم",30300]
["411001"," انواع کابل تيرهاي تنيده.","كیلوگرم"]
["411101"," سگمنت بتني براي نصب در تونل‌هاي حفاري شده باTBM .","مترمكعب",4561000]
["420101"," تامين و تجهيز محل سکونت کارمندان و افراد متخصص پيمانکار.","مقطوع"]
["420102"," تامين و تجهيز محل سکونت کارگران پيمانکار.","مقطوع"]
["420103"," تامين و تجهيز ساختمانهاي اداري و دفاتر کار پيمانکار.","مقطوع"]
["420201"," تامين کمک هزينه يا تسهيلات لازم براي تهيه غذاي کارگران.","مقطوع"]
["420202"," تامين لباس کار ، کفش و کلاه حفاظتي کارگران.","مقطوع"]
["420301"," تامين و تجهيز محل سکونت کارکنان کارفرما، مهندس مشاور و آزمايشگاه. (با رعايت بند 4-4)","مقطوع"]
["420302"," تامين و تجهيز ساختمانهاي اداري و دفاتر کار کارفرما ، مهندس مشاور و آزمايشگاه.(با رعايت بند 4-4)","مقطوع"]
["420303","تامین غذای کارمندان کارفرما، مهندس مشاور و آزمایشگاه.(با رعايت بند 4-4)","مقطوع"]
["420304"," تجهيز دفاتر کارفرما، مهندس مشاور و آزمايشگاه به اينترنت پر سرعت.(با رعايت بند 4-4)","مقطوع"]
["420305"," تجهيز دفتر مرکزي کارفرما با تلويزيون هاي مدار بسته با قابليت انتقال تصوير در کارگاه به دفتر مرکزي کارفرما.","مقطوع"]
["420306"," هزينه برقراري نظام ايمني، بهداشت و محيط زيست (HSE) و حفاظت کار، براساس دستورالعمل‌هاي مندرج در اسناد پيمان.","مقطوع"]
["420401"," تامين ساختمانهاي پشتيباني و تجهيز انبارهاي سر پوشيده ، آزمايشگاه پيمانکار و موارد مشابه.","مقطوع"]
["420402","ساخت و تجهيز انبار مواد منفجره.","مقطوع"]
["420403"," تامين و تجهيز ساختمانهاي عمومي، به جز ساختمانهاي مسکوني و اداري و دفاتر کار.","مقطوع"]
["420404"," محوطه سازي.","مقطوع"]
["420501"," احداث چاه آب عميق يا نيمه عميق.","مقطوع"]
["420601"," تامين آب کارگاه و شبکه آب رساني داخل کارگاه.","مقطوع"]
["420602"," تامين برق کارگاه و شبکه برق رساني داخل کارگاه.","مقطوع"]
["420603"," تامين سيستمهاي مخابراتي داخل کارگاه.","مقطوع"]
["420604"," تامين سيستم گاز رساني در داخل کارگاه.","مقطوع"]
["420605"," تامين سيستم سوخت رساني کارگاه.","مقطوع"]
["420701"," تامين راه دسترسي.","مقطوع"]
["420702"," تامين راههاي سرويس.","مقطوع"]
["420703"," تامين راههاي ارتباطي.","مقطوع"]
["420801"," تامين اياب و ذهاب کارگاه.","مقطوع"]
["420901"," تامين پي و سکو براي نصب ماشين آلات و تجهيزات سيستم توليد مصالح ، سيستم توليد بتن ، کارخانه آسفالت ، ژنراتورها و مانند آنها.","مقطوع"]
["420902"," نصب ماشين آلات و تجهيزات و راه اندازي آنها، يا تامين آنها از راه خريد خدمت يا خريد مصالح.","مقطوع"]
["420903"," بارگيري، حمل و باراندازي ماشين آلات و تجهيزات به کارگاه و برعکس.","مقطوع"]
["421001"," تهيه ، نصب و برچيدن داربست فلزي براي انجام نما سازي خارج ساختمان در کارهاي رشته ابنيه ، وقتي که ارتفاع نما سازي بيش از 3.5 متر باشد.","مقطوع"]
["421002"," بارگيري ، حمل ، باراندازي ، مونتاژ و دمونتاژ ماشين آلات و لوازم حفاري محل شمع و بارت به کارگاه و بر عکس.","مقطوع"]
["421003"," دمونتاژ ، جابجايي ، مونتاژ و استقرار وسايل و ماشين آلات حفاري محل شمع و باروت از يک محل به محل ديگر در کارگاه.","مقطوع"]
["421004"," بارگيري ، حمل و باراندازي وسايل و ماشين آلات شمع کوبي و سپر کوبي به کارگاه و برعکس.","مقطوع"]
["421005"," تهيه لوازم و مصالح و کف سازي محل ساخت تيرهاي بتني پيش ساخته پلها.","مقطوع"]
["421006"," بارگيري ، حمل و باراندازي وسايل و قطعات تير مشبک فلزي (پوترلانسمان ) به کارگاه و برعکس.","مقطوع"]
["421007"," جابجايي و استقرار وسايل نصب تيرهاي بتني پيش ساخته از محل هر پل به محل پل ديگر.","مقطوع"]
["421101"," تامين علايم و وسايل ايمني براي اطراف ترانشه ها و ميله چاهها و گودهايي که در مسير عبور عابرين و يا وسايط نقليه قرار دارد، در کارهاي رشته شبکه توزيع آب و شبکه جمع آوري فاضلاب و آبرساني روستايي.","مقطوع"]
["421102"," تامين وسايل لازم و برقراري تردد عابرين پياده و وسايط نقليه از روي ترانشه و گودها در کارهاي رشته شبکه توزيع آب و شبکه جمع آوري فاضلاب و آبرساني روستايي.","مقطوع"]
["421103"," تامين مسير مناسب براي تردد عابرين پياده و وسايط نقليه در محلهايي که به علت انجام عمليات، عبور از مسير موجود قطع مي شود، در کارهاي رشته شبکه توزيع آب، شبکه جمع آوري فاضلاب و آبرساني روستايي.","مقطوع"]
["421104"," تامين روشنايي و تهويه مناسب در داخل نقب در موارد لازم ، در کارهاي رشته شبکه جمع آوري فاضلاب.","مقطوع"]
["421201"," حفظ يا انحراف موقت نهرهاي زراعي موجود در محدوده کارگاه.","مقطوع"]
["421301"," بيمه تجهيز کارگاه.","مقطوع"]
["421302"," برچيدن کارگاه","مقطوع"]

{"sheet":"Anb","index":3,"n_rows":8275,"n_cols":19,"rows_kept":4500,"cut":true,"hidden":true,"merged":[],"bounds":{"rows_first":2000,"rows_last":500,"rows_between":2000,"halvings":0}}
[null,null,null,null,null,null,null,null,null,null,null,"نيروي انساني ",1E-8]
[null,null,null,null,null,null,null,null,null,null,null,"ماشين آلات ",9.9999999999999995E-7]
[null,null,null,null,null,null,null,null,null,null,null,"مصالح",1E-4]
[null,null,null,null,null,null,null,null,null,null,null," حمل مصالح ",0.01]
[null,null,null,null,null,null,null,null,null,null,null,null," ","010101",null,null,{"$f":"IF(N5>0,N5,Q4)","v":"010101"}]
[null,null,null,null,null,null,null,null,null,null,null,"متر مربع",null,null,"واحـد :",null,{"$f":"IF(N6>0,N6,Q5)","v":"010101"}]
["کد فراخوانی",null,"مقدار/مقیاس","مقیاس","بهاي كل",null,"ضريب",null,"بهاي واحد","مقـدار","واحــد","ماشين آلات ",null,null,"رديف",null,"010101",{"$f":"IF(IF(O7=\"رديف\",VLOOKUP(L7,Kod,2,0),0)=0,R6,IF(O7=\"رديف\",VLOOKUP(L7,Kod,2,0),0))","v":9.9999999999999995E-7}]
[{"$f":"IF(M8<>\"\",Q8+(P8*R8),\"\")","v":10101.000001},null,5.0000000000000001E-4,1,212.08199999999999,null,1,null,424164,5.0000000000000001E-4,"دستگاه-ساعت","گریدر به قدرت حدود180 اسب بخار باراننده",25010902,null,1,{"$f":"COUNTIF($S$1:S8,Q8+R8)","v":1},"010101",9.9999999999999995E-7,{"$f":"IF(M8<>\"\",Q8+R8,\"\")","v":10101.000001}]
[{"$f":"IF(M9<>\"\",Q9+(P9*R9),\"\")","v":""},null,null,null,null,null,null,null,null,null,null,null,null,"010102",null,{"$f":"COUNTIF($S$1:S9,Q9+R9)","v":0},"010102",9.9999999999999995E-7,{"$f":"IF(M9<>\"\",Q9+R9,\"\")","v":""}]
["",null,null,null,null,null,null,null,null,null,null,"اصله",null,null,"واحـد :",{"$f":"COUNTIF($S$1:S10,Q10+R10)","v":0},"010102",9.9999999999999995E-7,""]
["",null,null,null,null,null,"ضريب",null,"بهاي واحد","مقـدار","واحــد","نيروي انساني ",null,null,"رديف",{"$f":"COUNTIF($S$1:S11,Q11+R11)","v":0},"010102",1E-8,""]
[10102.000000010001,null,0.105,1,5986.3649999999998,null,1,null,57013,0.105,"نفر- ساعت","كارگر ساده",14010102,null,1,{"$f":"COUNTIF($S$1:S12,Q12+R12)","v":1},"010102",1E-8,10102.000000010001]
[10102.00000002,null,1.0500000000000001E-2,1,1041.9780000000001,null,1,null,99236,1.0500000000000001E-2,"نفر ساعت","نجار در و پنجره ساز درجه یک",14120101,null,2,{"$f":"COUNTIF($S$1:S13,Q13+R13)","v":2},"010102",1E-8,10102.000000010001]
[10102.000000030001,null,5.2999999999999999E-2,1,3195.741,null,1,null,60297,5.2999999999999999E-2,"نفر - ساعت","کمک نجار",14120401,null,3,{"$f":"COUNTIF($S$1:S14,Q14+R14)","v":3},"010102",1E-8,10102.000000010001]
["",null,null,null,null,null,"ضريب",null,"بهاي واحد","مقـدار","واحــد","ماشين آلات ",null,null,"رديف",{"$f":"COUNTIF($S$1:S15,Q15+R15)","v":0},"010102",9.9999999999999995E-7,""]
[10102.000001,null,5.2999999999999999E-2,1,92.007999999999996,null,1,null,1736,5.2999999999999999E-2,"دستگاه ساعت","اره بنزینی متحرک چوب",28060203,null,1,{"$f":"COUNTIF($S$1:S16,Q16+R16)","v":1},"010102",9.9999999999999995E-7,10102.000001]
["",null,null,null,null,null,null,null,null,null,null,null,null,"010111",null,{"$f":"COUNTIF($S$1:S17,Q17+R17)","v":0},"010111",9.9999999999999995E-7,""]
["",null,null,null,null,null,null,null,null,null,null,"اصله",null,null,"واحـد :",{"$f":"COUNTIF($S$1:S18,Q18+R18)","v":0},"010111",9.9999999999999995E-7,""]
["",null,null,null,null,null,"ضريب",null,"بهاي واحد","مقـدار","واحــد","نيروي انساني ",null,null,"رديف",{"$f":"COUNTIF($S$1:S19,Q19+R19)","v":0},"010111",1E-8,""]
[10111.000000010001,null,5.2000000000000005E-2,1,3644.7840000000001,null,1,null,70092,5.2000000000000005E-2,"نفر ساعت","متصدی غلطکهای دستی",13040901,null,1,{"$f":"COUNTIF($S$1:S20,Q20+R20)","v":1},"010111",1E-8,10111.000000010001]
[10111.00000002,null,5.1999999999999995E-4,1,34.359000000000002,null,1,null,66075,5.1999999999999995E-4,"نفر ساعت","سر کارگر",14010101,null,2,{"$f":"COUNTIF($S$1:S21,Q21+R21)","v":2},"010111",1E-8,10111.000000010001]
[10111.000000030001,null,5.1999999999999998E-3,1,296.4676,null,1,null,57013,5.1999999999999998E-3,"نفر- ساعت","كارگر ساده",14010102,null,3,{"$f":"COUNTIF($S$1:S22,Q22+R22)","v":3},"010111",1E-8,10111.000000010001]
["",null,null,null,null,null,"ضريب",null,"بهاي واحد","مقـدار","واحــد","ماشين آلات ",null,null,"رديف",{"$f":"COUNTIF($S$1:S23,Q23+R23)","v":0},"010111",9.9999999999999995E-7,""]
[10111.000001,null,4.7999999999999996E-3,1,1664.0639999999999,null,1,null,346680,4.7999999999999996E-3,"دستگاه-ساعت","کامیون کمپرسی به ظرفیت حدود 10 تن با راننده",23020204,null,1,{"$f":"COUNTIF($S$1:S24,Q24+R24)","v":1},"010111",9.9999999999999995E-7,10111.000001]
[10111.000002000001,null,1.1000000000000001E-3,1,366.09429999999998,null,1,null,332813,1.1000000000000001E-3,"ساعت","بولدوزر به قدرت حدود 150 اسب بخار با راننده",25010602,null,2,{"$f":"COUNTIF($S$1:S25,Q25+R25)","v":2},"010111",9.9999999999999995E-7,10111.000001]
[10111.000002999999,null,5.4000000000000001E-4,1,262.09008,null,1,null,485352,5.4000000000000001E-4,"دستگاه-ساعت","بولدوزر به قدرت حدود 200  اسب بخار باراننده",25010603,null,3,{"$f":"COUNTIF($S$1:S26,Q26+R26)","v":3},"010111",9.9999999999999995E-7,10111.000001]
[10111.000004,null,1.6999999999999999E-3,1,618.05539999999996,null,1,null,363562,1.6999999999999999E-3,"دستگاه-ساعت","لودرچرخ لاستيکي به قدرت حدود150  اسب بخار باراننده",25010802,null,4,{"$f":"COUNTIF($S$1:S27,Q27+R27)","v":4},{"$f":"IF(N27>0,N27,Q26)","v":"010111"},9.9999999999999995E-7,{"$f":"IF(M27<>\"\",Q27+R27,\"\")","v":10111.000001}]
[10111.000005,null,5.2000000000000005E-2,1,1040.1559999999999,null,1,null,20003,5.2000000000000005E-2,"دستگاه-ساعت","کمپکتورصفحه ای",25030101,null,5,{"$f":"COUNTIF($S$1:S28,Q28+R28)","v":5},"010111",9.9999999999999995E-7,10111.000001]
[10111.000006,null,2.0000000000000001E-4,1,33,null,1,null,165000,2.0000000000000001E-4,"عدد","بیل",28070101,null,6,{"$f":"COUNTIF($S$1:S29,Q29+R29)","v":6},"010111",9.9999999999999995E-7,10111.000001]
["",null,null,null,null,null,"ضريب",null,"بهاي واحد","مقـدار","واحــد","مصالح",null,null,"رديف",{"$f":"COUNTIF($S$1:S30,Q30+R30)","v":0},"010111",1E-4,""]
[10111.000099999999,null,7.000000000000001E-3,1,75.600000000000009,null,1,null,10800,7.000000000000001E-3,"مترمكعب","آب لوله کشی شهری",31010101,null,1,{"$f":"COUNTIF($S$1:S31,Q31+R31)","v":1},"010111",1E-4,10111.000099999999]
[10111.0002,null,3.0000000000000001E-3,1,28.413,null,1,null,9471,3.0000000000000001E-3,"مترمكعب","آب چاه و قنات",31010301,null,2,{"$f":"COUNTIF($S$1:S32,Q32+R32)","v":2},"010111",1E-4,10111.000099999999]
["",null,null,null,null,null,"ضريب",null,"بهاي واحد","مقـدار","واحــد"," حمل مصالح ",null,null,"رديف",{"$f":"COUNTIF($S$1:S33,Q33+R33)","v":0},"010111",0.01,""]
[10111.01,null,3.0000000000000001E-3,1,99.638999999999996,null,1,null,33213,3.0000000000000001E-3,"مترمكعب","حمل آب چاه قنات و رودخانه",41010101,null,1,{"$f":"COUNTIF($S$1:S34,Q34+R34)","v":1},"010111",0.01,10111.01]
["",null,null,null,null,null,null,null,null,null,null,null,null,"010112",null,{"$f":"COUNTIF($S$1:S35,Q35+R35)","v":0},"010112",0.01,""]
["",null,null,null,null,null,null,null,null,null,null,"اصله",null,null,"واحـد :",{"$f":"COUNTIF($S$1:S36,Q36+R36)","v":0},"010112",0.01,""]
["",null,null,null,null,null,"ضريب",null,"بهاي واحد","مقـدار","واحــد","نيروي انساني ",null,null,"رديف",{"$f":"COUNTIF($S$1:S37,Q37+R37)","v":0},"010112",1E-8,""]
[10112.000000010001,null,0.25790000000000002,1,18076.726800000004,null,1,null,70092,0.25790000000000002,"نفر ساعت","متصدی غلطکهای دستی",13040901,null,1,{"$f":"COUNTIF($S$1:S38,Q38+R38)","v":1},"010112",1E-8,10112.000000010001]
[10112.00000002,null,2.5999999999999999E-3,1,171.79499999999999,null,1,null,66075,2.5999999999999999E-3,"نفر ساعت","سر کارگر",14010101,null,2,{"$f":"COUNTIF($S$1:S39,Q39+R39)","v":2},"010112",1E-8,10112.000000010001]
[10112.000000030001,null,2.6000000000000002E-2,1,1482.338,null,1,null,57013,2.6000000000000002E-2,"نفر- ساعت","كارگر ساده",14010102,null,3,{"$f":"COUNTIF($S$1:S40,Q40+R40)","v":3},"010112",1E-8,10112.000000010001]
["",null,null,null,null,null,"ضريب",null,"بهاي واحد","مقـدار","واحــد","ماشين آلات ",null,null,"رديف",{"$f":"COUNTIF($S$1:S41,Q41+R41)","v":0},"010112",9.9999999999999995E-7,""]
[10112.000001,null,2.4E-2,1,8320.32,null,1,null,346680,2.4E-2,"دستگاه-ساعت","کامیون کمپرسی به ظرفیت حدود 10 تن با راننده",23020204,null,1,{"$f":"COUNTIF($S$1:S42,Q42+R42)","v":1},"010112",9.9999999999999995E-7,10112.000001]
[10112.000002000001,null,5.3E-3,1,1763.9089000000001,null,1,null,332813,5.3E-3,"ساعت","بولدوزر به قدرت حدود 150 اسب بخار با راننده",25010602,null,2,{"$f":"COUNTIF($S$1:S43,Q43+R43)","v":2},"010112",9.9999999999999995E-7,10112.000001]
[10112.000002999999,null,2.7000000000000001E-3,1,1310.4503999999999,null,1,null,485352,2.7000000000000001E-3,"دستگاه-ساعت","بولدوزر به قدرت حدود 200  اسب بخار باراننده",25010603,null,3,{"$f":"COUNTIF($S$1:S44,Q44+R44)","v":3},"010112",9.9999999999999995E-7,10112.000001]
[10112.000004,null,8.3999999999999995E-3,1,3053.9208000000003,null,1,null,363562,8.3999999999999995E-3,"دستگاه-ساعت","لودرچرخ لاستيکي به قدرت حدود150  اسب بخار باراننده",25010802,null,4,{"$f":"COUNTIF($S$1:S45,Q45+R45)","v":4},"010112",9.9999999999999995E-7,10112.000001]
[10112.000005,null,0.25790000000000002,1,5158.7737000000006,null,1,null,20003,0.25790000000000002,"دستگاه-ساعت","کمپکتورصفحه ای",25030101,null,5,{"$f":"COUNTIF($S$1:S46,Q46+R46)","v":5},"010112",9.9999999999999995E-7,10112.000001]
[10112.000006,null,8.4999999999999995E-4,1,140.24999999999997,null,1,null,165000,8.4999999999999995E-4,"عدد","بیل",28070101,null,6,{"$f":"COUNTIF($S$1:S47,Q47+R47)","v":6},"010112",9.9999999999999995E-7,10112.000001]
["",null,null,null,null,null,"ضريب",null,"بهاي واحد","مقـدار","واحــد","مصالح",null,null,"رديف",{"$f":"COUNTIF($S$1:S48,Q48+R48)","v":0},"010112",1E-4,""]
[10112.000099999999,null,3.5000000000000003E-2,1,378.00000000000006,null,1,null,10800,3.5000000000000003E-2,"مترمكعب","آب لوله کشی شهری",31010101,null,1,{"$f":"COUNTIF($S$1:S49,Q49+R49)","v":1},"010112",1E-4,10112.000099999999]
[10112.0002,null,1.4999999999999999E-2,1,142.065,null,1,null,9471,1.4999999999999999E-2,"مترمكعب","آب چاه و قنات",31010301,null,2,{"$f":"COUNTIF($S$1:S50,Q50+R50)","v":2},"010112",1E-4,10112.000099999999]
["",null,null,null,null,null,"ضريب",null,"بهاي واحد","مقـدار","واحــد"," حمل مصالح ",null,null,"رديف",{"$f":"COUNTIF($S$1:S51,Q51+R51)","v":0},"010112",0.01,""]
[10112.01,null,1.4999999999999999E-2,1,498.19499999999999,null,1,null,33213,1.4999999999999999E-2,"مترمكعب","حمل آب چاه قنات و رودخانه",41010101,null,1,{"$f":"COUNTIF($S$1:S52,Q52+R52)","v":1},"010112",0.01,10112.01]
["",null,null,null,null,null,null,null,null,null,null,null,null,"010113",null,{"$f":"COUNTIF($S$1:S53,Q53+R53)","v":0},"010113",0.01,""]
["",null,null,null,null,null,null,null,null,null,null,"اصله",null,null,"واحـد :",{"$f":"COUNTIF($S$1:S54,Q54+R54)","v":0},"010113",0.01,""]
["",null,null,null,null,null,"ضريب",null,"بهاي واحد","مقـدار","واحــد","نيروي انساني ",null,null,"رديف",{"$f":"COUNTIF($S$1:S55,Q55+R55)","v":0},"010113",1E-8,""]
[10113.000000010001,null,0.85099999999999998,1,59648.292000000001,null,1,null,70092,0.85099999999999998,"نفر ساعت","متصدی غلطکهای دستی",13040901,null,1,{"$f":"COUNTIF($S$1:S56,Q56+R56)","v":1},"010113",1E-8,10113.000000010001]
[10113.00000002,null,8.6E-3,1,568.245,null,1,null,66075,8.6E-3,"نفر ساعت","سر کارگر",14010101,null,2,{"$f":"COUNTIF($S$1:S57,Q57+R57)","v":2},"010113",1E-8,10113.000000010001]
[10113.000000030001,null,8.5800000000000001E-2,1,4891.7154,null,1,null,57013,8.5800000000000001E-2,"نفر- ساعت","كارگر ساده",14010102,null,3,{"$f":"COUNTIF($S$1:S58,Q58+R58)","v":3},"010113",1E-8,10113.000000010001]
["",null,null,null,null,null,"ضريب",null,"بهاي واحد","مقـدار","واحــد","ماشين آلات ",null,null,"رديف",{"$f":"COUNTIF($S$1:S59,Q59+R59)","v":0},"010113",9.9999999999999995E-7,""]
[10113.000001,null,7.9200000000000007E-2,1,27457.056,null,1,null,346680,7.9200000000000007E-2,"دستگاه-ساعت","کامیون کمپرسی به ظرفیت حدود 10 تن با راننده",23020204,null,1,{"$f":"COUNTIF($S$1:S60,Q60+R60)","v":1},"010113",9.9999999999999995E-7,10113.000001]
[10113.000002000001,null,1.7500000000000002E-2,1,5824.2275000000009,null,1,null,332813,1.7500000000000002E-2,"ساعت","بولدوزر به قدرت حدود 150 اسب بخار با راننده",25010602,null,2,{"$f":"COUNTIF($S$1:S61,Q61+R61)","v":2},"010113",9.9999999999999995E-7,10113.000001]
[10113.000002999999,null,8.8999999999999999E-3,1,4319.6328000000003,null,1,null,485352,8.8999999999999999E-3,"دستگاه-ساعت","بولدوزر به قدرت حدود 200  اسب بخار باراننده",25010603,null,3,{"$f":"COUNTIF($S$1:S62,Q62+R62)","v":3},"010113",9.9999999999999995E-7,10113.000001]
[10113.000004,null,2.8000000000000004E-2,1,10179.736000000001,null,1,null,363562,2.8000000000000004E-2,"دستگاه-ساعت","لودرچرخ لاستيکي به قدرت حدود150  اسب بخار باراننده",25010802,null,4,{"$f":"COUNTIF($S$1:S63,Q63+R63)","v":4},"010113",9.9999999999999995E-7,10113.000001]
[10113.000005,null,0.85099999999999998,1,17022.553,null,1,null,20003,0.85099999999999998,"دستگاه-ساعت","کمپکتورصفحه ای",25030101,null,5,{"$f":"COUNTIF($S$1:S64,Q64+R64)","v":5},"010113",9.9999999999999995E-7,10113.000001]
[10113.000006,null,2.7999999999999995E-3,1,461.99999999999994,null,1,null,165000,2.7999999999999995E-3,"عدد","بیل",28070101,null,6,{"$f":"COUNTIF($S$1:S65,Q65+R65)","v":6},"010113",9.9999999999999995E-7,10113.000001]
["",null,null,null,null,null,"ضريب",null,"بهاي واحد","مقـدار","واحــد","مصالح",null,null,"رديف",{"$f":"COUNTIF($S$1:S66,Q66+R66)","v":0},"010113",1E-4,""]
[10113.000099999999,null,0.11,1,1188,null,1,null,10800,0.11,"مترمكعب","آب لوله کشی شهری",31010101,null,1,{"$f":"COUNTIF($S$1:S67,Q67+R67)","v":1},"010113",1E-4,10113.000099999999]
[10113.0002,null,5.5E-2,1,520.90499999999997,null,1,null,9471,5.5E-2,"مترمكعب","آب چاه و قنات",31010301,null,2,{"$f":"COUNTIF($S$1:S68,Q68+R68)","v":2},"010113",1E-4,10113.000099999999]
["",null,null,null,null,null,"ضريب",null,"بهاي واحد","مقـدار","واحــد"," حمل مصالح ",null,null,"رديف",{"$f":"COUNTIF($S$1:S69,Q69+R69)","v":0},"010113",0.01,""]
[10113.01,null,5.5E-2,1,1826.7149999999999,null,1,null,33213,5.5E-2,"مترمكعب","حمل آب چاه قنات و رودخانه",41010101,null,1,{"$f":"COUNTIF($S$1:S70,Q70+R70)","v":1},"010113",0.01,10113.01]
["",null,null,null,null,null,null,null,null,null,null,null,null,"010114",null,{"$f":"COUNTIF($S$1:S71,Q71+R71)","v":0},"010114",{"$f":"IF(IF(O71=\"رديف\",VLOOKUP(L71,Kod,2,0),0)=0,R70,IF(O71=\"رديف\",VLOOKUP(L71,Kod,2,0),0))","v":0.01},""]
["",null,null,null,null,null,null,null,null,null,null,"اصله",null,null,"واحـد :",{"$f":"COUNTIF($S$1:S72,Q72+R72)","v":0},"010114",0.01,""]
[{"$f":"IF(M73<>\"\",Q73+(P73*R73),\"\")","v":""},null,null,null,null,null,"ضريب",null,"بهاي واحد","مقـدار","واحــد","نيروي انساني ",null,null,"رديف",{"$f":"COUNTIF($S$1:S73,Q73+R73)","v":0},"010114",1E-8,""]
[10114.000000010001,null,1.3620000000000001,1,95465.304000000004,null,1,null,70092,1.3620000000000001,"نفر ساعت","متصدی غلطکهای دستی",13040901,null,1,{"$f":"COUNTIF($S$1:S74,Q74+R74)","v":1},"010114",1E-8,10114.000000010001]
[10114.00000002,null,1.38E-2,1,911.83500000000004,null,1,null,66075,1.38E-2,"نفر ساعت","سر کارگر",14010101,null,2,{"$f":"COUNTIF($S$1:S75,Q75+R75)","v":2},"010114",1E-8,10114.000000010001]
[10114.000000030001,null,0.13730000000000001,1,7827.8849,null,1,null,57013,0.13730000000000001,"نفر- ساعت","كارگر ساده",14010102,null,3,{"$f":"COUNTIF($S$1:S76,Q76+R76)","v":3},"010114",1E-8,10114.000000010001]
["",null,null,null,null,null,"ضريب",null,"بهاي واحد","مقـدار","واحــد","ماشين آلات ",null,null,"رديف",{"$f":"COUNTIF($S$1:S77,Q77+R77)","v":0},"010114",9.9999999999999995E-7,""]
[10114.000001,null,0.12670000000000001,1,43924.356,null,1,null,346680,0.12670000000000001,"دستگاه-ساعت","کامیون کمپرسی به ظرفیت حدود 10 تن با راننده",23020204,null,1,{"$f":"COUNTIF($S$1:S78,Q78+R78)","v":1},"010114",9.9999999999999995E-7,10114.000001]
[10114.000002000001,null,2.8000000000000004E-2,1,9318.764000000001,null,1,null,332813,2.8000000000000004E-2,"ساعت","بولدوزر به قدرت حدود 150 اسب بخار با راننده",25010602,null,2,{"$f":"COUNTIF($S$1:S79,Q79+R79)","v":2},"010114",9.9999999999999995E-7,10114.000001]
[10114.000002999999,null,1.4200000000000001E-2,1,6891.9983999999995,null,1,null,485352,1.4200000000000001E-2,"دستگاه-ساعت","بولدوزر به قدرت حدود 200  اسب بخار باراننده",25010603,null,3,{"$f":"COUNTIF($S$1:S80,Q80+R80)","v":3},"010114",9.9999999999999995E-7,10114.000001]
[10114.000004,null,4.4799999999999993E-2,1,16287.577599999997,null,1,null,363562,4.4799999999999993E-2,"دستگاه-ساعت","لودرچرخ لاستيکي به قدرت حدود150  اسب بخار باراننده",25010802,null,4,{"$f":"COUNTIF($S$1:S81,Q81+R81)","v":4},"010114",9.9999999999999995E-7,10114.000001]
[10114.000005,null,1.3620000000000001,1,27244.086000000007,null,1,null,20003,1.3620000000000001,"دستگاه-ساعت","کمپکتورصفحه ای",25030101,null,5,{"$f":"COUNTIF($S$1:S82,Q82+R82)","v":5},"010114",9.9999999999999995E-7,10114.000001]
[10114.000006,null,4.4999999999999997E-3,1,742.49999999999989,null,1,null,165000,4.4999999999999997E-3,"عدد","بیل",28070101,null,6,{"$f":"COUNTIF($S$1:S83,Q83+R83)","v":6},"010114",9.9999999999999995E-7,10114.000001]
["",null,null,null,null,null,"ضريب",null,"بهاي واحد","مقـدار","واحــد","مصالح",null,null,"رديف",{"$f":"COUNTIF($S$1:S84,Q84+R84)","v":0},"010114",1E-4,""]
[10114.000099999999,null,0.17599999999999999,1,1900.7999999999997,null,1,null,10800,0.17599999999999999,"مترمكعب","آب لوله کشی شهری",31010101,null,1,{"$f":"COUNTIF($S$1:S85,Q85+R85)","v":1},"010114",1E-4,10114.000099999999]
[10114.0002,null,8.7999999999999995E-2,1,833.44799999999987,null,1,null,9471,8.7999999999999995E-2,"مترمكعب","آب چاه و قنات",31010301,null,2,{"$f":"COUNTIF($S$1:S86,Q86+R86)","v":2},"010114",1E-4,10114.000099999999]
["",null,null,null,null,null,"ضريب",null,"بهاي واحد","مقـدار","واحــد"," حمل مصالح ",null,null,"رديف",{"$f":"COUNTIF($S$1:S87,Q87+R87)","v":0},"010114",0.01,""]
[10114.01,null,8.7999999999999995E-2,1,2922.7439999999997,null,1,null,33213,8.7999999999999995E-2,"مترمكعب","حمل آب چاه قنات و رودخانه",41010101,null,1,{"$f":"COUNTIF($S$1:S88,Q88+R88)","v":1},"010114",0.01,10114.01]
["",null,null,null,null,null,null,null,null,null,null,null,null,"010115",null,{"$f":"COUNTIF($S$1:S89,Q89+R89)","v":0},"010115",0.01,""]
["",null,null,null,null,null,null,null,null,null,null,"اصله",null,null,"واحـد :",{"$f":"COUNTIF($S$1:S90,Q90+R90)","v":0},"010115",0.01,""]
["",null,null,null,null,null,"ضريب",null,"بهاي واحد","مقـدار","واحــد","نيروي انساني ",null,null,"رديف",{"$f":"COUNTIF($S$1:S91,Q91+R91)","v":0},{"$f":"IF(N91>0,N91,Q90)","v":"010115"},1E-8,{"$f":"IF(M91<>\"\",Q91+R91,\"\")","v":""}]
[10115.000000010001,null,0.13,1,9111.9599999999991,null,1,null,70092,0.13,"نفر ساعت","متصدی غلطکهای دستی",13040901,null,1,{"$f":"COUNTIF($S$1:S92,Q92+R92)","v":1},"010115",1E-8,10115.000000010001]
[10115.00000002,null,1.2999999999999999E-3,1,85.897499999999994,null,1,null,66075,1.2999999999999999E-3,"نفر ساعت","سر کارگر",14010101,null,2,{"$f":"COUNTIF($S$1:S93,Q93+R93)","v":2},"010115",1E-8,10115.000000010001]
[10115.000000030001,null,1.3000000000000001E-2,1,741.16899999999998,null,1,null,57013,1.3000000000000001E-2,"نفر- ساعت","كارگر ساده",14010102,null,3,{"$f":"COUNTIF($S$1:S94,Q94+R94)","v":3},"010115",1E-8,10115.000000010001]
["",null,null,null,null,null,"ضريب",null,"بهاي واحد","مقـدار","واحــد","ماشين آلات ",null,null,"رديف",{"$f":"COUNTIF($S$1:S95,Q95+R95)","v":0},"010115",9.9999999999999995E-7,""]
[10115.000001,null,1.2E-2,1,4160.16,null,1,null,346680,1.2E-2,"دستگاه-ساعت","کامیون کمپرسی به ظرفیت حدود 10 تن با راننده",23020204,null,1,{"$f":"COUNTIF($S$1:S96,Q96+R96)","v":1},"010115",9.9999999999999995E-7,10115.000001]
[10115.000002000001,null,2.5999999999999999E-3,1,865.31380000000001,null,1,null,332813,2.5999999999999999E-3,"ساعت","بولدوزر به قدرت حدود 150 اسب بخار با راننده",25010602,null,2,{"$f":"COUNTIF($S$1:S97,Q97+R97)","v":2},"010115",9.9999999999999995E-7,10115.000001]
[10115.000002999999,null,1.3999999999999998E-3,1,679.49279999999987,null,1,null,485352,1.3999999999999998E-3,"دستگاه-ساعت","بولدوزر به قدرت حدود 200  اسب بخار باراننده",25010603,null,3,{"$f":"COUNTIF($S$1:S98,Q98+R98)","v":3},"010115",9.9999999999999995E-7,10115.000001]
[10115.000004,null,4.1999999999999997E-3,1,1526.9604000000002,null,1,null,363562,4.1999999999999997E-3,"دستگاه-ساعت","لودرچرخ لاستيکي به قدرت حدود150  اسب بخار باراننده",25010802,null,4,{"$f":"COUNTIF($S$1:S99,Q99+R99)","v":4},"010115",9.9999999999999995E-7,10115.000001]
[10115.000005,null,0.13,1,2600.39,null,1,null,20003,0.13,"دستگاه-ساعت","کمپکتورصفحه ای",25030101,null,5,{"$f":"COUNTIF($S$1:S100,Q100+R100)","v":5},"010115",9.9999999999999995E-7,10115.000001]
[10115.000006,null,4.1999999999999997E-3,1,693,null,1,null,165000,4.1999999999999997E-3,"عدد","بیل",28070101,null,6,{"$f":"COUNTIF($S$1:S101,Q101+R101)","v":6},"010115",9.9999999999999995E-7,10115.000001]
["",null,null,null,null,null,"ضريب",null,"بهاي واحد","مقـدار","واحــد","مصالح",null,null,"رديف",{"$f":"COUNTIF($S$1:S102,Q102+R102)","v":0},"010115",1E-4,""]
[10115.000099999999,null,1.7000000000000001E-2,1,183.60000000000002,null,1,null,10800,1.7000000000000001E-2,"مترمكعب","آب لوله کشی شهری",31010101,null,1,{"$f":"COUNTIF($S$1:S103,Q103+R103)","v":1},"010115",1E-4,10115.000099999999]
[10115.0002,null,0.08,1,757.68,null,1,null,9471,0.08,"مترمكعب","آب چاه و قنات",31010301,null,2,{"$f":"COUNTIF($S$1:S104,Q104+R104)","v":2},"010115",1E-4,10115.000099999999]
["",null,null,null,null,null,"ضريب",null,"بهاي واحد","مقـدار","واحــد"," حمل مصالح ",null,null,"رديف",{"$f":"COUNTIF($S$1:S105,Q105+R105)","v":0},"010115",0.01,""]
[10115.01,null,0.08,1,2657.04,null,1,null,33213,0.08,"مترمكعب","حمل آب چاه قنات و رودخانه",41010101,null,1,{"$f":"COUNTIF($S$1:S106,Q106+R106)","v":1},"010115",0.01,10115.01]
["",null,null,null,null,null,null,null,null,null,null,null,null,"010201",null,{"$f":"COUNTIF($S$1:S107,Q107+R107)","v":0},"010201",0.01,""]
["",null,null,null,null,null,null,null,null,null,null,"متر مربع",null,null,"واحـد :",{"$f":"COUNTIF($S$1:S108,Q108+R108)","v":0},"010201",0.01,""]
["",null,null,null,null,null,"ضريب",null,"بهاي واحد","مقـدار","واحــد","نيروي انساني ",null,null,"رديف",{"$f":"COUNTIF($S$1:S109,Q109+R109)","v":0},"010201",1E-8,""]
[10201.000000010001,null,4.8,1,273662.40000000002,null,1,null,57013,4.8,"نفر- ساعت","كارگر ساده",14010102,null,1,{"$f":"COUNTIF($S$1:S110,Q110+R110)","v":1},"010201",1E-8,10201.000000010001]
["",null,null,null,null,null,"ضريب",null,"بهاي واحد","مقـدار","واحــد","ماشين آلات ",null,null,"رديف",{"$f":"COUNTIF($S$1:S111,Q111+R111)","v":0},"010201",9.9999999999999995E-7,""]
[10201.000001,null,4.1666666599999999E-2,1,12358.333313559999,null,1,null,296600,4.1666666599999999E-2,"دستگاه-ساعت","کامیون کمپرسی به ظرفیت حدود5  تن باراننده",23020202,null,1,{"$f":"COUNTIF($S$1:S112,Q112+R112)","v":1},"010201",9.9999999999999995E-7,10201.000001]
[10201.000002000001,null,1.81818181E-2,1,8813.5999603387991,null,1,null,484748,1.81818181E-2,"دستگاه-ساعت","لودر چرخ لاستيکي به قدرت حدود200  اسب بخار باراننده",25010803,null,2,{"$f":"COUNTIF($S$1:S113,Q113+R113)","v":2},"010201",9.9999999999999995E-7,10201.000001]
["",null,null,null,null,null,null,null,null,null,null,null,null,"010202",null,{"$f":"COUNTIF($S$1:S114,Q114+R114)","v":0},"010202",9.9999999999999995E-7,""]
["",null,null,null,null,null,null,null,null,null,null,"متر مربع",null,null,"واحـد :",{"$f":"COUNTIF($S$1:S115,Q115+R115)","v":0},"010202",9.9999999999999995E-7,""]
["",null,null,null,null,null,"ضريب",null,"بهاي واحد","مقـدار","واحــد","نيروي انساني ",null,null,"رديف",{"$f":"COUNTIF($S$1:S116,Q116+R116)","v":0},"010202",1E-8,""]
[10202.000000010001,null,5.5,1,313571.5,null,1,null,57013,5.5,"نفر- ساعت","كارگر ساده",14010102,null,1,{"$f":"COUNTIF($S$1:S117,Q117+R117)","v":1},"010202",1E-8,10202.000000010001]
["",null,null,null,null,null,"ضريب",null,"بهاي واحد","مقـدار","واحــد","ماشين آلات ",null,null,"رديف",{"$f":"COUNTIF($S$1:S118,Q118+R118)","v":0},"010202",9.9999999999999995E-7,""]
[10202.000001,null,4.1666666599999999E-2,1,12358.333313559999,null,1,null,296600,4.1666666599999999E-2,"دستگاه-ساعت","کامیون کمپرسی به ظرفیت حدود5  تن باراننده",23020202,null,1,{"$f":"COUNTIF($S$1:S119,Q119+R119)","v":1},"010202",9.9999999999999995E-7,10202.000001]
[10202.000002000001,null,1.81818181E-2,1,8813.5999603387991,null,1,null,484748,1.81818181E-2,"دستگاه-ساعت","لودر چرخ لاستيکي به قدرت حدود200  اسب بخار باراننده",25010803,null,2,{"$f":"COUNTIF($S$1:S120,Q120+R120)","v":2},"010202",9.9999999999999995E-7,10202.000001]
["",null,null,null,null,null,null,null,null,null,null,null,null,"010301",null,{"$f":"COUNTIF($S$1:S121,Q121+R121)","v":0},"010301",9.9999999999999995E-7,""]
["",null,null,null,null,null,null,null,null,null,null,"مترمكعب",null,null,"واحـد :",{"$f":"COUNTIF($S$1:S122,Q122+R122)","v":0},"010301",9.9999999999999995E-7,""]
["",null,null,null,null,null,"ضريب",null,"بهاي واحد","مقـدار","واحــد","نيروي انساني ",null,null,"رديف",{"$f":"COUNTIF($S$1:S123,Q123+R123)","v":0},"010301",1E-8,""]
[10301.000000010001,null,1.25,1,71266.25,null,0.625,null,57013,2,"نفر- ساعت","كارگر ساده",14010102,null,1,{"$f":"COUNTIF($S$1:S124,Q124+R124)","v":1},"010301",1E-8,10301.000000010001]
["",null,null,null,null,null,"ضريب",null,"بهاي واحد","مقـدار","واحــد","ماشين آلات ",null,null,"رديف",{"$f":"COUNTIF($S$1:S125,Q125+R125)","v":0},"010301",9.9999999999999995E-7,""]
[10301.000001,null,4.1666666599999999E-2,1,12358.333313559999,null,1,null,296600,4.1666666599999999E-2,"دستگاه-ساعت","کامیون کمپرسی به ظرفیت حدود5  تن باراننده",23020202,null,1,{"$f":"COUNTIF($S$1:S126,Q126+R126)","v":1},"010301",9.9999999999999995E-7,10301.000001]
[10301.000002000001,null,1.81818181E-2,1,8813.5999603387991,null,1,null,484748,1.81818181E-2,"دستگاه-ساعت","لودر چرخ لاستيکي به قدرت حدود200  اسب بخار باراننده",25010803,null,2,{"$f":"COUNTIF($S$1:S127,Q127+R127)","v":2},"010301",9.9999999999999995E-7,10301.000001]
["",null,null,null,null,null,null,null,null,null,null,null,null,"010302",null,{"$f":"COUNTIF($S$1:S128,Q128+R128)","v":0},"010302",9.9999999999999995E-7,""]
["",null,null,null,null,null,null,null,null,null,null,"مترمكعب",null,null,"واحـد :",{"$f":"COUNTIF($S$1:S129,Q129+R129)","v":0},"010302",9.9999999999999995E-7,""]
["",null,null,null,null,null,"ضريب",null,"بهاي واحد","مقـدار","واحــد","نيروي انساني ",null,null,"رديف",{"$f":"COUNTIF($S$1:S130,Q130+R130)","v":0},"010302",1E-8,""]
[10302.000000010001,null,2.4,1,136831.20000000001,null,1,null,57013,2.4,"نفر- ساعت","كارگر ساده",14010102,null,1,{"$f":"COUNTIF($S$1:S131,Q131+R131)","v":1},"010302",1E-8,10302.000000010001]
["",null,null,null,null,null,"ضريب",null,"بهاي واحد","مقـدار","واحــد","ماشين آلات ",null,null,"رديف",{"$f":"COUNTIF($S$1:S132,Q132+R132)","v":0},"010302",9.9999999999999995E-7,""]
[10302.000001,null,4.1666666599999999E-2,1,12358.333313559999,null,1,null,296600,4.1666666599999999E-2,"دستگاه-ساعت","کامیون کمپرسی به ظرفیت حدود5  تن باراننده",23020202,null,1,{"$f":"COUNTIF($S$1:S133,Q133+R133)","v":1},"010302",9.9999999999999995E-7,10302.000001]
[10302.000002000001,null,1.81818181E-2,1,8813.5999603387991,null,1,null,484748,1.81818181E-2,"دستگاه-ساعت","لودر چرخ لاستيکي به قدرت حدود200  اسب بخار باراننده",25010803,null,2,{"$f":"COUNTIF($S$1:S134,Q134+R134)","v":2},"010302",9.9999999999999995E-7,10302.000001]
["",null,null,null,null,null,null,null,null,null,null,null,null,"010303",null,{"$f":"COUNTIF($S$1:S135,Q135+R135)","v":0},"010303",{"$f":"IF(IF(O135=\"رديف\",VLOOKUP(L135,Kod,2,0),0)=0,R134,IF(O135=\"رديف\",VLOOKUP(L135,Kod,2,0),0))","v":9.9999999999999995E-7},""]
["",null,null,null,null,null,null,null,null,null,null,"مترمكعب",null,null,"واحـد :",{"$f":"COUNTIF($S$1:S136,Q136+R136)","v":0},"010303",9.9999999999999995E-7,""]
[{"$f":"IF(M137<>\"\",Q137+(P137*R137),\"\")","v":""},null,null,null,null,null,"ضريب",null,"بهاي واحد","مقـدار","واحــد","نيروي انساني ",null,null,"رديف",{"$f":"COUNTIF($S$1:S137,Q137+R137)","v":0},"010303",1E-8,""]
[10303.000000010001,null,2,1,114026,null,1,null,57013,2,"نفر- ساعت","كارگر ساده",14010102,null,1,{"$f":"COUNTIF($S$1:S138,Q138+R138)","v":1},"010303",1E-8,10303.000000010001]
["",null,null,null,null,null,"ضريب",null,"بهاي واحد","مقـدار","واحــد","ماشين آلات ",null,null,"رديف",{"$f":"COUNTIF($S$1:S139,Q139+R139)","v":0},"010303",9.9999999999999995E-7,""]
[10303.000001,null,4.1666666599999999E-2,1,12358.333313559999,null,1,null,296600,4.1666666599999999E-2,"دستگاه-ساعت","کامیون کمپرسی به ظرفیت حدود5  تن باراننده",23020202,null,1,{"$f":"COUNTIF($S$1:S140,Q140+R140)","v":1},"010303",9.9999999999999995E-7,10303.000001]
[10303.000002000001,null,1.81818181E-2,1,8813.5999603387991,null,1,null,484748,1.81818181E-2,"دستگاه-ساعت","لودر چرخ لاستيکي به قدرت حدود200  اسب بخار باراننده",25010803,null,2,{"$f":"COUNTIF($S$1:S141,Q141+R141)","v":2},"010303",9.9999999999999995E-7,10303.000001]
["",null,null,null,null,null,null,null,null,null,null,null,null,"010304",null,{"$f":"COUNTIF($S$1:S142,Q142+R142)","v":0},"010304",9.9999999999999995E-7,""]
["",null,null,null,null,null,null,null,null,null,null,"مترمكعب",null,null,"واحـد :",{"$f":"COUNTIF($S$1:S143,Q143+R143)","v":0},"010304",9.9999999999999995E-7,""]
["",null,null,null,null,null,"ضريب",null,"بهاي واحد","مقـدار","واحــد","نيروي انساني ",null,null,"رديف",{"$f":"COUNTIF($S$1:S144,Q144+R144)","v":0},"010304",1E-8,""]
[10304.000000010001,null,2.4,1,136831.20000000001,null,1,null,57013,2.4,"نفر- ساعت","كارگر ساده",14010102,null,1,{"$f":"COUNTIF($S$1:S145,Q145+R145)","v":1},"010304",1E-8,10304.000000010001]
["",null,null,null,null,null,"ضريب",null,"بهاي واحد","مقـدار","واحــد","ماشين آلات ",null,null,"رديف",{"$f":"COUNTIF($S$1:S146,Q146+R146)","v":0},"010304",9.9999999999999995E-7,""]
[10304.000001,null,4.1666666599999999E-2,1,12358.333313559999,null,1,null,296600,4.1666666599999999E-2,"دستگاه-ساعت","کامیون کمپرسی به ظرفیت حدود5  تن باراننده",23020202,null,1,{"$f":"COUNTIF($S$1:S147,Q147+R147)","v":1},"010304",9.9999999999999995E-7,10304.000001]
[10304.000002000001,null,1.81818181E-2,1,8813.5999603387991,null,1,null,484748,1.81818181E-2,"دستگاه-ساعت","لودر چرخ لاستيکي به قدرت حدود200  اسب بخار باراننده",25010803,null,2,{"$f":"COUNTIF($S$1:S148,Q148+R148)","v":2},"010304",9.9999999999999995E-7,10304.000001]
["",null,null,null,null,null,null,null,null,null,null,null,null,"010305",null,{"$f":"COUNTIF($S$1:S149,Q149+R149)","v":0},"010305",9.9999999999999995E-7,""]
["",null,null,null,null,null,null,null,null,null,null,"مترمكعب",null,null,"واحـد :",{"$f":"COUNTIF($S$1:S150,Q150+R150)","v":0},"010305",9.9999999999999995E-7,""]
["",null,null,null,null,null,"ضريب",null,"بهاي واحد","مقـدار","واحــد","نيروي انساني ",null,null,"رديف",{"$f":"COUNTIF($S$1:S151,Q151+R151)","v":0},"010305",1E-8,""]
[10305.000000010001,null,2,1,114026,null,1,null,57013,2,"نفر- ساعت","كارگر ساده",14010102,null,1,{"$f":"COUNTIF($S$1:S152,Q152+R152)","v":1},"010305",1E-8,10305.000000010001]
["",null,null,null,null,null,"ضريب",null,"بهاي واحد","مقـدار","واحــد","ماشين آلات ",null,null,"رديف",{"$f":"COUNTIF($S$1:S153,Q153+R153)","v":0},"010305",9.9999999999999995E-7,""]
[10305.000001,null,4.1666666599999999E-2,1,12358.333313559999,null,1,null,296600,4.1666666599999999E-2,"دستگاه-ساعت","کامیون کمپرسی به ظرفیت حدود5  تن باراننده",23020202,null,1,{"$f":"COUNTIF($S$1:S154,Q154+R154)","v":1},"010305",9.9999999999999995E-7,10305.000001]
[10305.000002000001,null,1.81818181E-2,1,8813.5999603387991,null,1,null,484748,1.81818181E-2,"دستگاه-ساعت","لودر چرخ لاستيکي به قدرت حدود200  اسب بخار باراننده",25010803,null,2,{"$f":"COUNTIF($S$1:S155,Q155+R155)","v":2},{"$f":"IF(N155>0,N155,Q154)","v":"010305"},9.9999999999999995E-7,{"$f":"IF(M155<>\"\",Q155+R155,\"\")","v":10305.000001}]
["",null,null,null,null,null,null,null,null,null,null,null,null,"010306",null,{"$f":"COUNTIF($S$1:S156,Q156+R156)","v":0},"010306",9.9999999999999995E-7,""]
["",null,null,null,null,null,null,null,null,null,null,"مترمكعب",null,null,"واحـد :",{"$f":"COUNTIF($S$1:S157,Q157+R157)","v":0},"010306",9.9999999999999995E-7,""]
["",null,null,null,null,null,"ضريب",null,"بهاي واحد","مقـدار","واحــد","نيروي انساني ",null,null,"رديف",{"$f":"COUNTIF($S$1:S158,Q158+R158)","v":0},"010306",1E-8,""]
[10306.000000010001,null,5.7937500000000002,1,330319.06874999998,null,1,null,57013,5.7937500000000002,"نفر- ساعت","كارگر ساده",14010102,null,1,{"$f":"COUNTIF($S$1:S159,Q159+R159)","v":1},"010306",1E-8,10306.000000010001]
["",null,null,null,null,null,"ضريب",null,"بهاي واحد","مقـدار","واحــد","ماشين آلات ",null,null,"رديف",{"$f":"COUNTIF($S$1:S160,Q160+R160)","v":0},"010306",9.9999999999999995E-7,""]
[10306.000001,null,0.12,1,35592,null,1,null,296600,0.12,"دستگاه-ساعت","کامیون کمپرسی به ظرفیت حدود5  تن باراننده",23020202,null,1,{"$f":"COUNTIF($S$1:S161,Q161+R161)","v":1},"010306",9.9999999999999995E-7,10306.000001]
["",null,null,null,null,null,null,null,null,null,null,null,null,"010307",null,{"$f":"COUNTIF($S$1:S162,Q162+R162)","v":0},"010307",9.9999999999999995E-7,""]
["",null,null,null,null,null,null,null,null,null,null,"مترمكعب",null,null,"واحـد :",{"$f":"COUNTIF($S$1:S163,Q163+R163)","v":0},"010307",9.9999999999999995E-7,""]
["",null,null,null,null,null,"ضريب",null,"بهاي واحد","مقـدار","واحــد","نيروي انساني ",null,null,"رديف",{"$f":"COUNTIF($S$1:S164,Q164+R164)","v":0},"010307",1E-8,""]
[10307.000000010001,null,3.9,1,273358.8,null,1,null,70092,3.9,"نفر - ساعت","متصدی کمپرسور",13041001,null,1,{"$f":"COUNTIF($S$1:S165,Q165+R165)","v":1},"010307",1E-8,10307.000000010001]
[10307.00000002,null,7.9,1,450402.7,null,1,null,57013,7.9,"نفر- ساعت","كارگر ساده",14010102,null,2,{"$f":"COUNTIF($S$1:S166,Q166+R166)","v":2},"010307",1E-8,10307.000000010001]
[10307.000000030001,null,3.9,1,288440.09999999998,null,1,null,73959,3.9,"نفر- ساعت","چکش گیر (مینور)",14240601,null,3,{"$f":"COUNTIF($S$1:S167,Q167+R167)","v":3},"010307",1E-8,10307.000000010001]
["",null,null,null,null,null,"ضريب",null,"بهاي واحد","مقـدار","واحــد","ماشين آلات ",null,null,"رديف",{"$f":"COUNTIF($S$1:S168,Q168+R168)","v":0},"010307",9.9999999999999995E-7,""]
[10307.000001,null,3.9,1,386696.7,null,1,null,99153,3.9,"دستگاه-ساعت","کمپرسور باظرفیت حدود 5 متر مکعب دردقیقه (180 سی اف ام) با شیلنگ مربوط",25040102,null,1,{"$f":"COUNTIF($S$1:S169,Q169+R169)","v":1},"010307",9.9999999999999995E-7,10307.000001]
[10307.000002000001,null,0.01,1,1650,null,1,null,165000,0.01,"عدد","بیل",28070101,null,2,{"$f":"COUNTIF($S$1:S170,Q170+R170)","v":2},"010307",9.9999999999999995E-7,10307.000001]
[10307.000002999999,null,0.01,1,1900,null,1,null,190000,0.01,"عدد","کلنگ دو سر",28070701,null,3,{"$f":"COUNTIF($S$1:S171,Q171+R171)","v":3},"010307",9.9999999999999995E-7,10307.000001]
[10307.000004,null,3.9,1,43114.5,null,1,null,11055,3.9,"دستگاه ساعت","چکش دج بر 32 کیلوگرم",28110101,null,4,{"$f":"COUNTIF($S$1:S172,Q172+R172)","v":4},"010307",9.9999999999999995E-7,10307.000001]
["",null,null,null,null,null,null,null,null,null,null,null,null,"010308",null,{"$f":"COUNTIF($S$1:S173,Q173+R173)","v":0},"010308",9.9999999999999995E-7,""]
["",null,null,null,null,null,null,null,null,null,null,"مترمكعب",null,null,"واحـد :",{"$f":"COUNTIF($S$1:S174,Q174+R174)","v":0},"010308",9.9999999999999995E-7,""]
["",null,null,null,null,null,"ضريب",null,"بهاي واحد","مقـدار","واحــد","نيروي انساني ",null,null,"رديف",{"$f":"COUNTIF($S$1:S175,Q175+R175)","v":0},"010308",1E-8,""]
[10308.000000010001,null,5.07,1,355366.44,null,1.3,null,70092,3.9,"نفر - ساعت","متصدی کمپرسور",13041001,null,1,{"$f":"COUNTIF($S$1:S176,Q176+R176)","v":1},"010308",1E-8,10308.000000010001]
[10308.00000002,null,10.270000000000001,1,585523.51,null,1.3,null,57013,7.9,"نفر- ساعت","كارگر ساده",14010102,null,2,{"$f":"COUNTIF($S$1:S177,Q177+R177)","v":2},"010308",1E-8,10308.000000010001]
[10308.000000030001,null,10.4,1,769173.6,null,1.3,null,73959,8,"نفر- ساعت","چکش گیر (مینور)",14240601,null,3,{"$f":"COUNTIF($S$1:S178,Q178+R178)","v":3},"010308",1E-8,10308.000000010001]
["",null,null,null,null,null,"ضريب",null,"بهاي واحد","مقـدار","واحــد","ماشين آلات ",null,null,"رديف",{"$f":"COUNTIF($S$1:S179,Q179+R179)","v":0},"010308",9.9999999999999995E-7,""]
[10308.000001,null,5.07,1,502705.71,null,1.3,null,99153,3.9,"دستگاه-ساعت","کمپرسور باظرفیت حدود 5 متر مکعب دردقیقه (180 سی اف ام) با شیلنگ مربوط",25040102,null,1,{"$f":"COUNTIF($S$1:S180,Q180+R180)","v":1},"010308",9.9999999999999995E-7,10308.000001]
[10308.000002000001,null,1.3000000000000001E-2,1,2145,null,1.3,null,165000,0.01,"عدد","بیل",28070101,null,2,{"$f":"COUNTIF($S$1:S181,Q181+R181)","v":2},"010308",9.9999999999999995E-7,10308.000001]
[10308.000002999999,null,1.3000000000000001E-2,1,2470,null,1.3,null,190000,0.01,"عدد","کلنگ دو سر",28070701,null,3,{"$f":"COUNTIF($S$1:S182,Q182+R182)","v":3},"010308",9.9999999999999995E-7,10308.000001]
[10308.000004,null,5.07,1,56048.85,null,1.3,null,11055,3.9,"دستگاه ساعت","چکش دج بر 32 کیلوگرم",28110101,null,4,{"$f":"COUNTIF($S$1:S183,Q183+R183)","v":4},"010308",9.9999999999999995E-7,10308.000001]
["",null,null,null,null,null,null,null,null,null,null,null,null,"010310",null,{"$f":"COUNTIF($S$1:S184,Q184+R184)","v":0},"010310",9.9999999999999995E-7,""]
["",null,null,null,null,null,null,null,null,null,null,"مترمكعب",null,null,"واحـد :",{"$f":"COUNTIF($S$1:S185,Q185+R185)","v":0},"010310",9.9999999999999995E-7,""]
["",null,null,null,null,null,"ضريب",null,"بهاي واحد","مقـدار","واحــد","نيروي انساني ",null,null,"رديف",{"$f":"COUNTIF($S$1:S186,Q186+R186)","v":0},"010310",1E-8,""]
[10310.000000010001,null,3.6,1,205246.8,null,1,null,57013,3.6,"نفر- ساعت","كارگر ساده",14010102,null,1,{"$f":"COUNTIF($S$1:S187,Q187+R187)","v":1},"010310",1E-8,10310.000000010001]
["",null,null,null,null,null,null,null,null,null,null,null,null,"010311",null,{"$f":"COUNTIF($S$1:S188,Q188+R188)","v":0},"010311",1E-8,""]
["",null,null,null,null,null,null,null,null,null,null,"متر طول",null,null,"واحـد :",{"$f":"COUNTIF($S$1:S189,Q189+R189)","v":0},"010311",1E-8,""]
["",null,null,null,null,null,"ضريب",null,"بهاي واحد","مقـدار","واحــد","نيروي انساني ",null,null,"رديف",{"$f":"COUNTIF($S$1:S190,Q190+R190)","v":0},"010311",1E-8,""]
[10311.000000010001,null,0.12770000000000001,1,8950.7484000000022,null,1,null,70092,0.12770000000000001,"نفر - ساعت","متصدی کمپرسور",13041001,null,1,{"$f":"COUNTIF($S$1:S191,Q191+R191)","v":1},"010311",1E-8,10311.000000010001]
[10311.00000002,null,0.25540000000000002,1,14561.120200000003,null,1,null,57013,0.25540000000000002,"نفر- ساعت","كارگر ساده",14010102,null,2,{"$f":"COUNTIF($S$1:S192,Q192+R192)","v":2},"010311",1E-8,10311.000000010001]
[10311.000000030001,null,0.25540000000000002,1,18889.128600000004,null,1,null,73959,0.25540000000000002,"نفر- ساعت","چکش گیر (مینور)",14240601,null,3,{"$f":"COUNTIF($S$1:S193,Q193+R193)","v":3},"010311",1E-8,10311.000000010001]
["",null,null,null,null,null,"ضريب",null,"بهاي واحد","مقـدار","واحــد","ماشين آلات ",null,null,"رديف",{"$f":"COUNTIF($S$1:S194,Q194+R194)","v":0},"010311",9.9999999999999995E-7,""]
[10311.000001,null,0.12770000000000001,1,12661.838100000001,null,1,null,99153,0.12770000000000001,"دستگاه-ساعت","کمپرسور باظرفیت حدود 5 متر مکعب دردقیقه (180 سی اف ام) با شیلنگ مربوط",25040102,null,1,{"$f":"COUNTIF($S$1:S195,Q195+R195)","v":1},"010311",9.9999999999999995E-7,10311.000001]
[10311.000002000001,null,4.0000000000000002E-4,1,66,null,1,null,165000,4.0000000000000002E-4,"عدد","بیل",28070101,null,2,{"$f":"COUNTIF($S$1:S196,Q196+R196)","v":2},"010311",9.9999999999999995E-7,10311.000001]
[10311.000002999999,null,4.0000000000000002E-4,1,76,null,1,null,190000,4.0000000000000002E-4,"عدد","کلنگ دو سر",28070701,null,3,{"$f":"COUNTIF($S$1:S197,Q197+R197)","v":3},"010311",9.9999999999999995E-7,10311.000001]
[10311.000004,null,0.12770000000000001,1,1411.7235000000001,null,1,null,11055,0.12770000000000001,"دستگاه ساعت","چکش دج بر 32 کیلوگرم",28110101,null,4,{"$f":"COUNTIF($S$1:S198,Q198+R198)","v":4},"010311",9.9999999999999995E-7,10311.000001]
["",null,null,null,null,null,null,null,null,null,null,null,null,"010403",null,{"$f":"COUNTIF($S$1:S199,Q199+R199)","v":0},"010403",{"$f":"IF(IF(O199=\"رديف\",VLOOKUP(L199,Kod,2,0),0)=0,R198,IF(O199=\"رديف\",VLOOKUP(L199,Kod,2,0),0))","v":9.9999999999999995E-7},""]
["",null,null,null,null,null,null,null,null,null,null,"متر طول",null,null,"واحـد :",{"$f":"COUNTIF($S$1:S200,Q200+R200)","v":0},"010403",9.9999999999999995E-7,""]
[{"$f":"IF(M201<>\"\",Q201+(P201*R201),\"\")","v":""},null,null,null,null,null,"ضريب",null,"بهاي واحد","مقـدار","واحــد","نيروي انساني ",null,null,"رديف",{"$f":"COUNTIF($S$1:S201,Q201+R201)","v":0},"010403",1E-8,""]
[10403.000000010001,null,1.7826000000000001E-3,1,116.4233886,null,0.89129999999999998,null,65311,2E-3,"نفر- ساعت","کارگر نقشه‌برداري (ميرکش)",12030104,null,1,{"$f":"COUNTIF($S$1:S202,Q202+R202)","v":1},"010403",1E-8,10403.000000010001]
[10403.00000002,null,4.4565000000000004E-3,1,254.07843449999996,null,0.89129999999999998,null,57013,5.0000000000000001E-3,"نفر- ساعت","كارگر ساده",14010102,null,2,{"$f":"COUNTIF($S$1:S203,Q203+R203)","v":2},"010403",1E-8,10403.000000010001]
[10403.000000030001,null,6.2390999999999987E-4,1,99.546712229999969,null,0.89129999999999998,null,159553,6.9999999999999988E-4,"نفر- ساعت","مباشر عملیات خاکی با سابقه بیش از 10 سال",14240301,null,3,{"$f":"COUNTIF($S$1:S204,Q204+R204)","v":3},"010403",1E-8,10403.000000010001]
["",null,null,null,null,null,"ضريب",null,"بهاي واحد","مقـدار","واحــد","ماشين آلات ",null,null,"رديف",{"$f":"COUNTIF($S$1:S205,Q205+R205)","v":0},"010403",9.9999999999999995E-7,""]
[10403.000001,null,1.3328E-2,1,12886.256767999999,null,0.83299999999999996,null,966856,1.6E-2,"دستگاه ساعت","ماشین شیار زن",22030801,null,1,{"$f":"COUNTIF($S$1:S206,Q206+R206)","v":1},"010403",9.9999999999999995E-7,10403.000001]
[10403.000002000001,null,4.165E-2,1,13234.120900000002,null,0.83299999999999996,null,317746,0.05,"عدد","ناخن ماشین شیار زن",22030802,null,2,{"$f":"COUNTIF($S$1:S207,Q207+R207)","v":2},"010403",9.9999999999999995E-7,10403.000001]
[10403.000002999999,null,1.3328E-2,1,2048.6468799999998,null,0.83299999999999996,null,153710,1.6E-2,"دستگاه-ساعت","وانت 5 /1 تن باراننده",23010503,null,3,{"$f":"COUNTIF($S$1:S208,Q208+R208)","v":3},"010403",9.9999999999999995E-7,10403.000001]
["",null,null,null,null,null,"ضريب",null,"بهاي واحد","مقـدار","واحــد","مصالح",null,null,"رديف",{"$f":"COUNTIF($S$1:S209,Q209+R209)","v":0},"010403",1E-4,""]
[10403.000099999999,null,1.6659999999999999E-3,1,17.992799999999999,null,0.83299999999999996,null,10800,2E-3,"مترمكعب","آب لوله کشی شهری",31010101,null,1,{"$f":"COUNTIF($S$1:S210,Q210+R210)","v":1},"010403",1E-4,10403.000099999999]
[10403.0002,null,4.165E-2,1,124.95,null,0.83299999999999996,null,3000,0.05,"لیتر","گازوییل",34010301,null,2,{"$f":"COUNTIF($S$1:S211,Q211+R211)","v":2},"010403",1E-4,10403.000099999999]
["",null,null,null,null,null,null,null,null,null,null,null,null,"010404",null,{"$f":"COUNTIF($S$1:S212,Q212+R212)","v":0},"010404",1E-4,""]
["",null,null,null,null,null,null,null,null,null,null,"متر طول",null,null,"واحـد :",{"$f":"COUNTIF($S$1:S213,Q213+R213)","v":0},"010404",1E-4,""]
["",null,null,null,null,null,"ضريب",null,"بهاي واحد","مقـدار","واحــد","نيروي انساني ",null,null,"رديف",{"$f":"COUNTIF($S$1:S214,Q214+R214)","v":0},"010404",1E-8,""]
[10404.000000010001,null,1.7826000000000002E-4,1,11.642338860000001,null,0.89129999999999998,null,65311,2.0000000000000001E-4,"نفر- ساعت","کارگر نقشه‌برداري (ميرکش)",12030104,null,1,{"$f":"COUNTIF($S$1:S215,Q215+R215)","v":1},"010404",1E-8,10404.000000010001]
[10404.00000002,null,4.4565000000000002E-4,1,25.407843450000001,null,0.89129999999999998,null,57013,5.0000000000000001E-4,"نفر- ساعت","كارگر ساده",14010102,null,2,{"$f":"COUNTIF($S$1:S216,Q216+R216)","v":2},"010404",1E-8,10404.000000010001]
[10404.000000030001,null,8.9130000000000009E-5,1,14.220958889999999,null,0.89129999999999998,null,159553,1E-4,"نفر- ساعت","مباشر عملیات خاکی با سابقه بیش از 10 سال",14240301,null,3,{"$f":"COUNTIF($S$1:S217,Q217+R217)","v":3},"010404",1E-8,10404.000000010001]
["",null,null,null,null,null,"ضريب",null,"بهاي واحد","مقـدار","واحــد","ماشين آلات ",null,null,"رديف",{"$f":"COUNTIF($S$1:S218,Q218+R218)","v":0},"010404",9.9999999999999995E-7,""]
[10404.000001,null,1.1661999999999998E-3,1,1127.5474671999996,null,0.83299999999999996,null,966856,1.3999999999999998E-3,"دستگاه ساعت","ماشین شیار زن",22030801,null,1,{"$f":"COUNTIF($S$1:S219,Q219+R219)","v":1},{"$f":"IF(N219>0,N219,Q218)","v":"010404"},9.9999999999999995E-7,{"$f":"IF(M219<>\"\",Q219+R219,\"\")","v":10404.000001}]
[10404.000002000001,null,3.7484999999999997E-3,1,1191.0708809999999,null,0.83299999999999996,null,317746,4.4999999999999997E-3,"عدد","ناخن ماشین شیار زن",22030802,null,2,{"$f":"COUNTIF($S$1:S220,Q220+R220)","v":2},"010404",9.9999999999999995E-7,10404.000001]
[10404.000002999999,null,1.1661999999999998E-3,1,179.25660199999999,null,0.83299999999999996,null,153710,1.3999999999999998E-3,"دستگاه-ساعت","وانت 5 /1 تن باراننده",23010503,null,3,{"$f":"COUNTIF($S$1:S221,Q221+R221)","v":3},"010404",9.9999999999999995E-7,10404.000001]
["",null,null,null,null,null,"ضريب",null,"بهاي واحد","مقـدار","واحــد","مصالح",null,null,"رديف",{"$f":"COUNTIF($S$1:S222,Q222+R222)","v":0},"010404",1E-4,""]
[10404.000099999999,null,1.6660000000000001E-4,1,1.79928,null,0.83299999999999996,null,10800,2.0000000000000001E-4,"مترمكعب","آب لوله کشی شهری",31010101,null,1,{"$f":"COUNTIF($S$1:S223,Q223+R223)","v":1},"010404",1E-4,10404.000099999999]
[10404.0002,null,3.7484999999999997E-3,1,11.2455,null,0.83299999999999996,null,3000,4.4999999999999997E-3,"لیتر","گازوییل",34010301,null,2,{"$f":"COUNTIF($S$1:S224,Q224+R224)","v":2},"010404",1E-4,10404.000099999999]
["",null,null,null,null,null,null,null,null,null,null,null,null,"010405",null,{"$f":"COUNTIF($S$1:S225,Q225+R225)","v":0},"010405",1E-4,""]
["",null,null,null,null,null,null,null,null,null,null,"متر طول",null,null,"واحـد :",{"$f":"COUNTIF($S$1:S226,Q226+R226)","v":0},"010405",1E-4,""]
["",null,null,null,null,null,"ضريب",null,"بهاي واحد","مقـدار","واحــد","نيروي انساني ",null,null,"رديف",{"$f":"COUNTIF($S$1:S227,Q227+R227)","v":0},"010405",1E-8,""]
[10405.000000010001,null,3.0304199999999998E-3,1,197.91976062000001,null,0.89129999999999998,null,65311,3.3999999999999998E-3,"نفر- ساعت","کارگر نقشه‌برداري (ميرکش)",12030104,null,1,{"$f":"COUNTIF($S$1:S228,Q228+R228)","v":1},"010405",1E-8,10405.000000010001]
[10405.00000002,null,3.7818200000000003E-2,1,3474.5471250000001,null,0.83299999999999996,null,91875,4.5400000000000003E-2,"نفر ساعت","اپراتور دستگاه برش آسفالت ( کاتر )",13041801,null,2,{"$f":"COUNTIF($S$1:S229,Q229+R229)","v":2},"010405",1E-8,10405.000000010001]
[10405.000000030001,null,6.2390999999999987E-4,1,99.546712229999969,null,0.89129999999999998,null,159553,6.9999999999999988E-4,"نفر- ساعت","مباشر عملیات خاکی با سابقه بیش از 10 سال",14240301,null,3,{"$f":"COUNTIF($S$1:S230,Q230+R230)","v":3},"010405",1E-8,10405.000000010001]
["",null,null,null,null,null,"ضريب",null,"بهاي واحد","مقـدار","واحــد","ماشين آلات ",null,null,"رديف",{"$f":"COUNTIF($S$1:S231,Q231+R231)","v":0},"010405",9.9999999999999995E-7,""]
[10405.000001,null,3.3320000000000002E-2,1,1333.9995199999998,null,0.83299999999999996,null,40036,0.04,"دستگاه ساعت","دستگاه برش آسفالت (کاتر)",22030701,null,1,{"$f":"COUNTIF($S$1:S232,Q232+R232)","v":1},"010405",9.9999999999999995E-7,10405.000001]
[10405.000002000001,null,4.1649999999999999E-4,1,808.59643199999994,null,0.83299999999999996,null,1941408,5.0000000000000001E-4,"عدد","تیغه برش کاتر",22030702,null,2,{"$f":"COUNTIF($S$1:S233,Q233+R233)","v":2},"010405",9.9999999999999995E-7,10405.000001]
[10405.000002999999,null,8.3300000000000006E-3,1,3533.2861199999998,null,0.83299999999999996,null,424164,0.01,"دستگاه ساعت","بيل مکانيکي چرخ لاستيکي یا زنجیری به قدرت حدود100 اسب بخار با راننده",25010202,null,3,{"$f":"COUNTIF($S$1:S234,Q234+R234)","v":3},"010405",9.9999999999999995E-7,10405.000001]
["",null,null,null,null,null,null,null,null,null,null,null,null,"010406",null,{"$f":"COUNTIF($S$1:S235,Q235+R235)","v":0},"010406",9.9999999999999995E-7,""]
["",null,null,null,null,null,null,null,null,null,null,"متر طول",null,null,"واحـد :",{"$f":"COUNTIF($S$1:S236,Q236+R236)","v":0},"010406",9.9999999999999995E-7,""]
["",null,null,null,null,null,"ضريب",null,"بهاي واحد","مقـدار","واحــد","نيروي انساني ",null,null,"رديف",{"$f":"COUNTIF($S$1:S237,Q237+R237)","v":0},"010406",1E-8,""]
[10406.000000010001,null,3.5652000000000004E-4,1,23.284677720000001,null,0.89129999999999998,null,65311,4.0000000000000002E-4,"نفر- ساعت","کارگر نقشه‌برداري (ميرکش)",12030104,null,1,{"$f":"COUNTIF($S$1:S238,Q238+R238)","v":1},"010406",1E-8,10406.000000010001]
[10406.00000002,null,4.8313999999999996E-3,1,443.88487500000002,null,0.83299999999999996,null,91875,5.7999999999999996E-3,"نفر ساعت","اپراتور دستگاه برش آسفالت ( کاتر )",13041801,null,2,{"$f":"COUNTIF($S$1:S239,Q239+R239)","v":2},"010406",1E-8,10406.000000010001]
[10406.000000030001,null,8.9130000000000009E-5,1,14.220958889999999,null,0.89129999999999998,null,159553,1E-4,"نفر- ساعت","مباشر عملیات خاکی با سابقه بیش از 10 سال",14240301,null,3,{"$f":"COUNTIF($S$1:S240,Q240+R240)","v":3},"010406",1E-8,10406.000000010001]
["",null,null,null,null,null,"ضريب",null,"بهاي واحد","مقـدار","واحــد","ماشين آلات ",null,null,"رديف",{"$f":"COUNTIF($S$1:S241,Q241+R241)","v":0},"010406",9.9999999999999995E-7,""]
[10406.000001,null,4.2483E-3,1,170.08493880000003,null,0.83299999999999996,null,40036,5.1000000000000004E-3,"دستگاه ساعت","دستگاه برش آسفالت (کاتر)",22030701,null,1,{"$f":"COUNTIF($S$1:S242,Q242+R242)","v":1},"010406",9.9999999999999995E-7,10406.000001]
[10406.000002000001,null,4.9979999999999999E-5,1,97.031571839999998,null,0.83299999999999996,null,1941408,6.0000000000000002E-5,"عدد","تیغه برش کاتر",22030702,null,2,{"$f":"COUNTIF($S$1:S243,Q243+R243)","v":2},"010406",9.9999999999999995E-7,10406.000001]
[10406.000002999999,null,1.0828999999999999E-3,1,459.32719560000004,null,0.83299999999999996,null,424164,1.2999999999999999E-3,"دستگاه ساعت","بيل مکانيکي چرخ لاستيکي یا زنجیری به قدرت حدود100 اسب بخار با راننده",25010202,null,3,{"$f":"COUNTIF($S$1:S244,Q244+R244)","v":3},"010406",9.9999999999999995E-7,10406.000001]
["",null,null,null,null,null,null,null,null,null,null,null,null,"010407",null,{"$f":"COUNTIF($S$1:S245,Q245+R245)","v":0},"010407",9.9999999999999995E-7,""]
["",null,null,null,null,null,null,null,null,null,null,"متر مربع",null,null,"واحـد :",{"$f":"COUNTIF($S$1:S246,Q246+R246)","v":0},"010407",9.9999999999999995E-7,""]
["",null,null,null,null,null,"ضريب",null,"بهاي واحد","مقـدار","واحــد","نيروي انساني ",null,null,"رديف",{"$f":"COUNTIF($S$1:S247,Q247+R247)","v":0},"010407",1E-8,""]
[10407.000000010001,null,5.1000000000000004E-3,1,336.98250000000002,null,1,null,66075,5.1000000000000004E-3,"نفر ساعت","سر کارگر",14010101,null,1,{"$f":"COUNTIF($S$1:S248,Q248+R248)","v":1},"010407",1E-8,10407.000000010001]
[10407.00000002,null,1.52E-2,1,866.59759999999994,null,1,null,57013,1.52E-2,"نفر- ساعت","كارگر ساده",14010102,null,2,{"$f":"COUNTIF($S$1:S249,Q249+R249)","v":2},"010407",1E-8,10407.000000010001]
["",null,null,null,null,null,"ضريب",null,"بهاي واحد","مقـدار","واحــد","ماشين آلات ",null,null,"رديف",{"$f":"COUNTIF($S$1:S250,Q250+R250)","v":0},"010407",9.9999999999999995E-7,""]
[10407.000001,null,0.03,1,14560.56,null,1,null,485352,0.03,"دستگاه-ساعت","بولدوزر به قدرت حدود 200  اسب بخار باراننده",25010603,null,1,{"$f":"COUNTIF($S$1:S251,Q251+R251)","v":1},"010407",9.9999999999999995E-7,10407.000001]
["",null,null,null,null,null,null,null,null,null,null,null,null,"010408",null,{"$f":"COUNTIF($S$1:S252,Q252+R252)","v":0},"010408",9.9999999999999995E-7,""]
["",null,null,null,null,null,null,null,null,null,null,"متر مربع",null,null,"واحـد :",{"$f":"COUNTIF($S$1:S253,Q253+R253)","v":0},"010408",9.9999999999999995E-7,""]
["",null,null,null,null,null,"ضريب",null,"بهاي واحد","مقـدار","واحــد","نيروي انساني ",null,null,"رديف",{"$f":"COUNTIF($S$1:S254,Q254+R254)","v":0},"010408",1E-8,""]
[10408.000000010001,null,5.1000000000000004E-3,1,336.98250000000002,null,1,null,66075,5.1000000000000004E-3,"نفر ساعت","سر کارگر",14010101,null,1,{"$f":"COUNTIF($S$1:S255,Q255+R255)","v":1},"010408",1E-8,10408.000000010001]
[10408.00000002,null,1.52E-2,1,866.59759999999994,null,1,null,57013,1.52E-2,"نفر- ساعت","كارگر ساده",14010102,null,2,{"$f":"COUNTIF($S$1:S256,Q256+R256)","v":2},"010408",1E-8,10408.000000010001]
["",null,null,null,null,null,"ضريب",null,"بهاي واحد","مقـدار","واحــد","ماشين آلات ",null,null,"رديف",{"$f":"COUNTIF($S$1:S257,Q257+R257)","v":0},"010408",9.9999999999999995E-7,""]
[10408.000001,null,4.4999999999999997E-3,1,2184.0839999999998,null,1,null,485352,4.4999999999999997E-3,"دستگاه-ساعت","بولدوزر به قدرت حدود 200  اسب بخار باراننده",25010603,null,1,{"$f":"COUNTIF($S$1:S258,Q258+R258)","v":1},"010408",9.9999999999999995E-7,10408.000001]
["",null,null,null,null,null,null,null,null,null,null,null,null,"010409",null,{"$f":"COUNTIF($S$1:S259,Q259+R259)","v":0},"010409",9.9999999999999995E-7,""]
["",null,null,null,null,null,null,null,null,null,null,"متر مربع",null,null,"واحـد :",{"$f":"COUNTIF($S$1:S260,Q260+R260)","v":0},"010409",9.9999999999999995E-7,""]
["",null,null,null,null,null,"ضريب",null,"بهاي واحد","مقـدار","واحــد","نيروي انساني ",null,null,"رديف",{"$f":"COUNTIF($S$1:S261,Q261+R261)","v":0},"010409",1E-8,""]
[10409.000000010001,null,1.5150399999999998E-3,1,98.948777440000015,null,0.4456,null,65311,3.3999999999999998E-3,"نفر- ساعت","کارگر نقشه‌برداري (ميرکش)",12030104,null,1,{"$f":"COUNTIF($S$1:S262,Q262+R262)","v":1},"010409",1E-8,10409.000000010001]
[10409.00000002,null,1.8909100000000002E-2,1,1737.2735625,null,0.41649999999999998,null,91875,4.5400000000000003E-2,"نفر ساعت","اپراتور دستگاه برش آسفالت ( کاتر )",13041801,null,2,{"$f":"COUNTIF($S$1:S263,Q263+R263)","v":2},"010409",{"$f":"IF(IF(O263=\"رديف\",VLOOKUP(L263,Kod,2,0),0)=0,R262,IF(O263=\"رديف\",VLOOKUP(L263,Kod,2,0),0))","v":1E-8},10409.000000010001]
[10409.000000030001,null,3.1191999999999993E-4,1,49.767771759999995,null,0.4456,null,159553,6.9999999999999988E-4,"نفر- ساعت","مباشر عملیات خاکی با سابقه بیش از 10 سال",14240301,null,3,{"$f":"COUNTIF($S$1:S264,Q264+R264)","v":3},"010409",1E-8,10409.000000010001]
[{"$f":"IF(M265<>\"\",Q265+(P265*R265),\"\")","v":""},null,null,null,null,null,"ضريب",null,"بهاي واحد","مقـدار","واحــد","ماشين آلات ",null,null,"رديف",{"$f":"COUNTIF($S$1:S265,Q265+R265)","v":0},"010409",9.9999999999999995E-7,""]
[10409.000001,null,1.6660000000000001E-2,1,666.99975999999992,null,0.41649999999999998,null,40036,0.04,"دستگاه ساعت","دستگاه برش آسفالت (کاتر)",22030701,null,1,{"$f":"COUNTIF($S$1:S266,Q266+R266)","v":1},"010409",9.9999999999999995E-7,10409.000001]
[10409.000002000001,null,2.0824999999999999E-4,1,404.29821599999997,null,0.41649999999999998,null,1941408,5.0000000000000001E-4,"عدد","تیغه برش کاتر",22030702,null,2,{"$f":"COUNTIF($S$1:S267,Q267+R267)","v":2},"010409",9.9999999999999995E-7,10409.000001]
[10409.000002999999,null,4.1650000000000003E-3,1,1766.6430599999999,null,0.41649999999999998,null,424164,0.01,"دستگاه ساعت","بيل مکانيکي چرخ لاستيکي یا زنجیری به قدرت حدود100 اسب بخار با راننده",25010202,null,3,{"$f":"COUNTIF($S$1:S268,Q268+R268)","v":3},"010409",9.9999999999999995E-7,10409.000001]
["",null,null,null,null,null,null,null,null,null,null,null,null,"010410",null,{"$f":"COUNTIF($S$1:S269,Q269+R269)","v":0},"010410",9.9999999999999995E-7,""]
["",null,null,null,null,null,null,null,null,null,null,"متر مربع",null,null,"واحـد :",{"$f":"COUNTIF($S$1:S270,Q270+R270)","v":0},"010410",9.9999999999999995E-7,""]
["",null,null,null,null,null,"ضريب",null,"بهاي واحد","مقـدار","واحــد","نيروي انساني ",null,null,"رديف",{"$f":"COUNTIF($S$1:S271,Q271+R271)","v":0},"010410",1E-8,""]
[10410.000000010001,null,4.1650000000000003E-3,1,291.93317999999999,null,0.41649999999999998,null,70092,0.01,"نفر - ساعت","متصدی کمپرسور",13041001,null,1,{"$f":"COUNTIF($S$1:S272,Q272+R272)","v":1},"010410",1E-8,10410.000000010001]
[10410.00000002,null,8.3300000000000006E-3,1,474.91828999999996,null,0.41649999999999998,null,57013,0.02,"نفر- ساعت","كارگر ساده",14010102,null,2,{"$f":"COUNTIF($S$1:S273,Q273+R273)","v":2},"010410",1E-8,10410.000000010001]
[10410.000000030001,null,8.3300000000000006E-3,1,616.07847000000004,null,0.41649999999999998,null,73959,0.02,"نفر- ساعت","چکش گیر (مینور)",14240601,null,3,{"$f":"COUNTIF($S$1:S274,Q274+R274)","v":3},"010410",1E-8,10410.000000010001]
["",null,null,null,null,null,"ضريب",null,"بهاي واحد","مقـدار","واحــد","ماشين آلات ",null,null,"رديف",{"$f":"COUNTIF($S$1:S275,Q275+R275)","v":0},"010410",9.9999999999999995E-7,""]
[10410.000001,null,4.1650000000000003E-3,1,412.97224499999999,null,0.41649999999999998,null,99153,0.01,"دستگاه-ساعت","کمپرسور باظرفیت حدود 5 متر مکعب دردقیقه (180 سی اف ام) با شیلنگ مربوط",25040102,null,1,{"$f":"COUNTIF($S$1:S276,Q276+R276)","v":1},"010410",9.9999999999999995E-7,10410.000001]
[10410.000002000001,null,1.666E-5,1,2.7488999999999999,null,0.41649999999999998,null,165000,4.0000000000000003E-5,"عدد","بیل",28070101,null,2,{"$f":"COUNTIF($S$1:S277,Q277+R277)","v":2},"010410",9.9999999999999995E-7,10410.000001]
[10410.000002999999,null,1.666E-5,1,3.1654,null,0.41649999999999998,null,190000,4.0000000000000003E-5,"عدد","کلنگ دو سر",28070701,null,3,{"$f":"COUNTIF($S$1:S278,Q278+R278)","v":3},"010410",9.9999999999999995E-7,10410.000001]
[10410.000004,null,4.1650000000000003E-3,1,46.044074999999999,null,0.41649999999999998,null,11055,0.01,"دستگاه ساعت","چکش دج بر 32 کیلوگرم",28110101,null,4,{"$f":"COUNTIF($S$1:S279,Q279+R279)","v":4},"010410",9.9999999999999995E-7,10410.000001]
["",null,null,null,null,null,null,null,null,null,null,null,null,"010501",null,{"$f":"COUNTIF($S$1:S280,Q280+R280)","v":0},"010501",9.9999999999999995E-7,""]
["",null,null,null,null,null,null,null,null,null,null,"متر مربع",null,null,"واحـد :",{"$f":"COUNTIF($S$1:S281,Q281+R281)","v":0},"010501",9.9999999999999995E-7,""]
["",null,null,null,null,null,"ضريب",null,"بهاي واحد","مقـدار","واحــد","نيروي انساني ",null,null,"رديف",{"$f":"COUNTIF($S$1:S282,Q282+R282)","v":0},"010501",1E-8,""]
[10501.000000010001,null,9.7999999999999975E-4,1,64.004779999999997,null,1.4,null,65311,6.9999999999999988E-4,"نفر- ساعت","کارگر نقشه‌برداري (ميرکش)",12030104,null,1,{"$f":"COUNTIF($S$1:S283,Q283+R283)","v":1},{"$f":"IF(N283>0,N283,Q282)","v":"010501"},1E-8,{"$f":"IF(M283<>\"\",Q283+R283,\"\")","v":10501.000000010001}]
[10501.00000002,null,1.5679999999999996E-2,1,1440.4902399999999,null,1.4,null,91868,1.1199999999999998E-2,"نفر ساعت","متصدی ماشین آسفالت تراش",13041803,null,2,{"$f":"COUNTIF($S$1:S284,Q284+R284)","v":2},"010501",1E-8,10501.000000010001]
[10501.000000030001,null,3.1359999999999992E-2,1,1787.9276799999998,null,1.4,null,57013,2.2399999999999996E-2,"نفر- ساعت","كارگر ساده",14010102,null,3,{"$f":"COUNTIF($S$1:S285,Q285+R285)","v":3},"010501",1E-8,10501.000000010001]
[10501.00000004,null,1.372E-3,1,218.90671600000002,null,1.4,null,159553,9.7999999999999997E-4,"نفر- ساعت","مباشر عملیات خاکی با سابقه بیش از 10 سال",14240301,null,4,{"$f":"COUNTIF($S$1:S286,Q286+R286)","v":4},"010501",1E-8,10501.000000010001]
["",null,null,null,null,null,"ضريب",null,"بهاي واحد","مقـدار","واحــد","ماشين آلات ",null,null,"رديف",{"$f":"COUNTIF($S$1:S287,Q287+R287)","v":0},"010501",9.9999999999999995E-7,""]
[10501.000001,null,1.5679999999999996E-2,1,15809.171839999997,null,1.4,null,1008238,1.1199999999999998E-2,"دستگاه ساعت","ماشین آسفالت تراش",22030311,null,1,{"$f":"COUNTIF($S$1:S288,Q288+R288)","v":1},"010501",9.9999999999999995E-7,10501.000001]
[10501.000002000001,null,3.6333334060000009E-3,1,1154.4771564228761,null,2.1800000000000002,null,317746,1.6666667000000003E-3,"عدد","ناخن ماشین شیار زن",22030802,null,2,{"$f":"COUNTIF($S$1:S289,Q289+R289)","v":2},"010501",9.9999999999999995E-7,10501.000001]
[10501.000002999999,null,1.5679999999999996E-2,1,2410.1727999999998,null,1.4,null,153710,1.1199999999999998E-2,"دستگاه-ساعت","وانت 5 /1 تن باراننده",23010503,null,3,{"$f":"COUNTIF($S$1:S290,Q290+R290)","v":3},"010501",9.9999999999999995E-7,10501.000001]
["",null,null,null,null,null,"ضريب",null,"بهاي واحد","مقـدار","واحــد","مصالح",null,null,"رديف",{"$f":"COUNTIF($S$1:S291,Q291+R291)","v":0},"010501",1E-4,""]
[10501.000099999999,null,1.3999999999999998E-3,1,15.119999999999997,null,1,null,10800,1.3999999999999998E-3,"مترمكعب","آب لوله کشی شهری",31010101,null,1,{"$f":"COUNTIF($S$1:S292,Q292+R292)","v":1},"010501",1E-4,10501.000099999999]
["",null,null,null,null,null,null,null,null,null,null,null,null,"010502",null,{"$f":"COUNTIF($S$1:S293,Q293+R293)","v":0},"010502",1E-4,""]
["",null,null,null,null,null,null,null,null,null,null,"متر مربع",null,null,"واحـد :",{"$f":"COUNTIF($S$1:S294,Q294+R294)","v":0},"010502",1E-4,""]
["",null,null,null,null,null,"ضريب",null,"بهاي واحد","مقـدار","واحــد","نيروي انساني ",null,null,"رديف",{"$f":"COUNTIF($S$1:S295,Q295+R295)","v":0},"010502",1E-8,""]
[10502.000000010001,null,2.0000000000000001E-4,1,13.062200000000001,null,1,null,65311,2.0000000000000001E-4,"نفر- ساعت","کارگر نقشه‌برداري (ميرکش)",12030104,null,1,{"$f":"COUNTIF($S$1:S296,Q296+R296)","v":1},"010502",1E-8,10502.000000010001]
[10502.00000002,null,3.0000000000000001E-3,1,275.60400000000004,null,1,null,91868,3.0000000000000001E-3,"نفر ساعت","متصدی ماشین آسفالت تراش",13041803,null,2,{"$f":"COUNTIF($S$1:S297,Q297+R297)","v":2},"010502",1E-8,10502.000000010001]
[10502.000000030001,null,6.0000000000000001E-3,1,342.07800000000003,null,1,null,57013,6.0000000000000001E-3,"نفر- ساعت","كارگر ساده",14010102,null,3,{"$f":"COUNTIF($S$1:S298,Q298+R298)","v":3},"010502",1E-8,10502.000000010001]
[10502.00000004,null,2.9999999999999997E-4,1,47.865900000000003,null,1,null,159553,2.9999999999999997E-4,"نفر- ساعت","مباشر عملیات خاکی با سابقه بیش از 10 سال",14240301,null,4,{"$f":"COUNTIF($S$1:S299,Q299+R299)","v":4},"010502",1E-8,10502.000000010001]
["",null,null,null,null,null,"ضريب",null,"بهاي واحد","مقـدار","واحــد","ماشين آلات ",null,null,"رديف",{"$f":"COUNTIF($S$1:S300,Q300+R300)","v":0},"010502",9.9999999999999995E-7,""]
[10502.000001,null,2E-3,1,2016.4760000000001,null,1,null,1008238,2E-3,"دستگاه ساعت","ماشین آسفالت تراش",22030311,null,1,{"$f":"COUNTIF($S$1:S301,Q301+R301)","v":1},"010502",9.9999999999999995E-7,10502.000001]
[10502.000002000001,null,3.0999999999999999E-3,1,985.01259999999991,null,1,null,317746,3.0999999999999999E-3,"عدد","ناخن ماشین شیار زن",22030802,null,2,{"$f":"COUNTIF($S$1:S302,Q302+R302)","v":2},"010502",9.9999999999999995E-7,10502.000001]
[10502.000002999999,null,3.0000000000000001E-3,1,461.13,null,1,null,153710,3.0000000000000001E-3,"دستگاه-ساعت","وانت 5 /1 تن باراننده",23010503,null,3,{"$f":"COUNTIF($S$1:S303,Q303+R303)","v":3},"010502",9.9999999999999995E-7,10502.000001]
["",null,null,null,null,null,"ضريب",null,"بهاي واحد","مقـدار","واحــد","مصالح",null,null,"رديف",{"$f":"COUNTIF($S$1:S304,Q304+R304)","v":0},"010502",1E-4,""]
[10502.000099999999,null,4.0000000000000002E-4,1,4.32,null,1,null,10800,4.0000000000000002E-4,"مترمكعب","آب لوله کشی شهری",31010101,null,1,{"$f":"COUNTIF($S$1:S305,Q305+R305)","v":1},"010502",1E-4,10502.000099999999]
["",null,null,null,null,null,null,null,null,null,null,null,null,"010503",null,{"$f":"COUNTIF($S$1:S306,Q306+R306)","v":0},"010503",1E-4,""]
["",null,null,null,null,null,null,null,null,null,null,"مترمربع",null,null,"واحـد :",{"$f":"COUNTIF($S$1:S307,Q307+R307)","v":0},"010503",1E-4,""]
["",null,null,null,null,null,"ضريب",null,"بهاي واحد","مقـدار","واحــد","نيروي انساني ",null,null,"رديف",{"$f":"COUNTIF($S$1:S308,Q308+R308)","v":0},"010503",1E-8,""]
[10503.000000010001,null,6.9999999999999988E-4,1,45.717699999999994,null,1,null,65311,6.9999999999999988E-4,"نفر- ساعت","کارگر نقشه‌برداري (ميرکش)",12030104,null,1,{"$f":"COUNTIF($S$1:S309,Q309+R309)","v":1},"010503",1E-8,10503.000000010001]
[10503.00000002,null,1.1199999999999998E-2,1,1028.9215999999997,null,1,null,91868,1.1199999999999998E-2,"نفر ساعت","متصدی ماشین آسفالت تراش",13041803,null,2,{"$f":"COUNTIF($S$1:S310,Q310+R310)","v":2},"010503",1E-8,10503.000000010001]
[10503.000000030001,null,2.2399999999999996E-2,1,1277.0911999999998,null,1,null,57013,2.2399999999999996E-2,"نفر- ساعت","كارگر ساده",14010102,null,3,{"$f":"COUNTIF($S$1:S311,Q311+R311)","v":3},"010503",1E-8,10503.000000010001]
[10503.00000004,null,9.7999999999999997E-4,1,156.36194,null,1,null,159553,9.7999999999999997E-4,"نفر- ساعت","مباشر عملیات خاکی با سابقه بیش از 10 سال",14240301,null,4,{"$f":"COUNTIF($S$1:S312,Q312+R312)","v":4},"010503",1E-8,10503.000000010001]
["",null,null,null,null,null,"ضريب",null,"بهاي واحد","مقـدار","واحــد","ماشين آلات ",null,null,"رديف",{"$f":"COUNTIF($S$1:S313,Q313+R313)","v":0},"010503",9.9999999999999995E-7,""]
[10503.000001,null,1.1199999999999998E-2,1,11292.265599999999,null,1,null,1008238,1.1199999999999998E-2,"دستگاه ساعت","ماشین آسفالت تراش",22030311,null,1,{"$f":"COUNTIF($S$1:S314,Q314+R314)","v":1},"010503",9.9999999999999995E-7,10503.000001]
[10503.000002000001,null,3.6333334060000009E-3,1,1154.4771564228761,null,2.1800000000000002,null,317746,1.6666667000000003E-3,"عدد","ناخن ماشین شیار زن",22030802,null,2,{"$f":"COUNTIF($S$1:S315,Q315+R315)","v":2},"010503",9.9999999999999995E-7,10503.000001]
[10503.000002999999,null,1.1199999999999998E-2,1,1721.5520000000001,null,1,null,153710,1.1199999999999998E-2,"دستگاه-ساعت","وانت 5 /1 تن باراننده",23010503,null,3,{"$f":"COUNTIF($S$1:S316,Q316+R316)","v":3},"010503",9.9999999999999995E-7,10503.000001]
["",null,null,null,null,null,"ضريب",null,"بهاي واحد","مقـدار","واحــد","مصالح",null,null,"رديف",{"$f":"COUNTIF($S$1:S317,Q317+R317)","v":0},"010503",1E-4,""]
[10503.000099999999,null,1.3999999999999998E-3,1,15.119999999999997,null,1,null,10800,1.3999999999999998E-3,"مترمكعب","آب لوله کشی شهری",31010101,null,1,{"$f":"COUNTIF($S$1:S318,Q318+R318)","v":1},"010503",1E-4,10503.000099999999]
["",null,null,null,null,null,null,null,null,null,null,null,null,"010504",null,{"$f":"COUNTIF($S$1:S319,Q319+R319)","v":0},"010504",1E-4,""]
["",null,null,null,null,null,null,null,null,null,null,"مترمربع",null,null,"واحـد :",{"$f":"COUNTIF($S$1:S320,Q320+R320)","v":0},"010504",1E-4,""]
["",null,null,null,null,null,"ضريب",null,"بهاي واحد","مقـدار","واحــد","نيروي انساني ",null,null,"رديف",{"$f":"COUNTIF($S$1:S321,Q321+R321)","v":0},"010504",1E-8,""]
[10504.000000010001,null,1.3999999999999999E-4,1,9.1435399999999998,null,1,null,65311,1.3999999999999999E-4,"نفر- ساعت","کارگر نقشه‌برداري (ميرکش)",12030104,null,1,{"$f":"COUNTIF($S$1:S322,Q322+R322)","v":1},"010504",1E-8,10504.000000010001]
[10504.00000002,null,2.0999999999999999E-3,1,192.9228,null,1,null,91868,2.0999999999999999E-3,"نفر ساعت","متصدی ماشین آسفالت تراش",13041803,null,2,{"$f":"COUNTIF($S$1:S323,Q323+R323)","v":2},"010504",1E-8,10504.000000010001]
[10504.000000030001,null,4.1999999999999997E-3,1,239.4546,null,1,null,57013,4.1999999999999997E-3,"نفر- ساعت","كارگر ساده",14010102,null,3,{"$f":"COUNTIF($S$1:S324,Q324+R324)","v":3},"010504",1E-8,10504.000000010001]
[10504.00000004,null,2.1000000000000001E-4,1,33.506130000000006,null,1,null,159553,2.1000000000000001E-4,"نفر- ساعت","مباشر عملیات خاکی با سابقه بیش از 10 سال",14240301,null,4,{"$f":"COUNTIF($S$1:S325,Q325+R325)","v":4},"010504",1E-8,10504.000000010001]
["",null,null,null,null,null,"ضريب",null,"بهاي واحد","مقـدار","واحــد","ماشين آلات ",null,null,"رديف",{"$f":"COUNTIF($S$1:S326,Q326+R326)","v":0},"010504",9.9999999999999995E-7,""]
[10504.000001,null,1.5E-3,1,1512.3570000000002,null,1,null,1008238,1.5E-3,"دستگاه ساعت","ماشین آسفالت تراش",22030311,null,1,{"$f":"COUNTIF($S$1:S327,Q327+R327)","v":1},"010504",{"$f":"IF(IF(O327=\"رديف\",VLOOKUP(L327,Kod,2,0),0)=0,R326,IF(O327=\"رديف\",VLOOKUP(L327,Kod,2,0),0))","v":9.9999999999999995E-7},10504.000001]
[10504.000002000001,null,2.2000000000000001E-3,1,699.0412,null,1,null,317746,2.2000000000000001E-3,"عدد","ناخن ماشین شیار زن",22030802,null,2,{"$f":"COUNTIF($S$1:S328,Q328+R328)","v":2},"010504",9.9999999999999995E-7,10504.000001]
[{"$f":"IF(M329<>\"\",Q329+(P329*R329),\"\")","v":10504.000002999999},null,2.0999999999999999E-3,1,322.791,null,1,null,153710,2.0999999999999999E-3,"دستگاه-ساعت","وانت 5 /1 تن باراننده",23010503,null,3,{"$f":"COUNTIF($S$1:S329,Q329+R329)","v":3},"010504",9.9999999999999995E-7,10504.000001]
["",null,null,null,null,null,"ضريب",null,"بهاي واحد","مقـدار","واحــد","مصالح",null,null,"رديف",{"$f":"COUNTIF($S$1:S330,Q330+R330)","v":0},"010504",1E-4,""]
[10504.000099999999,null,2.7999999999999998E-4,1,3.0239999999999996,null,1,null,10800,2.7999999999999998E-4,"مترمكعب","آب لوله کشی شهری",31010101,null,1,{"$f":"COUNTIF($S$1:S331,Q331+R331)","v":1},"010504",1E-4,10504.000099999999]
["",null,null,null,null,null,null,null,null,null,null,null,null,"020101",null,{"$f":"COUNTIF($S$1:S332,Q332+R332)","v":0},"020101",1E-4,""]
["",null,null,null,null,null,null,null,null,null,null,"مترمكعب",null,null,"واحـد :",{"$f":"COUNTIF($S$1:S333,Q333+R333)","v":0},"020101",1E-4,""]
["",null,null,null,null,null,"ضريب",null,"بهاي واحد","مقـدار","واحــد","نيروي انساني ",null,null,"رديف",{"$f":"COUNTIF($S$1:S334,Q334+R334)","v":0},"020101",1E-8,""]
[20101.000000010001,null,0.148344,1,10397.727648,null,1,null,70092,0.148344,"نفر - ساعت","متصدی کمپرسور",13041001,null,1,{"$f":"COUNTIF($S$1:S335,Q335+R335)","v":1},"020101",1E-8,20101.000000010001]
[20101.000000020002,null,5.2731E-2,1,3484.2008250000003,null,1,null,66075,5.2731E-2,"نفر ساعت","سر کارگر",14010101,null,2,{"$f":"COUNTIF($S$1:S336,Q336+R336)","v":2},"020101",1E-8,20101.000000010001]
[20101.000000029999,null,1.0546139999999999,1,60126.707981999993,null,1,null,57013,1.0546139999999999,"نفر- ساعت","كارگر ساده",14010102,null,3,{"$f":"COUNTIF($S$1:S337,Q337+R337)","v":3},"020101",1E-8,20101.000000010001]
[20101.00000004,null,0.29692499999999999,1,21960.276074999998,null,1,null,73959,0.29692499999999999,"نفر- ساعت","چکش گیر (مینور)",14240601,null,4,{"$f":"COUNTIF($S$1:S338,Q338+R338)","v":4},"020101",1E-8,20101.000000010001]
["",null,null,null,null,null,"ضريب",null,"بهاي واحد","مقـدار","واحــد","ماشين آلات ",null,null,"رديف",{"$f":"COUNTIF($S$1:S339,Q339+R339)","v":0},"020101",9.9999999999999995E-7,""]
[20101.000001,null,0.148344,1,14708.752632,null,1,null,99153,0.148344,"دستگاه-ساعت","کمپرسور باظرفیت حدود 5 متر مکعب دردقیقه (180 سی اف ام) با شیلنگ مربوط",25040102,null,1,{"$f":"COUNTIF($S$1:S340,Q340+R340)","v":1},"020101",9.9999999999999995E-7,20101.000001]
[20101.000002000001,null,1.261E-3,1,208.06499999999997,null,1,null,165000,1.261E-3,"عدد","بیل",28070101,null,2,{"$f":"COUNTIF($S$1:S341,Q341+R341)","v":2},"020101",9.9999999999999995E-7,20101.000001]
[20101.000003000001,null,1.0369999999999999E-3,1,197.03,null,1,null,190000,1.0369999999999999E-3,"عدد","کلنگ دو سر",28070701,null,3,{"$f":"COUNTIF($S$1:S342,Q342+R342)","v":3},"020101",9.9999999999999995E-7,20101.000001]
[20101.000004000001,null,0.148344,1,1639.9429200000002,null,1,null,11055,0.148344,"دستگاه ساعت","چکش دج بر 32 کیلوگرم",28110101,null,4,{"$f":"COUNTIF($S$1:S343,Q343+R343)","v":4},"020101",9.9999999999999995E-7,20101.000001]
["",null,null,null,null,null,null,null,null,null,null,null,null,"020201",null,{"$f":"COUNTIF($S$1:S344,Q344+R344)","v":0},"020201",9.9999999999999995E-7,""]
["",null,null,null,null,null,null,null,null,null,null,"مترمكعب",null,null,"واحـد :",{"$f":"COUNTIF($S$1:S345,Q345+R345)","v":0},"020201",9.9999999999999995E-7,""]
["",null,null,null,null,null,"ضريب",null,"بهاي واحد","مقـدار","واحــد","نيروي انساني ",null,null,"رديف",{"$f":"COUNTIF($S$1:S346,Q346+R346)","v":0},"020201",1E-8,""]
[20201.000000010001,null,0.88888900000000004,1,50678.228557000002,null,1,null,57013,0.88888900000000004,"نفر- ساعت","كارگر ساده",14010102,null,1,{"$f":"COUNTIF($S$1:S347,Q347+R347)","v":1},{"$f":"IF(N347>0,N347,Q346)","v":"020201"},1E-8,{"$f":"IF(M347<>\"\",Q347+R347,\"\")","v":20201.000000010001}]
[20201.000000020002,null,1.762E-2,1,1389.44272,null,1,null,78856,1.762E-2,"نفر - ساعت","نجار قالب بند درجه دو",14030202,null,2,{"$f":"COUNTIF($S$1:S348,Q348+R348)","v":2},"020201",1E-8,20201.000000010001]
["",null,null,null,null,null,"ضريب",null,"بهاي واحد","مقـدار","واحــد","ماشين آلات ",null,null,"رديف",{"$f":"COUNTIF($S$1:S349,Q349+R349)","v":0},"020201",9.9999999999999995E-7,""]
[20201.000001,null,2.2030000000000001E-3,1,363.495,null,1,null,165000,2.2030000000000001E-3,"عدد","بیل",28070101,null,1,{"$f":"COUNTIF($S$1:S350,Q350+R350)","v":1},"020201",9.9999999999999995E-7,20201.000001]
["",null,null,null,null,null,"ضريب",null,"بهاي واحد","مقـدار","واحــد","مصالح",null,null,"رديف",{"$f":"COUNTIF($S$1:S351,Q351+R351)","v":0},"020201",1E-4,""]
[20201.000100000001,null,3.9599999999999998E-4,1,2969.9999999999995,null,1,null,7500000,3.9599999999999998E-4,"مترمكعب","تخته و الوار ایرانی",31330401,null,1,{"$f":"COUNTIF($S$1:S352,Q352+R352)","v":1},"020201",1E-4,20201.000100000001]
[20201.000199999999,null,3.0836999999999998E-4,1,3.0836999999999994,null,1,null,10000,3.0836999999999998E-4,"كیلوگرم","چوب گرد سفید خشک",31330501,null,2,{"$f":"COUNTIF($S$1:S353,Q353+R353)","v":2},"020201",1E-4,20201.000100000001]
["",null,null,null,null,null,null,null,null,null,null,null,null,"020202",null,{"$f":"COUNTIF($S$1:S354,Q354+R354)","v":0},"020202",1E-4,""]
["",null,null,null,null,null,null,null,null,null,null,"مترمكعب",null,null,"واحـد :",{"$f":"COUNTIF($S$1:S355,Q355+R355)","v":0},"020202",1E-4,""]
["",null,null,null,null,null,"ضريب",null,"بهاي واحد","مقـدار","واحــد","نيروي انساني ",null,null,"رديف",{"$f":"COUNTIF($S$1:S356,Q356+R356)","v":0},"020202",1E-8,""]
[20202.000000010001,null,0.78968000000000005,1,55350.25056,null,1,null,70092,0.78968000000000005,"نفر- ساعت","متصدی پمپ اب",13041101,null,1,{"$f":"COUNTIF($S$1:S357,Q357+R357)","v":1},"020202",1E-8,20202.000000010001]
[20202.000000020002,null,8.9549999999999994E-3,1,591.70162500000004,null,1,null,66075,8.9549999999999994E-3,"نفر ساعت","سر کارگر",14010101,null,2,{"$f":"COUNTIF($S$1:S358,Q358+R358)","v":2},"020202",1E-8,20202.000000010001]
[20202.000000029999,null,0.1791045,1,10211.284858500001,null,1,null,57013,0.1791045,"نفر- ساعت","كارگر ساده",14010102,null,3,{"$f":"COUNTIF($S$1:S359,Q359+R359)","v":3},"020202",1E-8,20202.000000010001]
["",null,null,null,null,null,"ضريب",null,"بهاي واحد","مقـدار","واحــد","ماشين آلات ",null,null,"رديف",{"$f":"COUNTIF($S$1:S360,Q360+R360)","v":0},"020202",9.9999999999999995E-7,""]
[20202.000001,null,2.3690500000000001,1,71760.893550000008,null,1,null,30291,2.3690500000000001,"دستگاه ساعت","موتور پمپ دیزلی تخلیه آب 4 اینچ",26010201,null,1,{"$f":"COUNTIF($S$1:S361,Q361+R361)","v":1},"020202",9.9999999999999995E-7,20202.000001]
["",null,null,null,null,null,null,null,null,null,null,null,null,"020301",null,{"$f":"COUNTIF($S$1:S362,Q362+R362)","v":0},"020301",9.9999999999999995E-7,""]
["",null,null,null,null,null,null,null,null,null,null,"مترمكعب",null,null,"واحـد :",{"$f":"COUNTIF($S$1:S363,Q363+R363)","v":0},"020301",9.9999999999999995E-7,""]
["",null,null,null,null,null,"ضريب",null,"بهاي واحد","مقـدار","واحــد","نيروي انساني ",null,null,"رديف",{"$f":"COUNTIF($S$1:S364,Q364+R364)","v":0},"020301",1E-8,""]
[20301.000000010001,null,4.7058819999999999,1,268296.45046600001,null,1,null,57013,4.7058819999999999,"نفر- ساعت","كارگر ساده",14010102,null,1,{"$f":"COUNTIF($S$1:S365,Q365+R365)","v":1},"020301",1E-8,20301.000000010001]
[20301.000000020002,null,4.7058819999999999,1,459345.84790199995,null,1,null,97611,4.7058819999999999,"نفر ساعت","مقنی چاه فاضلاب",14260701,null,2,{"$f":"COUNTIF($S$1:S366,Q366+R366)","v":2},"020301",1E-8,20301.000000010001]
["",null,null,null,null,null,"ضريب",null,"بهاي واحد","مقـدار","واحــد","ماشين آلات ",null,null,"رديف",{"$f":"COUNTIF($S$1:S367,Q367+R367)","v":0},"020301",9.9999999999999995E-7,""]
[20301.000001,null,2.7027000000000002E-3,1,445.94550000000004,null,1,null,165000,2.7027000000000002E-3,"عدد","بیل",28070101,null,1,{"$f":"COUNTIF($S$1:S368,Q368+R368)","v":1},"020301",9.9999999999999995E-7,20301.000001]
[20301.000002000001,null,2.6315999999999996E-2,1,1241.1415079999999,null,1,null,47163,2.6315999999999996E-2,"عدد","سطل آهني",28070501,null,2,{"$f":"COUNTIF($S$1:S369,Q369+R369)","v":2},"020301",9.9999999999999995E-7,20301.000001]
[20301.000003000001,null,1.2987E-2,1,1731.595671,null,1,null,133333,1.2987E-2,"عدد","کلنگ یک سر",28070702,null,3,{"$f":"COUNTIF($S$1:S370,Q370+R370)","v":3},"020301",9.9999999999999995E-7,20301.000001]
[20301.000004000001,null,1.1000000000000001E-3,1,6875.4498999999996,null,1,null,6250409,1.1000000000000001E-3,"دستگاه","چرخ چاه ومتعلقات",28991201,null,4,{"$f":"COUNTIF($S$1:S371,Q371+R371)","v":4},"020301",9.9999999999999995E-7,20301.000001]
[20301.000005000002,null,5.5106999999999996E-2,1,867.93525,null,1,null,15750,5.5106999999999996E-2,"كیلوگرم","طناب پلاستیکی",28991301,null,5,{"$f":"COUNTIF($S$1:S372,Q372+R372)","v":5},"020301",9.9999999999999995E-7,20301.000001]
["",null,null,null,null,null,null,null,null,null,null,null,null,"020302",null,{"$f":"COUNTIF($S$1:S373,Q373+R373)","v":0},"020302",9.9999999999999995E-7,""]
["",null,null,null,null,null,null,null,null,null,null,"مترمكعب",null,null,"واحـد :",{"$f":"COUNTIF($S$1:S374,Q374+R374)","v":0},"020302",9.9999999999999995E-7,""]
["",null,null,null,null,null,"ضريب",null,"بهاي واحد","مقـدار","واحــد","نيروي انساني ",null,null,"رديف",{"$f":"COUNTIF($S$1:S375,Q375+R375)","v":0},"020302",1E-8,""]
[20302.000000010001,null,0.8,1,45610.400000000001,null,1,null,57013,0.8,"نفر- ساعت","كارگر ساده",14010102,null,1,{"$f":"COUNTIF($S$1:S376,Q376+R376)","v":1},"020302",1E-8,20302.000000010001]
[20302.000000020002,null,0.5,1,48805.5,null,1,null,97611,0.5,"نفر ساعت","مقنی چاه فاضلاب",14260701,null,2,{"$f":"COUNTIF($S$1:S377,Q377+R377)","v":2},"020302",1E-8,20302.000000010001]
["",null,null,null,null,null,"ضريب",null,"بهاي واحد","مقـدار","واحــد","ماشين آلات ",null,null,"رديف",{"$f":"COUNTIF($S$1:S378,Q378+R378)","v":0},"020302",9.9999999999999995E-7,""]
[20302.000001,null,2.8010000000000001E-3,1,132.10356300000001,null,1,null,47163,2.8010000000000001E-3,"عدد","سطل آهني",28070501,null,1,{"$f":"COUNTIF($S$1:S379,Q379+R379)","v":1},"020302",9.9999999999999995E-7,20302.000001]
[20302.000002000001,null,1.28,1,4234.24,null,1,null,3308,1.28,"دستگاه-ساعت","دستگاه تهویه چاه ومتعلقات",28260101,null,2,{"$f":"COUNTIF($S$1:S380,Q380+R380)","v":2},"020302",9.9999999999999995E-7,20302.000001]
[20302.000003000001,null,1E-4,1,625.04089999999997,null,1,null,6250409,1E-4,"دستگاه","چرخ چاه ومتعلقات",28991201,null,3,{"$f":"COUNTIF($S$1:S381,Q381+R381)","v":3},"020302",9.9999999999999995E-7,20302.000001]
[20302.000004000001,null,8.9060000000000007E-3,1,140.26949999999999,null,1,null,15750,8.9060000000000007E-3,"كیلوگرم","طناب پلاستیکی",28991301,null,4,{"$f":"COUNTIF($S$1:S382,Q382+R382)","v":4},"020302",9.9999999999999995E-7,20302.000001]
["",null,null,null,null,null,null,null,null,null,null,null,null,"020401",null,{"$f":"COUNTIF($S$1:S383,Q383+R383)","v":0},"020401",9.9999999999999995E-7,""]
["",null,null,null,null,null,null,null,null,null,null,"مترمكعب",null,null,"واحـد :",{"$f":"COUNTIF($S$1:S384,Q384+R384)","v":0},"020401",9.9999999999999995E-7,""]
["",null,null,null,null,null,"ضريب",null,"بهاي واحد","مقـدار","واحــد","نيروي انساني ",null,null,"رديف",{"$f":"COUNTIF($S$1:S385,Q385+R385)","v":0},"020401",1E-8,""]
[20401.000000010001,null,7.8575999999999993E-2,1,5191.9092000000001,null,1,null,66075,7.8575999999999993E-2,"نفر ساعت","سر کارگر",14010101,null,1,{"$f":"COUNTIF($S$1:S386,Q386+R386)","v":1},"020401",1E-8,20401.000000010001]
[20401.000000020002,null,1.5715200000000003,1,89597.069760000013,null,1,null,57013,1.5715200000000003,"نفر- ساعت","كارگر ساده",14010102,null,2,{"$f":"COUNTIF($S$1:S387,Q387+R387)","v":2},"020401",1E-8,20401.000000010001]
["",null,null,null,null,null,"ضريب",null,"بهاي واحد","مقـدار","واحــد","ماشين آلات ",null,null,"رديف",{"$f":"COUNTIF($S$1:S388,Q388+R388)","v":0},"020401",9.9999999999999995E-7,""]
[20401.000001,null,1.044E-3,1,172.26,null,1,null,165000,1.044E-3,"عدد","بیل",28070101,null,1,{"$f":"COUNTIF($S$1:S389,Q389+R389)","v":1},"020401",9.9999999999999995E-7,20401.000001]
[20401.000002000001,null,2.3400000000000001E-3,1,2457,null,1,null,1050000,2.3400000000000001E-3,"دستگاه","فرگون",28070601,null,2,{"$f":"COUNTIF($S$1:S390,Q390+R390)","v":2},"020401",9.9999999999999995E-7,20401.000001]
["",null,null,null,null,null,null,null,null,null,null,null,null,"020402",null,{"$f":"COUNTIF($S$1:S391,Q391+R391)","v":0},"020402",{"$f":"IF(IF(O391=\"رديف\",VLOOKUP(L391,Kod,2,0),0)=0,R390,IF(O391=\"رديف\",VLOOKUP(L391,Kod,2,0),0))","v":9.9999999999999995E-7},""]
["",null,null,null,null,null,null,null,null,null,null,"مترمكعب",null,null,"واحـد :",{"$f":"COUNTIF($S$1:S392,Q392+R392)","v":0},"020402",9.9999999999999995E-7,""]
[{"$f":"IF(M393<>\"\",Q393+(P393*R393),\"\")","v":""},null,null,null,null,null,"ضريب",null,"بهاي واحد","مقـدار","واحــد","نيروي انساني ",null,null,"رديف",{"$f":"COUNTIF($S$1:S393,Q393+R393)","v":0},"020402",1E-8,""]
[20402.000000010001,null,5.3592000000000001E-2,1,3541.0914000000002,null,1,null,66075,5.3592000000000001E-2,"نفر ساعت","سر کارگر",14010101,null,1,{"$f":"COUNTIF($S$1:S394,Q394+R394)","v":1},"020402",1E-8,20402.000000010001]
[20402.000000020002,null,1.0718399999999999,1,61108.813919999993,null,1,null,57013,1.0718399999999999,"نفر- ساعت","كارگر ساده",14010102,null,2,{"$f":"COUNTIF($S$1:S395,Q395+R395)","v":2},"020402",1E-8,20402.000000010001]
["",null,null,null,null,null,"ضريب",null,"بهاي واحد","مقـدار","واحــد","ماشين آلات ",null,null,"رديف",{"$f":"COUNTIF($S$1:S396,Q396+R396)","v":0},"020402",9.9999999999999995E-7,""]
[20402.000001,null,3.1247999999999996E-3,1,3281.0399999999995,null,1,null,1050000,3.1247999999999996E-3,"دستگاه","فرگون",28070601,null,1,{"$f":"COUNTIF($S$1:S397,Q397+R397)","v":1},"020402",9.9999999999999995E-7,20402.000001]
["",null,null,null,null,null,null,null,null,null,null,null,null,"020501",null,{"$f":"COUNTIF($S$1:S398,Q398+R398)","v":0},"020501",9.9999999999999995E-7,""]
["",null,null,null,null,null,null,null,null,null,null,"متر مربع",null,null,"واحـد :",{"$f":"COUNTIF($S$1:S399,Q399+R399)","v":0},"020501",9.9999999999999995E-7,""]
["",null,null,null,null,null,"ضريب",null,"بهاي واحد","مقـدار","واحــد","نيروي انساني ",null,null,"رديف",{"$f":"COUNTIF($S$1:S400,Q400+R400)","v":0},"020501",1E-8,""]
[20501.000000010001,null,0.08,1,4561.04,null,1,null,57013,0.08,"نفر- ساعت","كارگر ساده",14010102,null,1,{"$f":"COUNTIF($S$1:S401,Q401+R401)","v":1},"020501",1E-8,20501.000000010001]
[20501.000000020002,null,0.01,1,740.81,null,1,null,74081,0.01,"نفر - ساعت","بنای سفت کار درجه دو",14020102,null,2,{"$f":"COUNTIF($S$1:S402,Q402+R402)","v":2},"020501",1E-8,20501.000000010001]
["",null,null,null,null,null,null,null,null,null,null,null,null,"020502",null,{"$f":"COUNTIF($S$1:S403,Q403+R403)","v":0},"020502",1E-8,""]
["",null,null,null,null,null,null,null,null,null,null,"مترمكعب",null,null,"واحـد :",{"$f":"COUNTIF($S$1:S404,Q404+R404)","v":0},"020502",1E-8,""]
["",null,null,null,null,null,"ضريب",null,"بهاي واحد","مقـدار","واحــد","نيروي انساني ",null,null,"رديف",{"$f":"COUNTIF($S$1:S405,Q405+R405)","v":0},"020502",1E-8,""]
[20502.000000010001,null,0.71579999999999999,1,40809.905400000003,null,1,null,57013,0.71579999999999999,"نفر- ساعت","كارگر ساده",14010102,null,1,{"$f":"COUNTIF($S$1:S406,Q406+R406)","v":1},"020502",1E-8,20502.000000010001]
["",null,null,null,null,null,"ضريب",null,"بهاي واحد","مقـدار","واحــد","ماشين آلات ",null,null,"رديف",{"$f":"COUNTIF($S$1:S407,Q407+R407)","v":0},"020502",9.9999999999999995E-7,""]
[20502.000001,null,1.6670000000000001E-3,1,275.05500000000006,null,1,null,165000,1.6670000000000001E-3,"عدد","بیل",28070101,null,1,{"$f":"COUNTIF($S$1:S408,Q408+R408)","v":1},"020502",9.9999999999999995E-7,20502.000001]
["",null,null,null,null,null,null,null,null,null,null,null,null,"020503",null,{"$f":"COUNTIF($S$1:S409,Q409+R409)","v":0},"020503",9.9999999999999995E-7,""]
["",null,null,null,null,null,null,null,null,null,null,"مترمكعب",null,null,"واحـد :",{"$f":"COUNTIF($S$1:S410,Q410+R410)","v":0},"020503",9.9999999999999995E-7,""]
["",null,null,null,null,null,"ضريب",null,"بهاي واحد","مقـدار","واحــد","نيروي انساني ",null,null,"رديف",{"$f":"COUNTIF($S$1:S411,Q411+R411)","v":0},{"$f":"IF(N411>0,N411,Q410)","v":"020503"},1E-8,{"$f":"IF(M411<>\"\",Q411+R411,\"\")","v":""}]
[20503.000000010001,null,0.51590000000000003,1,36160.462800000001,null,1,null,70092,0.51590000000000003,"نفر ساعت","متصدی غلطکهای دستی",13040901,null,1,{"$f":"COUNTIF($S$1:S412,Q412+R412)","v":1},"020503",1E-8,20503.000000010001]
[20503.000000020002,null,0.51590000000000003,1,29413.006699999998,null,1,null,57013,0.51590000000000003,"نفر- ساعت","كارگر ساده",14010102,null,2,{"$f":"COUNTIF($S$1:S413,Q413+R413)","v":2},"020503",1E-8,20503.000000010001]
["",null,null,null,null,null,"ضريب",null,"بهاي واحد","مقـدار","واحــد","ماشين آلات ",null,null,"رديف",{"$f":"COUNTIF($S$1:S414,Q414+R414)","v":0},"020503",9.9999999999999995E-7,""]
[20503.000001,null,0.51590000000000003,1,10319.547700000001,null,1,null,20003,0.51590000000000003,"دستگاه-ساعت","کمپکتورصفحه ای",25030101,null,1,{"$f":"COUNTIF($S$1:S415,Q415+R415)","v":1},"020503",9.9999999999999995E-7,20503.000001]
["",null,null,null,null,null,"ضريب",null,"بهاي واحد","مقـدار","واحــد","مصالح",null,null,"رديف",{"$f":"COUNTIF($S$1:S416,Q416+R416)","v":0},"020503",1E-4,""]
[20503.000100000001,null,7.0000000000000007E-2,1,87.710000000000022,null,1,null,1253,7.0000000000000007E-2,"مترمكعب","آب رودخانه",31010201,null,1,{"$f":"COUNTIF($S$1:S417,Q417+R417)","v":1},"020503",1E-4,20503.000100000001]
[20503.000199999999,null,0.03,1,284.13,null,1,null,9471,0.03,"مترمكعب","آب چاه و قنات",31010301,null,2,{"$f":"COUNTIF($S$1:S418,Q418+R418)","v":2},"020503",1E-4,20503.000100000001]
["",null,null,null,null,null,"ضريب",null,"بهاي واحد","مقـدار","واحــد"," حمل مصالح ",null,null,"رديف",{"$f":"COUNTIF($S$1:S419,Q419+R419)","v":0},"020503",0.01,""]
[20503.009999999998,null,0.1,1,3321.3,null,1,null,33213,0.1,"مترمكعب","حمل آب چاه قنات و رودخانه",41010101,null,1,{"$f":"COUNTIF($S$1:S420,Q420+R420)","v":1},"020503",0.01,20503.009999999998]
["",null,null,null,null,null,null,null,null,null,null,null,null,"030101",null,{"$f":"COUNTIF($S$1:S421,Q421+R421)","v":0},"030101",0.01,""]
["",null,null,null,null,null,null,null,null,null,null,"متر مربع",null,null,"واحـد :",{"$f":"COUNTIF($S$1:S422,Q422+R422)","v":0},"030101",0.01,""]
["",null,null,null,null,null,"ضريب",null,"بهاي واحد","مقـدار","واحــد","نيروي انساني ",null,null,"رديف",{"$f":"COUNTIF($S$1:S423,Q423+R423)","v":0},"030101",1E-8,""]
[30101.000000010001,null,9.2999999999999995E-4,1,61.449750000000002,null,1,null,66075,9.2999999999999995E-4,"نفر ساعت","سر کارگر",14010101,null,1,{"$f":"COUNTIF($S$1:S424,Q424+R424)","v":1},"030101",1E-8,30101.000000010001]
[30101.000000020002,null,9.2999999999999995E-4,1,53.022089999999999,null,1,null,57013,9.2999999999999995E-4,"نفر- ساعت","كارگر ساده",14010102,null,2,{"$f":"COUNTIF($S$1:S425,Q425+R425)","v":2},"030101",1E-8,30101.000000010001]
[30101.000000029999,null,4.6000000000000001E-4,1,73.394379999999998,null,1,null,159553,4.6000000000000001E-4,"نفر- ساعت","مباشر عملیات خاکی با سابقه بیش از 10 سال",14240301,null,3,{"$f":"COUNTIF($S$1:S426,Q426+R426)","v":3},"030101",1E-8,30101.000000010001]
["",null,null,null,null,null,"ضريب",null,"بهاي واحد","مقـدار","واحــد","ماشين آلات ",null,null,"رديف",{"$f":"COUNTIF($S$1:S427,Q427+R427)","v":0},"030101",9.9999999999999995E-7,""]
[30101.000001,null,4.4000000000000007E-4,1,146.43772000000001,null,1,null,332813,4.4000000000000007E-4,"ساعت","بولدوزر به قدرت حدود 150 اسب بخار با راننده",25010602,null,1,{"$f":"COUNTIF($S$1:S428,Q428+R428)","v":1},"030101",9.9999999999999995E-7,30101.000001]
[30101.000002000001,null,4.8999999999999998E-4,1,207.84036,null,1,null,424164,4.8999999999999998E-4,"دستگاه-ساعت","گریدر به قدرت حدود180 اسب بخار باراننده",25010902,null,2,{"$f":"COUNTIF($S$1:S429,Q429+R429)","v":2},"030101",9.9999999999999995E-7,30101.000001]
["",null,null,null,null,null,null,null,null,null,null,null,null,"030102",null,{"$f":"COUNTIF($S$1:S430,Q430+R430)","v":0},"030102",9.9999999999999995E-7,""]
["",null,null,null,null,null,null,null,null,null,null,"مترمكعب",null,null,"واحـد :",{"$f":"COUNTIF($S$1:S431,Q431+R431)","v":0},"030102",9.9999999999999995E-7,""]
["",null,null,null,null,null,"ضريب",null,"بهاي واحد","مقـدار","واحــد","ماشين آلات ",null,null,"رديف",{"$f":"COUNTIF($S$1:S432,Q432+R432)","v":0},"030102",9.9999999999999995E-7,""]
[30102.000001,null,0.05,1,36356.050000000003,null,1,null,727121,0.05,"دستگاه-ساعت","لودرچرخ زنجیری به قدرت حدود200  اسب بخار باراننده",25010701,null,1,{"$f":"COUNTIF($S$1:S433,Q433+R433)","v":1},"030102",9.9999999999999995E-7,30102.000001]
["",null,null,null,null,null,null,null,null,null,null,null,null,"030103",null,{"$f":"COUNTIF($S$1:S434,Q434+R434)","v":0},"030103",9.9999999999999995E-7,""]
["",null,null,null,null,null,null,null,null,null,null,"مترمكعب",null,null,"واحـد :",{"$f":"COUNTIF($S$1:S435,Q435+R435)","v":0},"030103",9.9999999999999995E-7,""]
["",null,null,null,null,null,"ضريب",null,"بهاي واحد","مقـدار","واحــد","نيروي انساني ",null,null,"رديف",{"$f":"COUNTIF($S$1:S436,Q436+R436)","v":0},"030103",1E-8,""]
[30103.000000010001,null,5.1000000000000004E-3,1,336.98250000000002,null,1,null,66075,5.1000000000000004E-3,"نفر ساعت","سر کارگر",14010101,null,1,{"$f":"COUNTIF($S$1:S437,Q437+R437)","v":1},"030103",1E-8,30103.000000010001]
[30103.000000020002,null,1.52E-2,1,866.59759999999994,null,1,null,57013,1.52E-2,"نفر- ساعت","كارگر ساده",14010102,null,2,{"$f":"COUNTIF($S$1:S438,Q438+R438)","v":2},"030103",1E-8,30103.000000010001]
["",null,null,null,null,null,"ضريب",null,"بهاي واحد","مقـدار","واحــد","ماشين آلات ",null,null,"رديف",{"$f":"COUNTIF($S$1:S439,Q439+R439)","v":0},"030103",9.9999999999999995E-7,""]
[30103.000001,null,1.52E-2,1,5058.7575999999999,null,1,null,332813,1.52E-2,"ساعت","بولدوزر به قدرت حدود 150 اسب بخار با راننده",25010602,null,1,{"$f":"COUNTIF($S$1:S440,Q440+R440)","v":1},"030103",9.9999999999999995E-7,30103.000001]
["",null,null,null,null,null,null,null,null,null,null,null,null,"030104",null,{"$f":"COUNTIF($S$1:S441,Q441+R441)","v":0},"030104",9.9999999999999995E-7,""]
["",null,null,null,null,null,null,null,null,null,null,"مترمكعب",null,null,"واحـد :",{"$f":"COUNTIF($S$1:S442,Q442+R442)","v":0},"030104",9.9999999999999995E-7,""]
["",null,null,null,null,null,"ضريب",null,"بهاي واحد","مقـدار","واحــد","نيروي انساني ",null,null,"رديف",{"$f":"COUNTIF($S$1:S443,Q443+R443)","v":0},"030104",1E-8,""]
[30104.000000010001,null,5.1000000000000004E-3,1,336.98250000000002,null,1,null,66075,5.1000000000000004E-3,"نفر ساعت","سر کارگر",14010101,null,1,{"$f":"COUNTIF($S$1:S444,Q444+R444)","v":1},"030104",1E-8,30104.000000010001]
[30104.000000020002,null,1.52E-2,1,866.59759999999994,null,1,null,57013,1.52E-2,"نفر- ساعت","كارگر ساده",14010102,null,2,{"$f":"COUNTIF($S$1:S445,Q445+R445)","v":2},"030104",1E-8,30104.000000010001]
["",null,null,null,null,null,"ضريب",null,"بهاي واحد","مقـدار","واحــد","ماشين آلات ",null,null,"رديف",{"$f":"COUNTIF($S$1:S446,Q446+R446)","v":0},"030104",9.9999999999999995E-7,""]
[30104.000001,null,2.844E-2,1,13803.410880000003,null,1.2,null,485352,2.3700000000000002E-2,"دستگاه-ساعت","بولدوزر به قدرت حدود 200  اسب بخار باراننده",25010603,null,1,{"$f":"COUNTIF($S$1:S447,Q447+R447)","v":1},"030104",9.9999999999999995E-7,30104.000001]
["",null,null,null,null,null,null,null,null,null,null,null,null,"030105",null,{"$f":"COUNTIF($S$1:S448,Q448+R448)","v":0},"030105",9.9999999999999995E-7,""]
["",null,null,null,null,null,null,null,null,null,null,"مترمكعب",null,null,"واحـد :",{"$f":"COUNTIF($S$1:S449,Q449+R449)","v":0},"030105",9.9999999999999995E-7,""]
["",null,null,null,null,null,"ضريب",null,"بهاي واحد","مقـدار","واحــد","نيروي انساني ",null,null,"رديف",{"$f":"COUNTIF($S$1:S450,Q450+R450)","v":0},"030105",1E-8,""]
[30105.000000010001,null,0.1,1,5701.3,null,1,null,57013,0.1,"نفر- ساعت","كارگر ساده",14010102,null,1,{"$f":"COUNTIF($S$1:S451,Q451+R451)","v":1},"030105",1E-8,30105.000000010001]
["",null,null,null,null,null,"ضريب",null,"بهاي واحد","مقـدار","واحــد","ماشين آلات ",null,null,"رديف",{"$f":"COUNTIF($S$1:S452,Q452+R452)","v":0},"030105",9.9999999999999995E-7,""]
[30105.000001,null,4.1750000000000002E-2,1,54275.250499999995,null,0.83499999999999996,null,1300006,0.05,"دستگاه-ساعت","بولدوزر به قدرت حدود 400  اسب بخار باراننده",25010607,null,1,{"$f":"COUNTIF($S$1:S453,Q453+R453)","v":1},"030105",9.9999999999999995E-7,30105.000001]
["",null,null,null,null,null,null,null,null,null,null,null,null,"030201",null,{"$f":"COUNTIF($S$1:S454,Q454+R454)","v":0},"030201",9.9999999999999995E-7,""]
["",null,null,null,null,null,null,null,null,null,null,"مترمكعب",null,null,"واحـد :",{"$f":"COUNTIF($S$1:S455,Q455+R455)","v":0},"030201",{"$f":"IF(IF(O455=\"رديف\",VLOOKUP(L455,Kod,2,0),0)=0,R454,IF(O455=\"رديف\",VLOOKUP(L455,Kod,2,0),0))","v":9.9999999999999995E-7},""]
["",null,null,null,null,null,"ضريب",null,"بهاي واحد","مقـدار","واحــد","نيروي انساني ",null,null,"رديف",{"$f":"COUNTIF($S$1:S456,Q456+R456)","v":0},"030201",1E-8,""]
[{"$f":"IF(M457<>\"\",Q457+(P457*R457),\"\")","v":30201.000000010001},null,4.2801556380000008E-2,1,3000.0466897869605,null,1.1000000000000001,null,70092,3.8910505800000002E-2,"نفر - ساعت","متصدی کمپرسور",13041001,null,1,{"$f":"COUNTIF($S$1:S457,Q457+R457)","v":1},"030201",1E-8,30201.000000010001]
[30201.000000020002,null,6.1754385990000001E-2,1,3520.8028084478697,null,1.1000000000000001,null,57013,5.6140350899999997E-2,"نفر- ساعت","كارگر ساده",14010102,null,2,{"$f":"COUNTIF($S$1:S458,Q458+R458)","v":2},"030201",1E-8,30201.000000010001]
[30201.000000029999,null,3.0877192939999999E-2,1,3013.7375397157607,null,1.1000000000000001,null,97604,2.8070175399999998E-2,"نفر ساعت","آتشبار",14240501,null,3,{"$f":"COUNTIF($S$1:S459,Q459+R459)","v":3},"030201",1E-8,30201.000000010001]
[30201.00000004,null,8.5603112760000016E-2,1,6331.1206166168422,null,1.1000000000000001,null,73959,7.7821011600000004E-2,"نفر- ساعت","چکش گیر (مینور)",14240601,null,4,{"$f":"COUNTIF($S$1:S460,Q460+R460)","v":4},"030201",1E-8,30201.000000010001]
[30201.00000005,null,3.3000000000000002E-2,1,2183.6760000000004,null,1.1000000000000001,null,66172,0.03,"نفر- ساعت","کارگرد یلم دار",14240602,null,5,{"$f":"COUNTIF($S$1:S461,Q461+R461)","v":5},"030201",1E-8,30201.000000010001]
["",null,null,null,null,null,"ضريب",null,"بهاي واحد","مقـدار","واحــد","ماشين آلات ",null,null,"رديف",{"$f":"COUNTIF($S$1:S462,Q462+R462)","v":0},"030201",9.9999999999999995E-7,""]
[30201.000001,null,3.9E-2,1,29519.802000000003,null,1.3,null,756918,0.03,"دستگاه-ساعت","بولدوزر به قدرت حدود 300  اسب بخار باراننده",25010605,null,1,{"$f":"COUNTIF($S$1:S463,Q463+R463)","v":1},"030201",9.9999999999999995E-7,30201.000001]
[30201.000002000001,null,5.0583657540000007E-2,1,5015.5213960636202,null,1.3,null,99153,3.8910505800000002E-2,"دستگاه-ساعت","کمپرسور باظرفیت حدود 5 متر مکعب دردقیقه (180 سی اف ام) با شیلنگ مربوط",25040102,null,2,{"$f":"COUNTIF($S$1:S464,Q464+R464)","v":2},"030201",9.9999999999999995E-7,30201.000001]
[30201.000003000001,null,8.5603112760000016E-2,1,657.77431844784007,null,1.1000000000000001,null,7684,7.7821011600000004E-2,"دستگاه ساعت","چکش حفاری حدود17 کیلوگرم",28110103,null,3,{"$f":"COUNTIF($S$1:S465,Q465+R465)","v":3},"030201",9.9999999999999995E-7,30201.000001]
["",null,null,null,null,null,"ضريب",null,"بهاي واحد","مقـدار","واحــد","مصالح",null,null,"رديف",{"$f":"COUNTIF($S$1:S466,Q466+R466)","v":0},"030201",1E-4,""]
[30201.000100000001,null,0.27500000000000002,1,20350.000000000004,null,1.1000000000000001,null,74000,0.25,"كیلوگرم","امولایت کارتریجی",31420101,null,1,{"$f":"COUNTIF($S$1:S467,Q467+R467)","v":1},"030201",1E-4,30201.000100000001]
[30201.000199999999,null,0.38500000000000001,1,14052.500000000002,null,1.1000000000000001,null,36500,0.35,"عدد","چاشنی الکتریکی فوری",31420602,null,2,{"$f":"COUNTIF($S$1:S468,Q468+R468)","v":2},"030201",1E-4,30201.000100000001]
[30201.0003,null,0.55000000000000004,1,4455.0000000000009,null,1.1000000000000001,null,8100,0.5,"متر طول","فتیله انفجاری",31420605,null,3,{"$f":"COUNTIF($S$1:S469,Q469+R469)","v":3},"030201",1E-4,30201.000100000001]
["",null,null,null,null,null,"ضريب",null,"بهاي واحد","مقـدار","واحــد"," حمل مصالح ",null,null,"رديف",{"$f":"COUNTIF($S$1:S470,Q470+R470)","v":0},"030201",0.01,""]
[30201.01,null,0.27500000000000002,1,351.17500000000007,null,1.1000000000000001,null,1277,0.25,"كیلوگرم","حمل مواد منفجره",41090101,null,1,{"$f":"COUNTIF($S$1:S471,Q471+R471)","v":1},"030201",0.01,30201.01]
[30201.02,null,0.38500000000000001,1,28.875000000000004,null,1.1000000000000001,null,75,0.35,"عدد","حمل چاشنی",41090301,null,2,{"$f":"COUNTIF($S$1:S472,Q472+R472)","v":2},"030201",0.01,30201.01]
["",null,null,null,null,null,null,null,null,null,null,null,null,"030204",null,{"$f":"COUNTIF($S$1:S473,Q473+R473)","v":0},"030204",0.01,""]
["",null,null,null,null,null,null,null,null,null,null,"مترمكعب",null,null,"واحـد :",{"$f":"COUNTIF($S$1:S474,Q474+R474)","v":0},"030204",0.01,""]
["",null,null,null,null,null,"ضريب",null,"بهاي واحد","مقـدار","واحــد","مصالح",null,null,"رديف",{"$f":"COUNTIF($S$1:S475,Q475+R475)","v":0},{"$f":"IF(N475>0,N475,Q474)","v":"030204"},1E-4,{"$f":"IF(M475<>\"\",Q475+R475,\"\")","v":""}]
[30204.000100000001,null,-4.4999999999999998E-2,1,-2812.5,null,1,null,62500,-4.4999999999999998E-2,"عدد","چاشنی الکتریکی با طول 11 متر",31420606,null,1,{"$f":"COUNTIF($S$1:S476,Q476+R476)","v":1},"030204",1E-4,30204.000100000001]
[30204.000199999999,null,4.4999999999999998E-2,1,6210,null,1,null,138000,4.4999999999999998E-2,"عدد","سیستم نانل با طول 12 متر",31420607,null,2,{"$f":"COUNTIF($S$1:S477,Q477+R477)","v":2},"030204",1E-4,30204.000100000001]
["",null,null,null,null,null,null,null,null,null,null,null,null,"030301",null,{"$f":"COUNTIF($S$1:S478,Q478+R478)","v":0},"030301",1E-4,""]
["",null,null,null,null,null,null,null,null,null,null,"مترمكعب",null,null,"واحـد :",{"$f":"COUNTIF($S$1:S479,Q479+R479)","v":0},"030301",1E-4,""]
["",null,null,null,null,null,"ضريب",null,"بهاي واحد","مقـدار","واحــد","ماشين آلات ",null,null,"رديف",{"$f":"COUNTIF($S$1:S480,Q480+R480)","v":0},"030301",9.9999999999999995E-7,""]
[30301.000001,null,1.0769230779999998E-2,1,5226.8676975345588,null,0.7,null,485352,1.5384615399999999E-2,"دستگاه-ساعت","بولدوزر به قدرت حدود 200  اسب بخار باراننده",25010603,null,1,{"$f":"COUNTIF($S$1:S481,Q481+R481)","v":1},"030301",9.9999999999999995E-7,30301.000001]
["",null,null,null,null,null,null,null,null,null,null,null,null,"030401",null,{"$f":"COUNTIF($S$1:S482,Q482+R482)","v":0},"030401",9.9999999999999995E-7,""]
["",null,null,null,null,null,null,null,null,null,null,"مترمكعب",null,null,"واحـد :",{"$f":"COUNTIF($S$1:S483,Q483+R483)","v":0},"030401",9.9999999999999995E-7,""]
["",null,null,null,null,null,"ضريب",null,"بهاي واحد","مقـدار","واحــد","نيروي انساني ",null,null,"رديف",{"$f":"COUNTIF($S$1:S484,Q484+R484)","v":0},"030401",1E-8,""]
[30401.000000010001,null,1.945525E-2,1,1363.657383,null,1,null,70092,1.945525E-2,"نفر - ساعت","متصدی کمپرسور",13041001,null,1,{"$f":"COUNTIF($S$1:S485,Q485+R485)","v":1},"030401",1E-8,30401.000000010001]
[30401.000000020002,null,5.6140350899999997E-2,1,3200.7298258616997,null,1,null,57013,5.6140350899999997E-2,"نفر- ساعت","كارگر ساده",14010102,null,2,{"$f":"COUNTIF($S$1:S486,Q486+R486)","v":2},"030401",1E-8,30401.000000010001]
[30401.000000029999,null,1.403508E-2,1,1369.87994832,null,1,null,97604,1.403508E-2,"نفر ساعت","آتشبار",14240501,null,3,{"$f":"COUNTIF($S$1:S487,Q487+R487)","v":3},"030401",1E-8,30401.000000010001]
[30401.00000004,null,3.8910500000000001E-2,1,2877.7816694999997,null,1,null,73959,3.8910500000000001E-2,"نفر- ساعت","چکش گیر (مینور)",14240601,null,4,{"$f":"COUNTIF($S$1:S488,Q488+R488)","v":4},"030401",1E-8,30401.000000010001]
["",null,null,null,null,null,"ضريب",null,"بهاي واحد","مقـدار","واحــد","ماشين آلات ",null,null,"رديف",{"$f":"COUNTIF($S$1:S489,Q489+R489)","v":0},"030401",9.9999999999999995E-7,""]
[30401.000001,null,1.4999999999999999E-2,1,7280.28,null,1,null,485352,1.4999999999999999E-2,"دستگاه-ساعت","بولدوزر به قدرت حدود 200  اسب بخار باراننده",25010603,null,1,{"$f":"COUNTIF($S$1:S490,Q490+R490)","v":1},"030401",9.9999999999999995E-7,30401.000001]
[30401.000002000001,null,1.945525E-2,1,1929.0464032499999,null,1,null,99153,1.945525E-2,"دستگاه-ساعت","کمپرسور باظرفیت حدود 5 متر مکعب دردقیقه (180 سی اف ام) با شیلنگ مربوط",25040102,null,2,{"$f":"COUNTIF($S$1:S491,Q491+R491)","v":2},"030401",9.9999999999999995E-7,30401.000001]
[30401.000003000001,null,3.8910500000000001E-2,1,298.98828200000003,null,1,null,7684,3.8910500000000001E-2,"دستگاه ساعت","چکش حفاری حدود17 کیلوگرم",28110103,null,3,{"$f":"COUNTIF($S$1:S492,Q492+R492)","v":3},"030401",9.9999999999999995E-7,30401.000001]
["",null,null,null,null,null,"ضريب",null,"بهاي واحد","مقـدار","واحــد","مصالح",null,null,"رديف",{"$f":"COUNTIF($S$1:S493,Q493+R493)","v":0},"030401",1E-4,""]
[30401.000100000001,null,0.125,1,9250,null,1,null,74000,0.125,"كیلوگرم","امولایت کارتریجی",31420101,null,1,{"$f":"COUNTIF($S$1:S494,Q494+R494)","v":1},"030401",1E-4,30401.000100000001]
[30401.000199999999,null,0.35,1,12775,null,1,null,36500,0.35,"عدد","چاشنی الکتریکی فوری",31420602,null,2,{"$f":"COUNTIF($S$1:S495,Q495+R495)","v":2},"030401",1E-4,30401.000100000001]
["",null,null,null,null,null,"ضريب",null,"بهاي واحد","مقـدار","واحــد"," حمل مصالح ",null,null,"رديف",{"$f":"COUNTIF($S$1:S496,Q496+R496)","v":0},"030401",0.01,""]
[30401.01,null,0.125,1,159.625,null,1,null,1277,0.125,"كیلوگرم","حمل مواد منفجره",41090101,null,1,{"$f":"COUNTIF($S$1:S497,Q497+R497)","v":1},"030401",0.01,30401.01]
[30401.02,null,0.35,1,26.25,null,1,null,75,0.35,"عدد","حمل چاشنی",41090301,null,2,{"$f":"COUNTIF($S$1:S498,Q498+R498)","v":2},"030401",0.01,30401.01]
["",null,null,null,null,null,null,null,null,null,null,null,null,"030501",null,{"$f":"COUNTIF($S$1:S499,Q499+R499)","v":0},"030501",0.01,""]
["",null,null,null,null,null,null,null,null,null,null,"متر مربع",null,null,"واحـد :",{"$f":"COUNTIF($S$1:S500,Q500+R500)","v":0},"030501",0.01,""]
["",null,null,null,null,null,"ضريب",null,"بهاي واحد","مقـدار","واحــد","ماشين آلات ",null,null,"رديف",{"$f":"COUNTIF($S$1:S501,Q501+R501)","v":0},"030501",9.9999999999999995E-7,""]
[30501.000001,null,5.0000000000000001E-3,1,2878.21,null,1,null,575642,5.0000000000000001E-3,"دستگاه-ساعت","گریدر به قدرت حدود220 اسب بخار باراننده",25010904,null,1,{"$f":"COUNTIF($S$1:S502,Q502+R502)","v":1},"030501",9.9999999999999995E-7,30501.000001]
["",null,null,null,null,null,null,null,null,null,null,null,null,"030601",null,{"$f":"COUNTIF($S$1:S503,Q503+R503)","v":0},"030601",9.9999999999999995E-7,""]
["",null,null,null,null,null,null,null,null,null,null,"مترمكعب",null,null,"واحـد :",{"$f":"COUNTIF($S$1:S504,Q504+R504)","v":0},"030601",9.9999999999999995E-7,""]
["",null,null,null,null,null,"ضريب",null,"بهاي واحد","مقـدار","واحــد","ماشين آلات ",null,null,"رديف",{"$f":"COUNTIF($S$1:S505,Q505+R505)","v":0},"030601",9.9999999999999995E-7,""]
[30601.000001,null,1.6666667E-2,1,12118.683575706998,null,1,null,727121,1.6666667E-2,"دستگاه-ساعت","لودرچرخ زنجیری به قدرت حدود200  اسب بخار باراننده",25010701,null,1,{"$f":"COUNTIF($S$1:S506,Q506+R506)","v":1},"030601",9.9999999999999995E-7,30601.000001]
["",null,null,null,null,null,null,null,null,null,null,null,null,"030602",null,{"$f":"COUNTIF($S$1:S507,Q507+R507)","v":0},"030602",9.9999999999999995E-7,""]
["",null,null,null,null,null,null,null,null,null,null,"مترمكعب",null,null,"واحـد :",{"$f":"COUNTIF($S$1:S508,Q508+R508)","v":0},"030602",9.9999999999999995E-7,""]
["",null,null,null,null,null,"ضريب",null,"بهاي واحد","مقـدار","واحــد","ماشين آلات ",null,null,"رديف",{"$f":"COUNTIF($S$1:S509,Q509+R509)","v":0},"030602",9.9999999999999995E-7,""]
[30602.000001,null,1.1666670000000001E-2,1,3882.8194427100007,null,1,null,332813,1.1666670000000001E-2,"ساعت","بولدوزر به قدرت حدود 150 اسب بخار با راننده",25010602,null,1,{"$f":"COUNTIF($S$1:S510,Q510+R510)","v":1},"030602",9.9999999999999995E-7,30602.000001]
["",null,null,null,null,null,null,null,null,null,null,null,null,"030701",null,{"$f":"COUNTIF($S$1:S511,Q511+R511)","v":0},"030701",9.9999999999999995E-7,""]
["",null,null,null,null,null,null,null,null,null,null,"مترمكعب",null,null,"واحـد :",{"$f":"COUNTIF($S$1:S512,Q512+R512)","v":0},"030701",9.9999999999999995E-7,""]
["",null,null,null,null,null,"ضريب",null,"بهاي واحد","مقـدار","واحــد","ماشين آلات ",null,null,"رديف",{"$f":"COUNTIF($S$1:S513,Q513+R513)","v":0},"030701",9.9999999999999995E-7,""]
[30701.000001,null,6.3750000000000001E-2,1,27040.455000000002,null,1.2,null,424164,5.3124999999999999E-2,"دستگاه ساعت","بيل مکانيکي چرخ لاستيکي یا زنجیری به قدرت حدود100 اسب بخار با راننده",25010202,null,1,{"$f":"COUNTIF($S$1:S514,Q514+R514)","v":1},"030701",9.9999999999999995E-7,30701.000001]
["",null,null,null,null,null,null,null,null,null,null,null,null,"030702",null,{"$f":"COUNTIF($S$1:S515,Q515+R515)","v":0},"030702",9.9999999999999995E-7,""]
["",null,null,null,null,null,null,null,null,null,null,"مترمكعب",null,null,"واحـد :",{"$f":"COUNTIF($S$1:S516,Q516+R516)","v":0},"030702",9.9999999999999995E-7,""]
["",null,null,null,null,null,"ضريب",null,"بهاي واحد","مقـدار","واحــد","ماشين آلات ",null,null,"رديف",{"$f":"COUNTIF($S$1:S517,Q517+R517)","v":0},"030702",9.9999999999999995E-7,""]
[30702.000001,null,0.12,1,50899.68,null,1.2,null,424164,0.1,"دستگاه ساعت","بيل مکانيکي چرخ لاستيکي یا زنجیری به قدرت حدود100 اسب بخار با راننده",25010202,null,1,{"$f":"COUNTIF($S$1:S518,Q518+R518)","v":1},"030702",9.9999999999999995E-7,30702.000001]
["",null,null,null,null,null,null,null,null,null,null,null,null,"030703",null,{"$f":"COUNTIF($S$1:S519,Q519+R519)","v":0},"030703",{"$f":"IF(IF(O519=\"رديف\",VLOOKUP(L519,Kod,2,0),0)=0,R518,IF(O519=\"رديف\",VLOOKUP(L519,Kod,2,0),0))","v":9.9999999999999995E-7},""]
["",null,null,null,null,null,null,null,null,null,null,"مترمكعب",null,null,"واحـد :",{"$f":"COUNTIF($S$1:S520,Q520+R520)","v":0},"030703",9.9999999999999995E-7,""]
[{"$f":"IF(M521<>\"\",Q521+(P521*R521),\"\")","v":""},null,null,null,null,null,"ضريب",null,"بهاي واحد","مقـدار","واحــد","نيروي انساني ",null,null,"رديف",{"$f":"COUNTIF($S$1:S521,Q521+R521)","v":0},"030703",1E-8,""]
[30703.000000010001,null,9.6249999999999999E-3,1,635.97187499999995,null,1.25,null,66075,7.7000000000000002E-3,"نفر ساعت","سر کارگر",14010101,null,1,{"$f":"COUNTIF($S$1:S522,Q522+R522)","v":1},"030703",1E-8,30703.000000010001]
[30703.000000020002,null,0.21600000000000003,1,12314.808000000001,null,1.25,null,57013,0.17280000000000001,"نفر- ساعت","كارگر ساده",14010102,null,2,{"$f":"COUNTIF($S$1:S523,Q523+R523)","v":2},"030703",1E-8,30703.000000010001]
["",null,null,null,null,null,"ضريب",null,"بهاي واحد","مقـدار","واحــد","ماشين آلات ",null,null,"رديف",{"$f":"COUNTIF($S$1:S524,Q524+R524)","v":0},"030703",9.9999999999999995E-7,""]
[30703.000001,null,0.15625,1,85211.09375,null,1.25,null,545351,0.125,"دستگاه-ساعت","بیل مکانیکی چرخ زنجیری به قدرت حدود150 اسب بخار باراننده",25010204,null,1,{"$f":"COUNTIF($S$1:S525,Q525+R525)","v":1},"030703",9.9999999999999995E-7,30703.000001]
[30703.000002000001,null,0.15625,1,113612.65625,null,1.25,null,727121,0.125,"دستگاه-ساعت","بیل مکانیکی چرخ زنجیری به قدرت حدود200 اسب بخار باراننده",25010205,null,2,{"$f":"COUNTIF($S$1:S526,Q526+R526)","v":2},"030703",9.9999999999999995E-7,30703.000001]
[30703.000003000001,null,0.15625,1,36112.5,null,1.25,null,231120,0.125,"دستگاه ساعت","چکش هیدرولیکی بافشار 120 تا140 کیلوگرم بر سانتیمتر مربع",28110201,null,3,{"$f":"COUNTIF($S$1:S527,Q527+R527)","v":3},"030703",9.9999999999999995E-7,30703.000001]
[30703.000004000001,null,1.3750000000000004E-4,1,4654.6022874999999,null,1.25,null,33851653,1.1000000000000002E-4,"عدد","قلم چکش هیدرولیکی",28110211,null,4,{"$f":"COUNTIF($S$1:S528,Q528+R528)","v":4},"030703",9.9999999999999995E-7,30703.000001]
["",null,null,null,null,null,null,null,null,null,null,null,null,"030801",null,{"$f":"COUNTIF($S$1:S529,Q529+R529)","v":0},"030801",9.9999999999999995E-7,""]
["",null,null,null,null,null,null,null,null,null,null,"مترمكعب",null,null,"واحـد :",{"$f":"COUNTIF($S$1:S530,Q530+R530)","v":0},"030801",9.9999999999999995E-7,""]
["",null,null,null,null,null,"ضريب",null,"بهاي واحد","مقـدار","واحــد","ماشين آلات ",null,null,"رديف",{"$f":"COUNTIF($S$1:S531,Q531+R531)","v":0},"030801",9.9999999999999995E-7,""]
[30801.000001,null,1.0000000080000002E-2,1,4241.6400339331212,null,1.8,null,424164,5.5555556000000004E-3,"دستگاه ساعت","بيل مکانيکي چرخ لاستيکي یا زنجیری به قدرت حدود100 اسب بخار با راننده",25010202,null,1,{"$f":"COUNTIF($S$1:S532,Q532+R532)","v":1},"030801",9.9999999999999995E-7,30801.000001]
["",null,null,null,null,null,null,null,null,null,null,null,null,"030802",null,{"$f":"COUNTIF($S$1:S533,Q533+R533)","v":0},"030802",9.9999999999999995E-7,""]
["",null,null,null,null,null,null,null,null,null,null,"مترمكعب",null,null,"واحـد :",{"$f":"COUNTIF($S$1:S534,Q534+R534)","v":0},"030802",9.9999999999999995E-7,""]
["",null,null,null,null,null,"ضريب",null,"بهاي واحد","مقـدار","واحــد","نيروي انساني ",null,null,"رديف",{"$f":"COUNTIF($S$1:S535,Q535+R535)","v":0},"030802",1E-8,""]
[30802.000000010001,null,0.1,1,7009.2,null,1,null,70092,0.1,"نفر- ساعت","متصدی پمپ اب",13041101,null,1,{"$f":"COUNTIF($S$1:S536,Q536+R536)","v":1},"030802",1E-8,30802.000000010001]
["",null,null,null,null,null,"ضريب",null,"بهاي واحد","مقـدار","واحــد","ماشين آلات ",null,null,"رديف",{"$f":"COUNTIF($S$1:S537,Q537+R537)","v":0},"030802",9.9999999999999995E-7,""]
[30802.000001,null,3.4000000000000002E-2,1,18541.934000000005,null,1,null,545351,3.4000000000000002E-2,"دستگاه-ساعت","بیل مکانیکی چرخ زنجیری به قدرت حدود150 اسب بخار باراننده",25010204,null,1,{"$f":"COUNTIF($S$1:S538,Q538+R538)","v":1},"030802",9.9999999999999995E-7,30802.000001]
[30802.000002000001,null,0.1,1,3029.1,null,1,null,30291,0.1,"دستگاه ساعت","موتور پمپ دیزلی تخلیه آب 4 اینچ",26010201,null,2,{"$f":"COUNTIF($S$1:S539,Q539+R539)","v":2},{"$f":"IF(N539>0,N539,Q538)","v":"030802"},9.9999999999999995E-7,{"$f":"IF(M539<>\"\",Q539+R539,\"\")","v":30802.000001}]
["",null,null,null,null,null,null,null,null,null,null,null,null,"030901",null,{"$f":"COUNTIF($S$1:S540,Q540+R540)","v":0},"030901",9.9999999999999995E-7,""]
["",null,null,null,null,null,null,null,null,null,null,"مترمكعب",null,null,"واحـد :",{"$f":"COUNTIF($S$1:S541,Q541+R541)","v":0},"030901",9.9999999999999995E-7,""]
["",null,null,null,null,null,"ضريب",null,"بهاي واحد","مقـدار","واحــد","ماشين آلات ",null,null,"رديف",{"$f":"COUNTIF($S$1:S542,Q542+R542)","v":0},"030901",9.9999999999999995E-7,""]
[30901.000001,null,3.2313600000000005E-2,1,11202.478847999999,null,0.88,null,346680,3.6720000000000003E-2,"دستگاه-ساعت","کامیون کمپرسی به ظرفیت حدود 10 تن با راننده",23020204,null,1,{"$f":"COUNTIF($S$1:S543,Q543+R543)","v":1},"030901",9.9999999999999995E-7,30901.000001]
[30901.000002000001,null,1.6139199999999999E-2,1,5867.5998303999995,null,0.88,null,363562,1.8339999999999999E-2,"دستگاه-ساعت","لودرچرخ لاستيکي به قدرت حدود150  اسب بخار باراننده",25010802,null,2,{"$f":"COUNTIF($S$1:S544,Q544+R544)","v":2},"030901",9.9999999999999995E-7,30901.000001]
["",null,null,null,null,null,null,null,null,null,null,null,null,"030902",null,{"$f":"COUNTIF($S$1:S545,Q545+R545)","v":0},"030902",9.9999999999999995E-7,""]
["",null,null,null,null,null,null,null,null,null,null,"مترمكعب",null,null,"واحـد :",{"$f":"COUNTIF($S$1:S546,Q546+R546)","v":0},"030902",9.9999999999999995E-7,""]
["",null,null,null,null,null,"ضريب",null,"بهاي واحد","مقـدار","واحــد","ماشين آلات ",null,null,"رديف",{"$f":"COUNTIF($S$1:S547,Q547+R547)","v":0},"030902",9.9999999999999995E-7,""]
[30902.000001,null,4.2226E-3,1,1463.8909679999997,null,1.075,null,346680,3.9280000000000001E-3,"دستگاه-ساعت","کامیون کمپرسی به ظرفیت حدود 10 تن با راننده",23020204,null,1,{"$f":"COUNTIF($S$1:S548,Q548+R548)","v":1},"030902",9.9999999999999995E-7,30902.000001]
["",null,null,null,null,null,null,null,null,null,null,null,null,"030903",null,{"$f":"COUNTIF($S$1:S549,Q549+R549)","v":0},"030903",9.9999999999999995E-7,""]
["",null,null,null,null,null,null,null,null,null,null,"مترمكعب -  كیلومتر‏",null,null,"واحـد :",{"$f":"COUNTIF($S$1:S550,Q550+R550)","v":0},"030903",9.9999999999999995E-7,""]
["",null,null,null,null,null,"ضريب",null,"بهاي واحد","مقـدار","واحــد","ماشين آلات ",null,null,"رديف",{"$f":"COUNTIF($S$1:S551,Q551+R551)","v":0},"030903",9.9999999999999995E-7,""]
[30903.000001,null,7.8809120000000003E-3,1,2823.2263912320004,null,1.6,null,358236,4.9255699999999998E-3,"دستگاه ساعت","کامیون کمپرسی به ظرفیت حدود 16 تن با راننده",23020205,null,1,{"$f":"COUNTIF($S$1:S552,Q552+R552)","v":1},"030903",9.9999999999999995E-7,30903.000001]
["",null,null,null,null,null,null,null,null,null,null,null,null,"030904",null,{"$f":"COUNTIF($S$1:S553,Q553+R553)","v":0},"030904",9.9999999999999995E-7,""]
["",null,null,null,null,null,null,null,null,null,null,"مترمكعب -  كیلومتر‏",null,null,"واحـد :",{"$f":"COUNTIF($S$1:S554,Q554+R554)","v":0},"030904",9.9999999999999995E-7,""]
["",null,null,null,null,null,"ضريب",null,"بهاي واحد","مقـدار","واحــد","ماشين آلات ",null,null,"رديف",{"$f":"COUNTIF($S$1:S555,Q555+R555)","v":0},"030904",9.9999999999999995E-7,""]
[30904.000001,null,6.6428479999999998E-3,1,2379.7072961280005,null,1.6,null,358236,4.1517799999999999E-3,"دستگاه ساعت","کامیون کمپرسی به ظرفیت حدود 16 تن با راننده",23020205,null,1,{"$f":"COUNTIF($S$1:S556,Q556+R556)","v":1},"030904",9.9999999999999995E-7,30904.000001]
["",null,null,null,null,null,null,null,null,null,null,null,null,"030905",null,{"$f":"COUNTIF($S$1:S557,Q557+R557)","v":0},"030905",9.9999999999999995E-7,""]
["",null,null,null,null,null,null,null,null,null,null,"مترمكعب -  كیلومتر‏",null,null,"واحـد :",{"$f":"COUNTIF($S$1:S558,Q558+R558)","v":0},"030905",9.9999999999999995E-7,""]
["",null,null,null,null,null,"ضريب",null,"بهاي واحد","مقـدار","واحــد","ماشين آلات ",null,null,"رديف",{"$f":"COUNTIF($S$1:S559,Q559+R559)","v":0},"030905",9.9999999999999995E-7,""]
[30905.000001,null,5.2176799999999997E-3,1,2170.6383628800004,null,2,null,416016,2.6088399999999999E-3,"دستگاه -  ساعت","کامیون کمپرسی تریلر به ظرفیت حدود 25 تن با راننده",23020206,null,1,{"$f":"COUNTIF($S$1:S560,Q560+R560)","v":1},"030905",9.9999999999999995E-7,30905.000001]
["",null,null,null,null,null,null,null,null,null,null,null,null,"030910",null,{"$f":"COUNTIF($S$1:S561,Q561+R561)","v":0},"030910",9.9999999999999995E-7,""]
["",null,null,null,null,null,null,null,null,null,null,"مترمكعب -  كیلومتر‏",null,null,"واحـد :",{"$f":"COUNTIF($S$1:S562,Q562+R562)","v":0},"030910",9.9999999999999995E-7,""]
["",null,null,null,null,null,"ضريب",null,"بهاي واحد","مقـدار","واحــد","ماشين آلات ",null,null,"رديف",{"$f":"COUNTIF($S$1:S563,Q563+R563)","v":0},"030910",9.9999999999999995E-7,""]
[30910.000001,null,1.8960039999999997E-2,1,5312.7738483599996,null,1.64,null,280209,1.1560999999999998E-2,"دستگاه-ساعت","تانکراب پاش به ظرفیت حدود 15000 لیتر باراننده",23020503,null,1,{"$f":"COUNTIF($S$1:S564,Q564+R564)","v":1},"030910",9.9999999999999995E-7,30910.000001]
["",null,null,null,null,null,null,null,null,null,null,null,null,"031001",null,{"$f":"COUNTIF($S$1:S565,Q565+R565)","v":0},"031001",9.9999999999999995E-7,""]
["",null,null,null,null,null,null,null,null,null,null,"متر مربع",null,null,"واحـد :",{"$f":"COUNTIF($S$1:S566,Q566+R566)","v":0},"031001",9.9999999999999995E-7,""]
["",null,null,null,null,null,"ضريب",null,"بهاي واحد","مقـدار","واحــد","ماشين آلات ",null,null,"رديف",{"$f":"COUNTIF($S$1:S567,Q567+R567)","v":0},"031001",9.9999999999999995E-7,""]
[31001.000001,null,6.4020489999999999E-4,1,368.52882904580002,null,1,null,575642,6.4020489999999999E-4,"دستگاه-ساعت","گریدر به قدرت حدود220 اسب بخار باراننده",25010904,null,1,{"$f":"COUNTIF($S$1:S568,Q568+R568)","v":1},"031001",9.9999999999999995E-7,31001.000001]
["",null,null,null,null,null,null,null,null,null,null,null,null,"031002",null,{"$f":"COUNTIF($S$1:S569,Q569+R569)","v":0},"031002",9.9999999999999995E-7,""]
["",null,null,null,null,null,null,null,null,null,null,"متر مربع",null,null,"واحـد :",{"$f":"COUNTIF($S$1:S570,Q570+R570)","v":0},"031002",9.9999999999999995E-7,""]
["",null,null,null,null,null,"ضريب",null,"بهاي واحد","مقـدار","واحــد","ماشين آلات ",null,null,"رديف",{"$f":"COUNTIF($S$1:S571,Q571+R571)","v":0},"031002",9.9999999999999995E-7,""]
[31002.000001,null,7.5999999999999993E-4,1,212.95883999999998,null,1,null,280209,7.5999999999999993E-4,"دستگاه-ساعت","تانکراب پاش به ظرفیت حدود 15000 لیتر باراننده",23020503,null,1,{"$f":"COUNTIF($S$1:S572,Q572+R572)","v":1},"031002",9.9999999999999995E-7,31002.000001]
[31002.000002000001,null,2.3999999999999998E-3,1,523.52639999999997,null,1,null,218136,2.3999999999999998E-3,"دستگاه-ساعت","غلطک استاتیک چرخ اهنی حدود 12 تا14 تن باراننده",25030204,null,2,{"$f":"COUNTIF($S$1:S573,Q573+R573)","v":2},"031002",9.9999999999999995E-7,31002.000001]
["",null,null,null,null,null,"ضريب",null,"بهاي واحد","مقـدار","واحــد","مصالح",null,null,"رديف",{"$f":"COUNTIF($S$1:S574,Q574+R574)","v":0},"031002",1E-4,""]
[31002.000100000001,null,7.4999999999999997E-3,1,9.3975000000000009,null,1,null,1253,7.4999999999999997E-3,"مترمكعب","آب رودخانه",31010201,null,1,{"$f":"COUNTIF($S$1:S575,Q575+R575)","v":1},"031002",1E-4,31002.000100000001]
[31002.000199999999,null,7.4999999999999997E-3,1,71.032499999999999,null,1,null,9471,7.4999999999999997E-3,"مترمكعب","آب چاه و قنات",31010301,null,2,{"$f":"COUNTIF($S$1:S576,Q576+R576)","v":2},"031002",1E-4,31002.000100000001]
["",null,null,null,null,null,null,null,null,null,null,null,null,"031003",null,{"$f":"COUNTIF($S$1:S577,Q577+R577)","v":0},"031003",1E-4,""]
["",null,null,null,null,null,null,null,null,null,null,"متر مربع",null,null,"واحـد :",{"$f":"COUNTIF($S$1:S578,Q578+R578)","v":0},"031003",1E-4,""]
["",null,null,null,null,null,"ضريب",null,"بهاي واحد","مقـدار","واحــد","ماشين آلات ",null,null,"رديف",{"$f":"COUNTIF($S$1:S579,Q579+R579)","v":0},"031003",9.9999999999999995E-7,""]
[31003.000001,null,7.5999999999999993E-4,1,212.95883999999998,null,1,null,280209,7.5999999999999993E-4,"دستگاه-ساعت","تانکراب پاش به ظرفیت حدود 15000 لیتر باراننده",23020503,null,1,{"$f":"COUNTIF($S$1:S580,Q580+R580)","v":1},"031003",9.9999999999999995E-7,31003.000001]
[31003.000002000001,null,4.0000000000000001E-3,1,872.54399999999998,null,1,null,218136,4.0000000000000001E-3,"دستگاه-ساعت","غلطک استاتیک چرخ اهنی حدود 12 تا14 تن باراننده",25030204,null,2,{"$f":"COUNTIF($S$1:S581,Q581+R581)","v":2},"031003",9.9999999999999995E-7,31003.000001]
["",null,null,null,null,null,"ضريب",null,"بهاي واحد","مقـدار","واحــد","مصالح",null,null,"رديف",{"$f":"COUNTIF($S$1:S582,Q582+R582)","v":0},"031003",1E-4,""]
[31003.000100000001,null,7.4999999999999997E-3,1,9.3975000000000009,null,1,null,1253,7.4999999999999997E-3,"مترمكعب","آب رودخانه",31010201,null,1,{"$f":"COUNTIF($S$1:S583,Q583+R583)","v":1},"031003",{"$f":"IF(IF(O583=\"رديف\",VLOOKUP(L583,Kod,2,0),0)=0,R582,IF(O583=\"رديف\",VLOOKUP(L583,Kod,2,0),0))","v":1E-4},31003.000100000001]
[31003.000199999999,null,7.4999999999999997E-3,1,71.032499999999999,null,1,null,9471,7.4999999999999997E-3,"مترمكعب","آب چاه و قنات",31010301,null,2,{"$f":"COUNTIF($S$1:S584,Q584+R584)","v":2},"031003",1E-4,31003.000100000001]
[{"$f":"IF(M585<>\"\",Q585+(P585*R585),\"\")","v":""},null,null,null,null,null,null,null,null,null,null,null,null,"031004",null,{"$f":"COUNTIF($S$1:S585,Q585+R585)","v":0},"031004",1E-4,""]
["",null,null,null,null,null,null,null,null,null,null,"متر مربع",null,null,"واحـد :",{"$f":"COUNTIF($S$1:S586,Q586+R586)","v":0},"031004",1E-4,""]
["",null,null,null,null,null,"ضريب",null,"بهاي واحد","مقـدار","واحــد","ماشين آلات ",null,null,"رديف",{"$f":"COUNTIF($S$1:S587,Q587+R587)","v":0},"031004",9.9999999999999995E-7,""]
[31004.000001,null,7.5999999999999993E-4,1,212.95883999999998,null,1,null,280209,7.5999999999999993E-4,"دستگاه-ساعت","تانکراب پاش به ظرفیت حدود 15000 لیتر باراننده",23020503,null,1,{"$f":"COUNTIF($S$1:S588,Q588+R588)","v":1},"031004",9.9999999999999995E-7,31004.000001]
[31004.000002000001,null,1.3799999999999999E-3,1,145.01867999999999,null,1,null,105086,1.3799999999999999E-3,"دستگاه ساعت","تراکتور جفت دیفرانسیل با راننده",23020802,null,2,{"$f":"COUNTIF($S$1:S589,Q589+R589)","v":2},"031004",9.9999999999999995E-7,31004.000001]
[31004.000003000001,null,4.1099999999999999E-3,1,896.53895999999997,null,1,null,218136,4.1099999999999999E-3,"دستگاه-ساعت","غلطک استاتیک چرخ اهنی حدود 12 تا14 تن باراننده",25030204,null,3,{"$f":"COUNTIF($S$1:S590,Q590+R590)","v":3},"031004",9.9999999999999995E-7,31004.000001]
[31004.000004000001,null,1.3799999999999999E-3,1,167.23805999999996,null,1,null,121187,1.3799999999999999E-3,"دستگاه ساعت","غلطک ویبره کششی حدود6 تن",25030401,null,4,{"$f":"COUNTIF($S$1:S591,Q591+R591)","v":4},"031004",9.9999999999999995E-7,31004.000001]
["",null,null,null,null,null,"ضريب",null,"بهاي واحد","مقـدار","واحــد","مصالح",null,null,"رديف",{"$f":"COUNTIF($S$1:S592,Q592+R592)","v":0},"031004",1E-4,""]
[31004.000100000001,null,7.4999999999999997E-3,1,9.3975000000000009,null,1,null,1253,7.4999999999999997E-3,"مترمكعب","آب رودخانه",31010201,null,1,{"$f":"COUNTIF($S$1:S593,Q593+R593)","v":1},"031004",1E-4,31004.000100000001]
[31004.000199999999,null,7.4999999999999997E-3,1,71.032499999999999,null,1,null,9471,7.4999999999999997E-3,"مترمكعب","آب چاه و قنات",31010301,null,2,{"$f":"COUNTIF($S$1:S594,Q594+R594)","v":2},"031004",1E-4,31004.000100000001]
["",null,null,null,null,null,null,null,null,null,null,null,null,"031005",null,{"$f":"COUNTIF($S$1:S595,Q595+R595)","v":0},"031005",1E-4,""]
["",null,null,null,null,null,null,null,null,null,null,"متر مربع",null,null,"واحـد :",{"$f":"COUNTIF($S$1:S596,Q596+R596)","v":0},"031005",1E-4,""]
["",null,null,null,null,null,"ضريب",null,"بهاي واحد","مقـدار","واحــد","ماشين آلات ",null,null,"رديف",{"$f":"COUNTIF($S$1:S597,Q597+R597)","v":0},"031005",9.9999999999999995E-7,""]
[31005.000001,null,7.5999999999999993E-4,1,212.95883999999998,null,1,null,280209,7.5999999999999993E-4,"دستگاه-ساعت","تانکراب پاش به ظرفیت حدود 15000 لیتر باراننده",23020503,null,1,{"$f":"COUNTIF($S$1:S598,Q598+R598)","v":1},"031005",9.9999999999999995E-7,31005.000001]
[31005.000002000001,null,2.3E-3,1,241.6978,null,1,null,105086,2.3E-3,"دستگاه ساعت","تراکتور جفت دیفرانسیل با راننده",23020802,null,2,{"$f":"COUNTIF($S$1:S599,Q599+R599)","v":2},"031005",9.9999999999999995E-7,31005.000001]
[31005.000003000001,null,7.1000000000000004E-3,1,1548.7656000000002,null,1,null,218136,7.1000000000000004E-3,"دستگاه-ساعت","غلطک استاتیک چرخ اهنی حدود 12 تا14 تن باراننده",25030204,null,3,{"$f":"COUNTIF($S$1:S600,Q600+R600)","v":3},"031005",9.9999999999999995E-7,31005.000001]
[31005.000004000001,null,2.3E-3,1,299.66700000000003,null,1,null,130290,2.3E-3,"دستگاه ساعت","غلطک ویبره کششی حدود 8 تن",25030402,null,4,{"$f":"COUNTIF($S$1:S601,Q601+R601)","v":4},"031005",9.9999999999999995E-7,31005.000001]
["",null,null,null,null,null,"ضريب",null,"بهاي واحد","مقـدار","واحــد","مصالح",null,null,"رديف",{"$f":"COUNTIF($S$1:S602,Q602+R602)","v":0},"031005",1E-4,""]
[31005.000100000001,null,7.4999999999999997E-3,1,9.3975000000000009,null,1,null,1253,7.4999999999999997E-3,"مترمكعب","آب رودخانه",31010201,null,1,{"$f":"COUNTIF($S$1:S603,Q603+R603)","v":1},{"$f":"IF(N603>0,N603,Q602)","v":"031005"},1E-4,{"$f":"IF(M603<>\"\",Q603+R603,\"\")","v":31005.000100000001}]
[31005.000199999999,null,7.4999999999999997E-3,1,71.032499999999999,null,1,null,9471,7.4999999999999997E-3,"مترمكعب","آب چاه و قنات",31010301,null,2,{"$f":"COUNTIF($S$1:S604,Q604+R604)","v":2},"031005",1E-4,31005.000100000001]
["",null,null,null,null,null,null,null,null,null,null,null,null,"031006",null,{"$f":"COUNTIF($S$1:S605,Q605+R605)","v":0},"031006",1E-4,""]
["",null,null,null,null,null,null,null,null,null,null,"متر مربع",null,null,"واحـد :",{"$f":"COUNTIF($S$1:S606,Q606+R606)","v":0},"031006",1E-4,""]
["",null,null,null,null,null,"ضريب",null,"بهاي واحد","مقـدار","واحــد","ماشين آلات ",null,null,"رديف",{"$f":"COUNTIF($S$1:S607,Q607+R607)","v":0},"031006",9.9999999999999995E-7,""]
[31006.000001,null,2.4529E-3,1,687.32465610000008,null,1,null,280209,2.4529E-3,"دستگاه-ساعت","تانکراب پاش به ظرفیت حدود 15000 لیتر باراننده",23020503,null,1,{"$f":"COUNTIF($S$1:S608,Q608+R608)","v":1},"031006",9.9999999999999995E-7,31006.000001]
[31006.000002000001,null,3.649635E-3,1,796.11678036000001,null,1,null,218136,3.649635E-3,"دستگاه-ساعت","غلطک استاتیک چرخ اهنی حدود 12 تا14 تن باراننده",25030204,null,2,{"$f":"COUNTIF($S$1:S609,Q609+R609)","v":2},"031006",9.9999999999999995E-7,31006.000001]
["",null,null,null,null,null,"ضريب",null,"بهاي واحد","مقـدار","واحــد","مصالح",null,null,"رديف",{"$f":"COUNTIF($S$1:S610,Q610+R610)","v":0},"031006",1E-4,""]
[31006.000100000001,null,0.03,1,37.590000000000003,null,1,null,1253,0.03,"مترمكعب","آب رودخانه",31010201,null,1,{"$f":"COUNTIF($S$1:S611,Q611+R611)","v":1},"031006",1E-4,31006.000100000001]
[31006.000199999999,null,0.03,1,284.13,null,1,null,9471,0.03,"مترمكعب","آب چاه و قنات",31010301,null,2,{"$f":"COUNTIF($S$1:S612,Q612+R612)","v":2},"031006",1E-4,31006.000100000001]
["",null,null,null,null,null,null,null,null,null,null,null,null,"031101",null,{"$f":"COUNTIF($S$1:S613,Q613+R613)","v":0},"031101",1E-4,""]
["",null,null,null,null,null,null,null,null,null,null,"مترمكعب",null,null,"واحـد :",{"$f":"COUNTIF($S$1:S614,Q614+R614)","v":0},"031101",1E-4,""]
["",null,null,null,null,null,"ضريب",null,"بهاي واحد","مقـدار","واحــد","نيروي انساني ",null,null,"رديف",{"$f":"COUNTIF($S$1:S615,Q615+R615)","v":0},"031101",1E-8,""]
[31101.000000010001,null,2.5882349999999999E-3,1,229.44962098499997,null,1,null,88651,2.5882349999999999E-3,"نفر- ساعت","کمک نقشه بردار (ترازیاب)",12030103,null,1,{"$f":"COUNTIF($S$1:S616,Q616+R616)","v":1},"031101",1E-8,31101.000000010001]
[31101.000000020002,null,1.2941176E-2,1,845.20114573600017,null,1,null,65311,1.2941176E-2,"نفر- ساعت","کارگر نقشه‌برداري (ميرکش)",12030104,null,2,{"$f":"COUNTIF($S$1:S617,Q617+R617)","v":2},"031101",1E-8,31101.000000010001]
[31101.000000029999,null,1.2941176E-2,1,737.81526728800009,null,1,null,57013,1.2941176E-2,"نفر- ساعت","كارگر ساده",14010102,null,3,{"$f":"COUNTIF($S$1:S618,Q618+R618)","v":3},"031101",1E-8,31101.000000010001]
[31101.00000004,null,1.2941176E-2,1,2064.803454328,null,1,null,159553,1.2941176E-2,"نفر- ساعت","مباشر عملیات خاکی با سابقه بیش از 10 سال",14240301,null,4,{"$f":"COUNTIF($S$1:S619,Q619+R619)","v":4},"031101",1E-8,31101.000000010001]
["",null,null,null,null,null,"ضريب",null,"بهاي واحد","مقـدار","واحــد","ماشين آلات ",null,null,"رديف",{"$f":"COUNTIF($S$1:S620,Q620+R620)","v":0},"031101",9.9999999999999995E-7,""]
[31101.000001,null,5.5879999999999992E-3,1,1565.8078919999998,null,1,null,280209,5.5879999999999992E-3,"دستگاه-ساعت","تانکراب پاش به ظرفیت حدود 15000 لیتر باراننده",23020503,null,1,{"$f":"COUNTIF($S$1:S621,Q621+R621)","v":1},"031101",9.9999999999999995E-7,31101.000001]
[31101.000002000001,null,1.3089999999999999E-2,1,5552.3067599999995,null,1,null,424164,1.3089999999999999E-2,"دستگاه-ساعت","گریدر به قدرت حدود180 اسب بخار باراننده",25010902,null,2,{"$f":"COUNTIF($S$1:S622,Q622+R622)","v":2},"031101",9.9999999999999995E-7,31101.000001]
[31101.000003000001,null,1.0449999999999999E-2,1,3799.2228999999998,null,1,null,363562,1.0449999999999999E-2,"دستگاه-ساعت","غلطک ویبره خودروکمرشکن چرخ اهنی لاستیکی حدود10 تن باراننده",25030501,null,3,{"$f":"COUNTIF($S$1:S623,Q623+R623)","v":3},"031101",9.9999999999999995E-7,31101.000001]
["",null,null,null,null,null,"ضريب",null,"بهاي واحد","مقـدار","واحــد","مصالح",null,null,"رديف",{"$f":"COUNTIF($S$1:S624,Q624+R624)","v":0},"031101",1E-4,""]
[31101.000100000001,null,0.06,1,75.180000000000007,null,1,null,1253,0.06,"مترمكعب","آب رودخانه",31010201,null,1,{"$f":"COUNTIF($S$1:S625,Q625+R625)","v":1},"031101",1E-4,31101.000100000001]
[31101.000199999999,null,0.06,1,568.26,null,1,null,9471,0.06,"مترمكعب","آب چاه و قنات",31010301,null,2,{"$f":"COUNTIF($S$1:S626,Q626+R626)","v":2},"031101",1E-4,31101.000100000001]
["",null,null,null,null,null,null,null,null,null,null,null,null,"031102",null,{"$f":"COUNTIF($S$1:S627,Q627+R627)","v":0},"031102",1E-4,""]
["",null,null,null,null,null,null,null,null,null,null,"مترمكعب",null,null,"واحـد :",{"$f":"COUNTIF($S$1:S628,Q628+R628)","v":0},"031102",1E-4,""]
["",null,null,null,null,null,"ضريب",null,"بهاي واحد","مقـدار","واحــد","نيروي انساني ",null,null,"رديف",{"$f":"COUNTIF($S$1:S629,Q629+R629)","v":0},"031102",1E-8,""]
[31102.000000010001,null,2.4705899999999999E-3,1,219.02027409000002,null,1,null,88651,2.4705899999999999E-3,"نفر- ساعت","کمک نقشه بردار (ترازیاب)",12030103,null,1,{"$f":"COUNTIF($S$1:S630,Q630+R630)","v":1},"031102",1E-8,31102.000000010001]
[31102.000000020002,null,1.235294E-2,1,806.78286433999995,null,1,null,65311,1.235294E-2,"نفر- ساعت","کارگر نقشه‌برداري (ميرکش)",12030104,null,2,{"$f":"COUNTIF($S$1:S631,Q631+R631)","v":2},"031102",1E-8,31102.000000010001]
[31102.000000029999,null,1.235294E-2,1,704.27816821999988,null,1,null,57013,1.235294E-2,"نفر- ساعت","كارگر ساده",14010102,null,3,{"$f":"COUNTIF($S$1:S632,Q632+R632)","v":3},"031102",1E-8,31102.000000010001]
[31102.00000004,null,1.235294E-2,1,1970.9486358199999,null,1,null,159553,1.235294E-2,"نفر- ساعت","مباشر عملیات خاکی با سابقه بیش از 10 سال",14240301,null,4,{"$f":"COUNTIF($S$1:S633,Q633+R633)","v":4},"031102",1E-8,31102.000000010001]
["",null,null,null,null,null,"ضريب",null,"بهاي واحد","مقـدار","واحــد","ماشين آلات ",null,null,"رديف",{"$f":"COUNTIF($S$1:S634,Q634+R634)","v":0},"031102",9.9999999999999995E-7,""]
[31102.000001,null,5.3340000000000002E-3,1,1494.6348059999998,null,1,null,280209,5.3340000000000002E-3,"دستگاه-ساعت","تانکراب پاش به ظرفیت حدود 15000 لیتر باراننده",23020503,null,1,{"$f":"COUNTIF($S$1:S635,Q635+R635)","v":1},"031102",9.9999999999999995E-7,31102.000001]
[31102.000002000001,null,1.2494999999999999E-2,1,5299.9291799999992,null,1,null,424164,1.2494999999999999E-2,"دستگاه-ساعت","گریدر به قدرت حدود180 اسب بخار باراننده",25010902,null,2,{"$f":"COUNTIF($S$1:S636,Q636+R636)","v":2},"031102",9.9999999999999995E-7,31102.000001]
[31102.000003000001,null,1.6590000000000001E-2,1,6031.4935800000003,null,1,null,363562,1.6590000000000001E-2,"دستگاه-ساعت","غلطک ویبره خودروکمرشکن چرخ اهنی لاستیکی حدود10 تن باراننده",25030501,null,3,{"$f":"COUNTIF($S$1:S637,Q637+R637)","v":3},"031102",9.9999999999999995E-7,31102.000001]
["",null,null,null,null,null,"ضريب",null,"بهاي واحد","مقـدار","واحــد","مصالح",null,null,"رديف",{"$f":"COUNTIF($S$1:S638,Q638+R638)","v":0},"031102",1E-4,""]
[31102.000100000001,null,0.06,1,75.180000000000007,null,1,null,1253,0.06,"مترمكعب","آب رودخانه",31010201,null,1,{"$f":"COUNTIF($S$1:S639,Q639+R639)","v":1},"031102",1E-4,31102.000100000001]
[31102.000199999999,null,0.06,1,568.26,null,1,null,9471,0.06,"مترمكعب","آب چاه و قنات",31010301,null,2,{"$f":"COUNTIF($S$1:S640,Q640+R640)","v":2},"031102",1E-4,31102.000100000001]
["",null,null,null,null,null,null,null,null,null,null,null,null,"031103",null,{"$f":"COUNTIF($S$1:S641,Q641+R641)","v":0},"031103",1E-4,""]
["",null,null,null,null,null,null,null,null,null,null,"مترمكعب",null,null,"واحـد :",{"$f":"COUNTIF($S$1:S642,Q642+R642)","v":0},"031103",1E-4,""]
["",null,null,null,null,null,"ضريب",null,"بهاي واحد","مقـدار","واحــد","نيروي انساني ",null,null,"رديف",{"$f":"COUNTIF($S$1:S643,Q643+R643)","v":0},"031103",1E-8,""]
[31103.000000010001,null,2.3529412E-3,1,208.59059032120001,null,1,null,88651,2.3529412E-3,"نفر- ساعت","کمک نقشه بردار (ترازیاب)",12030103,null,1,{"$f":"COUNTIF($S$1:S644,Q644+R644)","v":1},"031103",1E-8,31103.000000010001]
[31103.000000020002,null,1.17647059E-2,1,768.36470703490011,null,1,null,65311,1.17647059E-2,"نفر- ساعت","کارگر نقشه‌برداري (ميرکش)",12030104,null,2,{"$f":"COUNTIF($S$1:S645,Q645+R645)","v":2},"031103",1E-8,31103.000000010001]
[31103.000000029999,null,1.17647059E-2,1,670.74117747669993,null,1,null,57013,1.17647059E-2,"نفر- ساعت","كارگر ساده",14010102,null,3,{"$f":"COUNTIF($S$1:S646,Q646+R646)","v":3},"031103",1E-8,31103.000000010001]
[31103.00000004,null,1.17647059E-2,1,1877.0941204627002,null,1,null,159553,1.17647059E-2,"نفر- ساعت","مباشر عملیات خاکی با سابقه بیش از 10 سال",14240301,null,4,{"$f":"COUNTIF($S$1:S647,Q647+R647)","v":4},"031103",{"$f":"IF(IF(O647=\"رديف\",VLOOKUP(L647,Kod,2,0),0)=0,R646,IF(O647=\"رديف\",VLOOKUP(L647,Kod,2,0),0))","v":1E-8},31103.000000010001]
["",null,null,null,null,null,"ضريب",null,"بهاي واحد","مقـدار","واحــد","ماشين آلات ",null,null,"رديف",{"$f":"COUNTIF($S$1:S648,Q648+R648)","v":0},"031103",9.9999999999999995E-7,""]
[{"$f":"IF(M649<>\"\",Q649+(P649*R649),\"\")","v":31103.000001},null,5.0800000000000003E-3,1,1423.4617200000002,null,1,null,280209,5.0800000000000003E-3,"دستگاه-ساعت","تانکراب پاش به ظرفیت حدود 15000 لیتر باراننده",23020503,null,1,{"$f":"COUNTIF($S$1:S649,Q649+R649)","v":1},"031103",9.9999999999999995E-7,31103.000001]
[31103.000002000001,null,1.1900000000000001E-2,1,5047.5516000000007,null,1,null,424164,1.1900000000000001E-2,"دستگاه-ساعت","گریدر به قدرت حدود180 اسب بخار باراننده",25010902,null,2,{"$f":"COUNTIF($S$1:S650,Q650+R650)","v":2},"031103",9.9999999999999995E-7,31103.000001]
[31103.000003000001,null,2.2200000000000001E-2,1,8071.0763999999999,null,1,null,363562,2.2200000000000001E-2,"دستگاه-ساعت","غلطک ویبره خودروکمرشکن چرخ اهنی لاستیکی حدود10 تن باراننده",25030501,null,3,{"$f":"COUNTIF($S$1:S651,Q651+R651)","v":3},"031103",9.9999999999999995E-7,31103.000001]
["",null,null,null,null,null,"ضريب",null,"بهاي واحد","مقـدار","واحــد","مصالح",null,null,"رديف",{"$f":"COUNTIF($S$1:S652,Q652+R652)","v":0},"031103",1E-4,""]
[31103.000100000001,null,0.06,1,75.180000000000007,null,1,null,1253,0.06,"مترمكعب","آب رودخانه",31010201,null,1,{"$f":"COUNTIF($S$1:S653,Q653+R653)","v":1},"031103",1E-4,31103.000100000001]
[31103.000199999999,null,0.06,1,568.26,null,1,null,9471,0.06,"مترمكعب","آب چاه و قنات",31010301,null,2,{"$f":"COUNTIF($S$1:S654,Q654+R654)","v":2},"031103",1E-4,31103.000100000001]
["",null,null,null,null,null,null,null,null,null,null,null,null,"031104",null,{"$f":"COUNTIF($S$1:S655,Q655+R655)","v":0},"031104",1E-4,""]
["",null,null,null,null,null,null,null,null,null,null,"مترمكعب",null,null,"واحـد :",{"$f":"COUNTIF($S$1:S656,Q656+R656)","v":0},"031104",1E-4,""]
["",null,null,null,null,null,"ضريب",null,"بهاي واحد","مقـدار","واحــد","نيروي انساني ",null,null,"رديف",{"$f":"COUNTIF($S$1:S657,Q657+R657)","v":0},"031104",1E-8,""]
[31104.000000010001,null,2.3529412E-3,1,412.68471000919999,null,1,null,175391,2.3529412E-3,"نفر ساعت","نقشه بردار با سابقه بیش از 10 سال",12030101,null,1,{"$f":"COUNTIF($S$1:S658,Q658+R658)","v":1},"031104",1E-8,31104.000000010001]
[31104.000000020002,null,1.17647059E-2,1,768.36470703490011,null,1,null,65311,1.17647059E-2,"نفر- ساعت","کارگر نقشه‌برداري (ميرکش)",12030104,null,2,{"$f":"COUNTIF($S$1:S659,Q659+R659)","v":2},"031104",1E-8,31104.000000010001]
[31104.000000029999,null,1.17647059E-2,1,670.74117747669993,null,1,null,57013,1.17647059E-2,"نفر- ساعت","كارگر ساده",14010102,null,3,{"$f":"COUNTIF($S$1:S660,Q660+R660)","v":3},"031104",1E-8,31104.000000010001]
[31104.00000004,null,1.17647059E-2,1,1877.0941204627002,null,1,null,159553,1.17647059E-2,"نفر- ساعت","مباشر عملیات خاکی با سابقه بیش از 10 سال",14240301,null,4,{"$f":"COUNTIF($S$1:S661,Q661+R661)","v":4},"031104",1E-8,31104.000000010001]
["",null,null,null,null,null,"ضريب",null,"بهاي واحد","مقـدار","واحــد","ماشين آلات ",null,null,"رديف",{"$f":"COUNTIF($S$1:S662,Q662+R662)","v":0},"031104",9.9999999999999995E-7,""]
[31104.000001,null,5.0800000000000003E-3,1,1423.4617200000002,null,1,null,280209,5.0800000000000003E-3,"دستگاه-ساعت","تانکراب پاش به ظرفیت حدود 15000 لیتر باراننده",23020503,null,1,{"$f":"COUNTIF($S$1:S663,Q663+R663)","v":1},"031104",9.9999999999999995E-7,31104.000001]
[31104.000002000001,null,1.1900000000000001E-2,1,5047.5516000000007,null,1,null,424164,1.1900000000000001E-2,"دستگاه-ساعت","گریدر به قدرت حدود180 اسب بخار باراننده",25010902,null,2,{"$f":"COUNTIF($S$1:S664,Q664+R664)","v":2},"031104",9.9999999999999995E-7,31104.000001]
[31104.000003000001,null,3.85E-2,1,13997.136999999999,null,1,null,363562,3.85E-2,"دستگاه-ساعت","غلطک ویبره خودروکمرشکن چرخ اهنی لاستیکی حدود10 تن باراننده",25030501,null,3,{"$f":"COUNTIF($S$1:S665,Q665+R665)","v":3},"031104",9.9999999999999995E-7,31104.000001]
["",null,null,null,null,null,"ضريب",null,"بهاي واحد","مقـدار","واحــد","مصالح",null,null,"رديف",{"$f":"COUNTIF($S$1:S666,Q666+R666)","v":0},"031104",1E-4,""]
[31104.000100000001,null,0.06,1,75.180000000000007,null,1,null,1253,0.06,"مترمكعب","آب رودخانه",31010201,null,1,{"$f":"COUNTIF($S$1:S667,Q667+R667)","v":1},{"$f":"IF(N667>0,N667,Q666)","v":"031104"},1E-4,{"$f":"IF(M667<>\"\",Q667+R667,\"\")","v":31104.000100000001}]
[31104.000199999999,null,0.06,1,568.26,null,1,null,9471,0.06,"مترمكعب","آب چاه و قنات",31010301,null,2,{"$f":"COUNTIF($S$1:S668,Q668+R668)","v":2},"031104",1E-4,31104.000100000001]
["",null,null,null,null,null,null,null,null,null,null,null,null,"031105",null,{"$f":"COUNTIF($S$1:S669,Q669+R669)","v":0},"031105",1E-4,""]
["",null,null,null,null,null,null,null,null,null,null,"مترمكعب",null,null,"واحـد :",{"$f":"COUNTIF($S$1:S670,Q670+R670)","v":0},"031105",1E-4,""]
["",null,null,null,null,null,"ضريب",null,"بهاي واحد","مقـدار","واحــد","نيروي انساني ",null,null,"رديف",{"$f":"COUNTIF($S$1:S671,Q671+R671)","v":0},"031105",1E-8,""]
[31105.000000010001,null,2.3529412E-3,1,208.59059032120001,null,1,null,88651,2.3529412E-3,"نفر- ساعت","کمک نقشه بردار (ترازیاب)",12030103,null,1,{"$f":"COUNTIF($S$1:S672,Q672+R672)","v":1},"031105",1E-8,31105.000000010001]
[31105.000000020002,null,1.1764699999999999E-2,1,768.36432169999989,null,1,null,65311,1.1764699999999999E-2,"نفر- ساعت","کارگر نقشه‌برداري (ميرکش)",12030104,null,2,{"$f":"COUNTIF($S$1:S673,Q673+R673)","v":2},"031105",1E-8,31105.000000010001]
[31105.000000029999,null,1.17647059E-2,1,670.74117747669993,null,1,null,57013,1.17647059E-2,"نفر- ساعت","كارگر ساده",14010102,null,3,{"$f":"COUNTIF($S$1:S674,Q674+R674)","v":3},"031105",1E-8,31105.000000010001]
[31105.00000004,null,1.17647059E-2,1,1877.0941204627002,null,1,null,159553,1.17647059E-2,"نفر- ساعت","مباشر عملیات خاکی با سابقه بیش از 10 سال",14240301,null,4,{"$f":"COUNTIF($S$1:S675,Q675+R675)","v":4},"031105",1E-8,31105.000000010001]
["",null,null,null,null,null,"ضريب",null,"بهاي واحد","مقـدار","واحــد","ماشين آلات ",null,null,"رديف",{"$f":"COUNTIF($S$1:S676,Q676+R676)","v":0},"031105",9.9999999999999995E-7,""]
[31105.000001,null,1.2564E-3,1,352.05458759999999,null,1,null,280209,1.2564E-3,"دستگاه-ساعت","تانکراب پاش به ظرفیت حدود 15000 لیتر باراننده",23020503,null,1,{"$f":"COUNTIF($S$1:S677,Q677+R677)","v":1},"031105",9.9999999999999995E-7,31105.000001]
[31105.000002000001,null,2.5000000000000001E-3,1,262.71499999999997,null,1,null,105086,2.5000000000000001E-3,"دستگاه ساعت","تراکتور جفت دیفرانسیل با راننده",23020802,null,2,{"$f":"COUNTIF($S$1:S678,Q678+R678)","v":2},"031105",9.9999999999999995E-7,31105.000001]
[31105.000003000001,null,1.17647059E-2,1,4990.1647133676006,null,1,null,424164,1.17647059E-2,"دستگاه-ساعت","گریدر به قدرت حدود180 اسب بخار باراننده",25010902,null,3,{"$f":"COUNTIF($S$1:S679,Q679+R679)","v":3},"031105",9.9999999999999995E-7,31105.000001]
[31105.000004000001,null,2.5000000000000001E-3,1,325.72500000000002,null,1,null,130290,2.5000000000000001E-3,"دستگاه ساعت","غلطک ویبره کششی حدود 8 تن",25030402,null,4,{"$f":"COUNTIF($S$1:S680,Q680+R680)","v":4},"031105",9.9999999999999995E-7,31105.000001]
["",null,null,null,null,null,"ضريب",null,"بهاي واحد","مقـدار","واحــد","مصالح",null,null,"رديف",{"$f":"COUNTIF($S$1:S681,Q681+R681)","v":0},"031105",1E-4,""]
[31105.000100000001,null,1.4999999999999999E-2,1,18.795000000000002,null,1,null,1253,1.4999999999999999E-2,"مترمكعب","آب رودخانه",31010201,null,1,{"$f":"COUNTIF($S$1:S682,Q682+R682)","v":1},"031105",1E-4,31105.000100000001]
[31105.000199999999,null,1.4999999999999999E-2,1,142.065,null,1,null,9471,1.4999999999999999E-2,"مترمكعب","آب چاه و قنات",31010301,null,2,{"$f":"COUNTIF($S$1:S683,Q683+R683)","v":2},"031105",1E-4,31105.000100000001]
["",null,null,null,null,null,null,null,null,null,null,null,null,"031107",null,{"$f":"COUNTIF($S$1:S684,Q684+R684)","v":0},"031107",1E-4,""]
["",null,null,null,null,null,null,null,null,null,null,"مترمكعب",null,null,"واحـد :",{"$f":"COUNTIF($S$1:S685,Q685+R685)","v":0},"031107",1E-4,""]
["",null,null,null,null,null,"ضريب",null,"بهاي واحد","مقـدار","واحــد","نيروي انساني ",null,null,"رديف",{"$f":"COUNTIF($S$1:S686,Q686+R686)","v":0},"031107",1E-8,""]
[31107.000000010001,null,-8.4000000000000003E-4,1,-74.466840000000005,null,1,null,88651,-8.4000000000000003E-4,"نفر- ساعت","کمک نقشه بردار (ترازیاب)",12030103,null,1,{"$f":"COUNTIF($S$1:S687,Q687+R687)","v":1},"031107",1E-8,31107.000000010001]
[31107.000000020002,null,-4.13E-3,1,-269.73442999999997,null,1,null,65311,-4.13E-3,"نفر- ساعت","کارگر نقشه‌برداري (ميرکش)",12030104,null,2,{"$f":"COUNTIF($S$1:S688,Q688+R688)","v":2},"031107",1E-8,31107.000000010001]
[31107.000000029999,null,7.8899999999999998E-2,1,5530.2587999999996,null,1,null,70092,7.8899999999999998E-2,"نفر ساعت","متصدی غلطکهای دستی",13040901,null,3,{"$f":"COUNTIF($S$1:S689,Q689+R689)","v":3},"031107",1E-8,31107.000000010001]
[31107.00000004,null,7.4770000000000003E-2,1,4262.8620099999998,null,1,null,57013,7.4770000000000003E-2,"نفر- ساعت","كارگر ساده",14010102,null,4,{"$f":"COUNTIF($S$1:S690,Q690+R690)","v":4},"031107",1E-8,31107.000000010001]
[31107.00000005,null,-4.13E-3,1,-658.95389,null,1,null,159553,-4.13E-3,"نفر- ساعت","مباشر عملیات خاکی با سابقه بیش از 10 سال",14240301,null,5,{"$f":"COUNTIF($S$1:S691,Q691+R691)","v":5},"031107",1E-8,31107.000000010001]
["",null,null,null,null,null,"ضريب",null,"بهاي واحد","مقـدار","واحــد","ماشين آلات ",null,null,"رديف",{"$f":"COUNTIF($S$1:S692,Q692+R692)","v":0},"031107",9.9999999999999995E-7,""]
[31107.000001,null,-5.1999999999999995E-4,1,-145.70868000000002,null,1,null,280209,-5.1999999999999995E-4,"دستگاه-ساعت","تانکراب پاش به ظرفیت حدود 15000 لیتر باراننده",23020503,null,1,{"$f":"COUNTIF($S$1:S693,Q693+R693)","v":1},"031107",9.9999999999999995E-7,31107.000001]
[31107.000002000001,null,-3.3999999999999998E-3,1,-1442.1575999999998,null,1,null,424164,-3.3999999999999998E-3,"دستگاه-ساعت","گریدر به قدرت حدود180 اسب بخار باراننده",25010902,null,2,{"$f":"COUNTIF($S$1:S694,Q694+R694)","v":2},"031107",9.9999999999999995E-7,31107.000001]
[31107.000003000001,null,7.8899999999999998E-2,1,1578.2367000000002,null,1,null,20003,7.8899999999999998E-2,"دستگاه-ساعت","کمپکتورصفحه ای",25030101,null,3,{"$f":"COUNTIF($S$1:S695,Q695+R695)","v":3},"031107",9.9999999999999995E-7,31107.000001]
[31107.000004000001,null,-4.8999999999999998E-3,1,-1781.4538,null,1,null,363562,-4.8999999999999998E-3,"دستگاه-ساعت","غلطک ویبره خودروکمرشکن چرخ اهنی لاستیکی حدود10 تن باراننده",25030501,null,4,{"$f":"COUNTIF($S$1:S696,Q696+R696)","v":4},"031107",9.9999999999999995E-7,31107.000001]
["",null,null,null,null,null,"ضريب",null,"بهاي واحد","مقـدار","واحــد","مصالح",null,null,"رديف",{"$f":"COUNTIF($S$1:S697,Q697+R697)","v":0},"031107",1E-4,""]
[31107.000100000001,null,1.0699999999999998E-2,1,115.55999999999999,null,1,null,10800,1.0699999999999998E-2,"مترمكعب","آب لوله کشی شهری",31010101,null,1,{"$f":"COUNTIF($S$1:S698,Q698+R698)","v":1},"031107",1E-4,31107.000100000001]
[31107.000199999999,null,-0.05,1,-62.65,null,1,null,1253,-0.05,"مترمكعب","آب رودخانه",31010201,null,2,{"$f":"COUNTIF($S$1:S699,Q699+R699)","v":2},"031107",1E-4,31107.000100000001]
[31107.0003,null,1.959E-2,1,185.53689000000003,null,1,null,9471,1.959E-2,"مترمكعب","آب چاه و قنات",31010301,null,3,{"$f":"COUNTIF($S$1:S700,Q700+R700)","v":3},"031107",1E-4,31107.000100000001]
["",null,null,null,null,null,"ضريب",null,"بهاي واحد","مقـدار","واحــد"," حمل مصالح ",null,null,"رديف",{"$f":"COUNTIF($S$1:S701,Q701+R701)","v":0},"031107",0.01,""]
[31107.01,null,6.9589999999999999E-2,1,2311.2926699999998,null,1,null,33213,6.9589999999999999E-2,"مترمكعب","حمل آب چاه قنات و رودخانه",41010101,null,1,{"$f":"COUNTIF($S$1:S702,Q702+R702)","v":1},"031107",0.01,31107.01]
["",null,null,null,null,null,null,null,null,null,null,null,null,"031201",null,{"$f":"COUNTIF($S$1:S703,Q703+R703)","v":0},"031201",0.01,""]
["",null,null,null,null,null,null,null,null,null,null,"مترمكعب",null,null,"واحـد :",{"$f":"COUNTIF($S$1:S704,Q704+R704)","v":0},"031201",0.01,""]
["",null,null,null,null,null,"ضريب",null,"بهاي واحد","مقـدار","واحــد","ماشين آلات ",null,null,"رديف",{"$f":"COUNTIF($S$1:S705,Q705+R705)","v":0},"031201",9.9999999999999995E-7,""]
[31201.000001,null,0.01,1,3635.62,null,1,null,363562,0.01,"دستگاه-ساعت","لودرچرخ لاستيکي به قدرت حدود150  اسب بخار باراننده",25010802,null,1,{"$f":"COUNTIF($S$1:S706,Q706+R706)","v":1},"031201",9.9999999999999995E-7,31201.000001]
["",null,null,null,null,null,null,null,null,null,null,null,null,"031202",null,{"$f":"COUNTIF($S$1:S707,Q707+R707)","v":0},"031202",9.9999999999999995E-7,""]
["",null,null,null,null,null,null,null,null,null,null,"مترمكعب",null,null,"واحـد :",{"$f":"COUNTIF($S$1:S708,Q708+R708)","v":0},"031202",9.9999999999999995E-7,""]
["",null,null,null,null,null,"ضريب",null,"بهاي واحد","مقـدار","واحــد","ماشين آلات ",null,null,"رديف",{"$f":"COUNTIF($S$1:S709,Q709+R709)","v":0},"031202",9.9999999999999995E-7,""]
[31202.000001,null,1.25349E-2,1,4936.9079696999997,null,1,null,393853,1.25349E-2,"دستگاه-ساعت","گریدر به قدرت حدود150 اسب بخار باراننده",25010901,null,1,{"$f":"COUNTIF($S$1:S710,Q710+R710)","v":1},"031202",9.9999999999999995E-7,31202.000001]
["",null,null,null,null,null,null,null,null,null,null,null,null,"031203",null,{"$f":"COUNTIF($S$1:S711,Q711+R711)","v":0},"031203",{"$f":"IF(IF(O711=\"رديف\",VLOOKUP(L711,Kod,2,0),0)=0,R710,IF(O711=\"رديف\",VLOOKUP(L711,Kod,2,0),0))","v":9.9999999999999995E-7},""]
["",null,null,null,null,null,null,null,null,null,null,"مترمكعب",null,null,"واحـد :",{"$f":"COUNTIF($S$1:S712,Q712+R712)","v":0},"031203",9.9999999999999995E-7,""]
[{"$f":"IF(M713<>\"\",Q713+(P713*R713),\"\")","v":""},null,null,null,null,null,"ضريب",null,"بهاي واحد","مقـدار","واحــد","نيروي انساني ",null,null,"رديف",{"$f":"COUNTIF($S$1:S713,Q713+R713)","v":0},"031203",1E-8,""]
[31203.000000010001,null,7.6470588350000005E-3,1,435.98176535985499,null,0.65,null,57013,1.17647059E-2,"نفر- ساعت","كارگر ساده",14010102,null,1,{"$f":"COUNTIF($S$1:S714,Q714+R714)","v":1},"031203",1E-8,31203.000000010001]
["",null,null,null,null,null,"ضريب",null,"بهاي واحد","مقـدار","واحــد","ماشين آلات ",null,null,"رديف",{"$f":"COUNTIF($S$1:S715,Q715+R715)","v":0},"031203",9.9999999999999995E-7,""]
[31203.000001,null,7.6470588350000005E-3,1,3011.8170633412556,null,0.65,null,393853,1.17647059E-2,"دستگاه-ساعت","گریدر به قدرت حدود150 اسب بخار باراننده",25010901,null,1,{"$f":"COUNTIF($S$1:S716,Q716+R716)","v":1},"031203",9.9999999999999995E-7,31203.000001]
["",null,null,null,null,null,null,null,null,null,null,null,null,"031204",null,{"$f":"COUNTIF($S$1:S717,Q717+R717)","v":0},"031204",9.9999999999999995E-7,""]
["",null,null,null,null,null,null,null,null,null,null,"مترمكعب",null,null,"واحـد :",{"$f":"COUNTIF($S$1:S718,Q718+R718)","v":0},"031204",9.9999999999999995E-7,""]
["",null,null,null,null,null,"ضريب",null,"بهاي واحد","مقـدار","واحــد","ماشين آلات ",null,null,"رديف",{"$f":"COUNTIF($S$1:S719,Q719+R719)","v":0},"031204",9.9999999999999995E-7,""]
[31204.000001,null,6.0000000000000001E-3,1,2363.1179999999999,null,3,null,393853,2E-3,"دستگاه-ساعت","گریدر به قدرت حدود150 اسب بخار باراننده",25010901,null,1,{"$f":"COUNTIF($S$1:S720,Q720+R720)","v":1},"031204",9.9999999999999995E-7,31204.000001]
["",null,null,null,null,null,null,null,null,null,null,null,null,"031205",null,{"$f":"COUNTIF($S$1:S721,Q721+R721)","v":0},"031205",9.9999999999999995E-7,""]
["",null,null,null,null,null,null,null,null,null,null,"کیلومتر - ماه",null,null,"واحـد :",{"$f":"COUNTIF($S$1:S722,Q722+R722)","v":0},"031205",9.9999999999999995E-7,""]
["",null,null,null,null,null,"ضريب",null,"بهاي واحد","مقـدار","واحــد","ماشين آلات ",null,null,"رديف",{"$f":"COUNTIF($S$1:S723,Q723+R723)","v":0},"031205",9.9999999999999995E-7,""]
[31205.000001,null,5.2,1,2993338.4,null,1,null,575642,5.2,"دستگاه-ساعت","گریدر به قدرت حدود220 اسب بخار باراننده",25010904,null,1,{"$f":"COUNTIF($S$1:S724,Q724+R724)","v":1},"031205",9.9999999999999995E-7,31205.000001]
["",null,null,null,null,null,null,null,null,null,null,null,null,"031206",null,{"$f":"COUNTIF($S$1:S725,Q725+R725)","v":0},"031206",9.9999999999999995E-7,""]
["",null,null,null,null,null,null,null,null,null,null,"متر مربع",null,null,"واحـد :",{"$f":"COUNTIF($S$1:S726,Q726+R726)","v":0},"031206",9.9999999999999995E-7,""]
["",null,null,null,null,null,"ضريب",null,"بهاي واحد","مقـدار","واحــد","ماشين آلات ",null,null,"رديف",{"$f":"COUNTIF($S$1:S727,Q727+R727)","v":0},"031206",9.9999999999999995E-7,""]
[31206.000001,9.6688385901766221E-4,5.0000000000000001E-4,1,181.78099999999998,null,1,null,363562,5.0000000000000001E-4,"دستگاه-ساعت","لودرچرخ لاستيکي به قدرت حدود150  اسب بخار باراننده",25010802,null,1,{"$f":"COUNTIF($S$1:S728,Q728+R728)","v":1},"031206",9.9999999999999995E-7,31206.000001]
[31206.000002000001,9.6688385901766221E-4,5.0000000000000001E-4,1,60.593500000000006,null,1,null,121187,5.0000000000000001E-4,"دستگاه ساعت","پروف رولینگ",25030601,null,2,{"$f":"COUNTIF($S$1:S729,Q729+R729)","v":2},"031206",9.9999999999999995E-7,31206.000001]
["",4.7824362919153182E-4,null,null,null,null,null,null,null,null,null,null,null,"031301",null,{"$f":"COUNTIF($S$1:S730,Q730+R730)","v":0},"031301",9.9999999999999995E-7,""]
["",0,null,null,null,null,null,null,null,null,null,"مترمكعب",null,null,"واحـد :",{"$f":"COUNTIF($S$1:S731,Q731+R731)","v":0},{"$f":"IF(N731>0,N731,Q730)","v":"031301"},9.9999999999999995E-7,{"$f":"IF(M731<>\"\",Q731+R731,\"\")","v":""}]
["",5.6037677420486007E-4,null,null,null,null,"ضريب",null,"بهاي واحد","مقـدار","واحــد","نيروي انساني ",null,null,"رديف",{"$f":"COUNTIF($S$1:S732,Q732+R732)","v":0},"031301",1E-8,""]
[31301.000000010001,5.4894051350680179E-4,5.5555999999999991E-3,1,367.08627000000001,null,1,null,66075,5.5555999999999991E-3,"نفر ساعت","سر کارگر",14010101,null,1,{"$f":"COUNTIF($S$1:S733,Q733+R733)","v":1},"031301",1E-8,31301.000000010001]
[31301.000000020002,null,1.66667E-2,1,950.21856710000009,null,1,null,57013,1.66667E-2,"نفر- ساعت","كارگر ساده",14010102,null,2,{"$f":"COUNTIF($S$1:S734,Q734+R734)","v":2},"031301",1E-8,31301.000000010001]
["",null,null,null,null,null,"ضريب",null,"بهاي واحد","مقـدار","واحــد","ماشين آلات ",null,null,"رديف",{"$f":"COUNTIF($S$1:S735,Q735+R735)","v":0},"031301",9.9999999999999995E-7,""]
[31301.000001,null,4.7618999999999995E-2,1,16508.554919999999,null,1,null,346680,4.7618999999999995E-2,"دستگاه-ساعت","کامیون کمپرسی به ظرفیت حدود 10 تن با راننده",23020204,null,1,{"$f":"COUNTIF($S$1:S736,Q736+R736)","v":1},"031301",9.9999999999999995E-7,31301.000001]
[31301.000002000001,null,1.66667E-2,1,8089.2161784,null,1,null,485352,1.66667E-2,"دستگاه-ساعت","بولدوزر به قدرت حدود 200  اسب بخار باراننده",25010603,null,2,{"$f":"COUNTIF($S$1:S737,Q737+R737)","v":2},"031301",9.9999999999999995E-7,31301.000001]
[31301.000003000001,null,1.66667E-2,1,6059.3787853999993,null,1,null,363562,1.66667E-2,"دستگاه-ساعت","لودرچرخ لاستيکي به قدرت حدود150  اسب بخار باراننده",25010802,null,3,{"$f":"COUNTIF($S$1:S738,Q738+R738)","v":3},"031301",9.9999999999999995E-7,31301.000001]
["",null,null,null,null,null,null,null,null,null,null,null,null,"031302",null,{"$f":"COUNTIF($S$1:S739,Q739+R739)","v":0},"031302",9.9999999999999995E-7,""]
["",null,null,null,null,null,null,null,null,null,null,"مترمكعب",null,null,"واحـد :",{"$f":"COUNTIF($S$1:S740,Q740+R740)","v":0},"031302",9.9999999999999995E-7,""]
["",null,null,null,null,null,"ضريب",null,"بهاي واحد","مقـدار","واحــد","نيروي انساني ",null,null,"رديف",{"$f":"COUNTIF($S$1:S741,Q741+R741)","v":0},"031302",1E-8,""]
[31302.000000010001,null,4.1025000000000002E-3,1,363.69072749999998,null,1,null,88651,4.1025000000000002E-3,"نفر- ساعت","کمک نقشه بردار (ترازیاب)",12030103,null,1,{"$f":"COUNTIF($S$1:S742,Q742+R742)","v":1},"031302",1E-8,31302.000000010001]
[31302.000000020002,null,8.2050999999999999E-3,1,535.88328609999996,null,1,null,65311,8.2050999999999999E-3,"نفر- ساعت","کارگر نقشه‌برداري (ميرکش)",12030104,null,2,{"$f":"COUNTIF($S$1:S743,Q743+R743)","v":2},"031302",1E-8,31302.000000010001]
[31302.000000029999,null,0.1230769,1,7016.9832997000012,null,1,null,57013,0.1230769,"نفر- ساعت","كارگر ساده",14010102,null,3,{"$f":"COUNTIF($S$1:S744,Q744+R744)","v":3},"031302",1E-8,31302.000000010001]
[31302.00000004,null,4.1025000000000002E-3,1,654.56618249999997,null,1,null,159553,4.1025000000000002E-3,"نفر- ساعت","مباشر عملیات خاکی با سابقه بیش از 10 سال",14240301,null,4,{"$f":"COUNTIF($S$1:S745,Q745+R745)","v":4},"031302",1E-8,31302.000000010001]
["",null,null,null,null,null,"ضريب",null,"بهاي واحد","مقـدار","واحــد","ماشين آلات ",null,null,"رديف",{"$f":"COUNTIF($S$1:S746,Q746+R746)","v":0},"031302",9.9999999999999995E-7,""]
[31302.000001,null,1.0160000000000001E-2,1,2846.9234400000005,null,1,null,280209,1.0160000000000001E-2,"دستگاه-ساعت","تانکراب پاش به ظرفیت حدود 15000 لیتر باراننده",23020503,null,1,{"$f":"COUNTIF($S$1:S747,Q747+R747)","v":1},"031302",9.9999999999999995E-7,31302.000001]
[31302.000002000001,null,1.23077E-2,1,4096.1625600999996,null,1,null,332813,1.23077E-2,"ساعت","بولدوزر به قدرت حدود 150 اسب بخار با راننده",25010602,null,2,{"$f":"COUNTIF($S$1:S748,Q748+R748)","v":2},"031302",9.9999999999999995E-7,31302.000001]
[31302.000003000001,null,1.23077E-2,1,4847.4245680999993,null,1,null,393853,1.23077E-2,"دستگاه-ساعت","گریدر به قدرت حدود150 اسب بخار باراننده",25010901,null,3,{"$f":"COUNTIF($S$1:S749,Q749+R749)","v":3},"031302",9.9999999999999995E-7,31302.000001]
[31302.000004000001,null,2.4615299999999996E-2,1,8949.1876985999988,null,1,null,363562,2.4615299999999996E-2,"دستگاه-ساعت","غلطک ویبره خودروکمرشکن چرخ اهنی لاستیکی حدود10 تن باراننده",25030501,null,4,{"$f":"COUNTIF($S$1:S750,Q750+R750)","v":4},"031302",9.9999999999999995E-7,31302.000001]
["",null,null,null,null,null,"ضريب",null,"بهاي واحد","مقـدار","واحــد","مصالح",null,null,"رديف",{"$f":"COUNTIF($S$1:S751,Q751+R751)","v":0},"031302",1E-4,""]
[31302.000100000001,null,0.1,1,125.3,null,1,null,1253,0.1,"مترمكعب","آب رودخانه",31010201,null,1,{"$f":"COUNTIF($S$1:S752,Q752+R752)","v":1},"031302",1E-4,31302.000100000001]
[31302.000199999999,null,0.1,1,947.1,null,1,null,9471,0.1,"مترمكعب","آب چاه و قنات",31010301,null,2,{"$f":"COUNTIF($S$1:S753,Q753+R753)","v":2},"031302",1E-4,31302.000100000001]
["",null,null,null,null,null,null,null,null,null,null,null,null,"031303",null,{"$f":"COUNTIF($S$1:S754,Q754+R754)","v":0},"031303",1E-4,""]
["",null,null,null,null,null,null,null,null,null,null,"مترمكعب",null,null,"واحـد :",{"$f":"COUNTIF($S$1:S755,Q755+R755)","v":0},"031303",1E-4,""]
["",null,null,null,null,null,"ضريب",null,"بهاي واحد","مقـدار","واحــد","نيروي انساني ",null,null,"رديف",{"$f":"COUNTIF($S$1:S756,Q756+R756)","v":0},"031303",1E-8,""]
[31303.000000010001,null,6.4314999999999997E-3,1,424.96136250000001,null,1,null,66075,6.4314999999999997E-3,"نفر ساعت","سر کارگر",14010101,null,1,{"$f":"COUNTIF($S$1:S757,Q757+R757)","v":1},"031303",1E-8,31303.000000010001]
[31303.000000020002,null,1.94895E-2,1,1111.1548634999999,null,1,null,57013,1.94895E-2,"نفر- ساعت","كارگر ساده",14010102,null,2,{"$f":"COUNTIF($S$1:S758,Q758+R758)","v":2},"031303",1E-8,31303.000000010001]
["",null,null,null,null,null,"ضريب",null,"بهاي واحد","مقـدار","واحــد","ماشين آلات ",null,null,"رديف",{"$f":"COUNTIF($S$1:S759,Q759+R759)","v":0},"031303",9.9999999999999995E-7,""]
[31303.000001,null,5.5555599999999997E-2,1,19260.015407999999,null,1,null,346680,5.5555599999999997E-2,"دستگاه-ساعت","کامیون کمپرسی به ظرفیت حدود 10 تن با راننده",23020204,null,1,{"$f":"COUNTIF($S$1:S760,Q760+R760)","v":1},"031303",9.9999999999999995E-7,31303.000001]
[31303.000002000001,null,1.94895E-2,1,9459.2678039999992,null,1,null,485352,1.94895E-2,"دستگاه-ساعت","بولدوزر به قدرت حدود 200  اسب بخار باراننده",25010603,null,2,{"$f":"COUNTIF($S$1:S761,Q761+R761)","v":2},"031303",9.9999999999999995E-7,31303.000001]
[31303.000003000001,null,1.4545200000000001E-2,1,5288.0820024000004,null,1,null,363562,1.4545200000000001E-2,"دستگاه-ساعت","لودرچرخ لاستيکي به قدرت حدود150  اسب بخار باراننده",25010802,null,3,{"$f":"COUNTIF($S$1:S762,Q762+R762)","v":3},"031303",9.9999999999999995E-7,31303.000001]
["",null,null,null,null,null,null,null,null,null,null,null,null,"031304",null,{"$f":"COUNTIF($S$1:S763,Q763+R763)","v":0},"031304",9.9999999999999995E-7,""]
["",null,null,null,null,null,null,null,null,null,null,"مترمكعب",null,null,"واحـد :",{"$f":"COUNTIF($S$1:S764,Q764+R764)","v":0},"031304",9.9999999999999995E-7,""]
["",null,null,null,null,null,"ضريب",null,"بهاي واحد","مقـدار","واحــد","نيروي انساني ",null,null,"رديف",{"$f":"COUNTIF($S$1:S765,Q765+R765)","v":0},"031304",1E-8,""]
[31304.000000010001,null,4.9230000000000003E-3,1,436.42887299999995,null,1.2,null,88651,4.1025000000000002E-3,"نفر- ساعت","کمک نقشه بردار (ترازیاب)",12030103,null,1,{"$f":"COUNTIF($S$1:S766,Q766+R766)","v":1},"031304",1E-8,31304.000000010001]
[31304.000000020002,null,9.8461199999999999E-3,1,643.05994332,null,1.2,null,65311,8.2050999999999999E-3,"نفر- ساعت","کارگر نقشه‌برداري (ميرکش)",12030104,null,2,{"$f":"COUNTIF($S$1:S767,Q767+R767)","v":2},"031304",1E-8,31304.000000010001]
[31304.000000029999,null,0.14769228000000001,1,8420.3799596400004,null,1.2,null,57013,0.1230769,"نفر- ساعت","كارگر ساده",14010102,null,3,{"$f":"COUNTIF($S$1:S768,Q768+R768)","v":3},"031304",1E-8,31304.000000010001]
[31304.00000004,null,4.9230000000000003E-3,1,785.47941899999989,null,1.2,null,159553,4.1025000000000002E-3,"نفر- ساعت","مباشر عملیات خاکی با سابقه بیش از 10 سال",14240301,null,4,{"$f":"COUNTIF($S$1:S769,Q769+R769)","v":4},"031304",1E-8,31304.000000010001]
["",null,null,null,null,null,"ضريب",null,"بهاي واحد","مقـدار","واحــد","ماشين آلات ",null,null,"رديف",{"$f":"COUNTIF($S$1:S770,Q770+R770)","v":0},"031304",9.9999999999999995E-7,""]
[31304.000001,null,1.6352800000000001E-2,1,4582.2017352000003,null,1,null,280209,1.6352800000000001E-2,"دستگاه-ساعت","تانکراب پاش به ظرفیت حدود 15000 لیتر باراننده",23020503,null,1,{"$f":"COUNTIF($S$1:S771,Q771+R771)","v":1},"031304",9.9999999999999995E-7,31304.000001]
[31304.000002000001,null,1.4769239999999999E-2,1,4915.3950721199999,null,1.2,null,332813,1.23077E-2,"ساعت","بولدوزر به قدرت حدود 150 اسب بخار با راننده",25010602,null,2,{"$f":"COUNTIF($S$1:S772,Q772+R772)","v":2},"031304",9.9999999999999995E-7,31304.000001]
[31304.000003000001,null,1.4769239999999999E-2,1,5816.9094817199984,null,1.2,null,393853,1.23077E-2,"دستگاه-ساعت","گریدر به قدرت حدود150 اسب بخار باراننده",25010901,null,3,{"$f":"COUNTIF($S$1:S773,Q773+R773)","v":3},"031304",9.9999999999999995E-7,31304.000001]
[31304.000004000001,null,2.9538359999999993E-2,1,10739.025238319999,null,1.2,null,363562,2.4615299999999996E-2,"دستگاه-ساعت","غلطک ویبره خودروکمرشکن چرخ اهنی لاستیکی حدود10 تن باراننده",25030501,null,4,{"$f":"COUNTIF($S$1:S774,Q774+R774)","v":4},"031304",9.9999999999999995E-7,31304.000001]
["",null,null,null,null,null,"ضريب",null,"بهاي واحد","مقـدار","واحــد","مصالح",null,null,"رديف",{"$f":"COUNTIF($S$1:S775,Q775+R775)","v":0},"031304",{"$f":"IF(IF(O775=\"رديف\",VLOOKUP(L775,Kod,2,0),0)=0,R774,IF(O775=\"رديف\",VLOOKUP(L775,Kod,2,0),0))","v":1E-4},""]
[31304.000100000001,null,0.2,1,250.6,null,2,null,1253,0.1,"مترمكعب","آب رودخانه",31010201,null,1,{"$f":"COUNTIF($S$1:S776,Q776+R776)","v":1},"031304",1E-4,31304.000100000001]
[{"$f":"IF(M777<>\"\",Q777+(P777*R777),\"\")","v":31304.000199999999},null,0.2,1,1894.2,null,2,null,9471,0.1,"مترمكعب","آب چاه و قنات",31010301,null,2,{"$f":"COUNTIF($S$1:S777,Q777+R777)","v":2},"031304",1E-4,31304.000100000001]
["",null,null,null,null,null,null,null,null,null,null,null,null,"031305",null,{"$f":"COUNTIF($S$1:S778,Q778+R778)","v":0},"031305",1E-4,""]
["",null,null,null,null,null,null,null,null,null,null,"مترمكعب",null,null,"واحـد :",{"$f":"COUNTIF($S$1:S779,Q779+R779)","v":0},"031305",1E-4,""]
["",null,null,null,null,null,"ضريب",null,"بهاي واحد","مقـدار","واحــد","نيروي انساني ",null,null,"رديف",{"$f":"COUNTIF($S$1:S780,Q780+R780)","v":0},"031305",1E-8,""]
[31305.000000010001,null,4.1025000000000002E-3,1,363.69072749999998,null,1,null,88651,4.1025000000000002E-3,"نفر- ساعت","کمک نقشه بردار (ترازیاب)",12030103,null,1,{"$f":"COUNTIF($S$1:S781,Q781+R781)","v":1},"031305",1E-8,31305.000000010001]
[31305.000000020002,null,4.1025000000000002E-3,1,267.9383775,null,1,null,65311,4.1025000000000002E-3,"نفر- ساعت","کارگر نقشه‌برداري (ميرکش)",12030104,null,2,{"$f":"COUNTIF($S$1:S782,Q782+R782)","v":2},"031305",1E-8,31305.000000010001]
[31305.000000029999,null,0.1230769,1,7016.9832997000012,null,1,null,57013,0.1230769,"نفر- ساعت","كارگر ساده",14010102,null,3,{"$f":"COUNTIF($S$1:S783,Q783+R783)","v":3},"031305",1E-8,31305.000000010001]
[31305.00000004,null,4.1025000000000002E-3,1,654.56618249999997,null,1,null,159553,4.1025000000000002E-3,"نفر- ساعت","مباشر عملیات خاکی با سابقه بیش از 10 سال",14240301,null,4,{"$f":"COUNTIF($S$1:S784,Q784+R784)","v":4},"031305",1E-8,31305.000000010001]
["",null,null,null,null,null,"ضريب",null,"بهاي واحد","مقـدار","واحــد","ماشين آلات ",null,null,"رديف",{"$f":"COUNTIF($S$1:S785,Q785+R785)","v":0},"031305",9.9999999999999995E-7,""]
[31305.000001,null,1.23077E-2,1,4096.1625600999996,null,1,null,332813,1.23077E-2,"ساعت","بولدوزر به قدرت حدود 150 اسب بخار با راننده",25010602,null,1,{"$f":"COUNTIF($S$1:S786,Q786+R786)","v":1},"031305",9.9999999999999995E-7,31305.000001]
[31305.000002000001,null,1.230769E-2,1,4847.4206295699996,null,1,null,393853,1.230769E-2,"دستگاه-ساعت","گریدر به قدرت حدود150 اسب بخار باراننده",25010901,null,2,{"$f":"COUNTIF($S$1:S787,Q787+R787)","v":2},"031305",9.9999999999999995E-7,31305.000001]
[31305.000003000001,null,2.46152E-2,1,8949.1513424000004,null,1,null,363562,2.46152E-2,"دستگاه-ساعت","غلطک ویبره خودروکمرشکن چرخ اهنی لاستیکی حدود10 تن باراننده",25030501,null,3,{"$f":"COUNTIF($S$1:S788,Q788+R788)","v":3},"031305",9.9999999999999995E-7,31305.000001]
["",null,null,null,null,null,null,null,null,null,null,null,null,"040101",null,{"$f":"COUNTIF($S$1:S789,Q789+R789)","v":0},"040101",9.9999999999999995E-7,""]
["",null,null,null,null,null,null,null,null,null,null,"مترمكعب",null,null,"واحـد :",{"$f":"COUNTIF($S$1:S790,Q790+R790)","v":0},"040101",9.9999999999999995E-7,""]
["",null,null,null,null,null,"ضريب",null,"بهاي واحد","مقـدار","واحــد","نيروي انساني ",null,null,"رديف",{"$f":"COUNTIF($S$1:S791,Q791+R791)","v":0},"040101",1E-8,""]
[40101.000000009997,null,2.0647099999999998E-2,1,3621.3155160999995,null,1.081,null,175391,1.9099999999999999E-2,"نفر ساعت","نقشه بردار با سابقه بیش از 10 سال",12030101,null,1,{"$f":"COUNTIF($S$1:S792,Q792+R792)","v":1},"040101",1E-8,40101.000000009997]
[40101.000000020002,null,2.5460299999999995E-2,1,2257.0810553000001,null,1.3329999999999997,null,88651,1.9099999999999999E-2,"نفر- ساعت","کمک نقشه بردار (ترازیاب)",12030103,null,2,{"$f":"COUNTIF($S$1:S793,Q793+R793)","v":2},"040101",1E-8,40101.000000009997]
[40101.000000029999,null,2.2728999999999999E-2,1,1484.4537190000001,null,1.19,null,65311,1.9099999999999999E-2,"نفر- ساعت","کارگر نقشه‌برداري (ميرکش)",12030104,null,3,{"$f":"COUNTIF($S$1:S794,Q794+R794)","v":3},"040101",1E-8,40101.000000009997]
[40101.000000040003,null,1.6324000000000002E-2,1,1851.1252760000002,null,0.77,null,113399,2.12E-2,"نفر - ساعت","تکنيسين کنترل و ايمني",12100101,null,4,{"$f":"COUNTIF($S$1:S795,Q795+R795)","v":4},{"$f":"IF(N795>0,N795,Q794)","v":"040101"},1E-8,{"$f":"IF(M795<>\"\",Q795+R795,\"\")","v":40101.000000009997}]
[40101.00000005,null,0.16972200000000001,1,11214.381149999999,null,1.89,null,66075,8.9800000000000005E-2,"نفر ساعت","سر کارگر",14010101,null,5,{"$f":"COUNTIF($S$1:S796,Q796+R796)","v":5},"040101",1E-8,40101.000000009997]
[40101.000000059998,null,5.1474999999999993E-2,1,2934.7441749999998,null,1.45,null,57013,3.5499999999999997E-2,"نفر- ساعت","كارگر ساده",14010102,null,6,{"$f":"COUNTIF($S$1:S797,Q797+R797)","v":6},"040101",1E-8,40101.000000009997]
[40101.000000070002,null,8.6860000000000021E-2,1,5568.50774,null,1.72,null,64109,5.050000000000001E-2,"نفر ساعت","کارگر فنی ماهر",14010103,null,7,{"$f":"COUNTIF($S$1:S798,Q798+R798)","v":7},"040101",1E-8,40101.000000009997]
[40101.000000079999,null,7.9559999999999992E-2,1,12694.036679999997,null,1.2,null,159553,6.6299999999999998E-2,"نفر ساعت","تکنسین متخصص تونل",14240101,null,8,{"$f":"COUNTIF($S$1:S799,Q799+R799)","v":8},"040101",1E-8,40101.000000009997]
[40101.000000090004,null,3.6890000000000006E-2,1,3600.6115600000007,null,1.55,null,97604,2.3800000000000002E-2,"نفر ساعت","آتشبار",14240501,null,9,{"$f":"COUNTIF($S$1:S800,Q800+R800)","v":9},"040101",1E-8,40101.000000009997]
[40101.000000100001,null,7.1857000000000004E-2,1,4754.9214040000006,null,1.81,null,66172,3.9699999999999999E-2,"نفر ساعت","کمک آتشبار",14240502,null,10,{"$f":"COUNTIF($S$1:S801,Q801+R801)","v":10},"040101",1E-8,40101.000000009997]
[40101.000000109998,null,1.5476999999999998E-2,1,3395.0966279999993,null,0.77,null,219364,2.0099999999999996E-2,"نفر ساعت","تکنسین برق",18090301,null,11,{"$f":"COUNTIF($S$1:S802,Q802+R802)","v":11},"040101",1E-8,40101.000000009997]
["",null,null,null,null,null,"ضريب",null,"بهاي واحد","مقـدار","واحــد","ماشين آلات ",null,null,"رديف",{"$f":"COUNTIF($S$1:S803,Q803+R803)","v":0},"040101",9.9999999999999995E-7,""]
[40101.000001,null,0.12659999999999999,1,17961.628199999996,null,1,null,141877,0.12659999999999999,"دستگاه ساعت","ماشین سواری لندرور یا مشابه با راننده",23010301,null,1,{"$f":"COUNTIF($S$1:S804,Q804+R804)","v":1},"040101",9.9999999999999995E-7,40101.000001]
[40101.000002000001,null,8.2365300000000002E-2,1,29506.215610799998,null,1.587,null,358236,5.1900000000000002E-2,"دستگاه ساعت","کامیون کمپرسی به ظرفیت حدود 16 تن با راننده",23020205,null,2,{"$f":"COUNTIF($S$1:S805,Q805+R805)","v":2},"040101",9.9999999999999995E-7,40101.000001]
[40101.000003000001,null,4.9399999999999993E-2,1,13842.3246,null,2,null,280209,2.4699999999999996E-2,"دستگاه-ساعت","تانکراب پاش به ظرفیت حدود 15000 لیتر باراننده",23020503,null,3,{"$f":"COUNTIF($S$1:S806,Q806+R806)","v":3},"040101",9.9999999999999995E-7,40101.000001]
[40101.000004000001,null,0.12217399999999999,1,92536.298035999978,null,1.651,null,757414,7.3999999999999996E-2,"دستگاه ساعت","لودر چرخ لاستیکی به قدرت حدود 250 اسب بخار با راننده",25010804,null,4,{"$f":"COUNTIF($S$1:S807,Q807+R807)","v":4},"040101",9.9999999999999995E-7,40101.000001]
[40101.000005000002,null,5.9280000000000006E-2,1,136772.35728,null,0.91200000000000003,null,2307226,6.5000000000000002E-2,"دستگاه ساعت","جامبو دریل Paramatic دو بوم TAMROCK با اپراتور، راد و سر مته",25050304,null,5,{"$f":"COUNTIF($S$1:S808,Q808+R808)","v":5},"040101",9.9999999999999995E-7,40101.000001]
[40101.000006000002,null,2.1705600000000002E-2,1,1105.574736,null,0.91200000000000003,null,50935,2.3800000000000002E-2,"دستگاه ساعت","دستگاه انفجار چاشنی",25050601,null,6,{"$f":"COUNTIF($S$1:S809,Q809+R809)","v":6},"040101",9.9999999999999995E-7,40101.000001]
[40101.000007000002,null,2.9001600000000002E-2,1,38005.146719999997,null,0.91200000000000003,null,1310450,3.1800000000000002E-2,"دستگاه ساعت","ژنراتور 450KAW",26030119,null,7,{"$f":"COUNTIF($S$1:S810,Q810+R810)","v":7},"040101",9.9999999999999995E-7,40101.000001]
[40101.000008000003,null,1.8696000000000004E-2,1,2167.1655360000004,null,0.91200000000000003,null,115916,2.0500000000000004E-2,"دستگاه ساعت","دوربین نقشه برداری 3600 Trimble همراه با ژالون، منشور، سه پایه",28230405,null,8,{"$f":"COUNTIF($S$1:S811,Q811+R811)","v":8},"040101",9.9999999999999995E-7,40101.000001]
["",null,null,null,null,null,"ضريب",null,"بهاي واحد","مقـدار","واحــد","مصالح",null,null,"رديف",{"$f":"COUNTIF($S$1:S812,Q812+R812)","v":0},"040101",1E-4,""]
[40101.000099999997,null,7.5200000000000003E-2,1,94.2256,null,1,null,1253,7.5200000000000003E-2,"مترمكعب","آب رودخانه",31010201,null,1,{"$f":"COUNTIF($S$1:S813,Q813+R813)","v":1},"040101",1E-4,40101.000099999997]
[40101.000200000002,null,1.3991999999999998,1,103540.79999999999,null,1,null,74000,1.3991999999999998,"كیلوگرم","امولایت کارتریجی",31420101,null,2,{"$f":"COUNTIF($S$1:S814,Q814+R814)","v":2},"040101",1E-4,40101.000099999997]
[40101.0003,null,0.70779999999999998,1,25834.7,null,1,null,36500,0.70779999999999998,"عدد","چاشنی الکتریکی فوری",31420602,null,3,{"$f":"COUNTIF($S$1:S815,Q815+R815)","v":3},"040101",1E-4,40101.000099999997]
[40101.000399999997,null,2.2200000000000001E-2,1,30871.32,null,1,null,1390600,2.2200000000000001E-2,"متر طول","کابل زمینی سه ونیم سیمه باعایق و روکش ترموپلاستیک مطابق با استاندارد (13) 607 ISIRI  ایران یا 0271 VDE المان از نوع NYY با ولتاژ نامی 1000 ولت و به ‌مقطع  70 + 120 *3  میلیمترمربع",33070406,null,4,{"$f":"COUNTIF($S$1:S816,Q816+R816)","v":4},"040101",1E-4,40101.000099999997]
[40101.000500000002,null,0.98769999999999991,1,2087.0101,null,1,null,2113,0.98769999999999991,"متر طول","سیم تلفن تابیده دولابه قطر0.6میلیمترباروکش پلاستیکی0",33330901,null,5,{"$f":"COUNTIF($S$1:S817,Q817+R817)","v":5},"040101",1E-4,40101.000099999997]
["",null,null,null,null,null,"ضريب",null,"بهاي واحد","مقـدار","واحــد"," حمل مصالح ",null,null,"رديف",{"$f":"COUNTIF($S$1:S818,Q818+R818)","v":0},"040101",0.01,""]
[40101.01,null,16.440599999999996,1,20994.646200000003,null,11.75,null,1277,1.3991999999999998,"كیلوگرم","حمل مواد منفجره",41090101,null,1,{"$f":"COUNTIF($S$1:S819,Q819+R819)","v":1},"040101",0.01,40101.01]
[40101.019999999997,null,8.3166499999999992,1,623.74874999999997,null,11.75,null,75,0.70779999999999998,"عدد","حمل چاشنی",41090301,null,2,{"$f":"COUNTIF($S$1:S820,Q820+R820)","v":2},"040101",0.01,40101.01]
["",null,null,null,null,null,null,null,null,null,null,null,null,"040102",null,{"$f":"COUNTIF($S$1:S821,Q821+R821)","v":0},"040102",0.01,""]
["",null,null,null,null,null,null,null,null,null,null,"مترمكعب",null,null,"واحـد :",{"$f":"COUNTIF($S$1:S822,Q822+R822)","v":0},"040102",0.01,""]
["",null,null,null,null,null,"ضريب",null,"بهاي واحد","مقـدار","واحــد","نيروي انساني ",null,null,"رديف",{"$f":"COUNTIF($S$1:S823,Q823+R823)","v":0},"040102",1E-8,""]
[40102.000000009997,null,2.1060000000000002E-2,1,3693.7344600000001,null,1.08,null,175391,1.95E-2,"نفر ساعت","نقشه بردار با سابقه بیش از 10 سال",12030101,null,1,{"$f":"COUNTIF($S$1:S824,Q824+R824)","v":1},"040102",1E-8,40102.000000009997]
[40102.000000020002,null,1.9550999999999999E-2,1,1733.2157010000001,null,1.33,null,88651,1.47E-2,"نفر- ساعت","کمک نقشه بردار (ترازیاب)",12030103,null,2,{"$f":"COUNTIF($S$1:S825,Q825+R825)","v":2},"040102",1E-8,40102.000000009997]
[40102.000000029999,null,2.3205E-2,1,1515.5417549999997,null,1.19,null,65311,1.95E-2,"نفر- ساعت","کارگر نقشه‌برداري (ميرکش)",12030104,null,3,{"$f":"COUNTIF($S$1:S826,Q826+R826)","v":3},"040102",1E-8,40102.000000009997]
[40102.000000040003,null,2.9183000000000004E-2,1,3309.3230170000006,null,0.77,null,113399,3.7900000000000003E-2,"نفر - ساعت","تکنيسين کنترل و ايمني",12100101,null,4,{"$f":"COUNTIF($S$1:S827,Q827+R827)","v":4},"040102",1E-8,40102.000000009997]
[40102.00000005,null,0.18049499999999999,1,11926.207125000001,null,1.89,null,66075,9.5500000000000002E-2,"نفر ساعت","سر کارگر",14010101,null,5,{"$f":"COUNTIF($S$1:S828,Q828+R828)","v":5},"040102",1E-8,40102.000000009997]
[40102.000000059998,null,8.0150399999999997E-2,1,4569.6147551999984,null,1.452,null,57013,5.5199999999999999E-2,"نفر- ساعت","كارگر ساده",14010102,null,6,{"$f":"COUNTIF($S$1:S829,Q829+R829)","v":6},"040102",1E-8,40102.000000009997]
[40102.000000070002,null,8.1420000000000006E-2,1,5219.7547799999993,null,1.77,null,64109,4.5999999999999999E-2,"نفر ساعت","کارگر فنی ماهر",14010103,null,7,{"$f":"COUNTIF($S$1:S830,Q830+R830)","v":7},"040102",1E-8,40102.000000009997]
[40102.000000079999,null,8.8679999999999995E-2,1,14149.160039999997,null,1.2,null,159553,7.3899999999999993E-2,"نفر ساعت","تکنسین متخصص تونل",14240101,null,8,{"$f":"COUNTIF($S$1:S831,Q831+R831)","v":8},"040102",1E-8,40102.000000009997]
[40102.000000090004,null,3.7200000000000004E-2,1,3630.8688000000002,null,1.55,null,97604,2.4E-2,"نفر ساعت","آتشبار",14240501,null,9,{"$f":"COUNTIF($S$1:S832,Q832+R832)","v":9},"040102",1E-8,40102.000000009997]
[40102.000000100001,null,6.2820000000000001E-2,1,4156.9250399999992,null,1.8,null,66172,3.49E-2,"نفر ساعت","کمک آتشبار",14240502,null,10,{"$f":"COUNTIF($S$1:S833,Q833+R833)","v":10},"040102",1E-8,40102.000000009997]
[40102.000000109998,null,3.2108999999999999E-2,1,7043.5586759999997,null,0.77,null,219364,4.1700000000000001E-2,"نفر ساعت","تکنسین برق",18090301,null,11,{"$f":"COUNTIF($S$1:S834,Q834+R834)","v":11},"040102",1E-8,40102.000000009997]
["",null,null,null,null,null,"ضريب",null,"بهاي واحد","مقـدار","واحــد","ماشين آلات ",null,null,"رديف",{"$f":"COUNTIF($S$1:S835,Q835+R835)","v":0},"040102",9.9999999999999995E-7,""]
[40102.000001,null,0.11890000000000001,1,16869.175299999999,null,1,null,141877,0.11890000000000001,"دستگاه ساعت","ماشین سواری لندرور یا مشابه با راننده",23010301,null,1,{"$f":"COUNTIF($S$1:S836,Q836+R836)","v":1},"040102",9.9999999999999995E-7,40102.000001]
[40102.000002000001,null,0.10252020000000001,1,36726.426367200002,null,1.587,null,358236,6.4600000000000005E-2,"دستگاه ساعت","کامیون کمپرسی به ظرفیت حدود 16 تن با راننده",23020205,null,2,{"$f":"COUNTIF($S$1:S837,Q837+R837)","v":2},"040102",9.9999999999999995E-7,40102.000001]
[40102.000003000001,null,4.5199999999999997E-2,1,12665.4468,null,2,null,280209,2.2599999999999999E-2,"دستگاه-ساعت","تانکراب پاش به ظرفیت حدود 15000 لیتر باراننده",23020503,null,3,{"$f":"COUNTIF($S$1:S838,Q838+R838)","v":3},"040102",9.9999999999999995E-7,40102.000001]
[40102.000004000001,null,0.14223,1,107726.99322,null,1.65,null,757414,8.6199999999999999E-2,"دستگاه ساعت","لودر چرخ لاستیکی به قدرت حدود 250 اسب بخار با راننده",25010804,null,4,{"$f":"COUNTIF($S$1:S839,Q839+R839)","v":4},"040102",{"$f":"IF(IF(O839=\"رديف\",VLOOKUP(L839,Kod,2,0),0)=0,R838,IF(O839=\"رديف\",VLOOKUP(L839,Kod,2,0),0))","v":9.9999999999999995E-7},40102.000001]
[40102.000005000002,null,6.0100800000000003E-2,1,138666.12838080002,null,0.91200000000000003,null,2307226,6.59E-2,"دستگاه ساعت","جامبو دریل Paramatic دو بوم TAMROCK با اپراتور، راد و سر مته",25050304,null,5,{"$f":"COUNTIF($S$1:S840,Q840+R840)","v":5},"040102",9.9999999999999995E-7,40102.000001]
[{"$f":"IF(M841<>\"\",Q841+(P841*R841),\"\")","v":40102.000006000002},null,2.1705600000000002E-2,1,1105.574736,null,0.91200000000000003,null,50935,2.3800000000000002E-2,"دستگاه ساعت","دستگاه انفجار چاشنی",25050601,null,6,{"$f":"COUNTIF($S$1:S841,Q841+R841)","v":6},"040102",9.9999999999999995E-7,40102.000001]
[40102.000007000002,null,2.4806399999999999E-2,1,32507.546879999994,null,0.91200000000000003,null,1310450,2.7199999999999998E-2,"دستگاه ساعت","ژنراتور 450KAW",26030119,null,7,{"$f":"COUNTIF($S$1:S842,Q842+R842)","v":7},"040102",9.9999999999999995E-7,40102.000001]
[40102.000008000003,null,1.7419199999999999E-2,1,2019.1639872000003,null,0.91200000000000003,null,115916,1.9099999999999999E-2,"دستگاه ساعت","دوربین نقشه برداری 3600 Trimble همراه با ژالون، منشور، سه پایه",28230405,null,8,{"$f":"COUNTIF($S$1:S843,Q843+R843)","v":8},"040102",9.9999999999999995E-7,40102.000001]
["",null,null,null,null,null,"ضريب",null,"بهاي واحد","مقـدار","واحــد","مصالح",null,null,"رديف",{"$f":"COUNTIF($S$1:S844,Q844+R844)","v":0},"040102",1E-4,""]
[40102.000099999997,null,6.3899999999999998E-2,1,80.066699999999997,null,1,null,1253,6.3899999999999998E-2,"مترمكعب","آب رودخانه",31010201,null,1,{"$f":"COUNTIF($S$1:S845,Q845+R845)","v":1},"040102",1E-4,40102.000099999997]
[40102.000200000002,null,1.1852,1,87704.800000000017,null,1,null,74000,1.1852,"كیلوگرم","امولایت کارتریجی",31420101,null,2,{"$f":"COUNTIF($S$1:S846,Q846+R846)","v":2},"040102",1E-4,40102.000099999997]
[40102.0003,null,0.67490000000000006,1,24633.850000000006,null,1,null,36500,0.67490000000000006,"عدد","چاشنی الکتریکی فوری",31420602,null,3,{"$f":"COUNTIF($S$1:S847,Q847+R847)","v":3},"040102",1E-4,40102.000099999997]
[40102.000399999997,null,2.2200000000000001E-2,1,30871.32,null,1,null,1390600,2.2200000000000001E-2,"متر طول","کابل زمینی سه ونیم سیمه باعایق و روکش ترموپلاستیک مطابق با استاندارد (13) 607 ISIRI  ایران یا 0271 VDE المان از نوع NYY با ولتاژ نامی 1000 ولت و به ‌مقطع  70 + 120 *3  میلیمترمربع",33070406,null,4,{"$f":"COUNTIF($S$1:S848,Q848+R848)","v":4},"040102",1E-4,40102.000099999997]
[40102.000500000002,null,0.98769999999999991,1,2087.0101,null,1,null,2113,0.98769999999999991,"متر طول","سیم تلفن تابیده دولابه قطر0.6میلیمترباروکش پلاستیکی0",33330901,null,5,{"$f":"COUNTIF($S$1:S849,Q849+R849)","v":5},"040102",1E-4,40102.000099999997]
["",null,null,null,null,null,"ضريب",null,"بهاي واحد","مقـدار","واحــد"," حمل مصالح ",null,null,"رديف",{"$f":"COUNTIF($S$1:S850,Q850+R850)","v":0},"040102",0.01,""]
[40102.01,null,13.92375,1,17780.62875,null,11.75,null,1277,1.1850000000000001,"كیلوگرم","حمل مواد منفجره",41090101,null,1,{"$f":"COUNTIF($S$1:S851,Q851+R851)","v":1},"040102",0.01,40102.01]
[40102.019999999997,null,7.9300750000000004,1,594.75562500000012,null,11.75,null,75,0.67490000000000006,"عدد","حمل چاشنی",41090301,null,2,{"$f":"COUNTIF($S$1:S852,Q852+R852)","v":2},"040102",0.01,40102.01]
["",null,null,null,null,null,null,null,null,null,null,null,null,"040103",null,{"$f":"COUNTIF($S$1:S853,Q853+R853)","v":0},"040103",0.01,""]
["",null,null,null,null,null,null,null,null,null,null,"مترمكعب",null,null,"واحـد :",{"$f":"COUNTIF($S$1:S854,Q854+R854)","v":0},"040103",0.01,""]
["",null,null,null,null,null,"ضريب",null,"بهاي واحد","مقـدار","واحــد","نيروي انساني ",null,null,"رديف",{"$f":"COUNTIF($S$1:S855,Q855+R855)","v":0},"040103",1E-8,""]
[40103.000000009997,null,4.3956000000000002E-2,1,7709.4867959999992,null,1.08,null,175391,4.07E-2,"نفر ساعت","نقشه بردار با سابقه بیش از 10 سال",12030101,null,1,{"$f":"COUNTIF($S$1:S856,Q856+R856)","v":1},"040103",1E-8,40103.000000009997]
[40103.000000020002,null,5.4293800000000003E-2,1,4813.199663800001,null,1.3340000000000001,null,88651,4.07E-2,"نفر- ساعت","کمک نقشه بردار (ترازیاب)",12030103,null,2,{"$f":"COUNTIF($S$1:S857,Q857+R857)","v":2},"040103",1E-8,40103.000000009997]
[40103.000000029999,null,4.8432999999999997E-2,1,3163.2076630000001,null,1.19,null,65311,4.07E-2,"نفر- ساعت","کارگر نقشه‌برداري (ميرکش)",12030104,null,3,{"$f":"COUNTIF($S$1:S858,Q858+R858)","v":3},"040103",1E-8,40103.000000009997]
[40103.000000040003,null,0.35550379999999993,1,23489.913584999995,null,1.8939999999999997,null,66075,0.18770000000000001,"نفر ساعت","سر کارگر",14010101,null,4,{"$f":"COUNTIF($S$1:S859,Q859+R859)","v":4},{"$f":"IF(N859>0,N859,Q858)","v":"040103"},1E-8,{"$f":"IF(M859<>\"\",Q859+R859,\"\")","v":40103.000000009997}]
[40103.00000005,null,0.37878000000000001,1,24283.207020000002,null,1.77,null,64109,0.214,"نفر ساعت","کارگر فنی ماهر",14010103,null,5,{"$f":"COUNTIF($S$1:S860,Q860+R860)","v":5},"040103",1E-8,40103.000000009997]
[40103.000000059998,null,0.26028000000000001,1,41528.454839999999,null,1.2,null,159553,0.21690000000000001,"نفر ساعت","تکنسین متخصص تونل",14240101,null,6,{"$f":"COUNTIF($S$1:S861,Q861+R861)","v":6},"040103",1E-8,40103.000000009997]
["",null,null,null,null,null,"ضريب",null,"بهاي واحد","مقـدار","واحــد","ماشين آلات ",null,null,"رديف",{"$f":"COUNTIF($S$1:S862,Q862+R862)","v":0},"040103",9.9999999999999995E-7,""]
[40103.000001,null,0.27689999999999998,1,39285.741299999994,null,1,null,141877,0.27689999999999998,"دستگاه ساعت","ماشین سواری لندرور یا مشابه با راننده",23010301,null,1,{"$f":"COUNTIF($S$1:S863,Q863+R863)","v":1},"040103",9.9999999999999995E-7,40103.000001]
[40103.000002000001,null,0.11842320000000002,1,42423.453475200011,null,1.5960000000000003,null,358236,7.4200000000000002E-2,"دستگاه ساعت","کامیون کمپرسی به ظرفیت حدود 16 تن با راننده",23020205,null,2,{"$f":"COUNTIF($S$1:S864,Q864+R864)","v":2},"040103",9.9999999999999995E-7,40103.000001]
[40103.000003000001,null,0.45529680000000006,1,331055.86451279995,null,1.722,null,727121,0.26440000000000002,"دستگاه-ساعت","بیل مکانیکی چرخ زنجیری به قدرت حدود200 اسب بخار باراننده",25010205,null,3,{"$f":"COUNTIF($S$1:S865,Q865+R865)","v":3},"040103",9.9999999999999995E-7,40103.000001]
[40103.000004000001,null,0.27157599999999998,1,205695.46446399999,null,1.66,null,757414,0.1636,"دستگاه ساعت","لودر چرخ لاستیکی به قدرت حدود 250 اسب بخار با راننده",25010804,null,4,{"$f":"COUNTIF($S$1:S866,Q866+R866)","v":4},"040103",9.9999999999999995E-7,40103.000001]
[40103.000005000002,null,4.6397999999999995E-2,1,5378.270567999999,null,1.1399999999999999,null,115916,4.07E-2,"دستگاه ساعت","دوربین نقشه برداری 3600 Trimble همراه با ژالون، منشور، سه پایه",28230405,null,5,{"$f":"COUNTIF($S$1:S867,Q867+R867)","v":5},"040103",9.9999999999999995E-7,40103.000001]
["",null,null,null,null,null,null,null,null,null,null,null,null,"040104",null,{"$f":"COUNTIF($S$1:S868,Q868+R868)","v":0},"040104",9.9999999999999995E-7,""]
["",null,null,null,null,null,null,null,null,null,null,"متر مکعب",null,null,"واحـد :",{"$f":"COUNTIF($S$1:S869,Q869+R869)","v":0},"040104",9.9999999999999995E-7,""]
["",null,null,null,null,null,"ضريب",null,"بهاي واحد","مقـدار","واحــد","نيروي انساني ",null,null,"رديف",{"$f":"COUNTIF($S$1:S870,Q870+R870)","v":0},"040104",1E-8,""]
[40104.000000009997,null,7.0599999999999996E-2,1,21274.8158,null,1,null,301343,7.0599999999999996E-2,"نفر - ساعت","رئيس کارگاه (مهندس باسابقه بيش از 15 سال)",12010101,null,1,{"$f":"COUNTIF($S$1:S871,Q871+R871)","v":1},"040104",1E-8,40104.000000009997]
[40104.000000020002,null,9.4100000000000003E-2,1,17413.9578,null,1,null,185058,9.4100000000000003E-2,"نفر ساعت","تکنیسین عمومی کارگاه باسابقه بیش از 15 سال",12010301,null,2,{"$f":"COUNTIF($S$1:S872,Q872+R872)","v":2},"040104",1E-8,40104.000000009997]
[40104.000000029999,null,0.37630000000000002,1,24124.216700000004,null,1,null,64109,0.37630000000000002,"نفر ساعت","کارگر فنی ماهر",14010103,null,3,{"$f":"COUNTIF($S$1:S873,Q873+R873)","v":3},"040104",1E-8,40104.000000009997]
[40104.000000040003,null,0.18820000000000001,1,11260.947,null,1,null,59835,0.18820000000000001,"نفر - ساعت","کارگر فني نيمه ماهر",14010105,null,4,{"$f":"COUNTIF($S$1:S874,Q874+R874)","v":4},"040104",1E-8,40104.000000009997]
["",null,null,null,null,null,"ضريب",null,"بهاي واحد","مقـدار","واحــد","ماشين آلات ",null,null,"رديف",{"$f":"COUNTIF($S$1:S875,Q875+R875)","v":0},"040104",9.9999999999999995E-7,""]
[40104.000001,null,1,1,87211,null,1,null,87211,1,"عدد","ديسک کاتر دستگاه تي. بي. ام نوع E.P.B",22030704,null,1,{"$f":"COUNTIF($S$1:S876,Q876+R876)","v":1},"040104",9.9999999999999995E-7,40104.000001]
[40104.000002000001,null,1.1760677000000002E-2,1,79793.958916370015,null,1,null,6784810,1.1760677000000002E-2,"ساعت","ترابري ريلي",22040203,null,2,{"$f":"COUNTIF($S$1:S877,Q877+R877)","v":2},"040104",9.9999999999999995E-7,40104.000001]
[40104.000003000001,null,2.3521354000000005E-2,1,423920.49422172213,null,1,null,18022793,2.3521354000000005E-2,"دستگاه -  ساعت","نوار نقاله",22040204,null,3,{"$f":"COUNTIF($S$1:S878,Q878+R878)","v":3},"040104",9.9999999999999995E-7,40104.000001]
[40104.000004000001,null,1.8795000000000002,1,58642.279500000004,null,1.05,null,31201,1.79,"كیلوگرم","ريل و متعلقات",22040205,null,4,{"$f":"COUNTIF($S$1:S879,Q879+R879)","v":4},"040104",9.9999999999999995E-7,40104.000001]
[40104.000005000002,null,2.1169218E-2,1,1100323.1979487441,null,1,null,51977508,2.1169218E-2,"دستگاه -  ساعت","دستگاه حفاري تي. بي. ام E.P.B",22040206,null,5,{"$f":"COUNTIF($S$1:S880,Q880+R880)","v":5},"040104",9.9999999999999995E-7,40104.000001]
[40104.000006000002,null,2.3521354000000005E-2,1,23446.179752616001,null,1,null,996804,2.3521354000000005E-2,"دستگاه -  ساعت","سيستم هواي فشرده",25040202,null,6,{"$f":"COUNTIF($S$1:S881,Q881+R881)","v":6},"040104",9.9999999999999995E-7,40104.000001]
[40104.000007000002,null,3,1,107928,null,1,null,35976,3,"كیلوگرم","فوم حفاري T.B.M",28202302,null,7,{"$f":"COUNTIF($S$1:S882,Q882+R882)","v":7},"040104",9.9999999999999995E-7,40104.000001]
["",null,null,null,null,null,"ضريب",null,"بهاي واحد","مقـدار","واحــد","مصالح",null,null,"رديف",{"$f":"COUNTIF($S$1:S883,Q883+R883)","v":0},"040104",1E-4,""]
[40104.000099999997,null,0.76,1,114000,null,1,null,150000,0.76,"كیلوگرم","گريس HBW",34010803,null,1,{"$f":"COUNTIF($S$1:S884,Q884+R884)","v":1},"040104",1E-4,40104.000099999997]
[40104.000200000002,null,0.96,1,105600,null,1,null,110000,0.96,"كیلوگرم","گريس شيلد",34010804,null,2,{"$f":"COUNTIF($S$1:S885,Q885+R885)","v":2},"040104",1E-4,40104.000099999997]
[40104.0003,null,0.8,1,36400,null,1,null,45500,0.8,"كیلوگرم","گريس EP2",34010805,null,3,{"$f":"COUNTIF($S$1:S886,Q886+R886)","v":3},"040104",1E-4,40104.000099999997]
["",null,null,null,null,null,null,null,null,null,null,null,null,"040105",null,{"$f":"COUNTIF($S$1:S887,Q887+R887)","v":0},"040105",1E-4,""]
["",null,null,null,null,null,null,null,null,null,null,"متر مکعب",null,null,"واحـد :",{"$f":"COUNTIF($S$1:S888,Q888+R888)","v":0},"040105",1E-4,""]
["",null,null,null,null,null,"ضريب",null,"بهاي واحد","مقـدار","واحــد","نيروي انساني ",null,null,"رديف",{"$f":"COUNTIF($S$1:S889,Q889+R889)","v":0},"040105",1E-8,""]
[40105.000000009997,null,6.5699999999999995E-2,1,19798.235099999998,null,1,null,301343,6.5699999999999995E-2,"نفر - ساعت","رئيس کارگاه (مهندس باسابقه بيش از 15 سال)",12010101,null,1,{"$f":"COUNTIF($S$1:S890,Q890+R890)","v":1},"040105",1E-8,40105.000000009997]
[40105.000000020002,null,8.7599999999999997E-2,1,16211.080800000002,null,1,null,185058,8.7599999999999997E-2,"نفر ساعت","تکنیسین عمومی کارگاه باسابقه بیش از 15 سال",12010301,null,2,{"$f":"COUNTIF($S$1:S891,Q891+R891)","v":2},"040105",1E-8,40105.000000009997]
[40105.000000029999,null,0.35049999999999998,1,22470.204499999996,null,1,null,64109,0.35049999999999998,"نفر ساعت","کارگر فنی ماهر",14010103,null,3,{"$f":"COUNTIF($S$1:S892,Q892+R892)","v":3},"040105",1E-8,40105.000000009997]
[40105.000000040003,null,0.17519999999999999,1,10483.091999999999,null,1,null,59835,0.17519999999999999,"نفر - ساعت","کارگر فني نيمه ماهر",14010105,null,4,{"$f":"COUNTIF($S$1:S893,Q893+R893)","v":4},"040105",1E-8,40105.000000009997]
["",null,null,null,null,null,"ضريب",null,"بهاي واحد","مقـدار","واحــد","ماشين آلات ",null,null,"رديف",{"$f":"COUNTIF($S$1:S894,Q894+R894)","v":0},"040105",9.9999999999999995E-7,""]
[40105.000001,null,1,1,145353,null,1,null,145353,1,"عدد","ديسک کاتر دستگاه تي. بي. ام نوع Hard Rock",22030705,null,1,{"$f":"COUNTIF($S$1:S895,Q895+R895)","v":1},"040105",9.9999999999999995E-7,40105.000001]
[40105.000002000001,null,1.0951740999999999E-2,1,74305.481854209997,null,1,null,6784810,1.0951740999999999E-2,"ساعت","ترابري ريلي",22040203,null,2,{"$f":"COUNTIF($S$1:S896,Q896+R896)","v":2},"040105",9.9999999999999995E-7,40105.000001]
[40105.000003000001,null,2.1903483000000001E-2,1,394761.94008801907,null,1,null,18022793,2.1903483000000001E-2,"دستگاه -  ساعت","نوار نقاله",22040204,null,3,{"$f":"COUNTIF($S$1:S897,Q897+R897)","v":3},"040105",9.9999999999999995E-7,40105.000001]
[40105.000004000001,null,1.7429999999999999,1,54383.343000000001,null,1.05,null,31201,1.66,"كیلوگرم","ريل و متعلقات",22040205,null,4,{"$f":"COUNTIF($S$1:S898,Q898+R898)","v":4},"040105",9.9999999999999995E-7,40105.000001]
[40105.000005000002,null,1.9713134E-2,1,965499.56708291802,null,1,null,48977477,1.9713134E-2,"دستگاه -  ساعت","دستگاه حفاري تي. بي. ام Hard Rock",22040207,null,5,{"$f":"COUNTIF($S$1:S899,Q899+R899)","v":5},"040105",9.9999999999999995E-7,40105.000001]
[40105.000006000002,null,2.1903483000000001E-2,1,21833.479468332003,null,1,null,996804,2.1903483000000001E-2,"دستگاه -  ساعت","سيستم هواي فشرده",25040202,null,6,{"$f":"COUNTIF($S$1:S900,Q900+R900)","v":6},"040105",9.9999999999999995E-7,40105.000001]
["",null,null,null,null,null,"ضريب",null,"بهاي واحد","مقـدار","واحــد","مصالح",null,null,"رديف",{"$f":"COUNTIF($S$1:S901,Q901+R901)","v":0},"040105",1E-4,""]
[40105.000099999997,null,0.8,1,36400,null,1,null,45500,0.8,"كیلوگرم","گريس EP2",34010805,null,1,{"$f":"COUNTIF($S$1:S902,Q902+R902)","v":1},"040105",1E-4,40105.000099999997]
["",null,null,null,null,null,null,null,null,null,null,null,null,"040201",null,{"$f":"COUNTIF($S$1:S903,Q903+R903)","v":0},"040201",{"$f":"IF(IF(O903=\"رديف\",VLOOKUP(L903,Kod,2,0),0)=0,R902,IF(O903=\"رديف\",VLOOKUP(L903,Kod,2,0),0))","v":1E-4},""]
["",null,null,null,null,null,null,null,null,null,null,"متر مکعب",null,null,"واحـد :",{"$f":"COUNTIF($S$1:S904,Q904+R904)","v":0},"040201",1E-4,""]
[{"$f":"IF(M905<>\"\",Q905+(P905*R905),\"\")","v":""},null,null,null,null,null,"ضريب",null,"بهاي واحد","مقـدار","واحــد","نيروي انساني ",null,null,"رديف",{"$f":"COUNTIF($S$1:S905,Q905+R905)","v":0},"040201",1E-8,""]
[40201.000000009997,null,1.4879999999999999E-2,1,2374.1486399999999,null,1.2,null,159553,1.24E-2,"نفر ساعت","تکنسین متخصص تونل",14240101,null,1,{"$f":"COUNTIF($S$1:S906,Q906+R906)","v":1},"040201",1E-8,40201.000000009997]
[40201.000000020002,null,8.5931999999999988E-3,1,1885.0387248,null,0.69299999999999995,null,219364,1.24E-2,"نفر ساعت","تکنسین برق",18090301,null,2,{"$f":"COUNTIF($S$1:S907,Q907+R907)","v":2},"040201",1E-8,40201.000000009997]
["",null,null,null,null,null,"ضريب",null,"بهاي واحد","مقـدار","واحــد","ماشين آلات ",null,null,"رديف",{"$f":"COUNTIF($S$1:S908,Q908+R908)","v":0},"040201",9.9999999999999995E-7,""]
[40201.000001,null,1.24E-2,1,1759.2748000000001,null,1,null,141877,1.24E-2,"دستگاه ساعت","ماشین سواری لندرور یا مشابه با راننده",23010301,null,1,{"$f":"COUNTIF($S$1:S909,Q909+R909)","v":1},"040201",9.9999999999999995E-7,40201.000001]
[40201.000002000001,null,4.8999999999999998E-3,1,1755.3564000000001,null,1,null,358236,4.8999999999999998E-3,"دستگاه ساعت","کامیون کمپرسی به ظرفیت حدود 16 تن با راننده",23020205,null,2,{"$f":"COUNTIF($S$1:S910,Q910+R910)","v":2},"040201",9.9999999999999995E-7,40201.000001]
[40201.000003000001,null,8.0899000000000006E-3,1,6127.4035185999992,null,1.651,null,757414,4.8999999999999998E-3,"دستگاه ساعت","لودر چرخ لاستیکی به قدرت حدود 250 اسب بخار با راننده",25010804,null,3,{"$f":"COUNTIF($S$1:S911,Q911+R911)","v":3},"040201",9.9999999999999995E-7,40201.000001]
[40201.000004000001,null,3.0212799999999998E-2,1,69707.757692799991,null,0.82099999999999995,null,2307226,3.6799999999999999E-2,"دستگاه ساعت","جامبو دریل Paramatic دو بوم TAMROCK با اپراتور، راد و سر مته",25050304,null,4,{"$f":"COUNTIF($S$1:S912,Q912+R912)","v":4},"040201",9.9999999999999995E-7,40201.000001]
["",null,null,null,null,null,null,null,null,null,null,null,null,"040202",null,{"$f":"COUNTIF($S$1:S913,Q913+R913)","v":0},"040202",9.9999999999999995E-7,""]
["",null,null,null,null,null,null,null,null,null,null,"مترمكعب",null,null,"واحـد :",{"$f":"COUNTIF($S$1:S914,Q914+R914)","v":0},"040202",9.9999999999999995E-7,""]
["",null,null,null,null,null,"ضريب",null,"بهاي واحد","مقـدار","واحــد","نيروي انساني ",null,null,"رديف",{"$f":"COUNTIF($S$1:S915,Q915+R915)","v":0},"040202",1E-8,""]
[40202.000000009997,null,3.3334399999999993E-2,1,2202.5704799999999,null,1.8939999999999997,null,66075,1.7600000000000001E-2,"نفر ساعت","سر کارگر",14010101,null,1,{"$f":"COUNTIF($S$1:S916,Q916+R916)","v":1},"040202",1E-8,40202.000000009997]
[40202.000000020002,null,3.1152000000000003E-2,1,1997.123568,null,1.77,null,64109,1.7600000000000001E-2,"نفر ساعت","کارگر فنی ماهر",14010103,null,2,{"$f":"COUNTIF($S$1:S917,Q917+R917)","v":2},"040202",1E-8,40202.000000009997]
[40202.000000029999,null,2.112E-2,1,3369.75936,null,1.2,null,159553,1.7600000000000001E-2,"نفر ساعت","تکنسین متخصص تونل",14240101,null,3,{"$f":"COUNTIF($S$1:S918,Q918+R918)","v":3},"040202",1E-8,40202.000000009997]
["",null,null,null,null,null,"ضريب",null,"بهاي واحد","مقـدار","واحــد","ماشين آلات ",null,null,"رديف",{"$f":"COUNTIF($S$1:S919,Q919+R919)","v":0},"040202",9.9999999999999995E-7,""]
[40202.000001,null,1.7600000000000001E-2,1,2497.0351999999998,null,1,null,141877,1.7600000000000001E-2,"دستگاه ساعت","ماشین سواری لندرور یا مشابه با راننده",23010301,null,1,{"$f":"COUNTIF($S$1:S920,Q920+R920)","v":1},"040202",9.9999999999999995E-7,40202.000001]
[40202.000002000001,null,0.156004,1,113433.78448399999,null,1.72,null,727121,9.0700000000000003E-2,"دستگاه-ساعت","بیل مکانیکی چرخ زنجیری به قدرت حدود200 اسب بخار باراننده",25010205,null,2,{"$f":"COUNTIF($S$1:S921,Q921+R921)","v":2},"040202",9.9999999999999995E-7,40202.000001]
[40202.000003000001,null,2.9879999999999997E-2,1,22631.530319999998,null,1.66,null,757414,1.7999999999999999E-2,"دستگاه ساعت","لودر چرخ لاستیکی به قدرت حدود 250 اسب بخار با راننده",25010804,null,3,{"$f":"COUNTIF($S$1:S922,Q922+R922)","v":3},"040202",9.9999999999999995E-7,40202.000001]
["",null,null,null,null,null,null,null,null,null,null,null,null,"040203",null,{"$f":"COUNTIF($S$1:S923,Q923+R923)","v":0},{"$f":"IF(N923>0,N923,Q922)","v":"040203"},9.9999999999999995E-7,{"$f":"IF(M923<>\"\",Q923+R923,\"\")","v":""}]
["",null,null,null,null,null,null,null,null,null,null,"درصد",null,null,"واحـد :",{"$f":"COUNTIF($S$1:S924,Q924+R924)","v":0},"040203",9.9999999999999995E-7,""]
["",null,null,null,null,null,"ضريب",null,"بهاي واحد","مقـدار","واحــد","نيروي انساني ",null,null,"رديف",{"$f":"COUNTIF($S$1:S925,Q925+R925)","v":0},"040203",1E-8,""]
[40203.000000009997,null,10,1,0,null,1,null,0,10,"درصد","درصد",19020199,null,1,{"$f":"COUNTIF($S$1:S926,Q926+R926)","v":1},"040203",1E-8,40203.000000009997]
["",null,null,null,null,null,null,null,null,null,null,null,null,"040204",null,{"$f":"COUNTIF($S$1:S927,Q927+R927)","v":0},"040204",1E-8,""]
["",null,null,null,null,null,null,null,null,null,null,"درصد",null,null,"واحـد :",{"$f":"COUNTIF($S$1:S928,Q928+R928)","v":0},"040204",1E-8,""]
["",null,null,null,null,null,"ضريب",null,"بهاي واحد","مقـدار","واحــد","نيروي انساني ",null,null,"رديف",{"$f":"COUNTIF($S$1:S929,Q929+R929)","v":0},"040204",1E-8,""]
[40204.000000009997,null,24,1,0,null,1,null,0,24,"درصد","درصد",19020199,null,1,{"$f":"COUNTIF($S$1:S930,Q930+R930)","v":1},"040204",1E-8,40204.000000009997]
["",null,null,null,null,null,null,null,null,null,null,null,null,"040205",null,{"$f":"COUNTIF($S$1:S931,Q931+R931)","v":0},"040205",1E-8,""]
["",null,null,null,null,null,null,null,null,null,null,"درصد",null,null,"واحـد :",{"$f":"COUNTIF($S$1:S932,Q932+R932)","v":0},"040205",1E-8,""]
["",null,null,null,null,null,"ضريب",null,"بهاي واحد","مقـدار","واحــد","نيروي انساني ",null,null,"رديف",{"$f":"COUNTIF($S$1:S933,Q933+R933)","v":0},"040205",1E-8,""]
[40205.000000009997,null,3,1,0,null,1,null,0,3,"درصد","درصد",19020199,null,1,{"$f":"COUNTIF($S$1:S934,Q934+R934)","v":1},"040205",1E-8,40205.000000009997]
["",null,null,null,null,null,null,null,null,null,null,null,null,"040206",null,{"$f":"COUNTIF($S$1:S935,Q935+R935)","v":0},"040206",1E-8,""]
["",null,null,null,null,null,null,null,null,null,null,"درصد",null,null,"واحـد :",{"$f":"COUNTIF($S$1:S936,Q936+R936)","v":0},"040206",1E-8,""]
["",null,null,null,null,null,"ضريب",null,"بهاي واحد","مقـدار","واحــد","نيروي انساني ",null,null,"رديف",{"$f":"COUNTIF($S$1:S937,Q937+R937)","v":0},"040206",1E-8,""]
[40206.000000009997,null,7,1,0,null,1,null,0,7,"درصد","درصد",19020199,null,1,{"$f":"COUNTIF($S$1:S938,Q938+R938)","v":1},"040206",1E-8,40206.000000009997]
["",null,null,null,null,null,null,null,null,null,null,null,null,"040207",null,{"$f":"COUNTIF($S$1:S939,Q939+R939)","v":0},"040207",1E-8,""]
["",null,null,null,null,null,null,null,null,null,null,"درصد",null,null,"واحـد :",{"$f":"COUNTIF($S$1:S940,Q940+R940)","v":0},"040207",1E-8,""]
["",null,null,null,null,null,"ضريب",null,"بهاي واحد","مقـدار","واحــد","نيروي انساني ",null,null,"رديف",{"$f":"COUNTIF($S$1:S941,Q941+R941)","v":0},"040207",1E-8,""]
[40207.000000009997,null,15,1,0,null,1,null,0,15,"درصد","درصد",19020199,null,1,{"$f":"COUNTIF($S$1:S942,Q942+R942)","v":1},"040207",1E-8,40207.000000009997]
["",null,null,null,null,null,null,null,null,null,null,null,null,"040208",null,{"$f":"COUNTIF($S$1:S943,Q943+R943)","v":0},"040208",1E-8,""]
["",null,null,null,null,null,null,null,null,null,null,"درصد",null,null,"واحـد :",{"$f":"COUNTIF($S$1:S944,Q944+R944)","v":0},"040208",1E-8,""]
["",null,null,null,null,null,"ضريب",null,"بهاي واحد","مقـدار","واحــد","نيروي انساني ",null,null,"رديف",{"$f":"COUNTIF($S$1:S945,Q945+R945)","v":0},"040208",1E-8,""]
[40208.000000009997,null,12,1,0,null,1,null,0,12,"درصد","درصد",19020199,null,1,{"$f":"COUNTIF($S$1:S946,Q946+R946)","v":1},"040208",1E-8,40208.000000009997]
["",null,null,null,null,null,null,null,null,null,null,null,null,"040209",null,{"$f":"COUNTIF($S$1:S947,Q947+R947)","v":0},"040209",1E-8,""]
["",null,null,null,null,null,null,null,null,null,null,"درصد",null,null,"واحـد :",{"$f":"COUNTIF($S$1:S948,Q948+R948)","v":0},"040209",1E-8,""]
["",null,null,null,null,null,"ضريب",null,"بهاي واحد","مقـدار","واحــد","نيروي انساني ",null,null,"رديف",{"$f":"COUNTIF($S$1:S949,Q949+R949)","v":0},"040209",1E-8,""]
[40209.000000009997,null,33,1,0,null,1,null,0,33,"درصد","درصد",19020199,null,1,{"$f":"COUNTIF($S$1:S950,Q950+R950)","v":1},"040209",1E-8,40209.000000009997]
["",null,null,null,null,null,null,null,null,null,null,null,null,"040210",null,{"$f":"COUNTIF($S$1:S951,Q951+R951)","v":0},"040210",1E-8,""]
["",null,null,null,null,null,null,null,null,null,null,"درصد",null,null,"واحـد :",{"$f":"COUNTIF($S$1:S952,Q952+R952)","v":0},"040210",1E-8,""]
["",null,null,null,null,null,"ضريب",null,"بهاي واحد","مقـدار","واحــد","نيروي انساني ",null,null,"رديف",{"$f":"COUNTIF($S$1:S953,Q953+R953)","v":0},"040210",1E-8,""]
[40210.000000009997,null,10,1,0,null,1,null,0,10,"درصد","درصد",19020199,null,1,{"$f":"COUNTIF($S$1:S954,Q954+R954)","v":1},"040210",1E-8,40210.000000009997]
["",null,null,null,null,null,null,null,null,null,null,null,null,"040211",null,{"$f":"COUNTIF($S$1:S955,Q955+R955)","v":0},"040211",1E-8,""]
["",null,null,null,null,null,null,null,null,null,null,"درصد",null,null,"واحـد :",{"$f":"COUNTIF($S$1:S956,Q956+R956)","v":0},"040211",1E-8,""]
["",null,null,null,null,null,"ضريب",null,"بهاي واحد","مقـدار","واحــد","نيروي انساني ",null,null,"رديف",{"$f":"COUNTIF($S$1:S957,Q957+R957)","v":0},"040211",1E-8,""]
[40211.000000009997,null,2,1,0,null,1,null,0,2,"درصد","درصد",19020199,null,1,{"$f":"COUNTIF($S$1:S958,Q958+R958)","v":1},"040211",1E-8,40211.000000009997]
["",null,null,null,null,null,null,null,null,null,null,null,null,"040212",null,{"$f":"COUNTIF($S$1:S959,Q959+R959)","v":0},"040212",1E-8,""]
["",null,null,null,null,null,null,null,null,null,null,"درصد",null,null,"واحـد :",{"$f":"COUNTIF($S$1:S960,Q960+R960)","v":0},"040212",1E-8,""]
["",null,null,null,null,null,"ضريب",null,"بهاي واحد","مقـدار","واحــد","نيروي انساني ",null,null,"رديف",{"$f":"COUNTIF($S$1:S961,Q961+R961)","v":0},"040212",1E-8,""]
[40212.000000009997,null,-0.45,1,0,null,1,null,0,-0.45,"درصد","درصد",19020199,null,1,{"$f":"COUNTIF($S$1:S962,Q962+R962)","v":1},"040212",1E-8,40212.000000009997]
["",null,null,null,null,null,null,null,null,null,null,null,null,"040213",null,{"$f":"COUNTIF($S$1:S963,Q963+R963)","v":0},"040213",1E-8,""]
["",null,null,null,null,null,null,null,null,null,null,"درصد",null,null,"واحـد :",{"$f":"COUNTIF($S$1:S964,Q964+R964)","v":0},"040213",1E-8,""]
["",null,null,null,null,null,"ضريب",null,"بهاي واحد","مقـدار","واحــد","نيروي انساني ",null,null,"رديف",{"$f":"COUNTIF($S$1:S965,Q965+R965)","v":0},"040213",1E-8,""]
[40213.000000009997,null,1,1,0,null,1,null,0,1,"درصد","درصد",19020199,null,1,{"$f":"COUNTIF($S$1:S966,Q966+R966)","v":1},"040213",1E-8,40213.000000009997]
["",null,null,null,null,null,null,null,null,null,null,null,null,"040214",null,{"$f":"COUNTIF($S$1:S967,Q967+R967)","v":0},"040214",{"$f":"IF(IF(O967=\"رديف\",VLOOKUP(L967,Kod,2,0),0)=0,R966,IF(O967=\"رديف\",VLOOKUP(L967,Kod,2,0),0))","v":1E-8},""]
["",null,null,null,null,null,null,null,null,null,null,"مترمكعب",null,null,"واحـد :",{"$f":"COUNTIF($S$1:S968,Q968+R968)","v":0},"040214",1E-8,""]
[{"$f":"IF(M969<>\"\",Q969+(P969*R969),\"\")","v":""},null,null,null,null,null,"ضريب",null,"بهاي واحد","مقـدار","واحــد","مصالح",null,null,"رديف",{"$f":"COUNTIF($S$1:S969,Q969+R969)","v":0},"040214",1E-4,""]
[40214.000099999997,null,-0.4,1,-25000,null,1,null,62500,-0.4,"عدد","چاشنی الکتریکی با طول 11 متر",31420606,null,1,{"$f":"COUNTIF($S$1:S970,Q970+R970)","v":1},"040214",1E-4,40214.000099999997]
[40214.000200000002,null,0.4,1,55200,null,1,null,138000,0.4,"عدد","سیستم نانل با طول 12 متر",31420607,null,2,{"$f":"COUNTIF($S$1:S971,Q971+R971)","v":2},"040214",1E-4,40214.000099999997]
["",null,null,null,null,null,null,null,null,null,null,null,null,"040301",null,{"$f":"COUNTIF($S$1:S972,Q972+R972)","v":0},"040301",1E-4,""]
["",null,null,null,null,null,null,null,null,null,null,"مترمكعب",null,null,"واحـد :",{"$f":"COUNTIF($S$1:S973,Q973+R973)","v":0},"040301",1E-4,""]
["",null,null,null,null,null,"ضريب",null,"بهاي واحد","مقـدار","واحــد","نيروي انساني ",null,null,"رديف",{"$f":"COUNTIF($S$1:S974,Q974+R974)","v":0},"040301",1E-8,""]
[40301.000000009997,null,3.5607199999999999E-2,1,2352.7457399999998,null,1.8939999999999997,null,66075,1.8800000000000001E-2,"نفر ساعت","سر کارگر",14010101,null,1,{"$f":"COUNTIF($S$1:S975,Q975+R975)","v":1},"040301",1E-8,40301.000000009997]
[40301.000000020002,null,2.256E-2,1,3599.5156800000004,null,1.2,null,159553,1.8800000000000001E-2,"نفر ساعت","تکنسین متخصص تونل",14240101,null,2,{"$f":"COUNTIF($S$1:S976,Q976+R976)","v":2},"040301",1E-8,40301.000000009997]
["",null,null,null,null,null,"ضريب",null,"بهاي واحد","مقـدار","واحــد","ماشين آلات ",null,null,"رديف",{"$f":"COUNTIF($S$1:S977,Q977+R977)","v":0},"040301",9.9999999999999995E-7,""]
[40301.000001,null,1.8800000000000001E-2,1,2667.2876000000001,null,1,null,141877,1.8800000000000001E-2,"دستگاه ساعت","ماشین سواری لندرور یا مشابه با راننده",23010301,null,1,{"$f":"COUNTIF($S$1:S978,Q978+R978)","v":1},"040301",9.9999999999999995E-7,40301.000001]
[40301.000002000001,null,3.0004800000000009E-2,1,10748.799532800003,null,1.5960000000000003,null,358236,1.8800000000000001E-2,"دستگاه ساعت","کامیون کمپرسی به ظرفیت حدود 16 تن با راننده",23020205,null,2,{"$f":"COUNTIF($S$1:S979,Q979+R979)","v":2},"040301",9.9999999999999995E-7,40301.000001]
[40301.000003000001,null,2.5718400000000002E-2,1,19479.476217600004,null,1.3680000000000001,null,757414,1.8800000000000001E-2,"دستگاه ساعت","لودر چرخ لاستیکی به قدرت حدود 250 اسب بخار با راننده",25010804,null,3,{"$f":"COUNTIF($S$1:S980,Q980+R980)","v":3},"040301",9.9999999999999995E-7,40301.000001]
["",null,null,null,null,null,null,null,null,null,null,null,null,"040401",null,{"$f":"COUNTIF($S$1:S981,Q981+R981)","v":0},"040401",9.9999999999999995E-7,""]
["",null,null,null,null,null,null,null,null,null,null,"متر طول",null,null,"واحـد :",{"$f":"COUNTIF($S$1:S982,Q982+R982)","v":0},"040401",9.9999999999999995E-7,""]
["",null,null,null,null,null,"ضريب",null,"بهاي واحد","مقـدار","واحــد","نيروي انساني ",null,null,"رديف",{"$f":"COUNTIF($S$1:S983,Q983+R983)","v":0},"040401",1E-8,""]
[40401.000000009997,null,2.7997899999999999E-2,1,4910.5796788999996,null,1.081,null,175391,2.5899999999999999E-2,"نفر ساعت","نقشه بردار با سابقه بیش از 10 سال",12030101,null,1,{"$f":"COUNTIF($S$1:S984,Q984+R984)","v":1},"040401",1E-8,40401.000000009997]
[40401.000000020002,null,2.9614800000000004E-2,1,2625.3816348,null,1.3340000000000001,null,88651,2.2200000000000001E-2,"نفر- ساعت","کمک نقشه بردار (ترازیاب)",12030103,null,2,{"$f":"COUNTIF($S$1:S985,Q985+R985)","v":2},"040401",1E-8,40401.000000009997]
[40401.000000029999,null,3.0820999999999998E-2,1,2012.950331,null,1.19,null,65311,2.5899999999999999E-2,"نفر- ساعت","کارگر نقشه‌برداري (ميرکش)",12030104,null,3,{"$f":"COUNTIF($S$1:S986,Q986+R986)","v":3},"040401",1E-8,40401.000000009997]
[40401.000000040003,null,0.14451219999999998,1,9548.6436150000009,null,1.8939999999999997,null,66075,7.6300000000000007E-2,"نفر ساعت","سر کارگر",14010101,null,4,{"$f":"COUNTIF($S$1:S987,Q987+R987)","v":4},{"$f":"IF(N987>0,N987,Q986)","v":"040401"},1E-8,{"$f":"IF(M987<>\"\",Q987+R987,\"\")","v":40401.000000009997}]
[40401.00000005,null,0.24466200000000002,1,13948.914606,null,1.452,null,57013,0.16850000000000001,"نفر- ساعت","كارگر ساده",14010102,null,5,{"$f":"COUNTIF($S$1:S988,Q988+R988)","v":5},"040401",1E-8,40401.000000009997]
[40401.000000059998,null,0.201603,1,12924.566726999999,null,1.77,null,64109,0.1139,"نفر ساعت","کارگر فنی ماهر",14010103,null,6,{"$f":"COUNTIF($S$1:S989,Q989+R989)","v":6},"040401",1E-8,40401.000000009997]
[40401.000000070002,null,0.10956,1,17480.626679999998,null,1.2,null,159553,9.1300000000000006E-2,"نفر ساعت","تکنسین متخصص تونل",14240101,null,7,{"$f":"COUNTIF($S$1:S990,Q990+R990)","v":7},"040401",1E-8,40401.000000009997]
[40401.000000079999,null,7.3355799999999999E-2,1,16091.621711199998,null,0.69399999999999995,null,219364,0.1057,"نفر ساعت","تکنسین برق",18090301,null,8,{"$f":"COUNTIF($S$1:S991,Q991+R991)","v":8},"040401",1E-8,40401.000000009997]
["",null,null,null,null,null,"ضريب",null,"بهاي واحد","مقـدار","واحــد","ماشين آلات ",null,null,"رديف",{"$f":"COUNTIF($S$1:S992,Q992+R992)","v":0},"040401",9.9999999999999995E-7,""]
[40401.000001,null,7.7799999999999994E-2,1,11038.030599999998,null,1,null,141877,7.7799999999999994E-2,"دستگاه ساعت","ماشین سواری لندرور یا مشابه با راننده",23010301,null,1,{"$f":"COUNTIF($S$1:S993,Q993+R993)","v":1},"040401",9.9999999999999995E-7,40401.000001]
[40401.000002000001,null,0.1210566,1,58681.944736799989,null,1.722,null,484748,7.0300000000000001E-2,"دستگاه-ساعت","لودر چرخ لاستيکي به قدرت حدود200  اسب بخار باراننده",25010803,null,2,{"$f":"COUNTIF($S$1:S994,Q994+R994)","v":2},"040401",9.9999999999999995E-7,40401.000001]
[40401.000003000001,null,3.3105599999999999E-2,1,63651.806063999997,null,0.91200000000000003,null,1922690,3.6299999999999999E-2,"دستگاه ساعت","جامبو دریل Paramatic تک بوم TAMROCK با اپراتور، راد و سر مته",25050303,null,3,{"$f":"COUNTIF($S$1:S995,Q995+R995)","v":3},"040401",9.9999999999999995E-7,40401.000001]
[40401.000004000001,null,7.0315200000000008E-2,1,64323.501177599996,null,0.91200000000000003,null,914788,7.7100000000000002E-2,"دستگاه ساعت","ژنراتور 350KAVA",26030121,null,4,{"$f":"COUNTIF($S$1:S996,Q996+R996)","v":4},"040401",9.9999999999999995E-7,40401.000001]
[40401.000005000002,null,0.13199440000000001,1,15850.019546399999,null,1.1870000000000001,null,120081,0.11119999999999999,"دستگاه ساعت","جک هیدرولیکی 60 تن تست کشش",28150201,null,5,{"$f":"COUNTIF($S$1:S997,Q997+R997)","v":5},"040401",9.9999999999999995E-7,40401.000001]
[40401.000006000002,null,2.3620800000000001E-2,1,2738.0286528000001,null,0.91200000000000003,null,115916,2.5899999999999999E-2,"دستگاه ساعت","دوربین نقشه برداری 3600 Trimble همراه با ژالون، منشور، سه پایه",28230405,null,6,{"$f":"COUNTIF($S$1:S998,Q998+R998)","v":6},"040401",9.9999999999999995E-7,40401.000001]
[40401.000007000002,null,5.3899200000000001E-2,1,9705.8445408000007,null,0.91200000000000003,null,180074,5.91E-2,"دستگاه ساعت","پمپ تزریق سیمان پیستونی معمولی با 6 متر مکعب در ساعت",28320404,null,7,{"$f":"COUNTIF($S$1:S999,Q999+R999)","v":7},"040401",9.9999999999999995E-7,40401.000001]
["",null,null,null,null,null,"ضريب",null,"بهاي واحد","مقـدار","واحــد","مصالح",null,null,"رديف",{"$f":"COUNTIF($S$1:S1000,Q1000+R1000)","v":0},"040401",1E-4,""]
[40401.000099999997,null,0.01,1,10700,null,1,null,1070000,0.01,"تن","سیمان پرتلند نوع یک (سیمان معمولی) فله",31080102,null,1,{"$f":"COUNTIF($S$1:S1001,Q1001+R1001)","v":1},"040401",1E-4,40401.000099999997]
[40401.000200000002,null,4.0425000000000004,1,85575.682500000024,null,1,null,21169,4.0425000000000004,"كیلوگرم","میلگرد آجدار AIII نمره 20 به بالا",31250206,null,2,{"$f":"COUNTIF($S$1:S1002,Q1002+R1002)","v":2},"040401",1E-4,40401.000099999997]
[40401.0003,null,0.52329999999999999,1,12326.854799999999,null,1,null,23556,0.52329999999999999,"كیلوگرم","ورق سياه به ضخامت بيش از 3 ميلي متر",31260102,null,3,{"$f":"COUNTIF($S$1:S1003,Q1003+R1003)","v":3},"040401",1E-4,40401.000099999997]
[40401.000399999997,null,0.33300000000000002,1,10048.275000000001,null,1,null,30175,0.33300000000000002,"عدد","مهره و واشر",31430703,null,4,{"$f":"COUNTIF($S$1:S1004,Q1004+R1004)","v":4},"040401",1E-4,40401.000099999997]
[40401.000500000002,null,1.1333,1,3167.5735,null,1,null,2795,1.1333,"مترطول","شيلنگ تزريق",31705003,null,5,{"$f":"COUNTIF($S$1:S1005,Q1005+R1005)","v":5},"040401",1E-4,40401.000099999997]
[40401.000599999999,null,1.1333,1,2488.7267999999999,null,1,null,2196,1.1333,"مترطول","شيلنگ هوا",31705004,null,6,{"$f":"COUNTIF($S$1:S1006,Q1006+R1006)","v":6},"040401",1E-4,40401.000099999997]
["",null,null,null,null,null,"ضريب",null,"بهاي واحد","مقـدار","واحــد"," حمل مصالح ",null,null,"رديف",{"$f":"COUNTIF($S$1:S1007,Q1007+R1007)","v":0},"040401",0.01,""]
[40401.01,null,0.01,1,895.41,null,1,null,89541,0.01,"تن","حمل سیمان فله",41060101,null,1,{"$f":"COUNTIF($S$1:S1008,Q1008+R1008)","v":1},"040401",0.01,40401.01]
[40401.019999999997,null,4.5658000000000003,1,748.79120000000012,null,1,null,164,4.5658000000000003,"كیلوگرم","حمل مصالح فلزی مورد مصرف در سازه",41110101,null,2,{"$f":"COUNTIF($S$1:S1009,Q1009+R1009)","v":2},"040401",0.01,40401.01]
["",null,null,null,null,null,null,null,null,null,null,null,null,"040402",null,{"$f":"COUNTIF($S$1:S1010,Q1010+R1010)","v":0},"040402",0.01,""]
["",null,null,null,null,null,null,null,null,null,null,"متر طول",null,null,"واحـد :",{"$f":"COUNTIF($S$1:S1011,Q1011+R1011)","v":0},"040402",0.01,""]
["",null,null,null,null,null,"ضريب",null,"بهاي واحد","مقـدار","واحــد","نيروي انساني ",null,null,"رديف",{"$f":"COUNTIF($S$1:S1012,Q1012+R1012)","v":0},"040402",1E-8,""]
[40402.000000009997,null,2.7997899999999999E-2,1,4910.5796788999996,null,1.081,null,175391,2.5899999999999999E-2,"نفر ساعت","نقشه بردار با سابقه بیش از 10 سال",12030101,null,1,{"$f":"COUNTIF($S$1:S1013,Q1013+R1013)","v":1},"040402",1E-8,40402.000000009997]
[40402.000000020002,null,3.4632000000000003E-2,1,3070.1614319999999,null,1.56,null,88651,2.2200000000000001E-2,"نفر- ساعت","کمک نقشه بردار (ترازیاب)",12030103,null,2,{"$f":"COUNTIF($S$1:S1014,Q1014+R1014)","v":2},"040402",1E-8,40402.000000009997]
[40402.000000029999,null,3.0940000000000002E-2,1,2020.7223400000003,null,1.19,null,65311,2.6000000000000002E-2,"نفر- ساعت","کارگر نقشه‌برداري (ميرکش)",12030104,null,3,{"$f":"COUNTIF($S$1:S1015,Q1015+R1015)","v":3},"040402",1E-8,40402.000000009997]
[40402.000000040003,null,0.15309,1,10115.421750000001,null,1.89,null,66075,8.1000000000000003E-2,"نفر ساعت","سر کارگر",14010101,null,4,{"$f":"COUNTIF($S$1:S1016,Q1016+R1016)","v":4},"040402",1E-8,40402.000000009997]
[40402.00000005,null,0.11761199999999999,1,6705.4129559999992,null,1.452,null,57013,8.1000000000000003E-2,"نفر- ساعت","كارگر ساده",14010102,null,5,{"$f":"COUNTIF($S$1:S1017,Q1017+R1017)","v":5},"040402",1E-8,40402.000000009997]
[40402.000000059998,null,0.28673999999999999,1,18382.614659999999,null,1.77,null,64109,0.16200000000000001,"نفر ساعت","کارگر فنی ماهر",14010103,null,6,{"$f":"COUNTIF($S$1:S1018,Q1018+R1018)","v":6},"040402",1E-8,40402.000000009997]
[40402.000000070002,null,0.14424000000000001,1,23013.924719999999,null,1.2,null,159553,0.1202,"نفر ساعت","تکنسین متخصص تونل",14240101,null,7,{"$f":"COUNTIF($S$1:S1019,Q1019+R1019)","v":7},"040402",1E-8,40402.000000009997]
[40402.000000079999,null,0.3952,1,5812.2064,null,1.976,null,14707,0.2,"یکسر","هزینه دنده ای کردن ( رزوه کردن ) میلگرد",14280301,null,8,{"$f":"COUNTIF($S$1:S1020,Q1020+R1020)","v":8},"040402",1E-8,40402.000000009997]
[40402.000000090004,null,8.223599999999999E-2,1,18039.617903999999,null,0.77,null,219364,0.10679999999999999,"نفر ساعت","تکنسین برق",18090301,null,9,{"$f":"COUNTIF($S$1:S1021,Q1021+R1021)","v":9},"040402",1E-8,40402.000000009997]
["",null,null,null,null,null,"ضريب",null,"بهاي واحد","مقـدار","واحــد","ماشين آلات ",null,null,"رديف",{"$f":"COUNTIF($S$1:S1022,Q1022+R1022)","v":0},"040402",9.9999999999999995E-7,""]
[40402.000001,null,9.5299999999999996E-2,1,13520.8781,null,1,null,141877,9.5299999999999996E-2,"دستگاه ساعت","ماشین سواری لندرور یا مشابه با راننده",23010301,null,1,{"$f":"COUNTIF($S$1:S1023,Q1023+R1023)","v":1},"040402",9.9999999999999995E-7,40402.000001]
[40402.000002000001,null,0.13948199999999999,1,67613.620535999988,null,1.722,null,484748,8.1000000000000003E-2,"دستگاه-ساعت","لودر چرخ لاستيکي به قدرت حدود200  اسب بخار باراننده",25010803,null,2,{"$f":"COUNTIF($S$1:S1024,Q1024+R1024)","v":2},"040402",9.9999999999999995E-7,40402.000001]
[40402.000003000001,null,3.5750400000000002E-2,1,68736.936575999993,null,0.91200000000000003,null,1922690,3.9199999999999999E-2,"دستگاه ساعت","جامبو دریل Paramatic تک بوم TAMROCK با اپراتور، راد و سر مته",25050303,null,3,{"$f":"COUNTIF($S$1:S1025,Q1025+R1025)","v":3},"040402",9.9999999999999995E-7,40402.000001]
[40402.000004000001,null,9.6398400000000009E-2,1,88184.099539200019,null,0.91200000000000003,null,914788,0.1057,"دستگاه ساعت","ژنراتور 350KAVA",26030121,null,4,{"$f":"COUNTIF($S$1:S1026,Q1026+R1026)","v":4},"040402",9.9999999999999995E-7,40402.000001]
[40402.000005000002,null,0.13199440000000001,1,15850.019546399999,null,1.1870000000000001,null,120081,0.11119999999999999,"دستگاه ساعت","جک هیدرولیکی 60 تن تست کشش",28150201,null,5,{"$f":"COUNTIF($S$1:S1027,Q1027+R1027)","v":5},"040402",9.9999999999999995E-7,40402.000001]
[40402.000006000002,null,2.3620800000000001E-2,1,2738.0286528000001,null,0.91200000000000003,null,115916,2.5899999999999999E-2,"دستگاه ساعت","دوربین نقشه برداری 3600 Trimble همراه با ژالون، منشور، سه پایه",28230405,null,6,{"$f":"COUNTIF($S$1:S1028,Q1028+R1028)","v":6},"040402",9.9999999999999995E-7,40402.000001]
[40402.000007000002,null,6.1879300000000012E-2,1,11142.853068200004,null,0.81100000000000005,null,180074,7.6300000000000007E-2,"دستگاه ساعت","پمپ تزریق سیمان پیستونی معمولی با 6 متر مکعب در ساعت",28320404,null,7,{"$f":"COUNTIF($S$1:S1029,Q1029+R1029)","v":7},"040402",9.9999999999999995E-7,40402.000001]
["",null,null,null,null,null,"ضريب",null,"بهاي واحد","مقـدار","واحــد","مصالح",null,null,"رديف",{"$f":"COUNTIF($S$1:S1030,Q1030+R1030)","v":0},"040402",1E-4,""]
[40402.000099999997,null,0.01,1,10700,null,1,null,1070000,0.01,"تن","سیمان پرتلند نوع یک (سیمان معمولی) فله",31080102,null,1,{"$f":"COUNTIF($S$1:S1031,Q1031+R1031)","v":1},"040402",{"$f":"IF(IF(O1031=\"رديف\",VLOOKUP(L1031,Kod,2,0),0)=0,R1030,IF(O1031=\"رديف\",VLOOKUP(L1031,Kod,2,0),0))","v":1E-4},40402.000099999997]
[40402.000200000002,null,5.8274999999999997,1,123362.3475,null,1,null,21169,5.8274999999999997,"كیلوگرم","میلگرد آجدار AIII نمره 20 به بالا",31250206,null,2,{"$f":"COUNTIF($S$1:S1032,Q1032+R1032)","v":2},"040402",1E-4,40402.000099999997]
[{"$f":"IF(M1033<>\"\",Q1033+(P1033*R1033),\"\")","v":40402.0003},null,0.89081358999999993,1,20984.004926040001,null,1.7022999999999999,null,23556,0.52329999999999999,"كیلوگرم","ورق سياه به ضخامت بيش از 3 ميلي متر",31260102,null,3,{"$f":"COUNTIF($S$1:S1033,Q1033+R1033)","v":3},"040402",1E-4,40402.000099999997]
[40402.000399999997,null,0.33300000000000002,1,10048.275000000001,null,1,null,30175,0.33300000000000002,"عدد","مهره و واشر",31430703,null,4,{"$f":"COUNTIF($S$1:S1034,Q1034+R1034)","v":4},"040402",1E-4,40402.000099999997]
[40402.000500000002,null,1.1333,1,3167.5735,null,1,null,2795,1.1333,"مترطول","شيلنگ تزريق",31705003,null,5,{"$f":"COUNTIF($S$1:S1035,Q1035+R1035)","v":5},"040402",1E-4,40402.000099999997]
[40402.000599999999,null,1.1333,1,2488.7267999999999,null,1,null,2196,1.1333,"مترطول","شيلنگ هوا",31705004,null,6,{"$f":"COUNTIF($S$1:S1036,Q1036+R1036)","v":6},"040402",1E-4,40402.000099999997]
["",null,null,null,null,null,"ضريب",null,"بهاي واحد","مقـدار","واحــد"," حمل مصالح ",null,null,"رديف",{"$f":"COUNTIF($S$1:S1037,Q1037+R1037)","v":0},"040402",0.01,""]
[40402.01,null,0.01,1,895.41,null,1,null,89541,0.01,"تن","حمل سیمان فله",41060101,null,1,{"$f":"COUNTIF($S$1:S1038,Q1038+R1038)","v":1},"040402",0.01,40402.01]
[40402.019999999997,null,6.3507999999999996,1,1041.5311999999999,null,1,null,164,6.3507999999999996,"كیلوگرم","حمل مصالح فلزی مورد مصرف در سازه",41110101,null,2,{"$f":"COUNTIF($S$1:S1039,Q1039+R1039)","v":2},"040402",0.01,40402.01]
["",null,null,null,null,null,null,null,null,null,null,null,null,"040403",null,{"$f":"COUNTIF($S$1:S1040,Q1040+R1040)","v":0},"040403",0.01,""]
["",null,null,null,null,null,null,null,null,null,null,"متر طول",null,null,"واحـد :",{"$f":"COUNTIF($S$1:S1041,Q1041+R1041)","v":0},"040403",0.01,""]
["",null,null,null,null,null,"ضريب",null,"بهاي واحد","مقـدار","واحــد","نيروي انساني ",null,null,"رديف",{"$f":"COUNTIF($S$1:S1042,Q1042+R1042)","v":0},"040403",1E-8,""]
[40403.000000009997,null,2.7997899999999999E-2,1,4910.5796788999996,null,1.081,null,175391,2.5899999999999999E-2,"نفر ساعت","نقشه بردار با سابقه بیش از 10 سال",12030101,null,1,{"$f":"COUNTIF($S$1:S1043,Q1043+R1043)","v":1},"040403",1E-8,40403.000000009997]
[40403.000000020002,null,2.9614800000000004E-2,1,2625.3816348,null,1.3340000000000001,null,88651,2.2200000000000001E-2,"نفر- ساعت","کمک نقشه بردار (ترازیاب)",12030103,null,2,{"$f":"COUNTIF($S$1:S1044,Q1044+R1044)","v":2},"040403",1E-8,40403.000000009997]
[40403.000000029999,null,3.0820999999999998E-2,1,2012.950331,null,1.19,null,65311,2.5899999999999999E-2,"نفر- ساعت","کارگر نقشه‌برداري (ميرکش)",12030104,null,3,{"$f":"COUNTIF($S$1:S1045,Q1045+R1045)","v":3},"040403",1E-8,40403.000000009997]
[40403.000000040003,null,0.21818879999999996,1,14416.82496,null,1.8939999999999997,null,66075,0.1152,"نفر ساعت","سر کارگر",14010101,null,4,{"$f":"COUNTIF($S$1:S1046,Q1046+R1046)","v":4},"040403",1E-8,40403.000000009997]
[40403.00000005,null,0.30085439999999997,1,17152.6119072,null,1.452,null,57013,0.2072,"نفر- ساعت","كارگر ساده",14010102,null,5,{"$f":"COUNTIF($S$1:S1047,Q1047+R1047)","v":5},"040403",1E-8,40403.000000009997]
[40403.000000059998,null,0.27027899999999999,1,17327.316411,null,1.77,null,64109,0.1527,"نفر ساعت","کارگر فنی ماهر",14010103,null,6,{"$f":"COUNTIF($S$1:S1048,Q1048+R1048)","v":6},"040403",1E-8,40403.000000009997]
[40403.000000070002,null,0.15624000000000002,1,24928.560720000005,null,1.2,null,159553,0.13020000000000001,"نفر ساعت","تکنسین متخصص تونل",14240101,null,7,{"$f":"COUNTIF($S$1:S1049,Q1049+R1049)","v":7},"040403",1E-8,40403.000000009997]
[40403.000000079999,null,0.3952,1,5812.2064,null,1.976,null,14707,0.2,"یکسر","هزینه دنده ای کردن ( رزوه کردن ) میلگرد",14280301,null,8,{"$f":"COUNTIF($S$1:S1050,Q1050+R1050)","v":8},"040403",1E-8,40403.000000009997]
[40403.000000090004,null,8.1389000000000003E-2,1,17853.816596000001,null,0.77,null,219364,0.1057,"نفر ساعت","تکنسین برق",18090301,null,9,{"$f":"COUNTIF($S$1:S1051,Q1051+R1051)","v":9},{"$f":"IF(N1051>0,N1051,Q1050)","v":"040403"},1E-8,{"$f":"IF(M1051<>\"\",Q1051+R1051,\"\")","v":40403.000000009997}]
["",null,null,null,null,null,"ضريب",null,"بهاي واحد","مقـدار","واحــد","ماشين آلات ",null,null,"رديف",{"$f":"COUNTIF($S$1:S1052,Q1052+R1052)","v":0},"040403",9.9999999999999995E-7,""]
[40403.000001,null,0.1167,1,16557.045900000001,null,1,null,141877,0.1167,"دستگاه ساعت","ماشین سواری لندرور یا مشابه با راننده",23010301,null,1,{"$f":"COUNTIF($S$1:S1053,Q1053+R1053)","v":1},"040403",9.9999999999999995E-7,40403.000001]
[40403.000002000001,null,0.1880424,1,91153.177315199995,null,1.722,null,484748,0.10920000000000001,"دستگاه-ساعت","لودر چرخ لاستيکي به قدرت حدود200  اسب بخار باراننده",25010803,null,2,{"$f":"COUNTIF($S$1:S1054,Q1054+R1054)","v":2},"040403",9.9999999999999995E-7,40403.000001]
[40403.000003000001,null,3.3105599999999999E-2,1,63651.806063999997,null,0.91200000000000003,null,1922690,3.6299999999999999E-2,"دستگاه ساعت","جامبو دریل Paramatic تک بوم TAMROCK با اپراتور، راد و سر مته",25050303,null,3,{"$f":"COUNTIF($S$1:S1055,Q1055+R1055)","v":3},"040403",9.9999999999999995E-7,40403.000001]
[40403.000004000001,null,7.0315200000000008E-2,1,64323.501177599996,null,0.91200000000000003,null,914788,7.7100000000000002E-2,"دستگاه ساعت","ژنراتور 350KAVA",26030121,null,4,{"$f":"COUNTIF($S$1:S1056,Q1056+R1056)","v":4},"040403",9.9999999999999995E-7,40403.000001]
[40403.000005000002,null,3.9459599999999997E-2,1,4738.3482276000004,null,1.0169999999999999,null,120081,3.8800000000000001E-2,"دستگاه ساعت","جک هیدرولیکی 60 تن تست کشش",28150201,null,5,{"$f":"COUNTIF($S$1:S1057,Q1057+R1057)","v":5},"040403",9.9999999999999995E-7,40403.000001]
[40403.000006000002,null,2.3620800000000001E-2,1,2738.0286528000001,null,0.91200000000000003,null,115916,2.5899999999999999E-2,"دستگاه ساعت","دوربین نقشه برداری 3600 Trimble همراه با ژالون، منشور، سه پایه",28230405,null,6,{"$f":"COUNTIF($S$1:S1058,Q1058+R1058)","v":6},"040403",9.9999999999999995E-7,40403.000001]
[40403.000007000002,null,5.3899200000000001E-2,1,9705.8445408000007,null,0.91200000000000003,null,180074,5.91E-2,"دستگاه ساعت","پمپ تزریق سیمان پیستونی معمولی با 6 متر مکعب در ساعت",28320404,null,7,{"$f":"COUNTIF($S$1:S1059,Q1059+R1059)","v":7},"040403",9.9999999999999995E-7,40403.000001]
["",null,null,null,null,null,"ضريب",null,"بهاي واحد","مقـدار","واحــد","مصالح",null,null,"رديف",{"$f":"COUNTIF($S$1:S1060,Q1060+R1060)","v":0},"040403",1E-4,""]
[40403.000099999997,null,0.01,1,10700,null,1,null,1070000,0.01,"تن","سیمان پرتلند نوع یک (سیمان معمولی) فله",31080102,null,1,{"$f":"COUNTIF($S$1:S1061,Q1061+R1061)","v":1},"040403",1E-4,40403.000099999997]
[40403.000200000002,null,4.0425000000000004,1,85575.682500000024,null,1,null,21169,4.0425000000000004,"كیلوگرم","میلگرد آجدار AIII نمره 20 به بالا",31250206,null,2,{"$f":"COUNTIF($S$1:S1062,Q1062+R1062)","v":2},"040403",1E-4,40403.000099999997]
[40403.0003,null,0.89086591999999998,1,20985.237611519999,null,1.7023999999999999,null,23556,0.52329999999999999,"كیلوگرم","ورق سياه به ضخامت بيش از 3 ميلي متر",31260102,null,3,{"$f":"COUNTIF($S$1:S1063,Q1063+R1063)","v":3},"040403",1E-4,40403.000099999997]
[40403.000399999997,null,0.33329999999999999,1,10057.327499999999,null,1,null,30175,0.33329999999999999,"عدد","مهره و واشر",31430703,null,4,{"$f":"COUNTIF($S$1:S1064,Q1064+R1064)","v":4},"040403",1E-4,40403.000099999997]
[40403.000500000002,null,1.1333,1,3167.5735,null,1,null,2795,1.1333,"مترطول","شيلنگ تزريق",31705003,null,5,{"$f":"COUNTIF($S$1:S1065,Q1065+R1065)","v":5},"040403",1E-4,40403.000099999997]
[40403.000599999999,null,1.1333,1,2488.7267999999999,null,1,null,2196,1.1333,"مترطول","شيلنگ هوا",31705004,null,6,{"$f":"COUNTIF($S$1:S1066,Q1066+R1066)","v":6},"040403",1E-4,40403.000099999997]
["",null,null,null,null,null,"ضريب",null,"بهاي واحد","مقـدار","واحــد"," حمل مصالح ",null,null,"رديف",{"$f":"COUNTIF($S$1:S1067,Q1067+R1067)","v":0},"040403",0.01,""]
[40403.01,null,0.01,1,895.41,null,1,null,89541,0.01,"تن","حمل سیمان فله",41060101,null,1,{"$f":"COUNTIF($S$1:S1068,Q1068+R1068)","v":1},"040403",0.01,40403.01]
[40403.019999999997,null,4.5658000000000003,1,748.79120000000012,null,1,null,164,4.5658000000000003,"كیلوگرم","حمل مصالح فلزی مورد مصرف در سازه",41110101,null,2,{"$f":"COUNTIF($S$1:S1069,Q1069+R1069)","v":2},"040403",0.01,40403.01]
["",null,null,null,null,null,null,null,null,null,null,null,null,"040404",null,{"$f":"COUNTIF($S$1:S1070,Q1070+R1070)","v":0},"040404",0.01,""]
["",null,null,null,null,null,null,null,null,null,null,"مترطول",null,null,"واحـد :",{"$f":"COUNTIF($S$1:S1071,Q1071+R1071)","v":0},"040404",0.01,""]
["",null,null,null,null,null,"ضريب",null,"بهاي واحد","مقـدار","واحــد","نيروي انساني ",null,null,"رديف",{"$f":"COUNTIF($S$1:S1072,Q1072+R1072)","v":0},"040404",1E-8,""]
[40404.000000009997,null,2.7997899999999999E-2,1,4910.5796788999996,null,1.081,null,175391,2.5899999999999999E-2,"نفر ساعت","نقشه بردار با سابقه بیش از 10 سال",12030101,null,1,{"$f":"COUNTIF($S$1:S1073,Q1073+R1073)","v":1},"040404",1E-8,40404.000000009997]
[40404.000000020002,null,2.3443200000000001E-2,1,2078.2631231999999,null,1.056,null,88651,2.2200000000000001E-2,"نفر- ساعت","کمک نقشه بردار (ترازیاب)",12030103,null,2,{"$f":"COUNTIF($S$1:S1074,Q1074+R1074)","v":2},"040404",1E-8,40404.000000009997]
[40404.000000029999,null,3.1178000000000001E-2,1,2036.2663580000001,null,1.19,null,65311,2.6200000000000001E-2,"نفر- ساعت","کارگر نقشه‌برداري (ميرکش)",12030104,null,3,{"$f":"COUNTIF($S$1:S1075,Q1075+R1075)","v":3},"040404",1E-8,40404.000000009997]
[40404.000000040003,null,0.30057779999999995,1,19860.678134999998,null,1.8939999999999997,null,66075,0.15870000000000001,"نفر ساعت","سر کارگر",14010101,null,4,{"$f":"COUNTIF($S$1:S1076,Q1076+R1076)","v":4},"040404",1E-8,40404.000000009997]
[40404.00000005,null,0.23043240000000001,1,13137.6424212,null,1.452,null,57013,0.15870000000000001,"نفر- ساعت","كارگر ساده",14010102,null,5,{"$f":"COUNTIF($S$1:S1077,Q1077+R1077)","v":5},"040404",1E-8,40404.000000009997]
[40404.000000059998,null,0.56162100000000004,1,36004.960689,null,1.77,null,64109,0.31730000000000003,"نفر ساعت","کارگر فنی ماهر",14010103,null,6,{"$f":"COUNTIF($S$1:S1078,Q1078+R1078)","v":6},"040404",1E-8,40404.000000009997]
[40404.000000070002,null,0.23735999999999999,1,37871.500079999998,null,1.2,null,159553,0.1978,"نفر ساعت","تکنسین متخصص تونل",14240101,null,7,{"$f":"COUNTIF($S$1:S1079,Q1079+R1079)","v":7},"040404",1E-8,40404.000000009997]
[40404.000000079999,null,0.3952,1,5812.2064,null,1.976,null,14707,0.2,"یکسر","هزینه دنده ای کردن ( رزوه کردن ) میلگرد",14280301,null,8,{"$f":"COUNTIF($S$1:S1080,Q1080+R1080)","v":8},"040404",1E-8,40404.000000009997]
[40404.000000090004,null,8.223599999999999E-2,1,18039.617903999999,null,0.77,null,219364,0.10679999999999999,"نفر ساعت","تکنسین برق",18090301,null,9,{"$f":"COUNTIF($S$1:S1081,Q1081+R1081)","v":9},"040404",1E-8,40404.000000009997]
["",null,null,null,null,null,"ضريب",null,"بهاي واحد","مقـدار","واحــد","ماشين آلات ",null,null,"رديف",{"$f":"COUNTIF($S$1:S1082,Q1082+R1082)","v":0},"040404",9.9999999999999995E-7,""]
[40404.000001,null,9.5299999999999996E-2,1,13520.8781,null,1,null,141877,9.5299999999999996E-2,"دستگاه ساعت","ماشین سواری لندرور یا مشابه با راننده",23010301,null,1,{"$f":"COUNTIF($S$1:S1083,Q1083+R1083)","v":1},"040404",9.9999999999999995E-7,40404.000001]
[40404.000002000001,null,0.2062956,1,100001.37950879999,null,1.722,null,484748,0.1198,"دستگاه-ساعت","لودر چرخ لاستيکي به قدرت حدود200  اسب بخار باراننده",25010803,null,2,{"$f":"COUNTIF($S$1:S1084,Q1084+R1084)","v":2},"040404",9.9999999999999995E-7,40404.000001]
[40404.000003000001,null,3.5750400000000002E-2,1,68736.936575999993,null,0.91200000000000003,null,1922690,3.9199999999999999E-2,"دستگاه ساعت","جامبو دریل Paramatic تک بوم TAMROCK با اپراتور، راد و سر مته",25050303,null,3,{"$f":"COUNTIF($S$1:S1085,Q1085+R1085)","v":3},"040404",9.9999999999999995E-7,40404.000001]
[40404.000004000001,null,9.0479199999999996E-2,1,82769.286409599998,null,0.85599999999999998,null,914788,0.1057,"دستگاه ساعت","ژنراتور 350KAVA",26030121,null,4,{"$f":"COUNTIF($S$1:S1086,Q1086+R1086)","v":4},"040404",9.9999999999999995E-7,40404.000001]
[40404.000005000002,null,0.16273770000000001,1,19541.7057537,null,1.1870000000000001,null,120081,0.1371,"دستگاه ساعت","جک هیدرولیکی 60 تن تست کشش",28150201,null,5,{"$f":"COUNTIF($S$1:S1087,Q1087+R1087)","v":5},"040404",9.9999999999999995E-7,40404.000001]
[40404.000006000002,null,2.3620800000000001E-2,1,2738.0286528000001,null,0.91200000000000003,null,115916,2.5899999999999999E-2,"دستگاه ساعت","دوربین نقشه برداری 3600 Trimble همراه با ژالون، منشور، سه پایه",28230405,null,6,{"$f":"COUNTIF($S$1:S1088,Q1088+R1088)","v":6},"040404",9.9999999999999995E-7,40404.000001]
[40404.000007000002,null,6.1879300000000012E-2,1,11142.853068200004,null,0.81100000000000005,null,180074,7.6300000000000007E-2,"دستگاه ساعت","پمپ تزریق سیمان پیستونی معمولی با 6 متر مکعب در ساعت",28320404,null,7,{"$f":"COUNTIF($S$1:S1089,Q1089+R1089)","v":7},"040404",9.9999999999999995E-7,40404.000001]
["",null,null,null,null,null,"ضريب",null,"بهاي واحد","مقـدار","واحــد","مصالح",null,null,"رديف",{"$f":"COUNTIF($S$1:S1090,Q1090+R1090)","v":0},"040404",1E-4,""]
[40404.000099999997,null,0.01,1,10700,null,1,null,1070000,0.01,"تن","سیمان پرتلند نوع یک (سیمان معمولی) فله",31080102,null,1,{"$f":"COUNTIF($S$1:S1091,Q1091+R1091)","v":1},"040404",1E-4,40404.000099999997]
[40404.000200000002,null,5.8274999999999997,1,123362.3475,null,1,null,21169,5.8274999999999997,"كیلوگرم","میلگرد آجدار AIII نمره 20 به بالا",31250206,null,2,{"$f":"COUNTIF($S$1:S1092,Q1092+R1092)","v":2},"040404",1E-4,40404.000099999997]
[40404.0003,null,0.89081358999999993,1,20984.004926040001,null,1.7022999999999999,null,23556,0.52329999999999999,"كیلوگرم","ورق سياه به ضخامت بيش از 3 ميلي متر",31260102,null,3,{"$f":"COUNTIF($S$1:S1093,Q1093+R1093)","v":3},"040404",1E-4,40404.000099999997]
[40404.000399999997,null,0.33329999999999999,1,10057.327499999999,null,1,null,30175,0.33329999999999999,"عدد","مهره و واشر",31430703,null,4,{"$f":"COUNTIF($S$1:S1094,Q1094+R1094)","v":4},"040404",1E-4,40404.000099999997]
[40404.000500000002,null,1.1333,1,3167.5735,null,1,null,2795,1.1333,"مترطول","شيلنگ تزريق",31705003,null,5,{"$f":"COUNTIF($S$1:S1095,Q1095+R1095)","v":5},"040404",{"$f":"IF(IF(O1095=\"رديف\",VLOOKUP(L1095,Kod,2,0),0)=0,R1094,IF(O1095=\"رديف\",VLOOKUP(L1095,Kod,2,0),0))","v":1E-4},40404.000099999997]
[40404.000599999999,null,1.1333,1,2488.7267999999999,null,1,null,2196,1.1333,"مترطول","شيلنگ هوا",31705004,null,6,{"$f":"COUNTIF($S$1:S1096,Q1096+R1096)","v":6},"040404",1E-4,40404.000099999997]
[{"$f":"IF(M1097<>\"\",Q1097+(P1097*R1097),\"\")","v":""},null,null,null,null,null,"ضريب",null,"بهاي واحد","مقـدار","واحــد"," حمل مصالح ",null,null,"رديف",{"$f":"COUNTIF($S$1:S1097,Q1097+R1097)","v":0},"040404",0.01,""]
[40404.01,null,0.01,1,895.41,null,1,null,89541,0.01,"تن","حمل سیمان فله",41060101,null,1,{"$f":"COUNTIF($S$1:S1098,Q1098+R1098)","v":1},"040404",0.01,40404.01]
[40404.019999999997,null,6.3507999999999996,1,1041.5311999999999,null,1,null,164,6.3507999999999996,"كیلوگرم","حمل مصالح فلزی مورد مصرف در سازه",41110101,null,2,{"$f":"COUNTIF($S$1:S1099,Q1099+R1099)","v":2},"040404",0.01,40404.01]
["",null,null,null,null,null,null,null,null,null,null,null,null,"040405",null,{"$f":"COUNTIF($S$1:S1100,Q1100+R1100)","v":0},"040405",0.01,""]
["",null,null,null,null,null,null,null,null,null,null,"درصد",null,null,"واحـد :",{"$f":"COUNTIF($S$1:S1101,Q1101+R1101)","v":0},"040405",0.01,""]
["",null,null,null,null,null,"ضريب",null,"بهاي واحد","مقـدار","واحــد","نيروي انساني ",null,null,"رديف",{"$f":"COUNTIF($S$1:S1102,Q1102+R1102)","v":0},"040405",1E-8,""]
[40405.000000009997,null,5,1,0,null,1,null,0,5,"درصد","درصد",19020199,null,1,{"$f":"COUNTIF($S$1:S1103,Q1103+R1103)","v":1},"040405",1E-8,40405.000000009997]
["",null,null,null,null,null,null,null,null,null,null,null,null,"040501",null,{"$f":"COUNTIF($S$1:S1104,Q1104+R1104)","v":0},"040501",1E-8,""]
["",null,null,null,null,null,null,null,null,null,null,"متر طول",null,null,"واحـد :",{"$f":"COUNTIF($S$1:S1105,Q1105+R1105)","v":0},"040501",1E-8,""]
["",null,null,null,null,null,"ضريب",null,"بهاي واحد","مقـدار","واحــد","نيروي انساني ",null,null,"رديف",{"$f":"COUNTIF($S$1:S1106,Q1106+R1106)","v":0},"040501",1E-8,""]
[40501.000000009997,null,1.0164,1,57948.013200000001,null,1.452,null,57013,0.7,"نفر- ساعت","كارگر ساده",14010102,null,1,{"$f":"COUNTIF($S$1:S1107,Q1107+R1107)","v":1},"040501",1E-8,40501.000000009997]
[40501.000000020002,null,1.4690999999999999,1,94182.531900000002,null,1.77,null,64109,0.83,"نفر ساعت","کارگر فنی ماهر",14010103,null,2,{"$f":"COUNTIF($S$1:S1108,Q1108+R1108)","v":2},"040501",1E-8,40501.000000009997]
[40501.000000029999,null,0.39840000000000003,1,41534.793600000005,null,1.3280000000000001,null,104254,0.3,"نفر ساعت","تزریقکار",14150112,null,3,{"$f":"COUNTIF($S$1:S1109,Q1109+R1109)","v":3},"040501",1E-8,40501.000000009997]
[40501.000000040003,null,0.29224999999999995,1,53065.878250000002,null,0.83499999999999996,null,181577,0.35,"نفر- ساعت","حفار كارهاي ژئوتكنيك",14270301,null,4,{"$f":"COUNTIF($S$1:S1110,Q1110+R1110)","v":4},"040501",1E-8,40501.000000009997]
[40501.00000005,null,2.4150000000000001E-2,1,5297.6406000000006,null,0.48299999999999998,null,219364,0.05,"نفر ساعت","تکنسین برق",18090301,null,5,{"$f":"COUNTIF($S$1:S1111,Q1111+R1111)","v":5},"040501",1E-8,40501.000000009997]
["",null,null,null,null,null,"ضريب",null,"بهاي واحد","مقـدار","واحــد","ماشين آلات ",null,null,"رديف",{"$f":"COUNTIF($S$1:S1112,Q1112+R1112)","v":0},"040501",9.9999999999999995E-7,""]
[40501.000001,null,0.27360000000000001,1,116051.27039999999,null,0.91200000000000003,null,424164,0.3,"دستگاه ساعت","پمپ تزریق سیمان به قدرت10 اسب بخار",22020703,null,1,{"$f":"COUNTIF($S$1:S1113,Q1113+R1113)","v":1},"040501",9.9999999999999995E-7,40501.000001]
[40501.000002000001,null,0.35,1,49656.95,null,1,null,141877,0.35,"دستگاه ساعت","ماشین سواری لندرور یا مشابه با راننده",23010301,null,2,{"$f":"COUNTIF($S$1:S1114,Q1114+R1114)","v":2},"040501",9.9999999999999995E-7,40501.000001]
[40501.000003000001,null,4.4999999999999998E-2,1,12609.405000000001,null,2,null,280209,2.2499999999999999E-2,"دستگاه-ساعت","تانکراب پاش به ظرفیت حدود 15000 لیتر باراننده",23020503,null,3,{"$f":"COUNTIF($S$1:S1115,Q1115+R1115)","v":3},{"$f":"IF(N1115>0,N1115,Q1114)","v":"040501"},9.9999999999999995E-7,{"$f":"IF(M1115<>\"\",Q1115+R1115,\"\")","v":40501.000001}]
[40501.000004000001,null,0.86099999999999999,1,417368.02799999999,null,1.722,null,484748,0.5,"دستگاه-ساعت","لودر چرخ لاستيکي به قدرت حدود200  اسب بخار باراننده",25010803,null,4,{"$f":"COUNTIF($S$1:S1116,Q1116+R1116)","v":4},"040501",9.9999999999999995E-7,40501.000001]
[40501.000005000002,null,4.5600000000000002E-2,1,87674.664000000004,null,0.91200000000000003,null,1922690,0.05,"دستگاه ساعت","جامبو دریل Paramatic تک بوم TAMROCK با اپراتور، راد و سر مته",25050303,null,5,{"$f":"COUNTIF($S$1:S1117,Q1117+R1117)","v":5},"040501",9.9999999999999995E-7,40501.000001]
[40501.000006000002,null,4.5600000000000002E-2,1,59756.52,null,0.91200000000000003,null,1310450,0.05,"دستگاه ساعت","ژنراتور 450KAW",26030119,null,6,{"$f":"COUNTIF($S$1:S1118,Q1118+R1118)","v":6},"040501",9.9999999999999995E-7,40501.000001]
["",null,null,null,null,null,"ضريب",null,"بهاي واحد","مقـدار","واحــد","مصالح",null,null,"رديف",{"$f":"COUNTIF($S$1:S1119,Q1119+R1119)","v":0},"040501",1E-4,""]
[40501.000099999997,null,9.0999999999999998E-2,1,114.023,null,1,null,1253,9.0999999999999998E-2,"مترمكعب","آب رودخانه",31010201,null,1,{"$f":"COUNTIF($S$1:S1120,Q1120+R1120)","v":1},"040501",1E-4,40501.000099999997]
[40501.000200000002,null,0.01,1,10700,null,1,null,1070000,0.01,"تن","سیمان پرتلند نوع یک (سیمان معمولی) فله",31080102,null,2,{"$f":"COUNTIF($S$1:S1121,Q1121+R1121)","v":2},"040501",1E-4,40501.000099999997]
[40501.0003,null,2.7000000000000003E-2,1,64800,null,1,null,2400000,2.7000000000000003E-2,"عدد","مسدودکننده پکر مکانیکی  به قطر 76  میلیمتر",34050301,null,3,{"$f":"COUNTIF($S$1:S1122,Q1122+R1122)","v":3},"040501",1E-4,40501.000099999997]
["",null,null,null,null,null,"ضريب",null,"بهاي واحد","مقـدار","واحــد"," حمل مصالح ",null,null,"رديف",{"$f":"COUNTIF($S$1:S1123,Q1123+R1123)","v":0},"040501",0.01,""]
[40501.01,null,0.01,1,895.41,null,1,null,89541,0.01,"تن","حمل سیمان فله",41060101,null,1,{"$f":"COUNTIF($S$1:S1124,Q1124+R1124)","v":1},"040501",0.01,40501.01]
["",null,null,null,null,null,null,null,null,null,null,null,null,"040502",null,{"$f":"COUNTIF($S$1:S1125,Q1125+R1125)","v":0},"040502",0.01,""]
["",null,null,null,null,null,null,null,null,null,null,"متر طول",null,null,"واحـد :",{"$f":"COUNTIF($S$1:S1126,Q1126+R1126)","v":0},"040502",0.01,""]
["",null,null,null,null,null,"ضريب",null,"بهاي واحد","مقـدار","واحــد","نيروي انساني ",null,null,"رديف",{"$f":"COUNTIF($S$1:S1127,Q1127+R1127)","v":0},"040502",1E-8,""]
[40502.000000009997,null,1.9892400000000001,1,113412.54011999998,null,1.452,null,57013,1.37,"نفر- ساعت","كارگر ساده",14010102,null,1,{"$f":"COUNTIF($S$1:S1128,Q1128+R1128)","v":1},"040502",1E-8,40502.000000009997]
[40502.000000020002,null,0.88500000000000001,1,56736.464999999997,null,1.77,null,64109,0.5,"نفر ساعت","کارگر فنی ماهر",14010103,null,2,{"$f":"COUNTIF($S$1:S1129,Q1129+R1129)","v":2},"040502",1E-8,40502.000000009997]
[40502.000000029999,null,0.30012800000000001,1,31289.544512,null,1.3280000000000001,null,104254,0.22600000000000001,"نفر ساعت","تزریقکار",14150112,null,3,{"$f":"COUNTIF($S$1:S1130,Q1130+R1130)","v":3},"040502",1E-8,40502.000000009997]
[40502.000000040003,null,0.25801499999999999,1,46849.589654999996,null,0.83499999999999996,null,181577,0.309,"نفر- ساعت","حفار كارهاي ژئوتكنيك",14270301,null,4,{"$f":"COUNTIF($S$1:S1131,Q1131+R1131)","v":4},"040502",1E-8,40502.000000009997]
[40502.00000005,null,4.0089E-2,1,8794.083396,null,0.48299999999999998,null,219364,8.3000000000000004E-2,"نفر ساعت","تکنسین برق",18090301,null,5,{"$f":"COUNTIF($S$1:S1132,Q1132+R1132)","v":5},"040502",1E-8,40502.000000009997]
["",null,null,null,null,null,"ضريب",null,"بهاي واحد","مقـدار","واحــد","ماشين آلات ",null,null,"رديف",{"$f":"COUNTIF($S$1:S1133,Q1133+R1133)","v":0},"040502",9.9999999999999995E-7,""]
[40502.000001,null,0.20611200000000002,1,87425.290368000002,null,0.91200000000000003,null,424164,0.22600000000000001,"دستگاه ساعت","پمپ تزریق سیمان به قدرت10 اسب بخار",22020703,null,1,{"$f":"COUNTIF($S$1:S1134,Q1134+R1134)","v":1},"040502",9.9999999999999995E-7,40502.000001]
[40502.000002000001,null,0.309,1,43839.992999999995,null,1,null,141877,0.309,"دستگاه ساعت","ماشین سواری لندرور یا مشابه با راننده",23010301,null,2,{"$f":"COUNTIF($S$1:S1135,Q1135+R1135)","v":2},"040502",9.9999999999999995E-7,40502.000001]
[40502.000003000001,null,4.4999999999999998E-2,1,12609.405000000001,null,2,null,280209,2.2499999999999999E-2,"دستگاه-ساعت","تانکراب پاش به ظرفیت حدود 15000 لیتر باراننده",23020503,null,3,{"$f":"COUNTIF($S$1:S1136,Q1136+R1136)","v":3},"040502",9.9999999999999995E-7,40502.000001]
[40502.000004000001,null,0.68880000000000008,1,333894.42239999998,null,1.722,null,484748,0.4,"دستگاه-ساعت","لودر چرخ لاستيکي به قدرت حدود200  اسب بخار باراننده",25010803,null,4,{"$f":"COUNTIF($S$1:S1137,Q1137+R1137)","v":4},"040502",9.9999999999999995E-7,40502.000001]
[40502.000005000002,null,7.5696000000000013E-2,1,145539.94224000003,null,0.91200000000000003,null,1922690,8.3000000000000004E-2,"دستگاه ساعت","جامبو دریل Paramatic تک بوم TAMROCK با اپراتور، راد و سر مته",25050303,null,5,{"$f":"COUNTIF($S$1:S1138,Q1138+R1138)","v":5},"040502",9.9999999999999995E-7,40502.000001]
[40502.000006000002,null,4.7392999999999998E-2,1,62106.156849999985,null,0.57099999999999995,null,1310450,8.3000000000000004E-2,"دستگاه ساعت","ژنراتور 450KAW",26030119,null,6,{"$f":"COUNTIF($S$1:S1139,Q1139+R1139)","v":6},"040502",9.9999999999999995E-7,40502.000001]
["",null,null,null,null,null,"ضريب",null,"بهاي واحد","مقـدار","واحــد","مصالح",null,null,"رديف",{"$f":"COUNTIF($S$1:S1140,Q1140+R1140)","v":0},"040502",1E-4,""]
[40502.000099999997,null,0.76857690000000001,1,963.02685570000006,null,8.4459,null,1253,9.0999999999999998E-2,"مترمكعب","آب رودخانه",31010201,null,1,{"$f":"COUNTIF($S$1:S1141,Q1141+R1141)","v":1},"040502",1E-4,40502.000099999997]
[40502.000200000002,null,0.01,1,10700,null,1,null,1070000,0.01,"تن","سیمان پرتلند نوع یک (سیمان معمولی) فله",31080102,null,2,{"$f":"COUNTIF($S$1:S1142,Q1142+R1142)","v":2},"040502",1E-4,40502.000099999997]
[40502.0003,null,8.3000000000000004E-2,1,199200.00000000003,null,1,null,2400000,8.3000000000000004E-2,"عدد","مسدودکننده پکر مکانیکی  به قطر 76  میلیمتر",34050301,null,3,{"$f":"COUNTIF($S$1:S1143,Q1143+R1143)","v":3},"040502",1E-4,40502.000099999997]
["",null,null,null,null,null,"ضريب",null,"بهاي واحد","مقـدار","واحــد"," حمل مصالح ",null,null,"رديف",{"$f":"COUNTIF($S$1:S1144,Q1144+R1144)","v":0},"040502",0.01,""]
[40502.01,null,0.01,1,895.41,null,1,null,89541,0.01,"تن","حمل سیمان فله",41060101,null,1,{"$f":"COUNTIF($S$1:S1145,Q1145+R1145)","v":1},"040502",0.01,40502.01]
["",null,null,null,null,null,null,null,null,null,null,null,null,"040503",null,{"$f":"COUNTIF($S$1:S1146,Q1146+R1146)","v":0},"040503",0.01,""]
["",null,null,null,null,null,null,null,null,null,null,"متر طول",null,null,"واحـد :",{"$f":"COUNTIF($S$1:S1147,Q1147+R1147)","v":0},"040503",0.01,""]
["",null,null,null,null,null,"ضريب",null,"بهاي واحد","مقـدار","واحــد","نيروي انساني ",null,null,"رديف",{"$f":"COUNTIF($S$1:S1148,Q1148+R1148)","v":0},"040503",1E-8,""]
[40503.000000009997,null,0.392482,1,41935.916736000006,null,1.262,null,106848,0.311,"نفر ساعت","جوشکار درجه یک",13010401,null,1,{"$f":"COUNTIF($S$1:S1149,Q1149+R1149)","v":1},"040503",1E-8,40503.000000009997]
["",null,null,null,null,null,"ضريب",null,"بهاي واحد","مقـدار","واحــد","ماشين آلات ",null,null,"رديف",{"$f":"COUNTIF($S$1:S1150,Q1150+R1150)","v":0},"040503",9.9999999999999995E-7,""]
[40503.000001,null,2.6812799999999999E-3,1,147864.04407936,null,0.91200000000000003,null,55146812,2.9399999999999999E-3,"عدد","سر مته پیشرو (PILOT BIT)",25050311,null,1,{"$f":"COUNTIF($S$1:S1151,Q1151+R1151)","v":1},"040503",9.9999999999999995E-7,40503.000001]
["",null,null,null,null,null,"ضريب",null,"بهاي واحد","مقـدار","واحــد","مصالح",null,null,"رديف",{"$f":"COUNTIF($S$1:S1152,Q1152+R1152)","v":0},"040503",1E-4,""]
[40503.000099999997,null,7.5395690000000002,1,215835.241763,null,0.85970000000000002,null,28627,8.77,"كیلوگرم","لوله فولادی سیاه درزداربه قطرنامی3 اینچ",32010108,null,1,{"$f":"COUNTIF($S$1:S1153,Q1153+R1153)","v":1},"040503",1E-4,40503.000099999997]
["",null,null,null,null,null,"ضريب",null,"بهاي واحد","مقـدار","واحــد"," حمل مصالح ",null,null,"رديف",{"$f":"COUNTIF($S$1:S1154,Q1154+R1154)","v":0},"040503",0.01,""]
[40503.01,null,8.77,1,1438.28,null,1,null,164,8.77,"كیلوگرم","حمل مصالح فلزی مورد مصرف در سازه",41110101,null,1,{"$f":"COUNTIF($S$1:S1155,Q1155+R1155)","v":1},"040503",0.01,40503.01]
["",null,null,null,null,null,null,null,null,null,null,null,null,"040504",null,{"$f":"COUNTIF($S$1:S1156,Q1156+R1156)","v":0},"040504",0.01,""]
["",null,null,null,null,null,null,null,null,null,null,"عدد",null,null,"واحـد :",{"$f":"COUNTIF($S$1:S1157,Q1157+R1157)","v":0},"040504",0.01,""]
["",null,null,null,null,null,"ضريب",null,"بهاي واحد","مقـدار","واحــد","ماشين آلات ",null,null,"رديف",{"$f":"COUNTIF($S$1:S1158,Q1158+R1158)","v":0},"040504",9.9999999999999995E-7,""]
[40504.000001,null,0.91200000000000003,1,5206896.1919999998,null,0.91200000000000003,null,5709316,1,"عدد","هزینه (RING BIT, CASING SHOE, RETANER)",25050321,null,1,{"$f":"COUNTIF($S$1:S1159,Q1159+R1159)","v":1},"040504",{"$f":"IF(IF(O1159=\"رديف\",VLOOKUP(L1159,Kod,2,0),0)=0,R1158,IF(O1159=\"رديف\",VLOOKUP(L1159,Kod,2,0),0))","v":9.9999999999999995E-7},40504.000001]
["",null,null,null,null,null,null,null,null,null,null,null,null,"040505",null,{"$f":"COUNTIF($S$1:S1160,Q1160+R1160)","v":0},"040505",9.9999999999999995E-7,""]
[{"$f":"IF(M1161<>\"\",Q1161+(P1161*R1161),\"\")","v":""},null,null,null,null,null,null,null,null,null,null,"درصد",null,null,"واحـد :",{"$f":"COUNTIF($S$1:S1161,Q1161+R1161)","v":0},"040505",9.9999999999999995E-7,""]
["",null,null,null,null,null,"ضريب",null,"بهاي واحد","مقـدار","واحــد","نيروي انساني ",null,null,"رديف",{"$f":"COUNTIF($S$1:S1162,Q1162+R1162)","v":0},"040505",1E-8,""]
[40505.000000009997,null,6,1,0,null,1,null,0,6,"درصد","درصد",19020199,null,1,{"$f":"COUNTIF($S$1:S1163,Q1163+R1163)","v":1},"040505",1E-8,40505.000000009997]
["",null,null,null,null,null,null,null,null,null,null,null,null,"040601",null,{"$f":"COUNTIF($S$1:S1164,Q1164+R1164)","v":0},"040601",1E-8,""]
["",null,null,null,null,null,null,null,null,null,null,"سری (3 عدد)",null,null,"واحـد :",{"$f":"COUNTIF($S$1:S1165,Q1165+R1165)","v":0},"040601",1E-8,""]
["",null,null,null,null,null,"ضريب",null,"بهاي واحد","مقـدار","واحــد","نيروي انساني ",null,null,"رديف",{"$f":"COUNTIF($S$1:S1166,Q1166+R1166)","v":0},"040601",1E-8,""]
[40601.000000009997,null,0.79665740000000007,1,85121.249875200025,null,0.77,null,106848,1.0346200000000001,"نفر ساعت","جوشکار درجه یک",13010401,null,1,{"$f":"COUNTIF($S$1:S1167,Q1167+R1167)","v":1},"040601",1E-8,40601.000000009997]
[40601.000000020002,null,0.38500000000000001,1,46075.26,null,0.77,null,119676,0.5,"نفر ساعت","تکنسین ژئوتکنیک",14270201,null,2,{"$f":"COUNTIF($S$1:S1168,Q1168+R1168)","v":2},"040601",1E-8,40601.000000009997]
[40601.000000029999,null,0.41,1,28763.14,null,0.82,null,70154,0.5,"نفر - ساعت","کمک تکنسین ژئوتکنیک",14270104,null,3,{"$f":"COUNTIF($S$1:S1169,Q1169+R1169)","v":3},"040601",1E-8,40601.000000009997]
["",null,null,null,null,null,"ضريب",null,"بهاي واحد","مقـدار","واحــد","ماشين آلات ",null,null,"رديف",{"$f":"COUNTIF($S$1:S1170,Q1170+R1170)","v":0},"040601",9.9999999999999995E-7,""]
[40601.000001,null,0.17,1,24119.09,null,1,null,141877,0.17,"دستگاه ساعت","ماشین سواری لندرور یا مشابه با راننده",23010301,null,1,{"$f":"COUNTIF($S$1:S1171,Q1171+R1171)","v":1},"040601",9.9999999999999995E-7,40601.000001]
[40601.000002000001,null,0.64900000000000002,1,241095.712,null,1.298,null,371488,0.5,"دستگاه ساعت","جرثقيل کفي10 تن با کاميون 16 تن با راننده",24010106,null,2,{"$f":"COUNTIF($S$1:S1172,Q1172+R1172)","v":2},"040601",9.9999999999999995E-7,40601.000001]
[40601.000003000001,null,2.3849999999999998,1,62513.234999999993,null,4.7699999999999996,null,26211,0.5,"دستگاه ساعت","دریل هیلتی",28325701,null,3,{"$f":"COUNTIF($S$1:S1173,Q1173+R1173)","v":3},"040601",9.9999999999999995E-7,40601.000001]
["",null,null,null,null,null,"ضريب",null,"بهاي واحد","مقـدار","واحــد","مصالح",null,null,"رديف",{"$f":"COUNTIF($S$1:S1174,Q1174+R1174)","v":0},"040601",1E-4,""]
[40601.000099999997,null,2.3E-3,1,2460.9999999999995,null,1,null,1070000,2.3E-3,"تن","سیمان پرتلند نوع یک (سیمان معمولی) فله",31080102,null,1,{"$f":"COUNTIF($S$1:S1175,Q1175+R1175)","v":1},"040601",1E-4,40601.000099999997]
[40601.000200000002,null,3.01878,1,71110.381680000006,null,1.6771,null,23556,1.8,"كیلوگرم","ورق سياه به ضخامت بيش از 3 ميلي متر",31260102,null,2,{"$f":"COUNTIF($S$1:S1176,Q1176+R1176)","v":2},"040601",1E-4,40601.000099999997]
["",null,null,null,null,null,"ضريب",null,"بهاي واحد","مقـدار","واحــد"," حمل مصالح ",null,null,"رديف",{"$f":"COUNTIF($S$1:S1177,Q1177+R1177)","v":0},"040601",0.01,""]
[40601.01,null,2.3E-3,1,205.94429999999997,null,1,null,89541,2.3E-3,"تن","حمل سیمان فله",41060101,null,1,{"$f":"COUNTIF($S$1:S1178,Q1178+R1178)","v":1},"040601",0.01,40601.01]
[40601.019999999997,null,3.01878,1,495.07991999999996,null,1.6771,null,164,1.8,"كیلوگرم","حمل مصالح فلزی مورد مصرف در سازه",41110101,null,2,{"$f":"COUNTIF($S$1:S1179,Q1179+R1179)","v":2},{"$f":"IF(N1179>0,N1179,Q1178)","v":"040601"},0.01,{"$f":"IF(M1179<>\"\",Q1179+R1179,\"\")","v":40601.01}]
["",null,null,null,null,null,null,null,null,null,null,null,null,"040602",null,{"$f":"COUNTIF($S$1:S1180,Q1180+R1180)","v":0},"040602",0.01,""]
["",null,null,null,null,null,null,null,null,null,null,"قرائت",null,null,"واحـد :",{"$f":"COUNTIF($S$1:S1181,Q1181+R1181)","v":0},"040602",0.01,""]
["",null,null,null,null,null,"ضريب",null,"بهاي واحد","مقـدار","واحــد","نيروي انساني ",null,null,"رديف",{"$f":"COUNTIF($S$1:S1182,Q1182+R1182)","v":0},"040602",1E-8,""]
[40602.000000009997,null,0.25409999999999999,1,30409.671600000001,null,0.77,null,119676,0.33,"نفر ساعت","تکنسین ژئوتکنیک",14270201,null,1,{"$f":"COUNTIF($S$1:S1183,Q1183+R1183)","v":1},"040602",1E-8,40602.000000009997]
[40602.000000020002,null,0.27060000000000001,1,18983.672399999999,null,0.82,null,70154,0.33,"نفر - ساعت","کمک تکنسین ژئوتکنیک",14270104,null,2,{"$f":"COUNTIF($S$1:S1184,Q1184+R1184)","v":2},"040602",1E-8,40602.000000009997]
["",null,null,null,null,null,"ضريب",null,"بهاي واحد","مقـدار","واحــد","ماشين آلات ",null,null,"رديف",{"$f":"COUNTIF($S$1:S1185,Q1185+R1185)","v":0},"040602",9.9999999999999995E-7,""]
[40602.000001,null,0.25,1,35469.25,null,1,null,141877,0.25,"دستگاه ساعت","ماشین سواری لندرور یا مشابه با راننده",23010301,null,1,{"$f":"COUNTIF($S$1:S1186,Q1186+R1186)","v":1},"040602",9.9999999999999995E-7,40602.000001]
[40602.000002000001,null,0.32750000000000001,1,121662.32,null,1.31,null,371488,0.25,"دستگاه ساعت","جرثقيل کفي10 تن با کاميون 16 تن با راننده",24010106,null,2,{"$f":"COUNTIF($S$1:S1187,Q1187+R1187)","v":2},"040602",9.9999999999999995E-7,40602.000001]
["",null,null,null,null,null,null,null,null,null,null,null,null,"040603",null,{"$f":"COUNTIF($S$1:S1188,Q1188+R1188)","v":0},"040603",9.9999999999999995E-7,""]
["",null,null,null,null,null,null,null,null,null,null,"عدد",null,null,"واحـد :",{"$f":"COUNTIF($S$1:S1189,Q1189+R1189)","v":0},"040603",9.9999999999999995E-7,""]
["",null,null,null,null,null,"ضريب",null,"بهاي واحد","مقـدار","واحــد","نيروي انساني ",null,null,"رديف",{"$f":"COUNTIF($S$1:S1190,Q1190+R1190)","v":0},"040603",1E-8,""]
[40603.000000009997,null,0.79380000000000006,1,84815.9424,null,1.26,null,106848,0.63,"نفر ساعت","جوشکار درجه یک",13010401,null,1,{"$f":"COUNTIF($S$1:S1191,Q1191+R1191)","v":1},"040603",1E-8,40603.000000009997]
[40603.000000020002,null,0.1825,1,21840.87,null,0.73,null,119676,0.25,"نفر ساعت","تکنسین ژئوتکنیک",14270201,null,2,{"$f":"COUNTIF($S$1:S1192,Q1192+R1192)","v":2},"040603",1E-8,40603.000000009997]
[40603.000000029999,null,0.20499999999999999,1,14381.57,null,0.82,null,70154,0.25,"نفر - ساعت","کمک تکنسین ژئوتکنیک",14270104,null,3,{"$f":"COUNTIF($S$1:S1193,Q1193+R1193)","v":3},"040603",1E-8,40603.000000009997]
["",null,null,null,null,null,"ضريب",null,"بهاي واحد","مقـدار","واحــد","ماشين آلات ",null,null,"رديف",{"$f":"COUNTIF($S$1:S1194,Q1194+R1194)","v":0},"040603",9.9999999999999995E-7,""]
[40603.000001,null,0.1,1,14187.7,null,1,null,141877,0.1,"دستگاه ساعت","ماشین سواری لندرور یا مشابه با راننده",23010301,null,1,{"$f":"COUNTIF($S$1:S1195,Q1195+R1195)","v":1},"040603",9.9999999999999995E-7,40603.000001]
[40603.000002000001,null,0.32450000000000001,1,120547.856,null,1.298,null,371488,0.25,"دستگاه ساعت","جرثقيل کفي10 تن با کاميون 16 تن با راننده",24010106,null,2,{"$f":"COUNTIF($S$1:S1196,Q1196+R1196)","v":2},"040603",9.9999999999999995E-7,40603.000001]
[40603.000003000001,null,0.71549999999999991,1,18753.970499999999,null,4.7699999999999996,null,26211,0.15,"دستگاه ساعت","دریل هیلتی",28325701,null,3,{"$f":"COUNTIF($S$1:S1197,Q1197+R1197)","v":3},"040603",9.9999999999999995E-7,40603.000001]
["",null,null,null,null,null,"ضريب",null,"بهاي واحد","مقـدار","واحــد","مصالح",null,null,"رديف",{"$f":"COUNTIF($S$1:S1198,Q1198+R1198)","v":0},"040603",1E-4,""]
[40603.000099999997,null,2E-3,1,2140,null,1,null,1070000,2E-3,"تن","سیمان پرتلند نوع یک (سیمان معمولی) فله",31080102,null,1,{"$f":"COUNTIF($S$1:S1199,Q1199+R1199)","v":1},"040603",1E-4,40603.000099999997]
[40603.000200000002,null,3.01878,1,71110.381680000006,null,1.6771,null,23556,1.8,"كیلوگرم","ورق سياه به ضخامت بيش از 3 ميلي متر",31260102,null,2,{"$f":"COUNTIF($S$1:S1200,Q1200+R1200)","v":2},"040603",1E-4,40603.000099999997]
["",null,null,null,null,null,"ضريب",null,"بهاي واحد","مقـدار","واحــد"," حمل مصالح ",null,null,"رديف",{"$f":"COUNTIF($S$1:S1201,Q1201+R1201)","v":0},"040603",0.01,""]
[40603.01,null,2E-3,1,179.08199999999999,null,1,null,89541,2E-3,"تن","حمل سیمان فله",41060101,null,1,{"$f":"COUNTIF($S$1:S1202,Q1202+R1202)","v":1},"040603",0.01,40603.01]
[40603.019999999997,null,3.01878,1,495.07991999999996,null,1.6771,null,164,1.8,"كیلوگرم","حمل مصالح فلزی مورد مصرف در سازه",41110101,null,2,{"$f":"COUNTIF($S$1:S1203,Q1203+R1203)","v":2},"040603",0.01,40603.01]
["",null,null,null,null,null,null,null,null,null,null,null,null,"040604",null,{"$f":"COUNTIF($S$1:S1204,Q1204+R1204)","v":0},"040604",0.01,""]
["",null,null,null,null,null,null,null,null,null,null,"متر طول",null,null,"واحـد :",{"$f":"COUNTIF($S$1:S1205,Q1205+R1205)","v":0},"040604",0.01,""]
["",null,null,null,null,null,"ضريب",null,"بهاي واحد","مقـدار","واحــد","نيروي انساني ",null,null,"رديف",{"$f":"COUNTIF($S$1:S1206,Q1206+R1206)","v":0},"040604",1E-8,""]
[40604.000000009997,null,0.15600000000000003,1,8894.0280000000002,null,0.78,null,57013,0.2,"نفر- ساعت","كارگر ساده",14010102,null,1,{"$f":"COUNTIF($S$1:S1207,Q1207+R1207)","v":1},"040604",1E-8,40604.000000009997]
[40604.000000020002,null,7.8000000000000014E-2,1,5000.5020000000004,null,0.78,null,64109,0.1,"نفر ساعت","کارگر فنی ماهر",14010103,null,2,{"$f":"COUNTIF($S$1:S1208,Q1208+R1208)","v":2},"040604",1E-8,40604.000000009997]
[40604.000000029999,null,0.1,1,10425.4,null,1,null,104254,0.1,"نفر ساعت","تزریقکار",14150112,null,3,{"$f":"COUNTIF($S$1:S1209,Q1209+R1209)","v":3},"040604",1E-8,40604.000000009997]
[40604.000000040003,null,0.12,1,19146.36,null,1.2,null,159553,0.1,"نفر ساعت","تکنسین متخصص تونل",14240101,null,4,{"$f":"COUNTIF($S$1:S1210,Q1210+R1210)","v":4},"040604",1E-8,40604.000000009997]
[40604.00000005,null,0.16000000000000003,1,30372.799999999999,null,0.8,null,189830,0.2,"نفر ساعت","کارشناس ژئوتکنیک",14270101,null,5,{"$f":"COUNTIF($S$1:S1211,Q1211+R1211)","v":5},"040604",1E-8,40604.000000009997]
[40604.000000059998,null,3.3880000000000003,1,405462.28800000006,null,0.77,null,119676,4.4000000000000004,"نفر ساعت","تکنسین ژئوتکنیک",14270201,null,6,{"$f":"COUNTIF($S$1:S1212,Q1212+R1212)","v":6},"040604",1E-8,40604.000000009997]
[40604.000000070002,null,3.6080000000000001,1,253115.63200000004,null,0.82,null,70154,4.4000000000000004,"نفر - ساعت","کمک تکنسین ژئوتکنیک",14270104,null,7,{"$f":"COUNTIF($S$1:S1213,Q1213+R1213)","v":7},"040604",1E-8,40604.000000009997]
["",null,null,null,null,null,"ضريب",null,"بهاي واحد","مقـدار","واحــد","ماشين آلات ",null,null,"رديف",{"$f":"COUNTIF($S$1:S1214,Q1214+R1214)","v":0},"040604",9.9999999999999995E-7,""]
[40604.000001,null,8.2991999999999996E-2,1,35202.218688000001,null,0.91200000000000003,null,424164,9.0999999999999998E-2,"دستگاه ساعت","پمپ تزریق سیمان به قدرت10 اسب بخار",22020703,null,1,{"$f":"COUNTIF($S$1:S1215,Q1215+R1215)","v":1},"040604",9.9999999999999995E-7,40604.000001]
[40604.000002000001,null,1.5,1,212815.5,null,1,null,141877,1.5,"دستگاه ساعت","ماشین سواری لندرور یا مشابه با راننده",23010301,null,2,{"$f":"COUNTIF($S$1:S1216,Q1216+R1216)","v":2},"040604",9.9999999999999995E-7,40604.000001]
[40604.000003000001,null,0.255,1,123610.73999999998,null,2.5499999999999998,null,484748,0.1,"دستگاه-ساعت","لودر چرخ لاستيکي به قدرت حدود200  اسب بخار باراننده",25010803,null,3,{"$f":"COUNTIF($S$1:S1217,Q1217+R1217)","v":3},"040604",9.9999999999999995E-7,40604.000001]
[40604.000004000001,null,0.84700000000000009,1,246287.27200000003,null,0.77,null,290776,1.1000000000000001,"دستگاه ساعت","ماشین حفاری و پمپ  آب با متعلقات برای حفاری تا 25 متر",28311301,null,4,{"$f":"COUNTIF($S$1:S1218,Q1218+R1218)","v":4},"040604",9.9999999999999995E-7,40604.000001]
[40604.000005000002,null,0.45600000000000002,1,306733.87199999997,null,0.91200000000000003,null,672662,0.5,"متر طول","شیلنگ آب فشار قوی سه چهارم اینچ",28320604,null,5,{"$f":"COUNTIF($S$1:S1219,Q1219+R1219)","v":5},"040604",9.9999999999999995E-7,40604.000001]
[40604.000006000002,null,8.4000000000000005E-2,1,209180.41199999998,null,0.84,null,2490243,0.1,"گمانه","استقرار دستگاه حفاری برای هر گمانه",29690602,null,6,{"$f":"COUNTIF($S$1:S1220,Q1220+R1220)","v":6},"040604",9.9999999999999995E-7,40604.000001]
["",null,null,null,null,null,"ضريب",null,"بهاي واحد","مقـدار","واحــد","مصالح",null,null,"رديف",{"$f":"COUNTIF($S$1:S1221,Q1221+R1221)","v":0},"040604",1E-4,""]
[40604.000099999997,null,0.01,1,10700,null,1,null,1070000,0.01,"تن","سیمان پرتلند نوع یک (سیمان معمولی) فله",31080102,null,1,{"$f":"COUNTIF($S$1:S1222,Q1222+R1222)","v":1},"040604",1E-4,40604.000099999997]
[40604.000200000002,null,0.47499999999999998,1,24656.775000000001,null,1,null,51909,0.47499999999999998,"کیلو گرم","شیلنگ تراز کولری نوع 6",31705001,null,2,{"$f":"COUNTIF($S$1:S1223,Q1223+R1223)","v":2},"040604",{"$f":"IF(IF(O1223=\"رديف\",VLOOKUP(L1223,Kod,2,0),0)=0,R1222,IF(O1223=\"رديف\",VLOOKUP(L1223,Kod,2,0),0))","v":1E-4},40604.000099999997]
[40604.0003,null,0.55000000000000004,1,28549.950000000004,null,1,null,51909,0.55000000000000004,"کیلو گرم","شیلنگ تراز کولری نوع 10",31705002,null,3,{"$f":"COUNTIF($S$1:S1224,Q1224+R1224)","v":3},"040604",1E-4,40604.000099999997]
[{"$f":"IF(M1225<>\"\",Q1225+(P1225*R1225),\"\")","v":40604.000399999997},null,0.15,1,360000,null,1,null,2400000,0.15,"عدد","مسدودکننده پکر مکانیکی  به قطر 76  میلیمتر",34050301,null,4,{"$f":"COUNTIF($S$1:S1225,Q1225+R1225)","v":4},"040604",1E-4,40604.000099999997]
["",null,null,null,null,null,"ضريب",null,"بهاي واحد","مقـدار","واحــد"," حمل مصالح ",null,null,"رديف",{"$f":"COUNTIF($S$1:S1226,Q1226+R1226)","v":0},"040604",0.01,""]
[40604.01,null,0.01,1,895.41,null,1,null,89541,0.01,"تن","حمل سیمان فله",41060101,null,1,{"$f":"COUNTIF($S$1:S1227,Q1227+R1227)","v":1},"040604",0.01,40604.01]
["",null,null,null,null,null,null,null,null,null,null,null,null,"040605",null,{"$f":"COUNTIF($S$1:S1228,Q1228+R1228)","v":0},"040605",0.01,""]
["",null,null,null,null,null,null,null,null,null,null,"متر طول",null,null,"واحـد :",{"$f":"COUNTIF($S$1:S1229,Q1229+R1229)","v":0},"040605",0.01,""]
["",null,null,null,null,null,"ضريب",null,"بهاي واحد","مقـدار","واحــد","نيروي انساني ",null,null,"رديف",{"$f":"COUNTIF($S$1:S1230,Q1230+R1230)","v":0},"040605",1E-8,""]
[40605.000000009997,null,0.15600000000000003,1,8894.0280000000002,null,0.78,null,57013,0.2,"نفر- ساعت","كارگر ساده",14010102,null,1,{"$f":"COUNTIF($S$1:S1231,Q1231+R1231)","v":1},"040605",1E-8,40605.000000009997]
[40605.000000020002,null,0.18100000000000002,1,11603.728999999999,null,1.81,null,64109,0.1,"نفر ساعت","کارگر فنی ماهر",14010103,null,2,{"$f":"COUNTIF($S$1:S1232,Q1232+R1232)","v":2},"040605",1E-8,40605.000000009997]
[40605.000000029999,null,0.1,1,10425.4,null,1,null,104254,0.1,"نفر ساعت","تزریقکار",14150112,null,3,{"$f":"COUNTIF($S$1:S1233,Q1233+R1233)","v":3},"040605",1E-8,40605.000000009997]
[40605.000000040003,null,8.0000000000000016E-2,1,15186.4,null,0.8,null,189830,0.1,"نفر ساعت","کارشناس ژئوتکنیک",14270101,null,4,{"$f":"COUNTIF($S$1:S1234,Q1234+R1234)","v":4},"040605",1E-8,40605.000000009997]
["",null,null,null,null,null,"ضريب",null,"بهاي واحد","مقـدار","واحــد","ماشين آلات ",null,null,"رديف",{"$f":"COUNTIF($S$1:S1235,Q1235+R1235)","v":0},"040605",9.9999999999999995E-7,""]
[40605.000001,null,9.1200000000000003E-2,1,38683.756800000003,null,0.91200000000000003,null,424164,0.1,"دستگاه ساعت","پمپ تزریق سیمان به قدرت10 اسب بخار",22020703,null,1,{"$f":"COUNTIF($S$1:S1236,Q1236+R1236)","v":1},"040605",9.9999999999999995E-7,40605.000001]
[40605.000002000001,null,0.4,1,56750.8,null,1,null,141877,0.4,"دستگاه ساعت","ماشین سواری لندرور یا مشابه با راننده",23010301,null,2,{"$f":"COUNTIF($S$1:S1237,Q1237+R1237)","v":2},"040605",9.9999999999999995E-7,40605.000001]
[40605.000003000001,null,0.255,1,123610.73999999998,null,2.5499999999999998,null,484748,0.1,"دستگاه-ساعت","لودر چرخ لاستيکي به قدرت حدود200  اسب بخار باراننده",25010803,null,3,{"$f":"COUNTIF($S$1:S1238,Q1238+R1238)","v":3},"040605",9.9999999999999995E-7,40605.000001]
[40605.000004000001,null,0.77,1,223897.52,null,0.77,null,290776,1,"دستگاه ساعت","ماشین حفاری و پمپ  آب با متعلقات برای حفاری تا 25 متر",28311301,null,4,{"$f":"COUNTIF($S$1:S1239,Q1239+R1239)","v":4},"040605",9.9999999999999995E-7,40605.000001]
["",null,null,null,null,null,"ضريب",null,"بهاي واحد","مقـدار","واحــد","مصالح",null,null,"رديف",{"$f":"COUNTIF($S$1:S1240,Q1240+R1240)","v":0},"040605",1E-4,""]
[40605.000099999997,null,0.01,1,10700,null,1,null,1070000,0.01,"تن","سیمان پرتلند نوع یک (سیمان معمولی) فله",31080102,null,1,{"$f":"COUNTIF($S$1:S1241,Q1241+R1241)","v":1},"040605",1E-4,40605.000099999997]
[40605.000200000002,null,0.47499999999999998,1,24656.775000000001,null,1,null,51909,0.47499999999999998,"کیلو گرم","شیلنگ تراز کولری نوع 6",31705001,null,2,{"$f":"COUNTIF($S$1:S1242,Q1242+R1242)","v":2},"040605",1E-4,40605.000099999997]
[40605.0003,null,0.495,1,25694.955000000002,null,1,null,51909,0.495,"کیلو گرم","شیلنگ تراز کولری نوع 10",31705002,null,3,{"$f":"COUNTIF($S$1:S1243,Q1243+R1243)","v":3},{"$f":"IF(N1243>0,N1243,Q1242)","v":"040605"},1E-4,{"$f":"IF(M1243<>\"\",Q1243+R1243,\"\")","v":40605.000099999997}]
["",null,null,null,null,null,"ضريب",null,"بهاي واحد","مقـدار","واحــد"," حمل مصالح ",null,null,"رديف",{"$f":"COUNTIF($S$1:S1244,Q1244+R1244)","v":0},"040605",0.01,""]
[40605.01,null,0.01,1,895.41,null,1,null,89541,0.01,"تن","حمل سیمان فله",41060101,null,1,{"$f":"COUNTIF($S$1:S1245,Q1245+R1245)","v":1},"040605",0.01,40605.01]
["",null,null,null,null,null,null,null,null,null,null,null,null,"040701",null,{"$f":"COUNTIF($S$1:S1246,Q1246+R1246)","v":0},"040701",0.01,""]
["",null,null,null,null,null,null,null,null,null,null,"متر طول",null,null,"واحـد :",{"$f":"COUNTIF($S$1:S1247,Q1247+R1247)","v":0},"040701",0.01,""]
["",null,null,null,null,null,"ضريب",null,"بهاي واحد","مقـدار","واحــد","نيروي انساني ",null,null,"رديف",{"$f":"COUNTIF($S$1:S1248,Q1248+R1248)","v":0},"040701",1E-8,""]
[40701.000000009997,null,9.2399999999999996E-2,1,14742.697200000001,null,1.2,null,159553,7.6999999999999999E-2,"نفر ساعت","تکنسین متخصص تونل",14240101,null,1,{"$f":"COUNTIF($S$1:S1249,Q1249+R1249)","v":1},"040701",1E-8,40701.000000009997]
[40701.000000020002,null,3.168E-2,1,6949.4515199999987,null,0.48,null,219364,6.6000000000000003E-2,"نفر ساعت","تکنسین برق",18090301,null,2,{"$f":"COUNTIF($S$1:S1250,Q1250+R1250)","v":2},"040701",1E-8,40701.000000009997]
["",null,null,null,null,null,"ضريب",null,"بهاي واحد","مقـدار","واحــد","ماشين آلات ",null,null,"رديف",{"$f":"COUNTIF($S$1:S1251,Q1251+R1251)","v":0},"040701",9.9999999999999995E-7,""]
[40701.000001,null,7.6999999999999999E-2,1,10924.528999999999,null,1,null,141877,7.6999999999999999E-2,"دستگاه ساعت","ماشین سواری لندرور یا مشابه با راننده",23010301,null,1,{"$f":"COUNTIF($S$1:S1252,Q1252+R1252)","v":1},"040701",9.9999999999999995E-7,40701.000001]
[40701.000002000001,null,4.4999999999999998E-2,1,12609.405000000001,null,2,null,280209,2.2499999999999999E-2,"دستگاه-ساعت","تانکراب پاش به ظرفیت حدود 15000 لیتر باراننده",23020503,null,2,{"$f":"COUNTIF($S$1:S1253,Q1253+R1253)","v":2},"040701",9.9999999999999995E-7,40701.000001]
[40701.000003000001,null,7.0223999999999995E-2,1,135018.98256,null,0.91200000000000003,null,1922690,7.6999999999999999E-2,"دستگاه ساعت","جامبو دریل Paramatic تک بوم TAMROCK با اپراتور، راد و سر مته",25050303,null,3,{"$f":"COUNTIF($S$1:S1254,Q1254+R1254)","v":3},"040701",9.9999999999999995E-7,40701.000001]
[40701.000004000001,null,6.6220000000000001E-2,1,60577.261359999997,null,0.86,null,914788,7.6999999999999999E-2,"دستگاه ساعت","ژنراتور 350KAVA",26030121,null,4,{"$f":"COUNTIF($S$1:S1255,Q1255+R1255)","v":4},"040701",9.9999999999999995E-7,40701.000001]
["",null,null,null,null,null,null,null,null,null,null,null,null,"050101",null,{"$f":"COUNTIF($S$1:S1256,Q1256+R1256)","v":0},"050101",9.9999999999999995E-7,""]
["",null,null,null,null,null,null,null,null,null,null,"متر طول",null,null,"واحـد :",{"$f":"COUNTIF($S$1:S1257,Q1257+R1257)","v":0},"050101",9.9999999999999995E-7,""]
["",null,null,null,null,null,"ضريب",null,"بهاي واحد","مقـدار","واحــد","نيروي انساني ",null,null,"رديف",{"$f":"COUNTIF($S$1:S1258,Q1258+R1258)","v":0},"050101",1E-8,""]
[50101.000000009997,null,0.15,1,13297.65,null,1,null,88651,0.15,"نفر ساعت","جوشکار درجه دو",13010402,null,1,{"$f":"COUNTIF($S$1:S1259,Q1259+R1259)","v":1},"050101",1E-8,50101.000000009997]
[50101.000000020002,null,0.65,1,37058.449999999997,null,1,null,57013,0.65,"نفر- ساعت","كارگر ساده",14010102,null,2,{"$f":"COUNTIF($S$1:S1260,Q1260+R1260)","v":2},"050101",1E-8,50101.000000009997]
[50101.000000029999,null,0.1,1,16863.099999999999,null,1,null,168631,0.1,"نفر- ساعت","تکنیسین عملیات حفاری و شمعکوبی",14250101,null,3,{"$f":"COUNTIF($S$1:S1261,Q1261+R1261)","v":3},"050101",1E-8,50101.000000009997]
[50101.000000040003,null,0.25,1,33241.25,null,1,null,132965,0.25,"نفر ساعت","حفار درجه یک شمع های درجا",14250201,null,4,{"$f":"COUNTIF($S$1:S1262,Q1262+R1262)","v":4},"050101",1E-8,50101.000000009997]
[50101.00000005,null,0.25,1,18890.5,null,1,null,75562,0.25,"نفر ساعت","کمک حفار شمع های درجا",14250203,null,5,{"$f":"COUNTIF($S$1:S1263,Q1263+R1263)","v":5},"050101",1E-8,50101.000000009997]
[50101.000000059998,null,0.25,1,16543,null,1,null,66172,0.25,"نفر ساعت","کارگر حفاری",14250204,null,6,{"$f":"COUNTIF($S$1:S1264,Q1264+R1264)","v":6},"050101",1E-8,50101.000000009997]
["",null,null,null,null,null,"ضريب",null,"بهاي واحد","مقـدار","واحــد","ماشين آلات ",null,null,"رديف",{"$f":"COUNTIF($S$1:S1265,Q1265+R1265)","v":0},"050101",9.9999999999999995E-7,""]
[50101.000001,null,0.15,1,54534.3,null,1,null,363562,0.15,"دستگاه-ساعت","لودرچرخ لاستيکي به قدرت حدود150  اسب بخار باراننده",25010802,null,1,{"$f":"COUNTIF($S$1:S1266,Q1266+R1266)","v":1},"050101",9.9999999999999995E-7,50101.000001]
[50101.000002000001,null,0.25,1,852255,null,1,null,3409020,0.25,"دستگاه ساعت","دستگاه حفاري شمع هاي درجا",25020301,null,2,{"$f":"COUNTIF($S$1:S1267,Q1267+R1267)","v":2},"050101",9.9999999999999995E-7,50101.000001]
[50101.000003000001,null,0.15,1,5321.7,null,1,null,35478,0.15,"دستگاه ساعت","موتور جوش150 تا250 آمپر",26020502,null,3,{"$f":"COUNTIF($S$1:S1268,Q1268+R1268)","v":3},"050101",9.9999999999999995E-7,50101.000001]
["",null,null,null,null,null,null,null,null,null,null,null,null,"050102",null,{"$f":"COUNTIF($S$1:S1269,Q1269+R1269)","v":0},"050102",9.9999999999999995E-7,""]
["",null,null,null,null,null,null,null,null,null,null,"متر طول",null,null,"واحـد :",{"$f":"COUNTIF($S$1:S1270,Q1270+R1270)","v":0},"050102",9.9999999999999995E-7,""]
["",null,null,null,null,null,"ضريب",null,"بهاي واحد","مقـدار","واحــد","نيروي انساني ",null,null,"رديف",{"$f":"COUNTIF($S$1:S1271,Q1271+R1271)","v":0},"050102",1E-8,""]
[50102.000000009997,null,0.16500000000000001,1,14627.415000000001,null,1,null,88651,0.16500000000000001,"نفر ساعت","جوشکار درجه دو",13010402,null,1,{"$f":"COUNTIF($S$1:S1272,Q1272+R1272)","v":1},"050102",1E-8,50102.000000009997]
[50102.000000020002,null,0.74,1,42189.62,null,1,null,57013,0.74,"نفر- ساعت","كارگر ساده",14010102,null,2,{"$f":"COUNTIF($S$1:S1273,Q1273+R1273)","v":2},"050102",1E-8,50102.000000009997]
[50102.000000029999,null,0.1075,1,18127.8325,null,1,null,168631,0.1075,"نفر- ساعت","تکنیسین عملیات حفاری و شمعکوبی",14250101,null,3,{"$f":"COUNTIF($S$1:S1274,Q1274+R1274)","v":3},"050102",1E-8,50102.000000009997]
[50102.000000040003,null,0.28000000000000003,1,37230.200000000004,null,1,null,132965,0.28000000000000003,"نفر ساعت","حفار درجه یک شمع های درجا",14250201,null,4,{"$f":"COUNTIF($S$1:S1275,Q1275+R1275)","v":4},"050102",1E-8,50102.000000009997]
[50102.00000005,null,0.28000000000000003,1,21157.360000000004,null,1,null,75562,0.28000000000000003,"نفر ساعت","کمک حفار شمع های درجا",14250203,null,5,{"$f":"COUNTIF($S$1:S1276,Q1276+R1276)","v":5},"050102",1E-8,50102.000000009997]
[50102.000000059998,null,0.28000000000000003,1,18528.160000000003,null,1,null,66172,0.28000000000000003,"نفر ساعت","کارگر حفاری",14250204,null,6,{"$f":"COUNTIF($S$1:S1277,Q1277+R1277)","v":6},"050102",1E-8,50102.000000009997]
["",null,null,null,null,null,"ضريب",null,"بهاي واحد","مقـدار","واحــد","ماشين آلات ",null,null,"رديف",{"$f":"COUNTIF($S$1:S1278,Q1278+R1278)","v":0},"050102",9.9999999999999995E-7,""]
[50102.000001,null,0.16500000000000001,1,59987.73,null,1,null,363562,0.16500000000000001,"دستگاه-ساعت","لودرچرخ لاستيکي به قدرت حدود150  اسب بخار باراننده",25010802,null,1,{"$f":"COUNTIF($S$1:S1279,Q1279+R1279)","v":1},"050102",9.9999999999999995E-7,50102.000001]
[50102.000002000001,null,0.28000000000000003,1,954525.60000000009,null,1,null,3409020,0.28000000000000003,"دستگاه ساعت","دستگاه حفاري شمع هاي درجا",25020301,null,2,{"$f":"COUNTIF($S$1:S1280,Q1280+R1280)","v":2},"050102",9.9999999999999995E-7,50102.000001]
[50102.000003000001,null,0.16500000000000001,1,5853.87,null,1,null,35478,0.16500000000000001,"دستگاه ساعت","موتور جوش150 تا250 آمپر",26020502,null,3,{"$f":"COUNTIF($S$1:S1281,Q1281+R1281)","v":3},"050102",9.9999999999999995E-7,50102.000001]
["",null,null,null,null,null,null,null,null,null,null,null,null,"050103",null,{"$f":"COUNTIF($S$1:S1282,Q1282+R1282)","v":0},"050103",9.9999999999999995E-7,""]
["",null,null,null,null,null,null,null,null,null,null,"متر طول",null,null,"واحـد :",{"$f":"COUNTIF($S$1:S1283,Q1283+R1283)","v":0},"050103",9.9999999999999995E-7,""]
["",null,null,null,null,null,"ضريب",null,"بهاي واحد","مقـدار","واحــد","نيروي انساني ",null,null,"رديف",{"$f":"COUNTIF($S$1:S1284,Q1284+R1284)","v":0},"050103",1E-8,""]
[50103.000000009997,null,0.19500000000000001,1,17286.945,null,1,null,88651,0.19500000000000001,"نفر ساعت","جوشکار درجه دو",13010402,null,1,{"$f":"COUNTIF($S$1:S1285,Q1285+R1285)","v":1},"050103",1E-8,50103.000000009997]
[50103.000000020002,null,0.92,1,52451.96,null,1,null,57013,0.92,"نفر- ساعت","كارگر ساده",14010102,null,2,{"$f":"COUNTIF($S$1:S1286,Q1286+R1286)","v":2},"050103",1E-8,50103.000000009997]
[50103.000000029999,null,0.1225,1,20657.297500000001,null,1,null,168631,0.1225,"نفر- ساعت","تکنیسین عملیات حفاری و شمعکوبی",14250101,null,3,{"$f":"COUNTIF($S$1:S1287,Q1287+R1287)","v":3},"050103",{"$f":"IF(IF(O1287=\"رديف\",VLOOKUP(L1287,Kod,2,0),0)=0,R1286,IF(O1287=\"رديف\",VLOOKUP(L1287,Kod,2,0),0))","v":1E-8},50103.000000009997]
[50103.000000040003,null,0.34,1,45208.1,null,1,null,132965,0.34,"نفر ساعت","حفار درجه یک شمع های درجا",14250201,null,4,{"$f":"COUNTIF($S$1:S1288,Q1288+R1288)","v":4},"050103",1E-8,50103.000000009997]
[{"$f":"IF(M1289<>\"\",Q1289+(P1289*R1289),\"\")","v":50103.00000005},null,0.34,1,25691.08,null,1,null,75562,0.34,"نفر ساعت","کمک حفار شمع های درجا",14250203,null,5,{"$f":"COUNTIF($S$1:S1289,Q1289+R1289)","v":5},"050103",1E-8,50103.000000009997]
[50103.000000059998,null,0.34,1,22498.48,null,1,null,66172,0.34,"نفر ساعت","کارگر حفاری",14250204,null,6,{"$f":"COUNTIF($S$1:S1290,Q1290+R1290)","v":6},"050103",1E-8,50103.000000009997]
["",null,null,null,null,null,"ضريب",null,"بهاي واحد","مقـدار","واحــد","ماشين آلات ",null,null,"رديف",{"$f":"COUNTIF($S$1:S1291,Q1291+R1291)","v":0},"050103",9.9999999999999995E-7,""]
[50103.000001,null,8.6249999999999993E-2,1,31357.2225,null,1,null,363562,8.6249999999999993E-2,"دستگاه-ساعت","لودرچرخ لاستيکي به قدرت حدود150  اسب بخار باراننده",25010802,null,1,{"$f":"COUNTIF($S$1:S1292,Q1292+R1292)","v":1},"050103",9.9999999999999995E-7,50103.000001]
[50103.000002000001,null,0.34,1,1159066.8,null,1,null,3409020,0.34,"دستگاه ساعت","دستگاه حفاري شمع هاي درجا",25020301,null,2,{"$f":"COUNTIF($S$1:S1293,Q1293+R1293)","v":2},"050103",9.9999999999999995E-7,50103.000001]
[50103.000003000001,null,0.19500000000000001,1,6918.21,null,1,null,35478,0.19500000000000001,"دستگاه ساعت","موتور جوش150 تا250 آمپر",26020502,null,3,{"$f":"COUNTIF($S$1:S1294,Q1294+R1294)","v":3},"050103",9.9999999999999995E-7,50103.000001]
["",null,null,null,null,null,null,null,null,null,null,null,null,"050104",null,{"$f":"COUNTIF($S$1:S1295,Q1295+R1295)","v":0},"050104",9.9999999999999995E-7,""]
["",null,null,null,null,null,null,null,null,null,null,"متر طول",null,null,"واحـد :",{"$f":"COUNTIF($S$1:S1296,Q1296+R1296)","v":0},"050104",9.9999999999999995E-7,""]
["",null,null,null,null,null,"ضريب",null,"بهاي واحد","مقـدار","واحــد","نيروي انساني ",null,null,"رديف",{"$f":"COUNTIF($S$1:S1297,Q1297+R1297)","v":0},"050104",1E-8,""]
[50104.000000009997,null,0.21715000000000001,1,19250.56465,null,1.01,null,88651,0.215,"نفر ساعت","جوشکار درجه دو",13010402,null,1,{"$f":"COUNTIF($S$1:S1298,Q1298+R1298)","v":1},"050104",1E-8,50104.000000009997]
[50104.000000020002,null,1.0504,1,59886.455199999997,null,1.01,null,57013,1.04,"نفر- ساعت","كارگر ساده",14010102,null,2,{"$f":"COUNTIF($S$1:S1299,Q1299+R1299)","v":2},"050104",1E-8,50104.000000009997]
[50104.000000029999,null,0.133825,1,22567.043575,null,1.01,null,168631,0.13250000000000001,"نفر- ساعت","تکنیسین عملیات حفاری و شمعکوبی",14250101,null,3,{"$f":"COUNTIF($S$1:S1300,Q1300+R1300)","v":3},"050104",1E-8,50104.000000009997]
[50104.000000040003,null,0.38380000000000003,1,51031.967000000004,null,1.01,null,132965,0.38,"نفر ساعت","حفار درجه یک شمع های درجا",14250201,null,4,{"$f":"COUNTIF($S$1:S1301,Q1301+R1301)","v":4},"050104",1E-8,50104.000000009997]
[50104.00000005,null,0.38380000000000003,1,29000.695599999999,null,1.01,null,75562,0.38,"نفر ساعت","کمک حفار شمع های درجا",14250203,null,5,{"$f":"COUNTIF($S$1:S1302,Q1302+R1302)","v":5},"050104",1E-8,50104.000000009997]
[50104.000000059998,null,0.38380000000000003,1,25396.813599999998,null,1.01,null,66172,0.38,"نفر ساعت","کارگر حفاری",14250204,null,6,{"$f":"COUNTIF($S$1:S1303,Q1303+R1303)","v":6},"050104",1E-8,50104.000000009997]
["",null,null,null,null,null,"ضريب",null,"بهاي واحد","مقـدار","واحــد","ماشين آلات ",null,null,"رديف",{"$f":"COUNTIF($S$1:S1304,Q1304+R1304)","v":0},"050104",9.9999999999999995E-7,""]
[50104.000001,null,9.2162499999999994E-2,1,33506.782825000002,null,1.01,null,363562,9.1249999999999998E-2,"دستگاه-ساعت","لودرچرخ لاستيکي به قدرت حدود150  اسب بخار باراننده",25010802,null,1,{"$f":"COUNTIF($S$1:S1305,Q1305+R1305)","v":1},"050104",9.9999999999999995E-7,50104.000001]
[50104.000002000001,null,0.38380000000000003,1,1308381.8759999999,null,1.01,null,3409020,0.38,"دستگاه ساعت","دستگاه حفاري شمع هاي درجا",25020301,null,2,{"$f":"COUNTIF($S$1:S1306,Q1306+R1306)","v":2},"050104",9.9999999999999995E-7,50104.000001]
[50104.000003000001,null,0.21715000000000001,1,7704.0477000000001,null,1.01,null,35478,0.215,"دستگاه ساعت","موتور جوش150 تا250 آمپر",26020502,null,3,{"$f":"COUNTIF($S$1:S1307,Q1307+R1307)","v":3},{"$f":"IF(N1307>0,N1307,Q1306)","v":"050104"},9.9999999999999995E-7,{"$f":"IF(M1307<>\"\",Q1307+R1307,\"\")","v":50104.000001}]
["",null,null,null,null,null,null,null,null,null,null,null,null,"050105",null,{"$f":"COUNTIF($S$1:S1308,Q1308+R1308)","v":0},"050105",9.9999999999999995E-7,""]
["",null,null,null,null,null,null,null,null,null,null,"متر طول",null,null,"واحـد :",{"$f":"COUNTIF($S$1:S1309,Q1309+R1309)","v":0},"050105",9.9999999999999995E-7,""]
["",null,null,null,null,null,"ضريب",null,"بهاي واحد","مقـدار","واحــد","نيروي انساني ",null,null,"رديف",{"$f":"COUNTIF($S$1:S1310,Q1310+R1310)","v":0},"050105",1E-8,""]
[50105.000000009997,null,0.25,1,22162.75,null,1,null,88651,0.25,"نفر ساعت","جوشکار درجه دو",13010402,null,1,{"$f":"COUNTIF($S$1:S1311,Q1311+R1311)","v":1},"050105",1E-8,50105.000000009997]
[50105.000000020002,null,1.7,1,96922.1,null,1,null,57013,1.7,"نفر- ساعت","كارگر ساده",14010102,null,2,{"$f":"COUNTIF($S$1:S1312,Q1312+R1312)","v":2},"050105",1E-8,50105.000000009997]
[50105.000000029999,null,0.15,1,25294.65,null,1,null,168631,0.15,"نفر- ساعت","تکنیسین عملیات حفاری و شمعکوبی",14250101,null,3,{"$f":"COUNTIF($S$1:S1313,Q1313+R1313)","v":3},"050105",1E-8,50105.000000009997]
[50105.000000040003,null,0.45,1,59834.25,null,1,null,132965,0.45,"نفر ساعت","حفار درجه یک شمع های درجا",14250201,null,4,{"$f":"COUNTIF($S$1:S1314,Q1314+R1314)","v":4},"050105",1E-8,50105.000000009997]
[50105.00000005,null,0.45,1,34002.9,null,1,null,75562,0.45,"نفر ساعت","کمک حفار شمع های درجا",14250203,null,5,{"$f":"COUNTIF($S$1:S1315,Q1315+R1315)","v":5},"050105",1E-8,50105.000000009997]
[50105.000000059998,null,0.45,1,29777.4,null,1,null,66172,0.45,"نفر ساعت","کارگر حفاری",14250204,null,6,{"$f":"COUNTIF($S$1:S1316,Q1316+R1316)","v":6},"050105",1E-8,50105.000000009997]
["",null,null,null,null,null,"ضريب",null,"بهاي واحد","مقـدار","واحــد","ماشين آلات ",null,null,"رديف",{"$f":"COUNTIF($S$1:S1317,Q1317+R1317)","v":0},"050105",9.9999999999999995E-7,""]
[50105.000001,null,0.1,1,36356.199999999997,null,1,null,363562,0.1,"دستگاه-ساعت","لودرچرخ لاستيکي به قدرت حدود150  اسب بخار باراننده",25010802,null,1,{"$f":"COUNTIF($S$1:S1318,Q1318+R1318)","v":1},"050105",9.9999999999999995E-7,50105.000001]
[50105.000002000001,null,0.45,1,1534059,null,1,null,3409020,0.45,"دستگاه ساعت","دستگاه حفاري شمع هاي درجا",25020301,null,2,{"$f":"COUNTIF($S$1:S1319,Q1319+R1319)","v":2},"050105",9.9999999999999995E-7,50105.000001]
[50105.000003000001,null,0.25,1,8869.5,null,1,null,35478,0.25,"دستگاه ساعت","موتور جوش150 تا250 آمپر",26020502,null,3,{"$f":"COUNTIF($S$1:S1320,Q1320+R1320)","v":3},"050105",9.9999999999999995E-7,50105.000001]
["",null,null,null,null,null,null,null,null,null,null,null,null,"050201",null,{"$f":"COUNTIF($S$1:S1321,Q1321+R1321)","v":0},"050201",9.9999999999999995E-7,""]
["",null,null,null,null,null,null,null,null,null,null,"متر طول",null,null,"واحـد :",{"$f":"COUNTIF($S$1:S1322,Q1322+R1322)","v":0},"050201",9.9999999999999995E-7,""]
["",null,null,null,null,null,"ضريب",null,"بهاي واحد","مقـدار","واحــد","نيروي انساني ",null,null,"رديف",{"$f":"COUNTIF($S$1:S1323,Q1323+R1323)","v":0},"050201",1E-8,""]
[50201.000000009997,null,1.4345100000000001E-2,1,1271.7074601000002,null,0.27600000000000002,null,88651,5.1975E-2,"نفر ساعت","جوشکار درجه دو",13010402,null,1,{"$f":"COUNTIF($S$1:S1324,Q1324+R1324)","v":1},"050201",1E-8,50201.000000009997]
[50201.000000020002,null,6.3300599999999999E-2,1,3608.9571078000004,null,0.27600000000000002,null,57013,0.22935,"نفر- ساعت","كارگر ساده",14010102,null,2,{"$f":"COUNTIF($S$1:S1325,Q1325+R1325)","v":2},"050201",1E-8,50201.000000009997]
[50201.000000029999,null,9.449411999999999E-3,1,1593.4637949720002,null,0.27600000000000002,null,168631,3.4236999999999997E-2,"نفر- ساعت","تکنیسین عملیات حفاری و شمعکوبی",14250101,null,3,{"$f":"COUNTIF($S$1:S1326,Q1326+R1326)","v":3},"050201",1E-8,50201.000000009997]
[50201.000000040003,null,2.4136199999999997E-2,1,3209.2698329999998,null,0.27600000000000002,null,132965,8.7449999999999986E-2,"نفر ساعت","حفار درجه یک شمع های درجا",14250201,null,4,{"$f":"COUNTIF($S$1:S1327,Q1327+R1327)","v":4},"050201",1E-8,50201.000000009997]
[50201.00000005,null,2.4136199999999997E-2,1,1823.7795443999996,null,0.27600000000000002,null,75562,8.7449999999999986E-2,"نفر ساعت","کمک حفار شمع های درجا",14250203,null,5,{"$f":"COUNTIF($S$1:S1328,Q1328+R1328)","v":5},"050201",1E-8,50201.000000009997]
[50201.000000059998,null,2.4136199999999997E-2,1,1597.1406264,null,0.27600000000000002,null,66172,8.7449999999999986E-2,"نفر ساعت","کارگر حفاری",14250204,null,6,{"$f":"COUNTIF($S$1:S1329,Q1329+R1329)","v":6},"050201",1E-8,50201.000000009997]
["",null,null,null,null,null,"ضريب",null,"بهاي واحد","مقـدار","واحــد","ماشين آلات ",null,null,"رديف",{"$f":"COUNTIF($S$1:S1330,Q1330+R1330)","v":0},"050201",9.9999999999999995E-7,""]
[50201.000001,null,1.4345100000000001E-2,1,5215.3332461999998,null,0.27600000000000002,null,363562,5.1975E-2,"دستگاه-ساعت","لودرچرخ لاستيکي به قدرت حدود150  اسب بخار باراننده",25010802,null,1,{"$f":"COUNTIF($S$1:S1331,Q1331+R1331)","v":1},"050201",9.9999999999999995E-7,50201.000001]
[50201.000002000001,null,2.4136199999999997E-2,1,82280.788523999989,null,0.27600000000000002,null,3409020,8.7449999999999986E-2,"دستگاه ساعت","دستگاه حفاري شمع هاي درجا",25020301,null,2,{"$f":"COUNTIF($S$1:S1332,Q1332+R1332)","v":2},"050201",9.9999999999999995E-7,50201.000001]
[50201.000003000001,null,1.4345100000000001E-2,1,508.93545780000005,null,0.27600000000000002,null,35478,5.1975E-2,"دستگاه ساعت","موتور جوش150 تا250 آمپر",26020502,null,3,{"$f":"COUNTIF($S$1:S1333,Q1333+R1333)","v":3},"050201",9.9999999999999995E-7,50201.000001]
["",null,null,null,null,null,null,null,null,null,null,null,null,"050202",null,{"$f":"COUNTIF($S$1:S1334,Q1334+R1334)","v":0},"050202",9.9999999999999995E-7,""]
["",null,null,null,null,null,null,null,null,null,null,"متر طول",null,null,"واحـد :",{"$f":"COUNTIF($S$1:S1335,Q1335+R1335)","v":0},"050202",9.9999999999999995E-7,""]
["",null,null,null,null,null,"ضريب",null,"بهاي واحد","مقـدار","واحــد","نيروي انساني ",null,null,"رديف",{"$f":"COUNTIF($S$1:S1336,Q1336+R1336)","v":0},"050202",1E-8,""]
[50202.000000009997,null,1.8671400000000001E-2,1,1655.2382814000005,null,0.27600000000000002,null,88651,6.7650000000000002E-2,"نفر ساعت","جوشکار درجه دو",13010402,null,1,{"$f":"COUNTIF($S$1:S1337,Q1337+R1337)","v":1},"050202",1E-8,50202.000000009997]
[50202.000000020002,null,8.9258400000000016E-2,1,5088.8891592000018,null,0.27600000000000002,null,57013,0.32340000000000002,"نفر- ساعت","كارگر ساده",14010102,null,2,{"$f":"COUNTIF($S$1:S1338,Q1338+R1338)","v":2},"050202",1E-8,50202.000000009997]
[50202.000000029999,null,1.1612700000000002E-2,1,1958.2612137000006,null,0.27600000000000002,null,168631,4.2075000000000001E-2,"نفر- ساعت","تکنیسین عملیات حفاری و شمعکوبی",14250101,null,3,{"$f":"COUNTIF($S$1:S1339,Q1339+R1339)","v":3},"050202",1E-8,50202.000000009997]
[50202.000000040003,null,3.2788800000000007E-2,1,4359.7627919999995,null,0.27600000000000002,null,132965,0.1188,"نفر ساعت","حفار درجه یک شمع های درجا",14250201,null,4,{"$f":"COUNTIF($S$1:S1340,Q1340+R1340)","v":4},"050202",1E-8,50202.000000009997]
[50202.00000005,null,3.2788800000000007E-2,1,2477.5873056,null,0.27600000000000002,null,75562,0.1188,"نفر ساعت","کمک حفار شمع های درجا",14250203,null,5,{"$f":"COUNTIF($S$1:S1341,Q1341+R1341)","v":5},"050202",1E-8,50202.000000009997]
[50202.000000059998,null,3.2788800000000007E-2,1,2169.7004736000004,null,0.27600000000000002,null,66172,0.1188,"نفر ساعت","کارگر حفاری",14250204,null,6,{"$f":"COUNTIF($S$1:S1342,Q1342+R1342)","v":6},"050202",1E-8,50202.000000009997]
["",null,null,null,null,null,"ضريب",null,"بهاي واحد","مقـدار","واحــد","ماشين آلات ",null,null,"رديف",{"$f":"COUNTIF($S$1:S1343,Q1343+R1343)","v":0},"050202",9.9999999999999995E-7,""]
[50202.000001,null,8.0833500000000013E-3,1,2938.7988926999997,null,0.27600000000000002,null,363562,2.9287500000000001E-2,"دستگاه-ساعت","لودرچرخ لاستيکي به قدرت حدود150  اسب بخار باراننده",25010802,null,1,{"$f":"COUNTIF($S$1:S1344,Q1344+R1344)","v":1},"050202",9.9999999999999995E-7,50202.000001]
[50202.000002000001,null,3.2788800000000007E-2,1,111777.67497600001,null,0.27600000000000002,null,3409020,0.1188,"دستگاه ساعت","دستگاه حفاري شمع هاي درجا",25020301,null,2,{"$f":"COUNTIF($S$1:S1345,Q1345+R1345)","v":2},"050202",9.9999999999999995E-7,50202.000001]
[50202.000003000001,null,1.8671400000000001E-2,1,662.42392920000009,null,0.27600000000000002,null,35478,6.7650000000000002E-2,"دستگاه ساعت","موتور جوش150 تا250 آمپر",26020502,null,3,{"$f":"COUNTIF($S$1:S1346,Q1346+R1346)","v":3},"050202",9.9999999999999995E-7,50202.000001]
["",null,null,null,null,null,null,null,null,null,null,null,null,"050203",null,{"$f":"COUNTIF($S$1:S1347,Q1347+R1347)","v":0},"050203",9.9999999999999995E-7,""]
["",null,null,null,null,null,null,null,null,null,null,"متر طول",null,null,"واحـد :",{"$f":"COUNTIF($S$1:S1348,Q1348+R1348)","v":0},"050203",9.9999999999999995E-7,""]
["",null,null,null,null,null,"ضريب",null,"بهاي واحد","مقـدار","واحــد","نيروي انساني ",null,null,"رديف",{"$f":"COUNTIF($S$1:S1349,Q1349+R1349)","v":0},"050203",1E-8,""]
[50203.000000009997,null,2.2770000000000002E-2,1,2018.5832699999999,null,0.27600000000000002,null,88651,8.2500000000000004E-2,"نفر ساعت","جوشکار درجه دو",13010402,null,1,{"$f":"COUNTIF($S$1:S1350,Q1350+R1350)","v":1},"050203",1E-8,50203.000000009997]
[50203.000000020002,null,0.15483600000000003,1,8827.6648680000017,null,0.27600000000000002,null,57013,0.56100000000000005,"نفر- ساعت","كارگر ساده",14010102,null,2,{"$f":"COUNTIF($S$1:S1351,Q1351+R1351)","v":2},"050203",{"$f":"IF(IF(O1351=\"رديف\",VLOOKUP(L1351,Kod,2,0),0)=0,R1350,IF(O1351=\"رديف\",VLOOKUP(L1351,Kod,2,0),0))","v":1E-8},50203.000000009997]
[50203.000000029999,null,1.3662000000000002E-2,1,2303.836722,null,0.27600000000000002,null,168631,4.9500000000000002E-2,"نفر- ساعت","تکنیسین عملیات حفاری و شمعکوبی",14250101,null,3,{"$f":"COUNTIF($S$1:S1352,Q1352+R1352)","v":3},"050203",1E-8,50203.000000009997]
[{"$f":"IF(M1353<>\"\",Q1353+(P1353*R1353),\"\")","v":50203.000000040003},null,4.0986000000000002E-2,1,5449.7034900000008,null,0.27600000000000002,null,132965,0.14849999999999999,"نفر ساعت","حفار درجه یک شمع های درجا",14250201,null,4,{"$f":"COUNTIF($S$1:S1353,Q1353+R1353)","v":4},"050203",1E-8,50203.000000009997]
[50203.00000005,null,4.0986000000000002E-2,1,3096.984132,null,0.27600000000000002,null,75562,0.14849999999999999,"نفر ساعت","کمک حفار شمع های درجا",14250203,null,5,{"$f":"COUNTIF($S$1:S1354,Q1354+R1354)","v":5},"050203",1E-8,50203.000000009997]
[50203.000000059998,null,4.0986000000000002E-2,1,2712.1255920000003,null,0.27600000000000002,null,66172,0.14849999999999999,"نفر ساعت","کارگر حفاری",14250204,null,6,{"$f":"COUNTIF($S$1:S1355,Q1355+R1355)","v":6},"050203",1E-8,50203.000000009997]
["",null,null,null,null,null,"ضريب",null,"بهاي واحد","مقـدار","واحــد","ماشين آلات ",null,null,"رديف",{"$f":"COUNTIF($S$1:S1356,Q1356+R1356)","v":0},"050203",9.9999999999999995E-7,""]
[50203.000001,null,9.1080000000000015E-3,1,3311.3226960000006,null,0.27600000000000002,null,363562,3.3000000000000002E-2,"دستگاه-ساعت","لودرچرخ لاستيکي به قدرت حدود150  اسب بخار باراننده",25010802,null,1,{"$f":"COUNTIF($S$1:S1357,Q1357+R1357)","v":1},"050203",9.9999999999999995E-7,50203.000001]
[50203.000002000001,null,4.0986000000000002E-2,1,139722.09372,null,0.27600000000000002,null,3409020,0.14849999999999999,"دستگاه ساعت","دستگاه حفاري شمع هاي درجا",25020301,null,2,{"$f":"COUNTIF($S$1:S1358,Q1358+R1358)","v":2},"050203",9.9999999999999995E-7,50203.000001]
[50203.000003000001,null,2.2770000000000002E-2,1,807.83406000000002,null,0.27600000000000002,null,35478,8.2500000000000004E-2,"دستگاه ساعت","موتور جوش150 تا250 آمپر",26020502,null,3,{"$f":"COUNTIF($S$1:S1359,Q1359+R1359)","v":3},"050203",9.9999999999999995E-7,50203.000001]
["",null,null,null,null,null,null,null,null,null,null,null,null,"050301",null,{"$f":"COUNTIF($S$1:S1360,Q1360+R1360)","v":0},"050301",9.9999999999999995E-7,""]
["",null,null,null,null,null,null,null,null,null,null,"متر مربع",null,null,"واحـد :",{"$f":"COUNTIF($S$1:S1361,Q1361+R1361)","v":0},"050301",9.9999999999999995E-7,""]
["",null,null,null,null,null,"ضريب",null,"بهاي واحد","مقـدار","واحــد","نيروي انساني ",null,null,"رديف",{"$f":"COUNTIF($S$1:S1362,Q1362+R1362)","v":0},"050301",1E-8,""]
[50301.000000009997,null,8.2500000000000004E-2,1,7313.7075000000004,null,0.5,null,88651,0.16500000000000001,"نفر ساعت","جوشکار درجه دو",13010402,null,1,{"$f":"COUNTIF($S$1:S1363,Q1363+R1363)","v":1},"050301",1E-8,50301.000000009997]
[50301.000000020002,null,0.495,1,28221.435000000001,null,0.5,null,57013,0.99,"نفر- ساعت","كارگر ساده",14010102,null,2,{"$f":"COUNTIF($S$1:S1364,Q1364+R1364)","v":2},"050301",1E-8,50301.000000009997]
[50301.000000029999,null,4.1250000000000002E-2,1,6956.0287500000004,null,0.5,null,168631,8.2500000000000004E-2,"نفر- ساعت","تکنیسین عملیات حفاری و شمعکوبی",14250101,null,3,{"$f":"COUNTIF($S$1:S1365,Q1365+R1365)","v":3},"050301",1E-8,50301.000000009997]
[50301.000000040003,null,0.16500000000000001,1,21939.224999999999,null,0.5,null,132965,0.33,"نفر ساعت","حفار درجه یک شمع های درجا",14250201,null,4,{"$f":"COUNTIF($S$1:S1366,Q1366+R1366)","v":4},"050301",1E-8,50301.000000009997]
[50301.00000005,null,0.16500000000000001,1,12467.73,null,0.5,null,75562,0.33,"نفر ساعت","کمک حفار شمع های درجا",14250203,null,5,{"$f":"COUNTIF($S$1:S1367,Q1367+R1367)","v":5},"050301",1E-8,50301.000000009997]
[50301.000000059998,null,0.16500000000000001,1,10918.38,null,0.5,null,66172,0.33,"نفر ساعت","کارگر حفاری",14250204,null,6,{"$f":"COUNTIF($S$1:S1368,Q1368+R1368)","v":6},"050301",1E-8,50301.000000009997]
["",null,null,null,null,null,"ضريب",null,"بهاي واحد","مقـدار","واحــد","ماشين آلات ",null,null,"رديف",{"$f":"COUNTIF($S$1:S1369,Q1369+R1369)","v":0},"050301",9.9999999999999995E-7,""]
[50301.000001,null,2.0625000000000001E-2,1,7498.4662500000004,null,0.5,null,363562,4.1250000000000002E-2,"دستگاه-ساعت","لودرچرخ لاستيکي به قدرت حدود150  اسب بخار باراننده",25010802,null,1,{"$f":"COUNTIF($S$1:S1370,Q1370+R1370)","v":1},"050301",9.9999999999999995E-7,50301.000001]
[50301.000002000001,null,0.16500000000000001,1,562488.30000000005,null,0.5,null,3409020,0.33,"دستگاه ساعت","دستگاه حفاري شمع هاي درجا",25020301,null,2,{"$f":"COUNTIF($S$1:S1371,Q1371+R1371)","v":2},{"$f":"IF(N1371>0,N1371,Q1370)","v":"050301"},9.9999999999999995E-7,{"$f":"IF(M1371<>\"\",Q1371+R1371,\"\")","v":50301.000001}]
[50301.000003000001,null,8.2500000000000004E-2,1,2926.9349999999999,null,0.5,null,35478,0.16500000000000001,"دستگاه ساعت","موتور جوش150 تا250 آمپر",26020502,null,3,{"$f":"COUNTIF($S$1:S1372,Q1372+R1372)","v":3},"050301",9.9999999999999995E-7,50301.000001]
["",null,null,null,null,null,null,null,null,null,null,null,null,"050302",null,{"$f":"COUNTIF($S$1:S1373,Q1373+R1373)","v":0},"050302",9.9999999999999995E-7,""]
["",null,null,null,null,null,null,null,null,null,null,"متر مربع",null,null,"واحـد :",{"$f":"COUNTIF($S$1:S1374,Q1374+R1374)","v":0},"050302",9.9999999999999995E-7,""]
["",null,null,null,null,null,"ضريب",null,"بهاي واحد","مقـدار","واحــد","نيروي انساني ",null,null,"رديف",{"$f":"COUNTIF($S$1:S1375,Q1375+R1375)","v":0},"050302",1E-8,""]
[50302.000000009997,null,9.2000000000000012E-2,1,8155.8919999999998,null,0.46,null,88651,0.2,"نفر ساعت","جوشکار درجه دو",13010402,null,1,{"$f":"COUNTIF($S$1:S1376,Q1376+R1376)","v":1},"050302",1E-8,50302.000000009997]
[50302.000000020002,null,0.55200000000000005,1,31471.175999999999,null,0.46,null,57013,1.2,"نفر- ساعت","كارگر ساده",14010102,null,2,{"$f":"COUNTIF($S$1:S1377,Q1377+R1377)","v":2},"050302",1E-8,50302.000000009997]
[50302.000000029999,null,4.6000000000000006E-2,1,7757.0259999999998,null,0.46,null,168631,0.1,"نفر- ساعت","تکنیسین عملیات حفاری و شمعکوبی",14250101,null,3,{"$f":"COUNTIF($S$1:S1378,Q1378+R1378)","v":3},"050302",1E-8,50302.000000009997]
[50302.000000040003,null,0.18400000000000002,1,24465.56,null,0.46,null,132965,0.4,"نفر ساعت","حفار درجه یک شمع های درجا",14250201,null,4,{"$f":"COUNTIF($S$1:S1379,Q1379+R1379)","v":4},"050302",1E-8,50302.000000009997]
[50302.00000005,null,0.18400000000000002,1,13903.408000000001,null,0.46,null,75562,0.4,"نفر ساعت","کمک حفار شمع های درجا",14250203,null,5,{"$f":"COUNTIF($S$1:S1380,Q1380+R1380)","v":5},"050302",1E-8,50302.000000009997]
[50302.000000059998,null,0.18400000000000002,1,12175.648000000001,null,0.46,null,66172,0.4,"نفر ساعت","کارگر حفاری",14250204,null,6,{"$f":"COUNTIF($S$1:S1381,Q1381+R1381)","v":6},"050302",1E-8,50302.000000009997]
["",null,null,null,null,null,"ضريب",null,"بهاي واحد","مقـدار","واحــد","ماشين آلات ",null,null,"رديف",{"$f":"COUNTIF($S$1:S1382,Q1382+R1382)","v":0},"050302",9.9999999999999995E-7,""]
[50302.000001,null,2.3000000000000003E-2,1,8361.9259999999995,null,0.46,null,363562,0.05,"دستگاه-ساعت","لودرچرخ لاستيکي به قدرت حدود150  اسب بخار باراننده",25010802,null,1,{"$f":"COUNTIF($S$1:S1383,Q1383+R1383)","v":1},"050302",9.9999999999999995E-7,50302.000001]
[50302.000002000001,null,0.18400000000000002,1,627259.68000000005,null,0.46,null,3409020,0.4,"دستگاه ساعت","دستگاه حفاري شمع هاي درجا",25020301,null,2,{"$f":"COUNTIF($S$1:S1384,Q1384+R1384)","v":2},"050302",9.9999999999999995E-7,50302.000001]
[50302.000003000001,null,9.2000000000000012E-2,1,3263.9759999999997,null,0.46,null,35478,0.2,"دستگاه ساعت","موتور جوش150 تا250 آمپر",26020502,null,3,{"$f":"COUNTIF($S$1:S1385,Q1385+R1385)","v":3},"050302",9.9999999999999995E-7,50302.000001]
["",null,null,null,null,null,null,null,null,null,null,null,null,"050303",null,{"$f":"COUNTIF($S$1:S1386,Q1386+R1386)","v":0},"050303",9.9999999999999995E-7,""]
["",null,null,null,null,null,null,null,null,null,null,"متر مربع",null,null,"واحـد :",{"$f":"COUNTIF($S$1:S1387,Q1387+R1387)","v":0},"050303",9.9999999999999995E-7,""]
["",null,null,null,null,null,"ضريب",null,"بهاي واحد","مقـدار","واحــد","نيروي انساني ",null,null,"رديف",{"$f":"COUNTIF($S$1:S1388,Q1388+R1388)","v":0},"050303",1E-8,""]
[50303.000000009997,null,0.1,1,8865.1,null,0.5,null,88651,0.2,"نفر ساعت","جوشکار درجه دو",13010402,null,1,{"$f":"COUNTIF($S$1:S1389,Q1389+R1389)","v":1},"050303",1E-8,50303.000000009997]
[50303.000000020002,null,0.6,1,34207.800000000003,null,0.5,null,57013,1.2,"نفر- ساعت","كارگر ساده",14010102,null,2,{"$f":"COUNTIF($S$1:S1390,Q1390+R1390)","v":2},"050303",1E-8,50303.000000009997]
[50303.000000029999,null,0.05,1,8431.5499999999993,null,0.5,null,168631,0.1,"نفر- ساعت","تکنیسین عملیات حفاری و شمعکوبی",14250101,null,3,{"$f":"COUNTIF($S$1:S1391,Q1391+R1391)","v":3},"050303",1E-8,50303.000000009997]
[50303.000000040003,null,0.2,1,26593,null,0.5,null,132965,0.4,"نفر ساعت","حفار درجه یک شمع های درجا",14250201,null,4,{"$f":"COUNTIF($S$1:S1392,Q1392+R1392)","v":4},"050303",1E-8,50303.000000009997]
[50303.00000005,null,0.2,1,15112.4,null,0.5,null,75562,0.4,"نفر ساعت","کمک حفار شمع های درجا",14250203,null,5,{"$f":"COUNTIF($S$1:S1393,Q1393+R1393)","v":5},"050303",1E-8,50303.000000009997]
[50303.000000059998,null,0.2,1,13234.4,null,0.5,null,66172,0.4,"نفر ساعت","کارگر حفاری",14250204,null,6,{"$f":"COUNTIF($S$1:S1394,Q1394+R1394)","v":6},"050303",1E-8,50303.000000009997]
["",null,null,null,null,null,"ضريب",null,"بهاي واحد","مقـدار","واحــد","ماشين آلات ",null,null,"رديف",{"$f":"COUNTIF($S$1:S1395,Q1395+R1395)","v":0},"050303",9.9999999999999995E-7,""]
[50303.000001,null,2.5000000000000001E-2,1,9089.0499999999993,null,0.5,null,363562,0.05,"دستگاه-ساعت","لودرچرخ لاستيکي به قدرت حدود150  اسب بخار باراننده",25010802,null,1,{"$f":"COUNTIF($S$1:S1396,Q1396+R1396)","v":1},"050303",9.9999999999999995E-7,50303.000001]
[50303.000002000001,null,0.2,1,681804,null,0.5,null,3409020,0.4,"دستگاه ساعت","دستگاه حفاري شمع هاي درجا",25020301,null,2,{"$f":"COUNTIF($S$1:S1397,Q1397+R1397)","v":2},"050303",9.9999999999999995E-7,50303.000001]
[50303.000003000001,null,0.1,1,3547.8,null,0.5,null,35478,0.2,"دستگاه ساعت","موتور جوش150 تا250 آمپر",26020502,null,3,{"$f":"COUNTIF($S$1:S1398,Q1398+R1398)","v":3},"050303",9.9999999999999995E-7,50303.000001]
["",null,null,null,null,null,null,null,null,null,null,null,null,"050401",null,{"$f":"COUNTIF($S$1:S1399,Q1399+R1399)","v":0},"050401",9.9999999999999995E-7,""]
["",null,null,null,null,null,null,null,null,null,null,"متر مربع",null,null,"واحـد :",{"$f":"COUNTIF($S$1:S1400,Q1400+R1400)","v":0},"050401",9.9999999999999995E-7,""]
["",null,null,null,null,null,"ضريب",null,"بهاي واحد","مقـدار","واحــد","نيروي انساني ",null,null,"رديف",{"$f":"COUNTIF($S$1:S1401,Q1401+R1401)","v":0},"050401",1E-8,""]
[50401.000000009997,null,9.4875000000000001E-2,1,8410.7636249999996,null,0.5,null,88651,0.18975,"نفر ساعت","جوشکار درجه دو",13010402,null,1,{"$f":"COUNTIF($S$1:S1402,Q1402+R1402)","v":1},"050401",1E-8,50401.000000009997]
[50401.000000020002,null,0.56925000000000003,1,32454.650249999999,null,0.5,null,57013,1.1385000000000001,"نفر- ساعت","كارگر ساده",14010102,null,2,{"$f":"COUNTIF($S$1:S1403,Q1403+R1403)","v":2},"050401",1E-8,50401.000000009997]
[50401.000000029999,null,4.74375E-2,1,7999.4330625000002,null,0.5,null,168631,9.4875000000000001E-2,"نفر- ساعت","تکنیسین عملیات حفاری و شمعکوبی",14250101,null,3,{"$f":"COUNTIF($S$1:S1404,Q1404+R1404)","v":3},"050401",1E-8,50401.000000009997]
[50401.000000040003,null,0.18975,1,25230.108750000003,null,0.5,null,132965,0.3795,"نفر ساعت","حفار درجه یک شمع های درجا",14250201,null,4,{"$f":"COUNTIF($S$1:S1405,Q1405+R1405)","v":4},"050401",1E-8,50401.000000009997]
[50401.00000005,null,0.18975,1,14337.889499999999,null,0.5,null,75562,0.3795,"نفر ساعت","کمک حفار شمع های درجا",14250203,null,5,{"$f":"COUNTIF($S$1:S1406,Q1406+R1406)","v":5},"050401",1E-8,50401.000000009997]
[50401.000000059998,null,0.18975,1,12556.137000000002,null,0.5,null,66172,0.3795,"نفر ساعت","کارگر حفاری",14250204,null,6,{"$f":"COUNTIF($S$1:S1407,Q1407+R1407)","v":6},"050401",1E-8,50401.000000009997]
["",null,null,null,null,null,"ضريب",null,"بهاي واحد","مقـدار","واحــد","ماشين آلات ",null,null,"رديف",{"$f":"COUNTIF($S$1:S1408,Q1408+R1408)","v":0},"050401",9.9999999999999995E-7,""]
[50401.000001,null,2.371875E-2,1,8623.2361875000006,null,0.5,null,363562,4.74375E-2,"دستگاه-ساعت","لودرچرخ لاستيکي به قدرت حدود150  اسب بخار باراننده",25010802,null,1,{"$f":"COUNTIF($S$1:S1409,Q1409+R1409)","v":1},"050401",9.9999999999999995E-7,50401.000001]
[50401.000002000001,null,0.18975,1,646861.54500000004,null,0.5,null,3409020,0.3795,"دستگاه ساعت","دستگاه حفاري شمع هاي درجا",25020301,null,2,{"$f":"COUNTIF($S$1:S1410,Q1410+R1410)","v":2},"050401",9.9999999999999995E-7,50401.000001]
[50401.000003000001,0.67066413289195759,9.4875000000000001E-2,1,3365.9752500000004,null,0.5,null,35478,0.18975,"دستگاه ساعت","موتور جوش150 تا250 آمپر",26020502,null,3,{"$f":"COUNTIF($S$1:S1411,Q1411+R1411)","v":3},"050401",9.9999999999999995E-7,50401.000001]
["",0.32536456319317975,null,null,null,null,null,null,null,null,null,null,null,"050402",null,{"$f":"COUNTIF($S$1:S1412,Q1412+R1412)","v":0},"050402",9.9999999999999995E-7,""]
["",0.53644110266421952,null,null,null,null,null,null,null,null,null,"متر مربع",null,null,"واحـد :",{"$f":"COUNTIF($S$1:S1413,Q1413+R1413)","v":0},"050402",9.9999999999999995E-7,""]
["",7.5680861801795896E-2,null,null,null,null,"ضريب",null,"بهاي واحد","مقـدار","واحــد","نيروي انساني ",null,null,"رديف",{"$f":"COUNTIF($S$1:S1414,Q1414+R1414)","v":0},"050402",1E-8,""]
[50402.000000009997,0,0.10580000000000001,1,9379.2757999999994,null,0.46,null,88651,0.23,"نفر ساعت","جوشکار درجه دو",13010402,null,1,{"$f":"COUNTIF($S$1:S1415,Q1415+R1415)","v":1},"050402",{"$f":"IF(IF(O1415=\"رديف\",VLOOKUP(L1415,Kod,2,0),0)=0,R1414,IF(O1415=\"رديف\",VLOOKUP(L1415,Kod,2,0),0))","v":1E-8},50402.000000009997]
[50402.000000020002,1.0102808726818997E-2,0.63480000000000003,1,36191.852400000003,null,0.46,null,57013,1.38,"نفر- ساعت","كارگر ساده",14010102,null,2,{"$f":"COUNTIF($S$1:S1416,Q1416+R1416)","v":2},"050402",1E-8,50402.000000009997]
[{"$f":"IF(M1417<>\"\",Q1417+(P1417*R1417),\"\")","v":50402.000000029999},1.0102808726818997E-2,5.2900000000000003E-2,1,8920.5799000000006,null,0.46,null,168631,0.115,"نفر- ساعت","تکنیسین عملیات حفاری و شمعکوبی",14250101,null,3,{"$f":"COUNTIF($S$1:S1417,Q1417+R1417)","v":3},"050402",1E-8,50402.000000009997]
[50402.000000040003,0.15064009440881898,0.21160000000000001,1,28135.394,null,0.46,null,132965,0.46,"نفر ساعت","حفار درجه یک شمع های درجا",14250201,null,4,{"$f":"COUNTIF($S$1:S1418,Q1418+R1418)","v":4},"050402",1E-8,50402.000000009997]
[50402.00000005,0,0.21160000000000001,1,15988.919199999998,null,0.46,null,75562,0.46,"نفر ساعت","کمک حفار شمع های درجا",14250203,null,5,{"$f":"COUNTIF($S$1:S1419,Q1419+R1419)","v":5},"050402",1E-8,50402.000000009997]
[50402.000000059998,0.13530547401989731,0.21160000000000001,1,14001.995199999999,null,0.46,null,66172,0.46,"نفر ساعت","کارگر حفاری",14250204,null,6,{"$f":"COUNTIF($S$1:S1420,Q1420+R1420)","v":6},"050402",1E-8,50402.000000009997]
["",4.5101824673299097E-3,null,null,null,null,"ضريب",null,"بهاي واحد","مقـدار","واحــد","ماشين آلات ",null,null,"رديف",{"$f":"COUNTIF($S$1:S1421,Q1421+R1421)","v":0},"050402",9.9999999999999995E-7,""]
[50402.000001,2.5257021817047498,2.6450000000000001E-2,1,9616.214899999999,null,0.46,null,363562,5.7500000000000002E-2,"دستگاه-ساعت","لودرچرخ لاستيکي به قدرت حدود150  اسب بخار باراننده",25010802,null,1,{"$f":"COUNTIF($S$1:S1422,Q1422+R1422)","v":1},"050402",9.9999999999999995E-7,50402.000001]
[50402.000002000001,4.5101824673299103E-2,0.21160000000000001,1,721348.63199999998,null,0.46,null,3409020,0.46,"دستگاه ساعت","دستگاه حفاري شمع هاي درجا",25020301,null,2,{"$f":"COUNTIF($S$1:S1423,Q1423+R1423)","v":2},"050402",9.9999999999999995E-7,50402.000001]
[50402.000003000001,0,0.10580000000000001,1,3753.5724,null,0.46,null,35478,0.23,"دستگاه ساعت","موتور جوش150 تا250 آمپر",26020502,null,3,{"$f":"COUNTIF($S$1:S1424,Q1424+R1424)","v":3},"050402",9.9999999999999995E-7,50402.000001]
["",5.2433648388662997,null,null,null,null,null,null,null,null,null,null,null,"050403",null,{"$f":"COUNTIF($S$1:S1425,Q1425+R1425)","v":0},"050403",9.9999999999999995E-7,""]
["",0.13330588573388896,null,null,null,null,null,null,null,null,null,"متر مربع",null,null,"واحـد :",{"$f":"COUNTIF($S$1:S1426,Q1426+R1426)","v":0},"050403",9.9999999999999995E-7,""]
["",0.13330588573388896,null,null,null,null,"ضريب",null,"بهاي واحد","مقـدار","واحــد","نيروي انساني ",null,null,"رديف",{"$f":"COUNTIF($S$1:S1427,Q1427+R1427)","v":0},"050403",1E-8,""]
[50403.000000009997,4.4435295244629656E-2,0.115,1,10194.865,null,0.5,null,88651,0.23,"نفر ساعت","جوشکار درجه دو",13010402,null,1,{"$f":"COUNTIF($S$1:S1428,Q1428+R1428)","v":1},"050403",1E-8,50403.000000009997]
[50403.000000020002,1.1375435582625193E-2,0.69,1,39338.97,null,0.5,null,57013,1.38,"نفر- ساعت","كارگر ساده",14010102,null,2,{"$f":"COUNTIF($S$1:S1429,Q1429+R1429)","v":2},"050403",1E-8,50403.000000009997]
[50403.000000029999,null,5.7500000000000002E-2,1,9696.2824999999993,null,0.5,null,168631,0.115,"نفر- ساعت","تکنیسین عملیات حفاری و شمعکوبی",14250101,null,3,{"$f":"COUNTIF($S$1:S1430,Q1430+R1430)","v":3},"050403",1E-8,50403.000000009997]
[50403.000000040003,null,0.23,1,30581.95,null,0.5,null,132965,0.46,"نفر ساعت","حفار درجه یک شمع های درجا",14250201,null,4,{"$f":"COUNTIF($S$1:S1431,Q1431+R1431)","v":4},"050403",1E-8,50403.000000009997]
[50403.00000005,null,0.23,1,17379.259999999998,null,0.5,null,75562,0.46,"نفر ساعت","کمک حفار شمع های درجا",14250203,null,5,{"$f":"COUNTIF($S$1:S1432,Q1432+R1432)","v":5},"050403",1E-8,50403.000000009997]
[50403.000000059998,null,0.23,1,15219.56,null,0.5,null,66172,0.46,"نفر ساعت","کارگر حفاری",14250204,null,6,{"$f":"COUNTIF($S$1:S1433,Q1433+R1433)","v":6},"050403",1E-8,50403.000000009997]
["",null,null,null,null,null,"ضريب",null,"بهاي واحد","مقـدار","واحــد","ماشين آلات ",null,null,"رديف",{"$f":"COUNTIF($S$1:S1434,Q1434+R1434)","v":0},"050403",9.9999999999999995E-7,""]
[50403.000001,null,2.8750000000000001E-2,1,10452.407499999999,null,0.5,null,363562,5.7500000000000002E-2,"دستگاه-ساعت","لودرچرخ لاستيکي به قدرت حدود150  اسب بخار باراننده",25010802,null,1,{"$f":"COUNTIF($S$1:S1435,Q1435+R1435)","v":1},{"$f":"IF(N1435>0,N1435,Q1434)","v":"050403"},9.9999999999999995E-7,{"$f":"IF(M1435<>\"\",Q1435+R1435,\"\")","v":50403.000001}]
[50403.000002000001,null,0.23,1,784074.6,null,0.5,null,3409020,0.46,"دستگاه ساعت","دستگاه حفاري شمع هاي درجا",25020301,null,2,{"$f":"COUNTIF($S$1:S1436,Q1436+R1436)","v":2},"050403",9.9999999999999995E-7,50403.000001]
[50403.000003000001,null,0.115,1,4079.97,null,0.5,null,35478,0.23,"دستگاه ساعت","موتور جوش150 تا250 آمپر",26020502,null,3,{"$f":"COUNTIF($S$1:S1437,Q1437+R1437)","v":3},"050403",9.9999999999999995E-7,50403.000001]
["",null,null,null,null,null,null,null,null,null,null,null,null,"050501",null,{"$f":"COUNTIF($S$1:S1438,Q1438+R1438)","v":0},"050501",9.9999999999999995E-7,""]
["",null,null,null,null,null,null,null,null,null,null,"متر مربع",null,null,"واحـد :",{"$f":"COUNTIF($S$1:S1439,Q1439+R1439)","v":0},"050501",9.9999999999999995E-7,""]
["",null,null,null,null,null,"ضريب",null,"بهاي واحد","مقـدار","واحــد","نيروي انساني ",null,null,"رديف",{"$f":"COUNTIF($S$1:S1440,Q1440+R1440)","v":0},"050501",1E-8,""]
[50501.000000009997,null,8.6412150000000024E-3,1,766.05235096500019,null,0.13800000000000001,null,88651,6.2617500000000006E-2,"نفر ساعت","جوشکار درجه دو",13010402,null,1,{"$f":"COUNTIF($S$1:S1441,Q1441+R1441)","v":1},"050501",1E-8,50501.000000009997]
[50501.000000020002,null,5.1847290000000004E-2,1,2955.9695447700005,null,0.13800000000000001,null,57013,0.37570500000000001,"نفر- ساعت","كارگر ساده",14010102,null,2,{"$f":"COUNTIF($S$1:S1442,Q1442+R1442)","v":2},"050501",1E-8,50501.000000009997]
[50501.000000029999,null,4.320600600000001E-3,1,728.58719977860017,null,0.13800000000000001,null,168631,3.1308700000000002E-2,"نفر- ساعت","تکنیسین عملیات حفاری و شمعکوبی",14250101,null,3,{"$f":"COUNTIF($S$1:S1443,Q1443+R1443)","v":3},"050501",1E-8,50501.000000009997]
[50501.000000040003,null,1.7282430000000005E-2,1,2297.9583049500002,null,0.13800000000000001,null,132965,0.12523500000000001,"نفر ساعت","حفار درجه یک شمع های درجا",14250201,null,4,{"$f":"COUNTIF($S$1:S1444,Q1444+R1444)","v":4},"050501",1E-8,50501.000000009997]
[50501.00000005,null,1.7282430000000005E-2,1,1305.8949756600005,null,0.13800000000000001,null,75562,0.12523500000000001,"نفر ساعت","کمک حفار شمع های درجا",14250203,null,5,{"$f":"COUNTIF($S$1:S1445,Q1445+R1445)","v":5},"050501",1E-8,50501.000000009997]
[50501.000000059998,null,1.7282430000000005E-2,1,1143.6129579600001,null,0.13800000000000001,null,66172,0.12523500000000001,"نفر ساعت","کارگر حفاری",14250204,null,6,{"$f":"COUNTIF($S$1:S1446,Q1446+R1446)","v":6},"050501",1E-8,50501.000000009997]
["",null,null,null,null,null,"ضريب",null,"بهاي واحد","مقـدار","واحــد","ماشين آلات ",null,null,"رديف",{"$f":"COUNTIF($S$1:S1447,Q1447+R1447)","v":0},"050501",9.9999999999999995E-7,""]
[50501.000001,null,2.1602933999999999E-3,1,785.40058909079994,null,0.13800000000000001,null,363562,1.5654299999999999E-2,"دستگاه-ساعت","لودرچرخ لاستيکي به قدرت حدود150  اسب بخار باراننده",25010802,null,1,{"$f":"COUNTIF($S$1:S1448,Q1448+R1448)","v":1},"050501",9.9999999999999995E-7,50501.000001]
[50501.000002000001,null,1.7282430000000005E-2,1,58916.14951860001,null,0.13800000000000001,null,3409020,0.12523500000000001,"دستگاه ساعت","دستگاه حفاري شمع هاي درجا",25020301,null,2,{"$f":"COUNTIF($S$1:S1449,Q1449+R1449)","v":2},"050501",9.9999999999999995E-7,50501.000001]
[50501.000003000001,null,8.6412150000000024E-3,1,306.57302577000007,null,0.13800000000000001,null,35478,6.2617500000000006E-2,"دستگاه ساعت","موتور جوش150 تا250 آمپر",26020502,null,3,{"$f":"COUNTIF($S$1:S1450,Q1450+R1450)","v":3},"050501",9.9999999999999995E-7,50501.000001]
["",null,null,null,null,null,null,null,null,null,null,null,null,"050502",null,{"$f":"COUNTIF($S$1:S1451,Q1451+R1451)","v":0},"050502",9.9999999999999995E-7,""]
["",null,null,null,null,null,null,null,null,null,null,"متر مربع",null,null,"واحـد :",{"$f":"COUNTIF($S$1:S1452,Q1452+R1452)","v":0},"050502",9.9999999999999995E-7,""]
["",null,null,null,null,null,"ضريب",null,"بهاي واحد","مقـدار","واحــد","نيروي انساني ",null,null,"رديف",{"$f":"COUNTIF($S$1:S1453,Q1453+R1453)","v":0},"050502",1E-8,""]
[50502.000000009997,null,9.5633999999999997E-3,1,847.80497339999988,null,0.126,null,88651,7.5899999999999995E-2,"نفر ساعت","جوشکار درجه دو",13010402,null,1,{"$f":"COUNTIF($S$1:S1454,Q1454+R1454)","v":1},"050502",1E-8,50502.000000009997]
[50502.000000020002,null,5.7380400000000012E-2,1,3271.4287452000008,null,0.126,null,57013,0.45540000000000008,"نفر- ساعت","كارگر ساده",14010102,null,2,{"$f":"COUNTIF($S$1:S1455,Q1455+R1455)","v":2},"050502",1E-8,50502.000000009997]
[50502.000000029999,null,4.7816999999999998E-3,1,806.34285269999998,null,0.126,null,168631,3.7949999999999998E-2,"نفر- ساعت","تکنیسین عملیات حفاری و شمعکوبی",14250101,null,3,{"$f":"COUNTIF($S$1:S1456,Q1456+R1456)","v":3},"050502",1E-8,50502.000000009997]
[50502.000000040003,null,1.9126799999999999E-2,1,2543.1949619999996,null,0.126,null,132965,0.15179999999999999,"نفر ساعت","حفار درجه یک شمع های درجا",14250201,null,4,{"$f":"COUNTIF($S$1:S1457,Q1457+R1457)","v":4},"050502",1E-8,50502.000000009997]
[50502.00000005,null,1.9126799999999999E-2,1,1445.2592615999997,null,0.126,null,75562,0.15179999999999999,"نفر ساعت","کمک حفار شمع های درجا",14250203,null,5,{"$f":"COUNTIF($S$1:S1458,Q1458+R1458)","v":5},"050502",1E-8,50502.000000009997]
[50502.000000059998,null,1.9126799999999999E-2,1,1265.6586095999999,null,0.126,null,66172,0.15179999999999999,"نفر ساعت","کارگر حفاری",14250204,null,6,{"$f":"COUNTIF($S$1:S1459,Q1459+R1459)","v":6},"050502",1E-8,50502.000000009997]
["",null,null,null,null,null,"ضريب",null,"بهاي واحد","مقـدار","واحــد","ماشين آلات ",null,null,"رديف",{"$f":"COUNTIF($S$1:S1460,Q1460+R1460)","v":0},"050502",9.9999999999999995E-7,""]
[50502.000001,null,2.3908499999999999E-3,1,869.22220770000001,null,0.126,null,363562,1.8974999999999999E-2,"دستگاه-ساعت","لودرچرخ لاستيکي به قدرت حدود150  اسب بخار باراننده",25010802,null,1,{"$f":"COUNTIF($S$1:S1461,Q1461+R1461)","v":1},"050502",9.9999999999999995E-7,50502.000001]
[50502.000002000001,null,1.9126799999999999E-2,1,65203.643736000005,null,0.126,null,3409020,0.15179999999999999,"دستگاه ساعت","دستگاه حفاري شمع هاي درجا",25020301,null,2,{"$f":"COUNTIF($S$1:S1462,Q1462+R1462)","v":2},"050502",9.9999999999999995E-7,50502.000001]
[50502.000003000001,null,9.5633999999999997E-3,1,339.29030519999998,null,0.126,null,35478,7.5899999999999995E-2,"دستگاه ساعت","موتور جوش150 تا250 آمپر",26020502,null,3,{"$f":"COUNTIF($S$1:S1463,Q1463+R1463)","v":3},"050502",9.9999999999999995E-7,50502.000001]
["",null,null,null,null,null,null,null,null,null,null,null,null,"050503",null,{"$f":"COUNTIF($S$1:S1464,Q1464+R1464)","v":0},"050503",9.9999999999999995E-7,""]
["",null,null,null,null,null,null,null,null,null,null,"متر مربع",null,null,"واحـد :",{"$f":"COUNTIF($S$1:S1465,Q1465+R1465)","v":0},"050503",9.9999999999999995E-7,""]
["",null,null,null,null,null,"ضريب",null,"بهاي واحد","مقـدار","واحــد","نيروي انساني ",null,null,"رديف",{"$f":"COUNTIF($S$1:S1466,Q1466+R1466)","v":0},"050503",1E-8,""]
[50503.000000009997,null,1.0474199999999999E-2,1,928.54830419999996,null,0.13800000000000001,null,88651,7.5899999999999995E-2,"نفر ساعت","جوشکار درجه دو",13010402,null,1,{"$f":"COUNTIF($S$1:S1467,Q1467+R1467)","v":1},"050503",1E-8,50503.000000009997]
[50503.000000020002,null,6.2845200000000018E-2,1,3582.9933876000009,null,0.13800000000000001,null,57013,0.45540000000000008,"نفر- ساعت","كارگر ساده",14010102,null,2,{"$f":"COUNTIF($S$1:S1468,Q1468+R1468)","v":2},"050503",1E-8,50503.000000009997]
[50503.000000029999,null,5.2370999999999997E-3,1,883.13741010000001,null,0.13800000000000001,null,168631,3.7949999999999998E-2,"نفر- ساعت","تکنیسین عملیات حفاری و شمعکوبی",14250101,null,3,{"$f":"COUNTIF($S$1:S1469,Q1469+R1469)","v":3},"050503",1E-8,50503.000000009997]
[50503.000000040003,null,2.0948399999999999E-2,1,2785.4040060000007,null,0.13800000000000001,null,132965,0.15179999999999999,"نفر ساعت","حفار درجه یک شمع های درجا",14250201,null,4,{"$f":"COUNTIF($S$1:S1470,Q1470+R1470)","v":4},"050503",1E-8,50503.000000009997]
[50503.00000005,null,2.0948399999999999E-2,1,1582.9030008,null,0.13800000000000001,null,75562,0.15179999999999999,"نفر ساعت","کمک حفار شمع های درجا",14250203,null,5,{"$f":"COUNTIF($S$1:S1471,Q1471+R1471)","v":5},"050503",1E-8,50503.000000009997]
[50503.000000059998,null,2.0948399999999999E-2,1,1386.1975247999999,null,0.13800000000000001,null,66172,0.15179999999999999,"نفر ساعت","کارگر حفاری",14250204,null,6,{"$f":"COUNTIF($S$1:S1472,Q1472+R1472)","v":6},"050503",1E-8,50503.000000009997]
["",null,null,null,null,null,"ضريب",null,"بهاي واحد","مقـدار","واحــد","ماشين آلات ",null,null,"رديف",{"$f":"COUNTIF($S$1:S1473,Q1473+R1473)","v":0},"050503",9.9999999999999995E-7,""]
[50503.000001,null,2.6185499999999999E-3,1,952.00527509999995,null,0.13800000000000001,null,363562,1.8974999999999999E-2,"دستگاه-ساعت","لودرچرخ لاستيکي به قدرت حدود150  اسب بخار باراننده",25010802,null,1,{"$f":"COUNTIF($S$1:S1474,Q1474+R1474)","v":1},"050503",9.9999999999999995E-7,50503.000001]
[50503.000002000001,null,2.0948399999999999E-2,1,71413.514568000013,null,0.13800000000000001,null,3409020,0.15179999999999999,"دستگاه ساعت","دستگاه حفاري شمع هاي درجا",25020301,null,2,{"$f":"COUNTIF($S$1:S1475,Q1475+R1475)","v":2},"050503",9.9999999999999995E-7,50503.000001]
[50503.000003000001,null,1.0474199999999999E-2,1,371.60366760000005,null,0.13800000000000001,null,35478,7.5899999999999995E-2,"دستگاه ساعت","موتور جوش150 تا250 آمپر",26020502,null,3,{"$f":"COUNTIF($S$1:S1476,Q1476+R1476)","v":3},"050503",9.9999999999999995E-7,50503.000001]
["",null,null,null,null,null,null,null,null,null,null,null,null,"050601",null,{"$f":"COUNTIF($S$1:S1477,Q1477+R1477)","v":0},"050601",9.9999999999999995E-7,""]
["",null,null,null,null,null,null,null,null,null,null,"متر مربع",null,null,"واحـد :",{"$f":"COUNTIF($S$1:S1478,Q1478+R1478)","v":0},"050601",9.9999999999999995E-7,""]
["",null,null,null,null,null,"ضريب",null,"بهاي واحد","مقـدار","واحــد","نيروي انساني ",null,null,"رديف",{"$f":"COUNTIF($S$1:S1479,Q1479+R1479)","v":0},"050601",{"$f":"IF(IF(O1479=\"رديف\",VLOOKUP(L1479,Kod,2,0),0)=0,R1478,IF(O1479=\"رديف\",VLOOKUP(L1479,Kod,2,0),0))","v":1E-8},""]
[50601.000000009997,null,5.2999999999999999E-2,1,7047.1450000000004,null,1,null,132965,5.2999999999999999E-2,"نفر ساعت","حفار درجه یک شمع های درجا",14250201,null,1,{"$f":"COUNTIF($S$1:S1480,Q1480+R1480)","v":1},"050601",1E-8,50601.000000009997]
[{"$f":"IF(M1481<>\"\",Q1481+(P1481*R1481),\"\")","v":50601.000000020002},null,5.2999999999999999E-2,1,4004.7859999999996,null,1,null,75562,5.2999999999999999E-2,"نفر ساعت","کمک حفار شمع های درجا",14250203,null,2,{"$f":"COUNTIF($S$1:S1481,Q1481+R1481)","v":2},"050601",1E-8,50601.000000009997]
[50601.000000029999,null,5.2999999999999999E-2,1,3507.116,null,1,null,66172,5.2999999999999999E-2,"نفر ساعت","کارگر حفاری",14250204,null,3,{"$f":"COUNTIF($S$1:S1482,Q1482+R1482)","v":3},"050601",1E-8,50601.000000009997]
["",null,null,null,null,null,"ضريب",null,"بهاي واحد","مقـدار","واحــد","ماشين آلات ",null,null,"رديف",{"$f":"COUNTIF($S$1:S1483,Q1483+R1483)","v":0},"050601",9.9999999999999995E-7,""]
[50601.000001,null,5.2999999999999999E-2,1,59066.697999999997,null,1,null,1114466,5.2999999999999999E-2,"دستگاه ساعت","جرثقیل خودرو چرخ زنجیری حدود40 تن با راننده",24010405,null,1,{"$f":"COUNTIF($S$1:S1484,Q1484+R1484)","v":1},"050601",9.9999999999999995E-7,50601.000001]
[50601.000002000001,null,2.16,1,55505.52,null,1,null,25697,2.16,"كیلوگرم","لوله غلاف کیسینگ",28992801,null,2,{"$f":"COUNTIF($S$1:S1485,Q1485+R1485)","v":2},"050601",9.9999999999999995E-7,50601.000001]
["",null,null,null,null,null,"ضريب",null,"بهاي واحد","مقـدار","واحــد"," حمل مصالح ",null,null,"رديف",{"$f":"COUNTIF($S$1:S1486,Q1486+R1486)","v":0},"050601",0.01,""]
[50601.01,null,2.16,1,509.76,null,1,null,236,2.16,"كیلوگرم","حمل لوله های فولادی5 اینچ به بالا",42010201,null,1,{"$f":"COUNTIF($S$1:S1487,Q1487+R1487)","v":1},"050601",0.01,50601.01]
["",null,null,null,null,null,null,null,null,null,null,null,null,"050602",null,{"$f":"COUNTIF($S$1:S1488,Q1488+R1488)","v":0},"050602",0.01,""]
["",null,null,null,null,null,null,null,null,null,null,"متر مربع",null,null,"واحـد :",{"$f":"COUNTIF($S$1:S1489,Q1489+R1489)","v":0},"050602",0.01,""]
["",null,null,null,null,null,"ضريب",null,"بهاي واحد","مقـدار","واحــد","نيروي انساني ",null,null,"رديف",{"$f":"COUNTIF($S$1:S1490,Q1490+R1490)","v":0},"050602",1E-8,""]
[50602.000000009997,null,5.2999999999999999E-2,1,7047.1450000000004,null,1,null,132965,5.2999999999999999E-2,"نفر ساعت","حفار درجه یک شمع های درجا",14250201,null,1,{"$f":"COUNTIF($S$1:S1491,Q1491+R1491)","v":1},"050602",1E-8,50602.000000009997]
[50602.000000020002,null,5.2999999999999999E-2,1,4004.7859999999996,null,1,null,75562,5.2999999999999999E-2,"نفر ساعت","کمک حفار شمع های درجا",14250203,null,2,{"$f":"COUNTIF($S$1:S1492,Q1492+R1492)","v":2},"050602",1E-8,50602.000000009997]
[50602.000000029999,null,5.2999999999999999E-2,1,3507.116,null,1,null,66172,5.2999999999999999E-2,"نفر ساعت","کارگر حفاری",14250204,null,3,{"$f":"COUNTIF($S$1:S1493,Q1493+R1493)","v":3},"050602",1E-8,50602.000000009997]
["",null,null,null,null,null,"ضريب",null,"بهاي واحد","مقـدار","واحــد","ماشين آلات ",null,null,"رديف",{"$f":"COUNTIF($S$1:S1494,Q1494+R1494)","v":0},"050602",9.9999999999999995E-7,""]
[50602.000001,null,5.2999999999999999E-2,1,59066.697999999997,null,1,null,1114466,5.2999999999999999E-2,"دستگاه ساعت","جرثقیل خودرو چرخ زنجیری حدود40 تن با راننده",24010405,null,1,{"$f":"COUNTIF($S$1:S1495,Q1495+R1495)","v":1},"050602",9.9999999999999995E-7,50602.000001]
["",null,null,null,null,null,null,null,null,null,null,null,null,"050603",null,{"$f":"COUNTIF($S$1:S1496,Q1496+R1496)","v":0},"050603",9.9999999999999995E-7,""]
["",null,null,null,null,null,null,null,null,null,null,"متر مربع",null,null,"واحـد :",{"$f":"COUNTIF($S$1:S1497,Q1497+R1497)","v":0},"050603",9.9999999999999995E-7,""]
["",null,null,null,null,null,"ضريب",null,"بهاي واحد","مقـدار","واحــد","نيروي انساني ",null,null,"رديف",{"$f":"COUNTIF($S$1:S1498,Q1498+R1498)","v":0},"050603",1E-8,""]
[50603.000000009997,null,0.16,1,21274.400000000001,null,1,null,132965,0.16,"نفر ساعت","حفار درجه یک شمع های درجا",14250201,null,1,{"$f":"COUNTIF($S$1:S1499,Q1499+R1499)","v":1},{"$f":"IF(N1499>0,N1499,Q1498)","v":"050603"},1E-8,{"$f":"IF(M1499<>\"\",Q1499+R1499,\"\")","v":50603.000000009997}]
[50603.000000020002,null,0.16,1,12089.92,null,1,null,75562,0.16,"نفر ساعت","کمک حفار شمع های درجا",14250203,null,2,{"$f":"COUNTIF($S$1:S1500,Q1500+R1500)","v":2},"050603",1E-8,50603.000000009997]
[50603.000000029999,null,0.16,1,10587.52,null,1,null,66172,0.16,"نفر ساعت","کارگر حفاری",14250204,null,3,{"$f":"COUNTIF($S$1:S1501,Q1501+R1501)","v":3},"050603",1E-8,50603.000000009997]
["",null,null,null,null,null,"ضريب",null,"بهاي واحد","مقـدار","واحــد","ماشين آلات ",null,null,"رديف",{"$f":"COUNTIF($S$1:S1502,Q1502+R1502)","v":0},"050603",9.9999999999999995E-7,""]
[50603.000001,null,0.16,1,110385.12,null,1,null,689907,0.16,"دستگاه ساعت","جرثقیل خودرو چرخ زنجیری حدود30 تن با راننده",24010404,null,1,{"$f":"COUNTIF($S$1:S1503,Q1503+R1503)","v":1},"050603",9.9999999999999995E-7,50603.000001]
[50603.000002000001,null,2.16,1,55505.52,null,1,null,25697,2.16,"كیلوگرم","لوله غلاف کیسینگ",28992801,null,2,{"$f":"COUNTIF($S$1:S1504,Q1504+R1504)","v":2},"050603",9.9999999999999995E-7,50603.000001]
["",null,null,null,null,null,"ضريب",null,"بهاي واحد","مقـدار","واحــد"," حمل مصالح ",null,null,"رديف",{"$f":"COUNTIF($S$1:S1505,Q1505+R1505)","v":0},"050603",0.01,""]
[50603.01,null,2.16,1,509.76,null,1,null,236,2.16,"كیلوگرم","حمل لوله های فولادی5 اینچ به بالا",42010201,null,1,{"$f":"COUNTIF($S$1:S1506,Q1506+R1506)","v":1},"050603",0.01,50603.01]
["",null,null,null,null,null,null,null,null,null,null,null,null,"050701",null,{"$f":"COUNTIF($S$1:S1507,Q1507+R1507)","v":0},"050701",0.01,""]
["",null,null,null,null,null,null,null,null,null,null,"مترمكعب",null,null,"واحـد :",{"$f":"COUNTIF($S$1:S1508,Q1508+R1508)","v":0},"050701",0.01,""]
["",null,null,null,null,null,"ضريب",null,"بهاي واحد","مقـدار","واحــد","نيروي انساني ",null,null,"رديف",{"$f":"COUNTIF($S$1:S1509,Q1509+R1509)","v":0},"050701",1E-8,""]
[50701.000000009997,null,0.74999974994999996,1,52568.982473495395,null,0.75,null,70092,0.99999966659999995,"نفر ساعت","کمک مکانیک",13010205,null,1,{"$f":"COUNTIF($S$1:S1510,Q1510+R1510)","v":1},"050701",1E-8,50701.000000009997]
[50701.000000020002,null,0.62500005000000014,1,43807.503504600005,null,0.75,null,70092,0.83333340000000011,"نفر- ساعت","متصدی پمپ اب",13041101,null,2,{"$f":"COUNTIF($S$1:S1511,Q1511+R1511)","v":2},"050701",1E-8,50701.000000009997]
[50701.000000029999,null,0.31249994999999997,1,21903.746495400002,null,0.75,null,70092,0.4166666,"نفر ساعت","متصدی  موتور برق",13041201,null,3,{"$f":"COUNTIF($S$1:S1512,Q1512+R1512)","v":3},"050701",1E-8,50701.000000009997]
[50701.000000040003,null,5.1135749999999987E-3,1,337.8794681249999,null,0.75,null,66075,6.8180999999999988E-3,"نفر ساعت","سر کارگر",14010101,null,4,{"$f":"COUNTIF($S$1:S1513,Q1513+R1513)","v":4},"050701",1E-8,50701.000000009997]
[50701.00000005,null,0.74999977500000004,1,56671.482998549996,null,0.75,null,75562,0.99999970000000005,"نفر ساعت","کمک حفار شمع های درجا",14250203,null,5,{"$f":"COUNTIF($S$1:S1514,Q1514+R1514)","v":5},"050701",1E-8,50701.000000009997]
[50701.000000059998,null,1.5340875E-2,1,1015.1363805000001,null,0.75,null,66172,2.04545E-2,"نفر ساعت","کارگر حفاری",14250204,null,6,{"$f":"COUNTIF($S$1:S1515,Q1515+R1515)","v":6},"050701",1E-8,50701.000000009997]
["",null,null,null,null,null,"ضريب",null,"بهاي واحد","مقـدار","واحــد","ماشين آلات ",null,null,"رديف",{"$f":"COUNTIF($S$1:S1516,Q1516+R1516)","v":0},"050701",9.9999999999999995E-7,""]
[50701.000001,null,0.1875,1,52539.1875,null,0.75,null,280209,0.25,"دستگاه-ساعت","تانکراب پاش به ظرفیت حدود 15000 لیتر باراننده",23020503,null,1,{"$f":"COUNTIF($S$1:S1517,Q1517+R1517)","v":1},"050701",9.9999999999999995E-7,50701.000001]
[50701.000002000001,null,0.50000002499999996,1,33051.001652549996,null,0.75,null,66102,0.66666669999999995,"دستگاه ساعت","دستگاه مخلوط کن گل بنتونیت",25020401,null,2,{"$f":"COUNTIF($S$1:S1518,Q1518+R1518)","v":2},"050701",9.9999999999999995E-7,50701.000001]
[50701.000003000001,null,1.2499974999750001,1,64402.371193711944,null,0.75,null,51522,1.6666633333,"دستگاه ساعت","پمپ لجن کش دیزلی4 اینچ",26010301,null,3,{"$f":"COUNTIF($S$1:S1519,Q1519+R1519)","v":3},"050701",9.9999999999999995E-7,50701.000001]
[50701.000004000001,null,0.49999999994999988,1,25760.999997423896,null,0.75,null,51522,0.66666666659999985,"دستگاه ساعت","مولد برق به قدرت30 کیلو وات",26030105,null,4,{"$f":"COUNTIF($S$1:S1520,Q1520+R1520)","v":4},"050701",9.9999999999999995E-7,50701.000001]
["",null,null,null,null,null,"ضريب",null,"بهاي واحد","مقـدار","واحــد","مصالح",null,null,"رديف",{"$f":"COUNTIF($S$1:S1521,Q1521+R1521)","v":0},"050701",1E-4,""]
[50701.000099999997,null,1.854225,1,63191.987999999998,null,0.75,null,34080,2.4723000000000002,"كیلوگرم","لوله 4 اینچ فولادی",39070201,null,1,{"$f":"COUNTIF($S$1:S1522,Q1522+R1522)","v":1},"050701",1E-4,50701.000099999997]
[50701.000200000002,null,1.4999999999999999E-2,1,26437.5,null,0.75,null,1762500,0.02,"تن","گل حفاری بنتونیت",39160101,null,2,{"$f":"COUNTIF($S$1:S1523,Q1523+R1523)","v":2},"050701",1E-4,50701.000099999997]
["",null,null,null,null,null,"ضريب",null,"بهاي واحد","مقـدار","واحــد"," حمل مصالح ",null,null,"رديف",{"$f":"COUNTIF($S$1:S1524,Q1524+R1524)","v":0},"050701",0.01,""]
[50701.01,null,1.4999999999999999E-2,1,1413.06,null,0.75,null,94204,0.02,"تن","حمل سیمان گچ و آهک پاکتی",41060201,null,1,{"$f":"COUNTIF($S$1:S1525,Q1525+R1525)","v":1},"050701",0.01,50701.01]
[50701.02,null,1.854225,1,394.94992500000001,null,0.75,null,213,2.4723000000000002,"كیلوگرم","حمل لوله های فولادی یک دوم اینچ تا 4 اینچ",42010101,null,2,{"$f":"COUNTIF($S$1:S1526,Q1526+R1526)","v":2},"050701",0.01,50701.01]
["",null,null,null,null,null,null,null,null,null,null,null,null,"050703",null,{"$f":"COUNTIF($S$1:S1527,Q1527+R1527)","v":0},"050703",0.01,""]
["",null,null,null,null,null,null,null,null,null,null,"مترمكعب",null,null,"واحـد :",{"$f":"COUNTIF($S$1:S1528,Q1528+R1528)","v":0},"050703",0.01,""]
["",null,null,null,null,null,"ضريب",null,"بهاي واحد","مقـدار","واحــد","ماشين آلات ",null,null,"رديف",{"$f":"COUNTIF($S$1:S1529,Q1529+R1529)","v":0},"050703",9.9999999999999995E-7,""]
[50703.000001,null,3,1,2069721,null,1.5,null,689907,2,"دستگاه ساعت","جرثقیل خودرو چرخ زنجیری حدود30 تن با راننده",24010404,null,1,{"$f":"COUNTIF($S$1:S1530,Q1530+R1530)","v":1},"050703",9.9999999999999995E-7,50703.000001]
[50703.000002000001,null,0.33340019999999998,1,19195.849915199997,null,1.5,null,57576,0.22226679999999999,"دستگاه ساعت","دستگاه ترپان با وزن حدود1000کیلو",25030701,null,2,{"$f":"COUNTIF($S$1:S1531,Q1531+R1531)","v":2},"050703",9.9999999999999995E-7,50703.000001]
[50703.000003000001,null,0.33340019999999998,1,23233.326337199996,null,1.5,null,69686,0.22226679999999999,"دستگاه ساعت","دستگاه ترپان با وزن حدود3000کیلو",25030703,null,3,{"$f":"COUNTIF($S$1:S1532,Q1532+R1532)","v":3},"050703",9.9999999999999995E-7,50703.000001]
[50703.000004000001,null,0.33340019999999998,1,29294.875373399998,null,1.5,null,87867,0.22226679999999999,"دستگاه ساعت","دستگاه ترپان با وزن حدود5000 کیلو",25030705,null,4,{"$f":"COUNTIF($S$1:S1533,Q1533+R1533)","v":4},"050703",9.9999999999999995E-7,50703.000001]
[50703.000005000002,null,3,1,154566,null,1.5,null,51522,2,"دستگاه ساعت","پمپ لجن کش دیزلی4 اینچ",26010301,null,5,{"$f":"COUNTIF($S$1:S1534,Q1534+R1534)","v":5},"050703",9.9999999999999995E-7,50703.000001]
[50703.000006000002,null,1.0002,1,25351.069199999998,null,1.5,null,25346,0.66679999999999995,"دستگاه ساعت","سر مته حلزونی مخصوص حفاریهای سنگین",28090101,null,6,{"$f":"COUNTIF($S$1:S1535,Q1535+R1535)","v":6},"050703",9.9999999999999995E-7,50703.000001]
[50703.000007000002,null,1.0002,1,24218.842799999999,null,1.5,null,24214,0.66679999999999995,"دستگاه","باکت بی مخصوص حفاری سنگین",28202101,null,7,{"$f":"COUNTIF($S$1:S1536,Q1536+R1536)","v":7},"050703",9.9999999999999995E-7,50703.000001]
["",null,null,null,null,null,null,null,null,null,null,null,null,"050704",null,{"$f":"COUNTIF($S$1:S1537,Q1537+R1537)","v":0},"050704",9.9999999999999995E-7,""]
["",null,null,null,null,null,null,null,null,null,null,"مترمكعب",null,null,"واحـد :",{"$f":"COUNTIF($S$1:S1538,Q1538+R1538)","v":0},"050704",9.9999999999999995E-7,""]
["",null,null,null,null,null,"ضريب",null,"بهاي واحد","مقـدار","واحــد","ماشين آلات ",null,null,"رديف",{"$f":"COUNTIF($S$1:S1539,Q1539+R1539)","v":0},"050704",9.9999999999999995E-7,""]
[50704.000001,null,7.5,1,5174302.5,null,3.75,null,689907,2,"دستگاه ساعت","جرثقیل خودرو چرخ زنجیری حدود30 تن با راننده",24010404,null,1,{"$f":"COUNTIF($S$1:S1540,Q1540+R1540)","v":1},"050704",9.9999999999999995E-7,50704.000001]
[50704.000002000001,null,0.83350049999999998,1,47989.624787999994,null,3.75,null,57576,0.22226679999999999,"دستگاه ساعت","دستگاه ترپان با وزن حدود1000کیلو",25030701,null,2,{"$f":"COUNTIF($S$1:S1541,Q1541+R1541)","v":2},"050704",9.9999999999999995E-7,50704.000001]
[50704.000003000001,null,0.83350049999999998,1,58083.315842999989,null,3.75,null,69686,0.22226679999999999,"دستگاه ساعت","دستگاه ترپان با وزن حدود3000کیلو",25030703,null,3,{"$f":"COUNTIF($S$1:S1542,Q1542+R1542)","v":3},"050704",9.9999999999999995E-7,50704.000001]
[50704.000004000001,null,0.83350049999999998,1,73237.188433500007,null,3.75,null,87867,0.22226679999999999,"دستگاه ساعت","دستگاه ترپان با وزن حدود5000 کیلو",25030705,null,4,{"$f":"COUNTIF($S$1:S1543,Q1543+R1543)","v":4},"050704",{"$f":"IF(IF(O1543=\"رديف\",VLOOKUP(L1543,Kod,2,0),0)=0,R1542,IF(O1543=\"رديف\",VLOOKUP(L1543,Kod,2,0),0))","v":9.9999999999999995E-7},50704.000001]
[50704.000005000002,null,7.5,1,386415,null,3.75,null,51522,2,"دستگاه ساعت","پمپ لجن کش دیزلی4 اینچ",26010301,null,5,{"$f":"COUNTIF($S$1:S1544,Q1544+R1544)","v":5},"050704",9.9999999999999995E-7,50704.000001]
[{"$f":"IF(M1545<>\"\",Q1545+(P1545*R1545),\"\")","v":50704.000006000002},null,2.5004999999999997,1,63377.672999999988,null,3.75,null,25346,0.66679999999999995,"دستگاه ساعت","سر مته حلزونی مخصوص حفاریهای سنگین",28090101,null,6,{"$f":"COUNTIF($S$1:S1545,Q1545+R1545)","v":6},"050704",9.9999999999999995E-7,50704.000001]
[50704.000007000002,null,2.5004999999999997,1,60547.106999999989,null,3.75,null,24214,0.66679999999999995,"دستگاه","باکت بی مخصوص حفاری سنگین",28202101,null,7,{"$f":"COUNTIF($S$1:S1546,Q1546+R1546)","v":7},"050704",9.9999999999999995E-7,50704.000001]
["",null,null,null,null,null,null,null,null,null,null,null,null,"050801",null,{"$f":"COUNTIF($S$1:S1547,Q1547+R1547)","v":0},"050801",9.9999999999999995E-7,""]
["",null,null,null,null,null,null,null,null,null,null,"كیلوگرم",null,null,"واحـد :",{"$f":"COUNTIF($S$1:S1548,Q1548+R1548)","v":0},"050801",9.9999999999999995E-7,""]
["",null,null,null,null,null,"ضريب",null,"بهاي واحد","مقـدار","واحــد","نيروي انساني ",null,null,"رديف",{"$f":"COUNTIF($S$1:S1549,Q1549+R1549)","v":0},"050801",1E-8,""]
[50801.000000009997,null,6.6669999999999989E-4,1,59.103621699999991,null,1,null,88651,6.6669999999999989E-4,"نفر ساعت","جوشکار درجه دو",13010402,null,1,{"$f":"COUNTIF($S$1:S1550,Q1550+R1550)","v":1},"050801",1E-8,50801.000000009997]
[50801.000000020002,null,1.1764E-3,1,67.070093199999988,null,1,null,57013,1.1764E-3,"نفر- ساعت","كارگر ساده",14010102,null,2,{"$f":"COUNTIF($S$1:S1551,Q1551+R1551)","v":2},"050801",1E-8,50801.000000009997]
[50801.000000029999,null,6.6669999999999989E-4,1,53.480673899999992,null,1,null,80217,6.6669999999999989E-4,"نفر ساعت","آرماتور بند درجه یک",14050201,null,3,{"$f":"COUNTIF($S$1:S1552,Q1552+R1552)","v":3},"050801",1E-8,50801.000000009997]
[50801.000000040003,null,6.6669999999999989E-4,1,88.647765499999991,null,1,null,132965,6.6669999999999989E-4,"نفر ساعت","حفار درجه یک شمع های درجا",14250201,null,4,{"$f":"COUNTIF($S$1:S1553,Q1553+R1553)","v":4},"050801",1E-8,50801.000000009997]
[50801.00000005,null,6.6669999999999989E-4,1,50.377185399999988,null,1,null,75562,6.6669999999999989E-4,"نفر ساعت","کمک حفار شمع های درجا",14250203,null,5,{"$f":"COUNTIF($S$1:S1554,Q1554+R1554)","v":5},"050801",1E-8,50801.000000009997]
["",null,null,null,null,null,"ضريب",null,"بهاي واحد","مقـدار","واحــد","ماشين آلات ",null,null,"رديف",{"$f":"COUNTIF($S$1:S1555,Q1555+R1555)","v":0},"050801",9.9999999999999995E-7,""]
[50801.000001,null,6.6669999999999989E-4,1,743.01448219999986,null,1,null,1114466,6.6669999999999989E-4,"دستگاه ساعت","جرثقیل خودرو چرخ زنجیری حدود40 تن با راننده",24010405,null,1,{"$f":"COUNTIF($S$1:S1556,Q1556+R1556)","v":1},"050801",9.9999999999999995E-7,50801.000001]
["",null,null,null,null,null,null,null,null,null,null,null,null,"050802",null,{"$f":"COUNTIF($S$1:S1557,Q1557+R1557)","v":0},"050802",9.9999999999999995E-7,""]
["",null,null,null,null,null,null,null,null,null,null,"مترمكعب",null,null,"واحـد :",{"$f":"COUNTIF($S$1:S1558,Q1558+R1558)","v":0},"050802",9.9999999999999995E-7,""]
["",null,null,null,null,null,"ضريب",null,"بهاي واحد","مقـدار","واحــد","نيروي انساني ",null,null,"رديف",{"$f":"COUNTIF($S$1:S1559,Q1559+R1559)","v":0},"050802",1E-8,""]
[50802.000000009997,null,0.2,1,11402.6,null,1,null,57013,0.2,"نفر- ساعت","كارگر ساده",14010102,null,1,{"$f":"COUNTIF($S$1:S1560,Q1560+R1560)","v":1},"050802",1E-8,50802.000000009997]
[50802.000000020002,null,0.1,1,13296.5,null,1,null,132965,0.1,"نفر ساعت","حفار درجه یک شمع های درجا",14250201,null,2,{"$f":"COUNTIF($S$1:S1561,Q1561+R1561)","v":2},"050802",1E-8,50802.000000009997]
[50802.000000029999,null,0.1,1,7556.2,null,1,null,75562,0.1,"نفر ساعت","کمک حفار شمع های درجا",14250203,null,3,{"$f":"COUNTIF($S$1:S1562,Q1562+R1562)","v":3},"050802",1E-8,50802.000000009997]
[50802.000000040003,null,0.3,1,19851.599999999999,null,1,null,66172,0.3,"نفر ساعت","کارگر حفاری",14250204,null,4,{"$f":"COUNTIF($S$1:S1563,Q1563+R1563)","v":4},{"$f":"IF(N1563>0,N1563,Q1562)","v":"050802"},1E-8,{"$f":"IF(M1563<>\"\",Q1563+R1563,\"\")","v":50802.000000009997}]
["",null,null,null,null,null,"ضريب",null,"بهاي واحد","مقـدار","واحــد","ماشين آلات ",null,null,"رديف",{"$f":"COUNTIF($S$1:S1564,Q1564+R1564)","v":0},"050802",9.9999999999999995E-7,""]
[50802.000001,null,0.1,1,44068,null,1,null,440680,0.1,"دستگاه ساعت","مخزن متحرک بتن تراک میکسر6 متر مکعبی با راننده",22020302,null,1,{"$f":"COUNTIF($S$1:S1565,Q1565+R1565)","v":1},"050802",9.9999999999999995E-7,50802.000001]
[50802.000002000001,null,0.1,1,111446.6,null,1,null,1114466,0.1,"دستگاه ساعت","جرثقیل خودرو چرخ زنجیری حدود40 تن با راننده",24010405,null,2,{"$f":"COUNTIF($S$1:S1566,Q1566+R1566)","v":2},"050802",9.9999999999999995E-7,50802.000001]
[50802.000003000001,null,0.1,1,851.1,null,1,null,8511,0.1,"دستگاه ساعت","لوازم بتن ریزی شمع شامل لوله ترمی قیف و سایر متعلقات",28990701,null,3,{"$f":"COUNTIF($S$1:S1567,Q1567+R1567)","v":3},"050802",9.9999999999999995E-7,50802.000001]
["",null,null,null,null,null,"ضريب",null,"بهاي واحد","مقـدار","واحــد","مصالح",null,null,"رديف",{"$f":"COUNTIF($S$1:S1568,Q1568+R1568)","v":0},"050802",1E-4,""]
[50802.000099999997,null,0.1,1,125.3,null,1,null,1253,0.1,"مترمكعب","آب رودخانه",31010201,null,1,{"$f":"COUNTIF($S$1:S1569,Q1569+R1569)","v":1},"050802",1E-4,50802.000099999997]
[50802.000200000002,null,0.1,1,947.1,null,1,null,9471,0.1,"مترمكعب","آب چاه و قنات",31010301,null,2,{"$f":"COUNTIF($S$1:S1570,Q1570+R1570)","v":2},"050802",1E-4,50802.000099999997]
["",null,null,null,null,null,null,null,null,null,null,null,null,"051001",null,{"$f":"COUNTIF($S$1:S1571,Q1571+R1571)","v":0},"051001",1E-4,""]
["",null,null,null,null,null,null,null,null,null,null,"متر طول",null,null,"واحـد :",{"$f":"COUNTIF($S$1:S1572,Q1572+R1572)","v":0},"051001",1E-4,""]
["",null,null,null,null,null,"ضريب",null,"بهاي واحد","مقـدار","واحــد","نيروي انساني ",null,null,"رديف",{"$f":"COUNTIF($S$1:S1573,Q1573+R1573)","v":0},"051001",1E-8,""]
[51001.000000009997,null,0.14169999999999999,1,15601.878500000001,null,1,null,110105,0.14169999999999999,"نفر ساعت","متصدی دستگاه شمع کوبی",13031201,null,1,{"$f":"COUNTIF($S$1:S1574,Q1574+R1574)","v":1},"051001",1E-8,51001.000000009997]
[51001.000000020002,null,5.6669999999999998E-2,1,3230.9267099999997,null,1,null,57013,5.6669999999999998E-2,"نفر- ساعت","كارگر ساده",14010102,null,2,{"$f":"COUNTIF($S$1:S1575,Q1575+R1575)","v":2},"051001",1E-8,51001.000000009997]
[51001.000000029999,null,0.14169999999999999,1,23895.012699999999,null,1,null,168631,0.14169999999999999,"نفر- ساعت","تکنیسین عملیات حفاری و شمعکوبی",14250101,null,3,{"$f":"COUNTIF($S$1:S1576,Q1576+R1576)","v":3},"051001",1E-8,51001.000000009997]
[51001.000000040003,null,0.14169999999999999,1,9376.5723999999991,null,1,null,66172,0.14169999999999999,"نفر ساعت","کارگر شمع کوبی",14250301,null,4,{"$f":"COUNTIF($S$1:S1577,Q1577+R1577)","v":4},"051001",1E-8,51001.000000009997]
["",null,null,null,null,null,"ضريب",null,"بهاي واحد","مقـدار","واحــد","ماشين آلات ",null,null,"رديف",{"$f":"COUNTIF($S$1:S1578,Q1578+R1578)","v":0},"051001",9.9999999999999995E-7,""]
[51001.000001,null,1.417E-2,1,1489.0686200000002,null,1,null,105086,1.417E-2,"دستگاه ساعت","تراکتور جفت دیفرانسیل با راننده",23020802,null,1,{"$f":"COUNTIF($S$1:S1579,Q1579+R1579)","v":1},"051001",9.9999999999999995E-7,51001.000001]
[51001.000002000001,null,1.417E-2,1,842.23645999999997,null,1,null,59438,1.417E-2,"دستگاه ساعت","تريلر کفي به ظرفيت حدود10 تن بدون کشنده",23020902,null,2,{"$f":"COUNTIF($S$1:S1580,Q1580+R1580)","v":2},"051001",9.9999999999999995E-7,51001.000001]
[51001.000003000001,null,1.417E-2,1,4136.0954700000002,null,1,null,291891,1.417E-2,"دستگاه ساعت","جرثقیل کفی5 تن با کامیون10 تن با راننده",24010104,null,3,{"$f":"COUNTIF($S$1:S1581,Q1581+R1581)","v":3},"051001",9.9999999999999995E-7,51001.000001]
[51001.000004000001,null,0.14169999999999999,1,97759.821899999995,null,1,null,689907,0.14169999999999999,"دستگاه ساعت","جرثقیل خودرو چرخ زنجیری حدود30 تن با راننده",24010404,null,4,{"$f":"COUNTIF($S$1:S1582,Q1582+R1582)","v":4},"051001",9.9999999999999995E-7,51001.000001]
[51001.000005000002,null,0.14169999999999999,1,29467.932000000001,null,1,null,207960,0.14169999999999999,"دستگاه-ساعت","دستگاه شمع کوب به ظرفیت حدود5  تن",25020703,null,5,{"$f":"COUNTIF($S$1:S1583,Q1583+R1583)","v":5},"051001",9.9999999999999995E-7,51001.000001]
[51001.000006000002,null,0.14169999999999999,1,18733.165099999998,null,1,null,132203,0.14169999999999999,"دستگاه ساعت","کمپرسور با ظرفیت حدود7 متر مکعب در دقیقه (250 سی اف ام ) با شیلنگ مربوط",25040103,null,6,{"$f":"COUNTIF($S$1:S1584,Q1584+R1584)","v":6},"051001",9.9999999999999995E-7,51001.000001]
["",null,null,null,null,null,null,null,null,null,null,null,null,"051002",null,{"$f":"COUNTIF($S$1:S1585,Q1585+R1585)","v":0},"051002",9.9999999999999995E-7,""]
["",null,null,null,null,null,null,null,null,null,null,"متر طول",null,null,"واحـد :",{"$f":"COUNTIF($S$1:S1586,Q1586+R1586)","v":0},"051002",9.9999999999999995E-7,""]
["",null,null,null,null,null,"ضريب",null,"بهاي واحد","مقـدار","واحــد","نيروي انساني ",null,null,"رديف",{"$f":"COUNTIF($S$1:S1587,Q1587+R1587)","v":0},"051002",1E-8,""]
[51002.000000009997,null,0.21260000000000001,1,23408.323000000004,null,1,null,110105,0.21260000000000001,"نفر ساعت","متصدی دستگاه شمع کوبی",13031201,null,1,{"$f":"COUNTIF($S$1:S1588,Q1588+R1588)","v":1},"051002",1E-8,51002.000000009997]
[51002.000000020002,null,8.5000000000000006E-2,1,4846.1049999999996,null,1,null,57013,8.5000000000000006E-2,"نفر- ساعت","كارگر ساده",14010102,null,2,{"$f":"COUNTIF($S$1:S1589,Q1589+R1589)","v":2},"051002",1E-8,51002.000000009997]
[51002.000000029999,null,0.21260000000000001,1,35850.950600000004,null,1,null,168631,0.21260000000000001,"نفر- ساعت","تکنیسین عملیات حفاری و شمعکوبی",14250101,null,3,{"$f":"COUNTIF($S$1:S1590,Q1590+R1590)","v":3},"051002",1E-8,51002.000000009997]
[51002.000000040003,null,0.21260000000000001,1,14068.1672,null,1,null,66172,0.21260000000000001,"نفر ساعت","کارگر شمع کوبی",14250301,null,4,{"$f":"COUNTIF($S$1:S1591,Q1591+R1591)","v":4},"051002",1E-8,51002.000000009997]
["",null,null,null,null,null,"ضريب",null,"بهاي واحد","مقـدار","واحــد","ماشين آلات ",null,null,"رديف",{"$f":"COUNTIF($S$1:S1592,Q1592+R1592)","v":0},"051002",9.9999999999999995E-7,""]
[51002.000001,null,2.1299999999999999E-2,1,2238.3317999999999,null,1,null,105086,2.1299999999999999E-2,"دستگاه ساعت","تراکتور جفت دیفرانسیل با راننده",23020802,null,1,{"$f":"COUNTIF($S$1:S1593,Q1593+R1593)","v":1},"051002",9.9999999999999995E-7,51002.000001]
[51002.000002000001,null,2.1299999999999999E-2,1,1266.0294000000001,null,1,null,59438,2.1299999999999999E-2,"دستگاه ساعت","تريلر کفي به ظرفيت حدود10 تن بدون کشنده",23020902,null,2,{"$f":"COUNTIF($S$1:S1594,Q1594+R1594)","v":2},"051002",9.9999999999999995E-7,51002.000001]
[51002.000003000001,null,2.1299999999999999E-2,1,6217.2782999999999,null,1,null,291891,2.1299999999999999E-2,"دستگاه ساعت","جرثقیل کفی5 تن با کامیون10 تن با راننده",24010104,null,3,{"$f":"COUNTIF($S$1:S1595,Q1595+R1595)","v":3},"051002",9.9999999999999995E-7,51002.000001]
[51002.000004000001,null,0.21260000000000001,1,146674.22820000001,null,1,null,689907,0.21260000000000001,"دستگاه ساعت","جرثقیل خودرو چرخ زنجیری حدود30 تن با راننده",24010404,null,4,{"$f":"COUNTIF($S$1:S1596,Q1596+R1596)","v":4},"051002",9.9999999999999995E-7,51002.000001]
[51002.000005000002,null,0.21260000000000001,1,44212.296000000002,null,1,null,207960,0.21260000000000001,"دستگاه-ساعت","دستگاه شمع کوب به ظرفیت حدود5  تن",25020703,null,5,{"$f":"COUNTIF($S$1:S1597,Q1597+R1597)","v":5},"051002",9.9999999999999995E-7,51002.000001]
[51002.000006000002,null,0.21260000000000001,1,28106.357799999998,null,1,null,132203,0.21260000000000001,"دستگاه ساعت","کمپرسور با ظرفیت حدود7 متر مکعب در دقیقه (250 سی اف ام ) با شیلنگ مربوط",25040103,null,6,{"$f":"COUNTIF($S$1:S1598,Q1598+R1598)","v":6},"051002",9.9999999999999995E-7,51002.000001]
["",null,null,null,null,null,null,null,null,null,null,null,null,"051003",null,{"$f":"COUNTIF($S$1:S1599,Q1599+R1599)","v":0},"051003",9.9999999999999995E-7,""]
["",null,null,null,null,null,null,null,null,null,null,"متر طول",null,null,"واحـد :",{"$f":"COUNTIF($S$1:S1600,Q1600+R1600)","v":0},"051003",9.9999999999999995E-7,""]
["",null,null,null,null,null,"ضريب",null,"بهاي واحد","مقـدار","واحــد","نيروي انساني ",null,null,"رديف",{"$f":"COUNTIF($S$1:S1601,Q1601+R1601)","v":0},"051003",1E-8,""]
[51003.000000009997,null,0.2833,1,31192.746499999997,null,1,null,110105,0.2833,"نفر ساعت","متصدی دستگاه شمع کوبی",13031201,null,1,{"$f":"COUNTIF($S$1:S1602,Q1602+R1602)","v":1},"051003",1E-8,51003.000000009997]
[51003.000000020002,null,5.67E-2,1,3232.6371000000004,null,1,null,57013,5.67E-2,"نفر- ساعت","كارگر ساده",14010102,null,2,{"$f":"COUNTIF($S$1:S1603,Q1603+R1603)","v":2},"051003",1E-8,51003.000000009997]
[51003.000000029999,null,0.2833,1,47773.162300000004,null,1,null,168631,0.2833,"نفر- ساعت","تکنیسین عملیات حفاری و شمعکوبی",14250101,null,3,{"$f":"COUNTIF($S$1:S1604,Q1604+R1604)","v":3},"051003",1E-8,51003.000000009997]
[51003.000000040003,null,0.2833,1,18746.527600000001,null,1,null,66172,0.2833,"نفر ساعت","کارگر شمع کوبی",14250301,null,4,{"$f":"COUNTIF($S$1:S1605,Q1605+R1605)","v":4},"051003",1E-8,51003.000000009997]
["",null,null,null,null,null,"ضريب",null,"بهاي واحد","مقـدار","واحــد","ماشين آلات ",null,null,"رديف",{"$f":"COUNTIF($S$1:S1606,Q1606+R1606)","v":0},"051003",9.9999999999999995E-7,""]
[51003.000001,null,1.417E-2,1,1489.0686200000002,null,1,null,105086,1.417E-2,"دستگاه ساعت","تراکتور جفت دیفرانسیل با راننده",23020802,null,1,{"$f":"COUNTIF($S$1:S1607,Q1607+R1607)","v":1},"051003",{"$f":"IF(IF(O1607=\"رديف\",VLOOKUP(L1607,Kod,2,0),0)=0,R1606,IF(O1607=\"رديف\",VLOOKUP(L1607,Kod,2,0),0))","v":9.9999999999999995E-7},51003.000001]
[51003.000002000001,null,1.417E-2,1,842.23645999999997,null,1,null,59438,1.417E-2,"دستگاه ساعت","تريلر کفي به ظرفيت حدود10 تن بدون کشنده",23020902,null,2,{"$f":"COUNTIF($S$1:S1608,Q1608+R1608)","v":2},"051003",9.9999999999999995E-7,51003.000001]
[{"$f":"IF(M1609<>\"\",Q1609+(P1609*R1609),\"\")","v":51003.000003000001},null,1.417E-2,1,4136.0954700000002,null,1,null,291891,1.417E-2,"دستگاه ساعت","جرثقیل کفی5 تن با کامیون10 تن با راننده",24010104,null,3,{"$f":"COUNTIF($S$1:S1609,Q1609+R1609)","v":3},"051003",9.9999999999999995E-7,51003.000001]
[51003.000004000001,null,0.2833,1,195450.6531,null,1,null,689907,0.2833,"دستگاه ساعت","جرثقیل خودرو چرخ زنجیری حدود30 تن با راننده",24010404,null,4,{"$f":"COUNTIF($S$1:S1610,Q1610+R1610)","v":4},"051003",9.9999999999999995E-7,51003.000001]
[51003.000005000002,null,0.2833,1,58915.067999999999,null,1,null,207960,0.2833,"دستگاه-ساعت","دستگاه شمع کوب به ظرفیت حدود5  تن",25020703,null,5,{"$f":"COUNTIF($S$1:S1611,Q1611+R1611)","v":5},"051003",9.9999999999999995E-7,51003.000001]
[51003.000006000002,null,0.2833,1,37453.109900000003,null,1,null,132203,0.2833,"دستگاه ساعت","کمپرسور با ظرفیت حدود7 متر مکعب در دقیقه (250 سی اف ام ) با شیلنگ مربوط",25040103,null,6,{"$f":"COUNTIF($S$1:S1612,Q1612+R1612)","v":6},"051003",9.9999999999999995E-7,51003.000001]
["",null,null,null,null,null,null,null,null,null,null,null,null,"051004",null,{"$f":"COUNTIF($S$1:S1613,Q1613+R1613)","v":0},"051004",9.9999999999999995E-7,""]
["",null,null,null,null,null,null,null,null,null,null,"متر طول",null,null,"واحـد :",{"$f":"COUNTIF($S$1:S1614,Q1614+R1614)","v":0},"051004",9.9999999999999995E-7,""]
["",null,null,null,null,null,"ضريب",null,"بهاي واحد","مقـدار","واحــد","نيروي انساني ",null,null,"رديف",{"$f":"COUNTIF($S$1:S1615,Q1615+R1615)","v":0},"051004",1E-8,""]
[51004.000000009997,null,0.42499999999999999,1,46794.625,null,1,null,110105,0.42499999999999999,"نفر ساعت","متصدی دستگاه شمع کوبی",13031201,null,1,{"$f":"COUNTIF($S$1:S1616,Q1616+R1616)","v":1},"051004",1E-8,51004.000000009997]
[51004.000000020002,null,8.5009999999999988E-2,1,4846.6751299999996,null,1,null,57013,8.5009999999999988E-2,"نفر- ساعت","كارگر ساده",14010102,null,2,{"$f":"COUNTIF($S$1:S1617,Q1617+R1617)","v":2},"051004",1E-8,51004.000000009997]
[51004.000000029999,null,0.42499999999999999,1,71668.175000000003,null,1,null,168631,0.42499999999999999,"نفر- ساعت","تکنیسین عملیات حفاری و شمعکوبی",14250101,null,3,{"$f":"COUNTIF($S$1:S1618,Q1618+R1618)","v":3},"051004",1E-8,51004.000000009997]
[51004.000000040003,null,0.42499999999999999,1,28123.1,null,1,null,66172,0.42499999999999999,"نفر ساعت","کارگر شمع کوبی",14250301,null,4,{"$f":"COUNTIF($S$1:S1619,Q1619+R1619)","v":4},"051004",1E-8,51004.000000009997]
["",null,null,null,null,null,"ضريب",null,"بهاي واحد","مقـدار","واحــد","ماشين آلات ",null,null,"رديف",{"$f":"COUNTIF($S$1:S1620,Q1620+R1620)","v":0},"051004",9.9999999999999995E-7,""]
[51004.000001,null,2.1299999999999999E-2,1,2238.3317999999999,null,1,null,105086,2.1299999999999999E-2,"دستگاه ساعت","تراکتور جفت دیفرانسیل با راننده",23020802,null,1,{"$f":"COUNTIF($S$1:S1621,Q1621+R1621)","v":1},"051004",9.9999999999999995E-7,51004.000001]
[51004.000002000001,null,2.1299999999999999E-2,1,1266.0294000000001,null,1,null,59438,2.1299999999999999E-2,"دستگاه ساعت","تريلر کفي به ظرفيت حدود10 تن بدون کشنده",23020902,null,2,{"$f":"COUNTIF($S$1:S1622,Q1622+R1622)","v":2},"051004",9.9999999999999995E-7,51004.000001]
[51004.000003000001,null,2.1299999999999999E-2,1,6217.2782999999999,null,1,null,291891,2.1299999999999999E-2,"دستگاه ساعت","جرثقیل کفی5 تن با کامیون10 تن با راننده",24010104,null,3,{"$f":"COUNTIF($S$1:S1623,Q1623+R1623)","v":3},"051004",9.9999999999999995E-7,51004.000001]
[51004.000004000001,null,0.42499999999999999,1,293210.47499999998,null,1,null,689907,0.42499999999999999,"دستگاه ساعت","جرثقیل خودرو چرخ زنجیری حدود30 تن با راننده",24010404,null,4,{"$f":"COUNTIF($S$1:S1624,Q1624+R1624)","v":4},"051004",9.9999999999999995E-7,51004.000001]
[51004.000005000002,null,0.42499999999999999,1,88383,null,1,null,207960,0.42499999999999999,"دستگاه-ساعت","دستگاه شمع کوب به ظرفیت حدود5  تن",25020703,null,5,{"$f":"COUNTIF($S$1:S1625,Q1625+R1625)","v":5},"051004",9.9999999999999995E-7,51004.000001]
[51004.000006000002,null,0.42499999999999999,1,56186.275000000001,null,1,null,132203,0.42499999999999999,"دستگاه ساعت","کمپرسور با ظرفیت حدود7 متر مکعب در دقیقه (250 سی اف ام ) با شیلنگ مربوط",25040103,null,6,{"$f":"COUNTIF($S$1:S1626,Q1626+R1626)","v":6},"051004",9.9999999999999995E-7,51004.000001]
["",null,null,null,null,null,null,null,null,null,null,null,null,"051101",null,{"$f":"COUNTIF($S$1:S1627,Q1627+R1627)","v":0},{"$f":"IF(N1627>0,N1627,Q1626)","v":"051101"},9.9999999999999995E-7,{"$f":"IF(M1627<>\"\",Q1627+R1627,\"\")","v":""}]
["",null,null,null,null,null,null,null,null,null,null,"متر طول",null,null,"واحـد :",{"$f":"COUNTIF($S$1:S1628,Q1628+R1628)","v":0},"051101",9.9999999999999995E-7,""]
["",null,null,null,null,null,"ضريب",null,"بهاي واحد","مقـدار","واحــد","نيروي انساني ",null,null,"رديف",{"$f":"COUNTIF($S$1:S1629,Q1629+R1629)","v":0},"051101",1E-8,""]
[51101.000000009997,null,0.78,1,69147.78,null,1,null,88651,0.78,"نفر ساعت","جوشکار درجه دو",13010402,null,1,{"$f":"COUNTIF($S$1:S1630,Q1630+R1630)","v":1},"051101",1E-8,51101.000000009997]
[51101.000000020002,null,5.5E-2,1,6055.7749999999996,null,1,null,110105,5.5E-2,"نفر ساعت","متصدی دستگاه شمع کوبی",13031201,null,2,{"$f":"COUNTIF($S$1:S1631,Q1631+R1631)","v":2},"051101",1E-8,51101.000000009997]
[51101.000000029999,null,5.5E-2,1,9274.7049999999999,null,1,null,168631,5.5E-2,"نفر- ساعت","تکنیسین عملیات حفاری و شمعکوبی",14250101,null,3,{"$f":"COUNTIF($S$1:S1632,Q1632+R1632)","v":3},"051101",1E-8,51101.000000009997]
["",null,null,null,null,null,"ضريب",null,"بهاي واحد","مقـدار","واحــد","ماشين آلات ",null,null,"رديف",{"$f":"COUNTIF($S$1:S1633,Q1633+R1633)","v":0},"051101",9.9999999999999995E-7,""]
[51101.000001,null,5.5E-2,1,37944.885000000002,null,1,null,689907,5.5E-2,"دستگاه ساعت","جرثقیل خودرو چرخ زنجیری حدود30 تن با راننده",24010404,null,1,{"$f":"COUNTIF($S$1:S1634,Q1634+R1634)","v":1},"051101",9.9999999999999995E-7,51101.000001]
[51101.000002000001,null,5.5E-2,1,11437.8,null,1,null,207960,5.5E-2,"دستگاه-ساعت","دستگاه شمع کوب به ظرفیت حدود5  تن",25020703,null,2,{"$f":"COUNTIF($S$1:S1635,Q1635+R1635)","v":2},"051101",9.9999999999999995E-7,51101.000001]
[51101.000003000001,null,5.5E-2,1,7271.165,null,1,null,132203,5.5E-2,"دستگاه ساعت","کمپرسور با ظرفیت حدود7 متر مکعب در دقیقه (250 سی اف ام ) با شیلنگ مربوط",25040103,null,3,{"$f":"COUNTIF($S$1:S1636,Q1636+R1636)","v":3},"051101",9.9999999999999995E-7,51101.000001]
[51101.000004000001,null,0.78,1,27672.84,null,1,null,35478,0.78,"دستگاه ساعت","موتور جوش150 تا250 آمپر",26020502,null,4,{"$f":"COUNTIF($S$1:S1637,Q1637+R1637)","v":4},"051101",9.9999999999999995E-7,51101.000001]
["",null,null,null,null,null,"ضريب",null,"بهاي واحد","مقـدار","واحــد","مصالح",null,null,"رديف",{"$f":"COUNTIF($S$1:S1638,Q1638+R1638)","v":0},"051101",1E-4,""]
[51101.000099999997,null,0.56999999999999995,1,25376.399999999994,null,1,null,44520,0.56999999999999995,"كیلوگرم","الکترود",39120101,null,1,{"$f":"COUNTIF($S$1:S1639,Q1639+R1639)","v":1},"051101",1E-4,51101.000099999997]
["",null,null,null,null,null,null,null,null,null,null,null,null,"051102",null,{"$f":"COUNTIF($S$1:S1640,Q1640+R1640)","v":0},"051102",1E-4,""]
["",null,null,null,null,null,null,null,null,null,null,"متر طول",null,null,"واحـد :",{"$f":"COUNTIF($S$1:S1641,Q1641+R1641)","v":0},"051102",1E-4,""]
["",null,null,null,null,null,"ضريب",null,"بهاي واحد","مقـدار","واحــد","نيروي انساني ",null,null,"رديف",{"$f":"COUNTIF($S$1:S1642,Q1642+R1642)","v":0},"051102",1E-8,""]
[51102.000000009997,null,0.8,1,70920.800000000003,null,1,null,88651,0.8,"نفر ساعت","جوشکار درجه دو",13010402,null,1,{"$f":"COUNTIF($S$1:S1643,Q1643+R1643)","v":1},"051102",1E-8,51102.000000009997]
[51102.000000020002,null,8.5000000000000006E-2,1,9358.9249999999993,null,1,null,110105,8.5000000000000006E-2,"نفر ساعت","متصدی دستگاه شمع کوبی",13031201,null,2,{"$f":"COUNTIF($S$1:S1644,Q1644+R1644)","v":2},"051102",1E-8,51102.000000009997]
[51102.000000029999,null,8.5000000000000006E-2,1,14333.635,null,1,null,168631,8.5000000000000006E-2,"نفر- ساعت","تکنیسین عملیات حفاری و شمعکوبی",14250101,null,3,{"$f":"COUNTIF($S$1:S1645,Q1645+R1645)","v":3},"051102",1E-8,51102.000000009997]
["",null,null,null,null,null,"ضريب",null,"بهاي واحد","مقـدار","واحــد","ماشين آلات ",null,null,"رديف",{"$f":"COUNTIF($S$1:S1646,Q1646+R1646)","v":0},"051102",9.9999999999999995E-7,""]
[51102.000001,null,8.5000000000000006E-2,1,58642.095000000001,null,1,null,689907,8.5000000000000006E-2,"دستگاه ساعت","جرثقیل خودرو چرخ زنجیری حدود30 تن با راننده",24010404,null,1,{"$f":"COUNTIF($S$1:S1647,Q1647+R1647)","v":1},"051102",9.9999999999999995E-7,51102.000001]
[51102.000002000001,null,8.5000000000000006E-2,1,17676.599999999999,null,1,null,207960,8.5000000000000006E-2,"دستگاه-ساعت","دستگاه شمع کوب به ظرفیت حدود5  تن",25020703,null,2,{"$f":"COUNTIF($S$1:S1648,Q1648+R1648)","v":2},"051102",9.9999999999999995E-7,51102.000001]
[51102.000003000001,null,8.5000000000000006E-2,1,11237.254999999999,null,1,null,132203,8.5000000000000006E-2,"دستگاه ساعت","کمپرسور با ظرفیت حدود7 متر مکعب در دقیقه (250 سی اف ام ) با شیلنگ مربوط",25040103,null,3,{"$f":"COUNTIF($S$1:S1649,Q1649+R1649)","v":3},"051102",9.9999999999999995E-7,51102.000001]
[51102.000004000001,null,0.8,1,28382.400000000001,null,1,null,35478,0.8,"دستگاه ساعت","موتور جوش150 تا250 آمپر",26020502,null,4,{"$f":"COUNTIF($S$1:S1650,Q1650+R1650)","v":4},"051102",9.9999999999999995E-7,51102.000001]
["",null,null,null,null,null,"ضريب",null,"بهاي واحد","مقـدار","واحــد","مصالح",null,null,"رديف",{"$f":"COUNTIF($S$1:S1651,Q1651+R1651)","v":0},"051102",1E-4,""]
[51102.000099999997,null,0.55000000000000004,1,24486.000000000004,null,1,null,44520,0.55000000000000004,"كیلوگرم","الکترود",39120101,null,1,{"$f":"COUNTIF($S$1:S1652,Q1652+R1652)","v":1},"051102",1E-4,51102.000099999997]
["",null,null,null,null,null,null,null,null,null,null,null,null,"051103",null,{"$f":"COUNTIF($S$1:S1653,Q1653+R1653)","v":0},"051103",1E-4,""]
["",null,null,null,null,null,null,null,null,null,null,"متر طول",null,null,"واحـد :",{"$f":"COUNTIF($S$1:S1654,Q1654+R1654)","v":0},"051103",1E-4,""]
["",null,null,null,null,null,"ضريب",null,"بهاي واحد","مقـدار","واحــد","نيروي انساني ",null,null,"رديف",{"$f":"COUNTIF($S$1:S1655,Q1655+R1655)","v":0},"051103",1E-8,""]
[51103.000000009997,null,1,1,88651,null,1,null,88651,1,"نفر ساعت","جوشکار درجه دو",13010402,null,1,{"$f":"COUNTIF($S$1:S1656,Q1656+R1656)","v":1},"051103",1E-8,51103.000000009997]
[51103.000000020002,null,0.14169999999999999,1,15601.878500000001,null,1,null,110105,0.14169999999999999,"نفر ساعت","متصدی دستگاه شمع کوبی",13031201,null,2,{"$f":"COUNTIF($S$1:S1657,Q1657+R1657)","v":2},"051103",1E-8,51103.000000009997]
[51103.000000029999,null,0.14169999999999999,1,23895.012699999999,null,1,null,168631,0.14169999999999999,"نفر- ساعت","تکنیسین عملیات حفاری و شمعکوبی",14250101,null,3,{"$f":"COUNTIF($S$1:S1658,Q1658+R1658)","v":3},"051103",1E-8,51103.000000009997]
["",null,null,null,null,null,"ضريب",null,"بهاي واحد","مقـدار","واحــد","ماشين آلات ",null,null,"رديف",{"$f":"COUNTIF($S$1:S1659,Q1659+R1659)","v":0},"051103",9.9999999999999995E-7,""]
[51103.000001,null,0.14169999999999999,1,97759.821899999995,null,1,null,689907,0.14169999999999999,"دستگاه ساعت","جرثقیل خودرو چرخ زنجیری حدود30 تن با راننده",24010404,null,1,{"$f":"COUNTIF($S$1:S1660,Q1660+R1660)","v":1},"051103",9.9999999999999995E-7,51103.000001]
[51103.000002000001,null,0.14169999999999999,1,29467.932000000001,null,1,null,207960,0.14169999999999999,"دستگاه-ساعت","دستگاه شمع کوب به ظرفیت حدود5  تن",25020703,null,2,{"$f":"COUNTIF($S$1:S1661,Q1661+R1661)","v":2},"051103",9.9999999999999995E-7,51103.000001]
[51103.000003000001,null,0.14169999999999999,1,18733.165099999998,null,1,null,132203,0.14169999999999999,"دستگاه ساعت","کمپرسور با ظرفیت حدود7 متر مکعب در دقیقه (250 سی اف ام ) با شیلنگ مربوط",25040103,null,3,{"$f":"COUNTIF($S$1:S1662,Q1662+R1662)","v":3},"051103",9.9999999999999995E-7,51103.000001]
[51103.000004000001,null,1,1,35478,null,1,null,35478,1,"دستگاه ساعت","موتور جوش150 تا250 آمپر",26020502,null,4,{"$f":"COUNTIF($S$1:S1663,Q1663+R1663)","v":4},"051103",9.9999999999999995E-7,51103.000001]
["",null,null,null,null,null,"ضريب",null,"بهاي واحد","مقـدار","واحــد","مصالح",null,null,"رديف",{"$f":"COUNTIF($S$1:S1664,Q1664+R1664)","v":0},"051103",1E-4,""]
[51103.000099999997,null,0.67,1,29828.400000000001,null,1,null,44520,0.67,"كیلوگرم","الکترود",39120101,null,1,{"$f":"COUNTIF($S$1:S1665,Q1665+R1665)","v":1},"051103",1E-4,51103.000099999997]
["",null,null,null,null,null,null,null,null,null,null,null,null,"051104",null,{"$f":"COUNTIF($S$1:S1666,Q1666+R1666)","v":0},"051104",1E-4,""]
["",null,null,null,null,null,null,null,null,null,null,"متر طول",null,null,"واحـد :",{"$f":"COUNTIF($S$1:S1667,Q1667+R1667)","v":0},"051104",1E-4,""]
["",null,null,null,null,null,"ضريب",null,"بهاي واحد","مقـدار","واحــد","نيروي انساني ",null,null,"رديف",{"$f":"COUNTIF($S$1:S1668,Q1668+R1668)","v":0},"051104",1E-8,""]
[51104.000000009997,null,1,1,88651,null,1,null,88651,1,"نفر ساعت","جوشکار درجه دو",13010402,null,1,{"$f":"COUNTIF($S$1:S1669,Q1669+R1669)","v":1},"051104",1E-8,51104.000000009997]
[51104.000000020002,null,0.21249999999999999,1,23397.3125,null,1,null,110105,0.21249999999999999,"نفر ساعت","متصدی دستگاه شمع کوبی",13031201,null,2,{"$f":"COUNTIF($S$1:S1670,Q1670+R1670)","v":2},"051104",1E-8,51104.000000009997]
[51104.000000029999,null,0.21249999999999999,1,35834.087500000001,null,1,null,168631,0.21249999999999999,"نفر- ساعت","تکنیسین عملیات حفاری و شمعکوبی",14250101,null,3,{"$f":"COUNTIF($S$1:S1671,Q1671+R1671)","v":3},"051104",{"$f":"IF(IF(O1671=\"رديف\",VLOOKUP(L1671,Kod,2,0),0)=0,R1670,IF(O1671=\"رديف\",VLOOKUP(L1671,Kod,2,0),0))","v":1E-8},51104.000000009997]
["",null,null,null,null,null,"ضريب",null,"بهاي واحد","مقـدار","واحــد","ماشين آلات ",null,null,"رديف",{"$f":"COUNTIF($S$1:S1672,Q1672+R1672)","v":0},"051104",9.9999999999999995E-7,""]
[{"$f":"IF(M1673<>\"\",Q1673+(P1673*R1673),\"\")","v":51104.000001},null,0.21249999999999999,1,146605.23749999999,null,1,null,689907,0.21249999999999999,"دستگاه ساعت","جرثقیل خودرو چرخ زنجیری حدود30 تن با راننده",24010404,null,1,{"$f":"COUNTIF($S$1:S1673,Q1673+R1673)","v":1},"051104",9.9999999999999995E-7,51104.000001]
[51104.000002000001,null,0.21249999999999999,1,44191.5,null,1,null,207960,0.21249999999999999,"دستگاه-ساعت","دستگاه شمع کوب به ظرفیت حدود5  تن",25020703,null,2,{"$f":"COUNTIF($S$1:S1674,Q1674+R1674)","v":2},"051104",9.9999999999999995E-7,51104.000001]
[51104.000003000001,null,0.21249999999999999,1,28093.137500000001,null,1,null,132203,0.21249999999999999,"دستگاه ساعت","کمپرسور با ظرفیت حدود7 متر مکعب در دقیقه (250 سی اف ام ) با شیلنگ مربوط",25040103,null,3,{"$f":"COUNTIF($S$1:S1675,Q1675+R1675)","v":3},"051104",9.9999999999999995E-7,51104.000001]
[51104.000004000001,null,1,1,35478,null,1,null,35478,1,"دستگاه ساعت","موتور جوش150 تا250 آمپر",26020502,null,4,{"$f":"COUNTIF($S$1:S1676,Q1676+R1676)","v":4},"051104",9.9999999999999995E-7,51104.000001]
["",null,null,null,null,null,"ضريب",null,"بهاي واحد","مقـدار","واحــد","مصالح",null,null,"رديف",{"$f":"COUNTIF($S$1:S1677,Q1677+R1677)","v":0},"051104",1E-4,""]
[51104.000099999997,null,0.67,1,29828.400000000001,null,1,null,44520,0.67,"كیلوگرم","الکترود",39120101,null,1,{"$f":"COUNTIF($S$1:S1678,Q1678+R1678)","v":1},"051104",1E-4,51104.000099999997]
["",null,null,null,null,null,null,null,null,null,null,null,null,"051105",null,{"$f":"COUNTIF($S$1:S1679,Q1679+R1679)","v":0},"051105",1E-4,""]
["",null,null,null,null,null,null,null,null,null,null,"متر طول",null,null,"واحـد :",{"$f":"COUNTIF($S$1:S1680,Q1680+R1680)","v":0},"051105",1E-4,""]
["",null,null,null,null,null,"ضريب",null,"بهاي واحد","مقـدار","واحــد","نيروي انساني ",null,null,"رديف",{"$f":"COUNTIF($S$1:S1681,Q1681+R1681)","v":0},"051105",1E-8,""]
[51105.000000009997,null,2.1000000000000001E-2,1,2312.2049999999999,null,1,null,110105,2.1000000000000001E-2,"نفر ساعت","متصدی دستگاه شمع کوبی",13031201,null,1,{"$f":"COUNTIF($S$1:S1682,Q1682+R1682)","v":1},"051105",1E-8,51105.000000009997]
[51105.000000020002,null,2.1000000000000001E-2,1,3541.2509999999997,null,1,null,168631,2.1000000000000001E-2,"نفر- ساعت","تکنیسین عملیات حفاری و شمعکوبی",14250101,null,2,{"$f":"COUNTIF($S$1:S1683,Q1683+R1683)","v":2},"051105",1E-8,51105.000000009997]
[51105.000000029999,null,2.1000000000000001E-2,1,1389.6120000000001,null,1,null,66172,2.1000000000000001E-2,"نفر ساعت","کارگر شمع کوبی",14250301,null,3,{"$f":"COUNTIF($S$1:S1684,Q1684+R1684)","v":3},"051105",1E-8,51105.000000009997]
["",null,null,null,null,null,"ضريب",null,"بهاي واحد","مقـدار","واحــد","ماشين آلات ",null,null,"رديف",{"$f":"COUNTIF($S$1:S1685,Q1685+R1685)","v":0},"051105",9.9999999999999995E-7,""]
[51105.000001,null,2.1000000000000001E-2,1,14488.046999999999,null,1,null,689907,2.1000000000000001E-2,"دستگاه ساعت","جرثقیل خودرو چرخ زنجیری حدود30 تن با راننده",24010404,null,1,{"$f":"COUNTIF($S$1:S1686,Q1686+R1686)","v":1},"051105",9.9999999999999995E-7,51105.000001]
[51105.000002000001,null,2.1000000000000001E-2,1,4367.16,null,1,null,207960,2.1000000000000001E-2,"دستگاه-ساعت","دستگاه شمع کوب به ظرفیت حدود5  تن",25020703,null,2,{"$f":"COUNTIF($S$1:S1687,Q1687+R1687)","v":2},"051105",9.9999999999999995E-7,51105.000001]
[51105.000003000001,null,2.1000000000000001E-2,1,2776.2629999999999,null,1,null,132203,2.1000000000000001E-2,"دستگاه ساعت","کمپرسور با ظرفیت حدود7 متر مکعب در دقیقه (250 سی اف ام ) با شیلنگ مربوط",25040103,null,3,{"$f":"COUNTIF($S$1:S1688,Q1688+R1688)","v":3},"051105",9.9999999999999995E-7,51105.000001]
["",null,null,null,null,null,null,null,null,null,null,null,null,"051106",null,{"$f":"COUNTIF($S$1:S1689,Q1689+R1689)","v":0},"051106",9.9999999999999995E-7,""]
["",null,null,null,null,null,null,null,null,null,null,"متر طول",null,null,"واحـد :",{"$f":"COUNTIF($S$1:S1690,Q1690+R1690)","v":0},"051106",9.9999999999999995E-7,""]
["",null,null,null,null,null,"ضريب",null,"بهاي واحد","مقـدار","واحــد","نيروي انساني ",null,null,"رديف",{"$f":"COUNTIF($S$1:S1691,Q1691+R1691)","v":0},{"$f":"IF(N1691>0,N1691,Q1690)","v":"051106"},1E-8,{"$f":"IF(M1691<>\"\",Q1691+R1691,\"\")","v":""}]
[51106.000000009997,null,3.2000000000000001E-2,1,3523.36,null,1,null,110105,3.2000000000000001E-2,"نفر ساعت","متصدی دستگاه شمع کوبی",13031201,null,1,{"$f":"COUNTIF($S$1:S1692,Q1692+R1692)","v":1},"051106",1E-8,51106.000000009997]
[51106.000000020002,null,3.2000000000000001E-2,1,5396.1919999999991,null,1,null,168631,3.2000000000000001E-2,"نفر- ساعت","تکنیسین عملیات حفاری و شمعکوبی",14250101,null,2,{"$f":"COUNTIF($S$1:S1693,Q1693+R1693)","v":2},"051106",1E-8,51106.000000009997]
[51106.000000029999,null,3.2000000000000001E-2,1,2117.5039999999999,null,1,null,66172,3.2000000000000001E-2,"نفر ساعت","کارگر شمع کوبی",14250301,null,3,{"$f":"COUNTIF($S$1:S1694,Q1694+R1694)","v":3},"051106",1E-8,51106.000000009997]
["",null,null,null,null,null,"ضريب",null,"بهاي واحد","مقـدار","واحــد","ماشين آلات ",null,null,"رديف",{"$f":"COUNTIF($S$1:S1695,Q1695+R1695)","v":0},"051106",9.9999999999999995E-7,""]
[51106.000001,null,3.2000000000000001E-2,1,22077.023999999998,null,1,null,689907,3.2000000000000001E-2,"دستگاه ساعت","جرثقیل خودرو چرخ زنجیری حدود30 تن با راننده",24010404,null,1,{"$f":"COUNTIF($S$1:S1696,Q1696+R1696)","v":1},"051106",9.9999999999999995E-7,51106.000001]
[51106.000002000001,null,3.2000000000000001E-2,1,6654.72,null,1,null,207960,3.2000000000000001E-2,"دستگاه-ساعت","دستگاه شمع کوب به ظرفیت حدود5  تن",25020703,null,2,{"$f":"COUNTIF($S$1:S1697,Q1697+R1697)","v":2},"051106",9.9999999999999995E-7,51106.000001]
[51106.000003000001,null,3.2000000000000001E-2,1,4230.4960000000001,null,1,null,132203,3.2000000000000001E-2,"دستگاه ساعت","کمپرسور با ظرفیت حدود7 متر مکعب در دقیقه (250 سی اف ام ) با شیلنگ مربوط",25040103,null,3,{"$f":"COUNTIF($S$1:S1698,Q1698+R1698)","v":3},"051106",9.9999999999999995E-7,51106.000001]
["",null,null,null,null,null,null,null,null,null,null,null,null,"051107",null,{"$f":"COUNTIF($S$1:S1699,Q1699+R1699)","v":0},"051107",9.9999999999999995E-7,""]
["",null,null,null,null,null,null,null,null,null,null,"متر طول",null,null,"واحـد :",{"$f":"COUNTIF($S$1:S1700,Q1700+R1700)","v":0},"051107",9.9999999999999995E-7,""]
["",null,null,null,null,null,"ضريب",null,"بهاي واحد","مقـدار","واحــد","نيروي انساني ",null,null,"رديف",{"$f":"COUNTIF($S$1:S1701,Q1701+R1701)","v":0},"051107",1E-8,""]
[51107.000000009997,null,5.800000000000001E-2,1,6386.0900000000011,null,1,null,110105,5.800000000000001E-2,"نفر ساعت","متصدی دستگاه شمع کوبی",13031201,null,1,{"$f":"COUNTIF($S$1:S1702,Q1702+R1702)","v":1},"051107",1E-8,51107.000000009997]
[51107.000000020002,null,5.800000000000001E-2,1,9780.5980000000018,null,1,null,168631,5.800000000000001E-2,"نفر- ساعت","تکنیسین عملیات حفاری و شمعکوبی",14250101,null,2,{"$f":"COUNTIF($S$1:S1703,Q1703+R1703)","v":2},"051107",1E-8,51107.000000009997]
[51107.000000029999,null,5.800000000000001E-2,1,3837.976000000001,null,1,null,66172,5.800000000000001E-2,"نفر ساعت","کارگر شمع کوبی",14250301,null,3,{"$f":"COUNTIF($S$1:S1704,Q1704+R1704)","v":3},"051107",1E-8,51107.000000009997]
["",null,null,null,null,null,"ضريب",null,"بهاي واحد","مقـدار","واحــد","ماشين آلات ",null,null,"رديف",{"$f":"COUNTIF($S$1:S1705,Q1705+R1705)","v":0},"051107",9.9999999999999995E-7,""]
[51107.000001,null,5.800000000000001E-2,1,40014.606000000007,null,1,null,689907,5.800000000000001E-2,"دستگاه ساعت","جرثقیل خودرو چرخ زنجیری حدود30 تن با راننده",24010404,null,1,{"$f":"COUNTIF($S$1:S1706,Q1706+R1706)","v":1},"051107",9.9999999999999995E-7,51107.000001]
[51107.000002000001,null,5.800000000000001E-2,1,91086.680000000022,null,1,null,1570460,5.800000000000001E-2,"دستگاه ساعت","سپرکوب هیدرولیکی ویبره ای به قدرت کشش تا20 تن",25020601,null,2,{"$f":"COUNTIF($S$1:S1707,Q1707+R1707)","v":2},"051107",9.9999999999999995E-7,51107.000001]
[51107.000003000001,null,5.800000000000001E-2,1,7667.7740000000013,null,1,null,132203,5.800000000000001E-2,"دستگاه ساعت","کمپرسور با ظرفیت حدود7 متر مکعب در دقیقه (250 سی اف ام ) با شیلنگ مربوط",25040103,null,3,{"$f":"COUNTIF($S$1:S1708,Q1708+R1708)","v":3},"051107",9.9999999999999995E-7,51107.000001]
["",null,null,null,null,null,null,null,null,null,null,null,null,"051201",null,{"$f":"COUNTIF($S$1:S1709,Q1709+R1709)","v":0},"051201",9.9999999999999995E-7,""]
["",null,null,null,null,null,null,null,null,null,null,"متر طول",null,null,"واحـد :",{"$f":"COUNTIF($S$1:S1710,Q1710+R1710)","v":0},"051201",9.9999999999999995E-7,""]
["",null,null,null,null,null,"ضريب",null,"بهاي واحد","مقـدار","واحــد","نيروي انساني ",null,null,"رديف",{"$f":"COUNTIF($S$1:S1711,Q1711+R1711)","v":0},"051201",1E-8,""]
[51201.000000009997,null,0.2,1,22021,null,1,null,110105,0.2,"نفر ساعت","متصدی دستگاه شمع کوبی",13031201,null,1,{"$f":"COUNTIF($S$1:S1712,Q1712+R1712)","v":1},"051201",1E-8,51201.000000009997]
[51201.000000020002,null,9.0899999999999995E-2,1,5182.4817000000003,null,1,null,57013,9.0899999999999995E-2,"نفر- ساعت","كارگر ساده",14010102,null,2,{"$f":"COUNTIF($S$1:S1713,Q1713+R1713)","v":2},"051201",1E-8,51201.000000009997]
[51201.000000029999,null,0.2,1,33726.199999999997,null,1,null,168631,0.2,"نفر- ساعت","تکنیسین عملیات حفاری و شمعکوبی",14250101,null,3,{"$f":"COUNTIF($S$1:S1714,Q1714+R1714)","v":3},"051201",1E-8,51201.000000009997]
[51201.000000040003,null,0.2,1,13234.4,null,1,null,66172,0.2,"نفر ساعت","کارگر شمع کوبی",14250301,null,4,{"$f":"COUNTIF($S$1:S1715,Q1715+R1715)","v":4},"051201",1E-8,51201.000000009997]
["",null,null,null,null,null,"ضريب",null,"بهاي واحد","مقـدار","واحــد","ماشين آلات ",null,null,"رديف",{"$f":"COUNTIF($S$1:S1716,Q1716+R1716)","v":0},"051201",9.9999999999999995E-7,""]
[51201.000001,null,6.0600000000000008E-2,1,24763.947600000003,null,1,null,408646,6.0600000000000008E-2,"دستگاه-ساعت","تریلی دو محوره با ظرفیت 24 تن باراننده",23020302,null,1,{"$f":"COUNTIF($S$1:S1717,Q1717+R1717)","v":1},"051201",9.9999999999999995E-7,51201.000001]
[51201.000002000001,null,3.0300000000000004E-2,1,18492.423300000002,null,1,null,610311,3.0300000000000004E-2,"دستگاه ساعت","جرثقيل کاميوني دو کابينه حدود 20 تن با راننده",24010202,null,2,{"$f":"COUNTIF($S$1:S1718,Q1718+R1718)","v":2},"051201",9.9999999999999995E-7,51201.000001]
[51201.000003000001,null,0.2,1,137981.4,null,1,null,689907,0.2,"دستگاه ساعت","جرثقیل خودرو چرخ زنجیری حدود30 تن با راننده",24010404,null,3,{"$f":"COUNTIF($S$1:S1719,Q1719+R1719)","v":3},"051201",9.9999999999999995E-7,51201.000001]
[51201.000004000001,null,0.2,1,41592,null,1,null,207960,0.2,"دستگاه-ساعت","دستگاه شمع کوب به ظرفیت حدود5  تن",25020703,null,4,{"$f":"COUNTIF($S$1:S1720,Q1720+R1720)","v":4},"051201",9.9999999999999995E-7,51201.000001]
[51201.000005000002,null,0.2,1,26440.6,null,1,null,132203,0.2,"دستگاه ساعت","کمپرسور با ظرفیت حدود7 متر مکعب در دقیقه (250 سی اف ام ) با شیلنگ مربوط",25040103,null,5,{"$f":"COUNTIF($S$1:S1721,Q1721+R1721)","v":5},"051201",9.9999999999999995E-7,51201.000001]
["",null,null,null,null,null,null,null,null,null,null,null,null,"051202",null,{"$f":"COUNTIF($S$1:S1722,Q1722+R1722)","v":0},"051202",9.9999999999999995E-7,""]
["",null,null,null,null,null,null,null,null,null,null,"متر طول",null,null,"واحـد :",{"$f":"COUNTIF($S$1:S1723,Q1723+R1723)","v":0},"051202",9.9999999999999995E-7,""]
["",null,null,null,null,null,"ضريب",null,"بهاي واحد","مقـدار","واحــد","نيروي انساني ",null,null,"رديف",{"$f":"COUNTIF($S$1:S1724,Q1724+R1724)","v":0},"051202",1E-8,""]
[51202.000000009997,null,0.02,1,2202.1,null,1,null,110105,0.02,"نفر ساعت","متصدی دستگاه شمع کوبی",13031201,null,1,{"$f":"COUNTIF($S$1:S1725,Q1725+R1725)","v":1},"051202",1E-8,51202.000000009997]
[51202.000000020002,null,9.0900000000000009E-3,1,518.24817000000007,null,1,null,57013,9.0900000000000009E-3,"نفر- ساعت","كارگر ساده",14010102,null,2,{"$f":"COUNTIF($S$1:S1726,Q1726+R1726)","v":2},"051202",1E-8,51202.000000009997]
[51202.000000029999,null,0.02,1,3372.62,null,1,null,168631,0.02,"نفر- ساعت","تکنیسین عملیات حفاری و شمعکوبی",14250101,null,3,{"$f":"COUNTIF($S$1:S1727,Q1727+R1727)","v":3},"051202",1E-8,51202.000000009997]
[51202.000000040003,null,0.02,1,1323.44,null,1,null,66172,0.02,"نفر ساعت","کارگر شمع کوبی",14250301,null,4,{"$f":"COUNTIF($S$1:S1728,Q1728+R1728)","v":4},"051202",1E-8,51202.000000009997]
["",null,null,null,null,null,"ضريب",null,"بهاي واحد","مقـدار","واحــد","ماشين آلات ",null,null,"رديف",{"$f":"COUNTIF($S$1:S1729,Q1729+R1729)","v":0},"051202",9.9999999999999995E-7,""]
[51202.000001,null,6.0599999999999994E-3,1,2476.3947599999997,null,1,null,408646,6.0599999999999994E-3,"دستگاه-ساعت","تریلی دو محوره با ظرفیت 24 تن باراننده",23020302,null,1,{"$f":"COUNTIF($S$1:S1730,Q1730+R1730)","v":1},"051202",9.9999999999999995E-7,51202.000001]
[51202.000002000001,null,3.0299999999999997E-3,1,1849.24233,null,1,null,610311,3.0299999999999997E-3,"دستگاه ساعت","جرثقيل کاميوني دو کابينه حدود 20 تن با راننده",24010202,null,2,{"$f":"COUNTIF($S$1:S1731,Q1731+R1731)","v":2},"051202",9.9999999999999995E-7,51202.000001]
[51202.000003000001,null,0.02,1,13798.14,null,1,null,689907,0.02,"دستگاه ساعت","جرثقیل خودرو چرخ زنجیری حدود30 تن با راننده",24010404,null,3,{"$f":"COUNTIF($S$1:S1732,Q1732+R1732)","v":3},"051202",9.9999999999999995E-7,51202.000001]
[51202.000004000001,null,0.02,1,4159.2,null,1,null,207960,0.02,"دستگاه-ساعت","دستگاه شمع کوب به ظرفیت حدود5  تن",25020703,null,4,{"$f":"COUNTIF($S$1:S1733,Q1733+R1733)","v":4},"051202",9.9999999999999995E-7,51202.000001]
[51202.000005000002,null,0.02,1,2644.06,null,1,null,132203,0.02,"دستگاه ساعت","کمپرسور با ظرفیت حدود7 متر مکعب در دقیقه (250 سی اف ام ) با شیلنگ مربوط",25040103,null,5,{"$f":"COUNTIF($S$1:S1734,Q1734+R1734)","v":5},"051202",9.9999999999999995E-7,51202.000001]
["",null,null,null,null,null,null,null,null,null,null,null,null,"051203",null,{"$f":"COUNTIF($S$1:S1735,Q1735+R1735)","v":0},"051203",{"$f":"IF(IF(O1735=\"رديف\",VLOOKUP(L1735,Kod,2,0),0)=0,R1734,IF(O1735=\"رديف\",VLOOKUP(L1735,Kod,2,0),0))","v":9.9999999999999995E-7},""]
["",null,null,null,null,null,null,null,null,null,null,"متر طول",null,null,"واحـد :",{"$f":"COUNTIF($S$1:S1736,Q1736+R1736)","v":0},"051203",9.9999999999999995E-7,""]
[{"$f":"IF(M1737<>\"\",Q1737+(P1737*R1737),\"\")","v":""},null,null,null,null,null,"ضريب",null,"بهاي واحد","مقـدار","واحــد","نيروي انساني ",null,null,"رديف",{"$f":"COUNTIF($S$1:S1737,Q1737+R1737)","v":0},"051203",1E-8,""]
[51203.000000009997,null,0.12,1,13212.6,null,0.6,null,110105,0.2,"نفر ساعت","متصدی دستگاه شمع کوبی",13031201,null,1,{"$f":"COUNTIF($S$1:S1738,Q1738+R1738)","v":1},"051203",1E-8,51203.000000009997]
[51203.000000020002,null,5.4539999999999998E-2,1,3109.48902,null,0.6,null,57013,9.0899999999999995E-2,"نفر- ساعت","كارگر ساده",14010102,null,2,{"$f":"COUNTIF($S$1:S1739,Q1739+R1739)","v":2},"051203",1E-8,51203.000000009997]
[51203.000000029999,null,0.33333299999999999,1,26738.973261000003,null,1,null,80217,0.33333299999999999,"نفر ساعت","آرماتور بند درجه یک",14050201,null,3,{"$f":"COUNTIF($S$1:S1740,Q1740+R1740)","v":3},"051203",1E-8,51203.000000009997]
[51203.000000040003,null,0.33333299999999999,1,19192.980807,null,1,null,57579,0.33333299999999999,"نفر ساعت","کمک آرماتور بند",14050203,null,4,{"$f":"COUNTIF($S$1:S1741,Q1741+R1741)","v":4},"051203",1E-8,51203.000000009997]
[51203.00000005,null,0.12,1,20235.72,null,0.6,null,168631,0.2,"نفر- ساعت","تکنیسین عملیات حفاری و شمعکوبی",14250101,null,5,{"$f":"COUNTIF($S$1:S1742,Q1742+R1742)","v":5},"051203",1E-8,51203.000000009997]
[51203.000000059998,null,0.12,1,7940.64,null,0.6,null,66172,0.2,"نفر ساعت","کارگر شمع کوبی",14250301,null,6,{"$f":"COUNTIF($S$1:S1743,Q1743+R1743)","v":6},"051203",1E-8,51203.000000009997]
["",null,null,null,null,null,"ضريب",null,"بهاي واحد","مقـدار","واحــد","ماشين آلات ",null,null,"رديف",{"$f":"COUNTIF($S$1:S1744,Q1744+R1744)","v":0},"051203",9.9999999999999995E-7,""]
[51203.000001,null,3.6360000000000003E-2,1,14858.368560000001,null,0.6,null,408646,6.0600000000000008E-2,"دستگاه-ساعت","تریلی دو محوره با ظرفیت 24 تن باراننده",23020302,null,1,{"$f":"COUNTIF($S$1:S1745,Q1745+R1745)","v":1},"051203",9.9999999999999995E-7,51203.000001]
[51203.000002000001,null,1.8180000000000002E-2,1,11095.45398,null,0.6,null,610311,3.0300000000000004E-2,"دستگاه ساعت","جرثقيل کاميوني دو کابينه حدود 20 تن با راننده",24010202,null,2,{"$f":"COUNTIF($S$1:S1746,Q1746+R1746)","v":2},"051203",9.9999999999999995E-7,51203.000001]
[51203.000003000001,null,0.12,1,82788.84,null,0.6,null,689907,0.2,"دستگاه ساعت","جرثقیل خودرو چرخ زنجیری حدود30 تن با راننده",24010404,null,3,{"$f":"COUNTIF($S$1:S1747,Q1747+R1747)","v":3},"051203",9.9999999999999995E-7,51203.000001]
[51203.000004000001,null,0.12,1,24955.200000000001,null,0.6,null,207960,0.2,"دستگاه-ساعت","دستگاه شمع کوب به ظرفیت حدود5  تن",25020703,null,4,{"$f":"COUNTIF($S$1:S1748,Q1748+R1748)","v":4},"051203",9.9999999999999995E-7,51203.000001]
[51203.000005000002,null,0.12,1,15864.36,null,0.6,null,132203,0.2,"دستگاه ساعت","کمپرسور با ظرفیت حدود7 متر مکعب در دقیقه (250 سی اف ام ) با شیلنگ مربوط",25040103,null,5,{"$f":"COUNTIF($S$1:S1749,Q1749+R1749)","v":5},"051203",9.9999999999999995E-7,51203.000001]
["",null,null,null,null,null,null,null,null,null,null,null,null,"051204",null,{"$f":"COUNTIF($S$1:S1750,Q1750+R1750)","v":0},"051204",9.9999999999999995E-7,""]
["",null,null,null,null,null,null,null,null,null,null,"متر طول",null,null,"واحـد :",{"$f":"COUNTIF($S$1:S1751,Q1751+R1751)","v":0},"051204",9.9999999999999995E-7,""]
["",null,null,null,null,null,"ضريب",null,"بهاي واحد","مقـدار","واحــد","نيروي انساني ",null,null,"رديف",{"$f":"COUNTIF($S$1:S1752,Q1752+R1752)","v":0},"051204",1E-8,""]
[51204.000000009997,null,0.03,1,3303.15,null,1,null,110105,0.03,"نفر ساعت","متصدی دستگاه شمع کوبی",13031201,null,1,{"$f":"COUNTIF($S$1:S1753,Q1753+R1753)","v":1},"051204",1E-8,51204.000000009997]
[51204.000000020002,null,0.03,1,5058.93,null,1,null,168631,0.03,"نفر- ساعت","تکنیسین عملیات حفاری و شمعکوبی",14250101,null,2,{"$f":"COUNTIF($S$1:S1754,Q1754+R1754)","v":2},"051204",1E-8,51204.000000009997]
[51204.000000029999,null,0.03,1,1985.16,null,1,null,66172,0.03,"نفر ساعت","کارگر شمع کوبی",14250301,null,3,{"$f":"COUNTIF($S$1:S1755,Q1755+R1755)","v":3},{"$f":"IF(N1755>0,N1755,Q1754)","v":"051204"},1E-8,{"$f":"IF(M1755<>\"\",Q1755+R1755,\"\")","v":51204.000000009997}]
["",null,null,null,null,null,"ضريب",null,"بهاي واحد","مقـدار","واحــد","ماشين آلات ",null,null,"رديف",{"$f":"COUNTIF($S$1:S1756,Q1756+R1756)","v":0},"051204",9.9999999999999995E-7,""]
[51204.000001,null,0.03,1,20697.21,null,1,null,689907,0.03,"دستگاه ساعت","جرثقیل خودرو چرخ زنجیری حدود30 تن با راننده",24010404,null,1,{"$f":"COUNTIF($S$1:S1757,Q1757+R1757)","v":1},"051204",9.9999999999999995E-7,51204.000001]
[51204.000002000001,null,0.03,1,6238.8,null,1,null,207960,0.03,"دستگاه-ساعت","دستگاه شمع کوب به ظرفیت حدود5  تن",25020703,null,2,{"$f":"COUNTIF($S$1:S1758,Q1758+R1758)","v":2},"051204",9.9999999999999995E-7,51204.000001]
[51204.000003000001,null,0.03,1,3966.09,null,1,null,132203,0.03,"دستگاه ساعت","کمپرسور با ظرفیت حدود7 متر مکعب در دقیقه (250 سی اف ام ) با شیلنگ مربوط",25040103,null,3,{"$f":"COUNTIF($S$1:S1759,Q1759+R1759)","v":3},"051204",9.9999999999999995E-7,51204.000001]
["",null,null,null,null,null,null,null,null,null,null,null,null,"051205",null,{"$f":"COUNTIF($S$1:S1760,Q1760+R1760)","v":0},"051205",9.9999999999999995E-7,""]
["",null,null,null,null,null,null,null,null,null,null,"متر طول",null,null,"واحـد :",{"$f":"COUNTIF($S$1:S1761,Q1761+R1761)","v":0},"051205",9.9999999999999995E-7,""]
["",null,null,null,null,null,"ضريب",null,"بهاي واحد","مقـدار","واحــد","نيروي انساني ",null,null,"رديف",{"$f":"COUNTIF($S$1:S1762,Q1762+R1762)","v":0},"051205",1E-8,""]
[51205.000000009997,null,0.06,1,6606.3,null,1,null,110105,0.06,"نفر ساعت","متصدی دستگاه شمع کوبی",13031201,null,1,{"$f":"COUNTIF($S$1:S1763,Q1763+R1763)","v":1},"051205",1E-8,51205.000000009997]
[51205.000000020002,null,0.06,1,10117.86,null,1,null,168631,0.06,"نفر- ساعت","تکنیسین عملیات حفاری و شمعکوبی",14250101,null,2,{"$f":"COUNTIF($S$1:S1764,Q1764+R1764)","v":2},"051205",1E-8,51205.000000009997]
[51205.000000029999,null,0.06,1,3970.32,null,1,null,66172,0.06,"نفر ساعت","کارگر شمع کوبی",14250301,null,3,{"$f":"COUNTIF($S$1:S1765,Q1765+R1765)","v":3},"051205",1E-8,51205.000000009997]
["",null,null,null,null,null,"ضريب",null,"بهاي واحد","مقـدار","واحــد","ماشين آلات ",null,null,"رديف",{"$f":"COUNTIF($S$1:S1766,Q1766+R1766)","v":0},"051205",9.9999999999999995E-7,""]
[51205.000001,null,0.06,1,41394.42,null,1,null,689907,0.06,"دستگاه ساعت","جرثقیل خودرو چرخ زنجیری حدود30 تن با راننده",24010404,null,1,{"$f":"COUNTIF($S$1:S1767,Q1767+R1767)","v":1},"051205",9.9999999999999995E-7,51205.000001]
[51205.000002000001,null,0.06,1,12477.6,null,1,null,207960,0.06,"دستگاه-ساعت","دستگاه شمع کوب به ظرفیت حدود5  تن",25020703,null,2,{"$f":"COUNTIF($S$1:S1768,Q1768+R1768)","v":2},"051205",9.9999999999999995E-7,51205.000001]
[51205.000003000001,null,0.06,1,7932.18,null,1,null,132203,0.06,"دستگاه ساعت","کمپرسور با ظرفیت حدود7 متر مکعب در دقیقه (250 سی اف ام ) با شیلنگ مربوط",25040103,null,3,{"$f":"COUNTIF($S$1:S1769,Q1769+R1769)","v":3},"051205",9.9999999999999995E-7,51205.000001]
["",null,null,null,null,null,null,null,null,null,null,null,null,"051301",null,{"$f":"COUNTIF($S$1:S1770,Q1770+R1770)","v":0},"051301",9.9999999999999995E-7,""]
["",null,null,null,null,null,null,null,null,null,null,"متر مربع",null,null,"واحـد :",{"$f":"COUNTIF($S$1:S1771,Q1771+R1771)","v":0},"051301",9.9999999999999995E-7,""]
["",null,null,null,null,null,"ضريب",null,"بهاي واحد","مقـدار","واحــد","نيروي انساني ",null,null,"رديف",{"$f":"COUNTIF($S$1:S1772,Q1772+R1772)","v":0},"051301",1E-8,""]
[51301.000000009997,null,0.20688199999999998,1,22778.742610000005,null,1.46,null,110105,0.14169999999999999,"نفر ساعت","متصدی دستگاه شمع کوبی",13031201,null,1,{"$f":"COUNTIF($S$1:S1773,Q1773+R1773)","v":1},"051301",1E-8,51301.000000009997]
[51301.000000020002,null,0.1,1,5701.3,null,1,null,57013,0.1,"نفر- ساعت","كارگر ساده",14010102,null,2,{"$f":"COUNTIF($S$1:S1774,Q1774+R1774)","v":2},"051301",1E-8,51301.000000009997]
[51301.000000029999,null,0.20688199999999998,1,34886.718542000002,null,1.46,null,168631,0.14169999999999999,"نفر- ساعت","تکنیسین عملیات حفاری و شمعکوبی",14250101,null,3,{"$f":"COUNTIF($S$1:S1775,Q1775+R1775)","v":3},"051301",1E-8,51301.000000009997]
[51301.000000040003,null,0.20688199999999998,1,13689.795703999998,null,1.46,null,66172,0.14169999999999999,"نفر ساعت","کارگر شمع کوبی",14250301,null,4,{"$f":"COUNTIF($S$1:S1776,Q1776+R1776)","v":4},"051301",1E-8,51301.000000009997]
["",null,null,null,null,null,"ضريب",null,"بهاي واحد","مقـدار","واحــد","ماشين آلات ",null,null,"رديف",{"$f":"COUNTIF($S$1:S1777,Q1777+R1777)","v":0},"051301",9.9999999999999995E-7,""]
[51301.000001,null,1.4200000000000001E-2,1,1492.2212000000002,null,1,null,105086,1.4200000000000001E-2,"دستگاه ساعت","تراکتور جفت دیفرانسیل با راننده",23020802,null,1,{"$f":"COUNTIF($S$1:S1778,Q1778+R1778)","v":1},"051301",9.9999999999999995E-7,51301.000001]
[51301.000002000001,null,1.67E-2,1,992.61460000000011,null,1,null,59438,1.67E-2,"دستگاه ساعت","تريلر کفي به ظرفيت حدود10 تن بدون کشنده",23020902,null,2,{"$f":"COUNTIF($S$1:S1779,Q1779+R1779)","v":2},"051301",9.9999999999999995E-7,51301.000001]
[51301.000003000001,null,0.20688199999999998,1,126262.36030199999,null,1.46,null,610311,0.14169999999999999,"دستگاه ساعت","جرثقيل کاميوني دو کابينه حدود 20 تن با راننده",24010202,null,3,{"$f":"COUNTIF($S$1:S1780,Q1780+R1780)","v":3},"051301",9.9999999999999995E-7,51301.000001]
[51301.000004000001,null,1.4200000000000001E-2,1,9796.6794000000009,null,1,null,689907,1.4200000000000001E-2,"دستگاه ساعت","جرثقیل خودرو چرخ زنجیری حدود30 تن با راننده",24010404,null,4,{"$f":"COUNTIF($S$1:S1781,Q1781+R1781)","v":4},"051301",9.9999999999999995E-7,51301.000001]
[51301.000005000002,null,0.20688199999999998,1,43023.180720000004,null,1.46,null,207960,0.14169999999999999,"دستگاه-ساعت","دستگاه شمع کوب به ظرفیت حدود5  تن",25020703,null,5,{"$f":"COUNTIF($S$1:S1782,Q1782+R1782)","v":5},"051301",9.9999999999999995E-7,51301.000001]
[51301.000006000002,null,0.20688199999999998,1,27350.421045999996,null,1.46,null,132203,0.14169999999999999,"دستگاه ساعت","کمپرسور با ظرفیت حدود7 متر مکعب در دقیقه (250 سی اف ام ) با شیلنگ مربوط",25040103,null,6,{"$f":"COUNTIF($S$1:S1783,Q1783+R1783)","v":6},"051301",9.9999999999999995E-7,51301.000001]
["",null,null,null,null,null,null,null,null,null,null,null,null,"051302",null,{"$f":"COUNTIF($S$1:S1784,Q1784+R1784)","v":0},"051302",9.9999999999999995E-7,""]
["",null,null,null,null,null,null,null,null,null,null,"متر مربع",null,null,"واحـد :",{"$f":"COUNTIF($S$1:S1785,Q1785+R1785)","v":0},"051302",9.9999999999999995E-7,""]
["",null,null,null,null,null,"ضريب",null,"بهاي واحد","مقـدار","واحــد","نيروي انساني ",null,null,"رديف",{"$f":"COUNTIF($S$1:S1786,Q1786+R1786)","v":0},"051302",1E-8,""]
[51302.000000009997,null,0.20688199999999998,1,22778.742610000005,null,1.46,null,110105,0.14169999999999999,"نفر ساعت","متصدی دستگاه شمع کوبی",13031201,null,1,{"$f":"COUNTIF($S$1:S1787,Q1787+R1787)","v":1},"051302",1E-8,51302.000000009997]
[51302.000000020002,null,0.1,1,5701.3,null,1,null,57013,0.1,"نفر- ساعت","كارگر ساده",14010102,null,2,{"$f":"COUNTIF($S$1:S1788,Q1788+R1788)","v":2},"051302",1E-8,51302.000000009997]
[51302.000000029999,null,0.20688199999999998,1,34886.718542000002,null,1.46,null,168631,0.14169999999999999,"نفر- ساعت","تکنیسین عملیات حفاری و شمعکوبی",14250101,null,3,{"$f":"COUNTIF($S$1:S1789,Q1789+R1789)","v":3},"051302",1E-8,51302.000000009997]
[51302.000000040003,null,0.20688199999999998,1,13689.795703999998,null,1.46,null,66172,0.14169999999999999,"نفر ساعت","کارگر شمع کوبی",14250301,null,4,{"$f":"COUNTIF($S$1:S1790,Q1790+R1790)","v":4},"051302",1E-8,51302.000000009997]
["",null,null,null,null,null,"ضريب",null,"بهاي واحد","مقـدار","واحــد","ماشين آلات ",null,null,"رديف",{"$f":"COUNTIF($S$1:S1791,Q1791+R1791)","v":0},"051302",9.9999999999999995E-7,""]
[51302.000001,null,1.4200000000000001E-2,1,1492.2212000000002,null,1,null,105086,1.4200000000000001E-2,"دستگاه ساعت","تراکتور جفت دیفرانسیل با راننده",23020802,null,1,{"$f":"COUNTIF($S$1:S1792,Q1792+R1792)","v":1},"051302",9.9999999999999995E-7,51302.000001]
[51302.000002000001,null,1.67E-2,1,992.61460000000011,null,1,null,59438,1.67E-2,"دستگاه ساعت","تريلر کفي به ظرفيت حدود10 تن بدون کشنده",23020902,null,2,{"$f":"COUNTIF($S$1:S1793,Q1793+R1793)","v":2},"051302",9.9999999999999995E-7,51302.000001]
[51302.000003000001,null,0.20688199999999998,1,126262.36030199999,null,1.46,null,610311,0.14169999999999999,"دستگاه ساعت","جرثقيل کاميوني دو کابينه حدود 20 تن با راننده",24010202,null,3,{"$f":"COUNTIF($S$1:S1794,Q1794+R1794)","v":3},"051302",9.9999999999999995E-7,51302.000001]
[51302.000004000001,null,1.4200000000000001E-2,1,9796.6794000000009,null,1,null,689907,1.4200000000000001E-2,"دستگاه ساعت","جرثقیل خودرو چرخ زنجیری حدود30 تن با راننده",24010404,null,4,{"$f":"COUNTIF($S$1:S1795,Q1795+R1795)","v":4},"051302",9.9999999999999995E-7,51302.000001]
[51302.000005000002,null,0.20688199999999998,1,43023.180720000004,null,1.46,null,207960,0.14169999999999999,"دستگاه-ساعت","دستگاه شمع کوب به ظرفیت حدود5  تن",25020703,null,5,{"$f":"COUNTIF($S$1:S1796,Q1796+R1796)","v":5},"051302",9.9999999999999995E-7,51302.000001]
[51302.000006000002,null,0.20688199999999998,1,27350.421045999996,null,1.46,null,132203,0.14169999999999999,"دستگاه ساعت","کمپرسور با ظرفیت حدود7 متر مکعب در دقیقه (250 سی اف ام ) با شیلنگ مربوط",25040103,null,6,{"$f":"COUNTIF($S$1:S1797,Q1797+R1797)","v":6},"051302",9.9999999999999995E-7,51302.000001]
["",null,null,null,null,null,null,null,null,null,null,null,null,"051303",null,{"$f":"COUNTIF($S$1:S1798,Q1798+R1798)","v":0},"051303",9.9999999999999995E-7,""]
["",null,null,null,null,null,null,null,null,null,null,"متر مربع",null,null,"واحـد :",{"$f":"COUNTIF($S$1:S1799,Q1799+R1799)","v":0},"051303",{"$f":"IF(IF(O1799=\"رديف\",VLOOKUP(L1799,Kod,2,0),0)=0,R1798,IF(O1799=\"رديف\",VLOOKUP(L1799,Kod,2,0),0))","v":9.9999999999999995E-7},""]
["",null,null,null,null,null,"ضريب",null,"بهاي واحد","مقـدار","واحــد","نيروي انساني ",null,null,"رديف",{"$f":"COUNTIF($S$1:S1800,Q1800+R1800)","v":0},"051303",1E-8,""]
[{"$f":"IF(M1801<>\"\",Q1801+(P1801*R1801),\"\")","v":51303.000000009997},null,0.41376399999999997,1,45557.48522000001,null,1.46,null,110105,0.28339999999999999,"نفر ساعت","متصدی دستگاه شمع کوبی",13031201,null,1,{"$f":"COUNTIF($S$1:S1801,Q1801+R1801)","v":1},"051303",1E-8,51303.000000009997]
[51303.000000020002,null,0.1,1,5701.3,null,1,null,57013,0.1,"نفر- ساعت","كارگر ساده",14010102,null,2,{"$f":"COUNTIF($S$1:S1802,Q1802+R1802)","v":2},"051303",1E-8,51303.000000009997]
[51303.000000029999,null,0.41376399999999997,1,69773.437084000005,null,1.46,null,168631,0.28339999999999999,"نفر- ساعت","تکنیسین عملیات حفاری و شمعکوبی",14250101,null,3,{"$f":"COUNTIF($S$1:S1803,Q1803+R1803)","v":3},"051303",1E-8,51303.000000009997]
[51303.000000040003,null,0.41376399999999997,1,27379.591407999997,null,1.46,null,66172,0.28339999999999999,"نفر ساعت","کارگر شمع کوبی",14250301,null,4,{"$f":"COUNTIF($S$1:S1804,Q1804+R1804)","v":4},"051303",1E-8,51303.000000009997]
["",null,null,null,null,null,"ضريب",null,"بهاي واحد","مقـدار","واحــد","ماشين آلات ",null,null,"رديف",{"$f":"COUNTIF($S$1:S1805,Q1805+R1805)","v":0},"051303",9.9999999999999995E-7,""]
[51303.000001,null,2.8400000000000002E-2,1,2984.4424000000004,null,1,null,105086,2.8400000000000002E-2,"دستگاه ساعت","تراکتور جفت دیفرانسیل با راننده",23020802,null,1,{"$f":"COUNTIF($S$1:S1806,Q1806+R1806)","v":1},"051303",9.9999999999999995E-7,51303.000001]
[51303.000002000001,null,1.67E-2,1,992.61460000000011,null,1,null,59438,1.67E-2,"دستگاه ساعت","تريلر کفي به ظرفيت حدود10 تن بدون کشنده",23020902,null,2,{"$f":"COUNTIF($S$1:S1807,Q1807+R1807)","v":2},"051303",9.9999999999999995E-7,51303.000001]
[51303.000003000001,null,0.41376399999999997,1,252524.72060399997,null,1.46,null,610311,0.28339999999999999,"دستگاه ساعت","جرثقيل کاميوني دو کابينه حدود 20 تن با راننده",24010202,null,3,{"$f":"COUNTIF($S$1:S1808,Q1808+R1808)","v":3},"051303",9.9999999999999995E-7,51303.000001]
[51303.000004000001,null,2.8400000000000002E-2,1,19593.358800000002,null,1,null,689907,2.8400000000000002E-2,"دستگاه ساعت","جرثقیل خودرو چرخ زنجیری حدود30 تن با راننده",24010404,null,4,{"$f":"COUNTIF($S$1:S1809,Q1809+R1809)","v":4},"051303",9.9999999999999995E-7,51303.000001]
[51303.000005000002,null,0.41376399999999997,1,86046.361440000008,null,1.46,null,207960,0.28339999999999999,"دستگاه-ساعت","دستگاه شمع کوب به ظرفیت حدود5  تن",25020703,null,5,{"$f":"COUNTIF($S$1:S1810,Q1810+R1810)","v":5},"051303",9.9999999999999995E-7,51303.000001]
[51303.000006000002,null,0.41376399999999997,1,54700.842091999992,null,1.46,null,132203,0.28339999999999999,"دستگاه ساعت","کمپرسور با ظرفیت حدود7 متر مکعب در دقیقه (250 سی اف ام ) با شیلنگ مربوط",25040103,null,6,{"$f":"COUNTIF($S$1:S1811,Q1811+R1811)","v":6},"051303",9.9999999999999995E-7,51303.000001]
["",null,null,null,null,null,null,null,null,null,null,null,null,"051304",null,{"$f":"COUNTIF($S$1:S1812,Q1812+R1812)","v":0},"051304",9.9999999999999995E-7,""]
["",null,null,null,null,null,null,null,null,null,null,"متر مربع",null,null,"واحـد :",{"$f":"COUNTIF($S$1:S1813,Q1813+R1813)","v":0},"051304",9.9999999999999995E-7,""]
["",null,null,null,null,null,"ضريب",null,"بهاي واحد","مقـدار","واحــد","نيروي انساني ",null,null,"رديف",{"$f":"COUNTIF($S$1:S1814,Q1814+R1814)","v":0},"051304",1E-8,""]
[51304.000000009997,null,0.41376399999999997,1,45557.48522000001,null,1.46,null,110105,0.28339999999999999,"نفر ساعت","متصدی دستگاه شمع کوبی",13031201,null,1,{"$f":"COUNTIF($S$1:S1815,Q1815+R1815)","v":1},"051304",1E-8,51304.000000009997]
[51304.000000020002,null,0.1,1,5701.3,null,1,null,57013,0.1,"نفر- ساعت","كارگر ساده",14010102,null,2,{"$f":"COUNTIF($S$1:S1816,Q1816+R1816)","v":2},"051304",1E-8,51304.000000009997]
[51304.000000029999,null,0.41376399999999997,1,69773.437084000005,null,1.46,null,168631,0.28339999999999999,"نفر- ساعت","تکنیسین عملیات حفاری و شمعکوبی",14250101,null,3,{"$f":"COUNTIF($S$1:S1817,Q1817+R1817)","v":3},"051304",1E-8,51304.000000009997]
[51304.000000040003,null,0.41376399999999997,1,27379.591407999997,null,1.46,null,66172,0.28339999999999999,"نفر ساعت","کارگر شمع کوبی",14250301,null,4,{"$f":"COUNTIF($S$1:S1818,Q1818+R1818)","v":4},"051304",1E-8,51304.000000009997]
["",null,null,null,null,null,"ضريب",null,"بهاي واحد","مقـدار","واحــد","ماشين آلات ",null,null,"رديف",{"$f":"COUNTIF($S$1:S1819,Q1819+R1819)","v":0},{"$f":"IF(N1819>0,N1819,Q1818)","v":"051304"},9.9999999999999995E-7,{"$f":"IF(M1819<>\"\",Q1819+R1819,\"\")","v":""}]
[51304.000001,null,2.8400000000000002E-2,1,2984.4424000000004,null,1,null,105086,2.8400000000000002E-2,"دستگاه ساعت","تراکتور جفت دیفرانسیل با راننده",23020802,null,1,{"$f":"COUNTIF($S$1:S1820,Q1820+R1820)","v":1},"051304",9.9999999999999995E-7,51304.000001]
[51304.000002000001,null,1.67E-2,1,992.61460000000011,null,1,null,59438,1.67E-2,"دستگاه ساعت","تريلر کفي به ظرفيت حدود10 تن بدون کشنده",23020902,null,2,{"$f":"COUNTIF($S$1:S1821,Q1821+R1821)","v":2},"051304",9.9999999999999995E-7,51304.000001]
[51304.000003000001,null,0.41376399999999997,1,252524.72060399997,null,1.46,null,610311,0.28339999999999999,"دستگاه ساعت","جرثقيل کاميوني دو کابينه حدود 20 تن با راننده",24010202,null,3,{"$f":"COUNTIF($S$1:S1822,Q1822+R1822)","v":3},"051304",9.9999999999999995E-7,51304.000001]
[51304.000004000001,null,2.8400000000000002E-2,1,19593.358800000002,null,1,null,689907,2.8400000000000002E-2,"دستگاه ساعت","جرثقیل خودرو چرخ زنجیری حدود30 تن با راننده",24010404,null,4,{"$f":"COUNTIF($S$1:S1823,Q1823+R1823)","v":4},"051304",9.9999999999999995E-7,51304.000001]
[51304.000005000002,null,0.41376399999999997,1,86046.361440000008,null,1.46,null,207960,0.28339999999999999,"دستگاه-ساعت","دستگاه شمع کوب به ظرفیت حدود5  تن",25020703,null,5,{"$f":"COUNTIF($S$1:S1824,Q1824+R1824)","v":5},"051304",9.9999999999999995E-7,51304.000001]
[51304.000006000002,null,0.41376399999999997,1,54700.842091999992,null,1.46,null,132203,0.28339999999999999,"دستگاه ساعت","کمپرسور با ظرفیت حدود7 متر مکعب در دقیقه (250 سی اف ام ) با شیلنگ مربوط",25040103,null,6,{"$f":"COUNTIF($S$1:S1825,Q1825+R1825)","v":6},"051304",9.9999999999999995E-7,51304.000001]
["",null,null,null,null,null,null,null,null,null,null,null,null,"051305",null,{"$f":"COUNTIF($S$1:S1826,Q1826+R1826)","v":0},"051305",9.9999999999999995E-7,""]
["",null,null,null,null,null,null,null,null,null,null,"متر مربع",null,null,"واحـد :",{"$f":"COUNTIF($S$1:S1827,Q1827+R1827)","v":0},"051305",9.9999999999999995E-7,""]
["",null,null,null,null,null,"ضريب",null,"بهاي واحد","مقـدار","واحــد","نيروي انساني ",null,null,"رديف",{"$f":"COUNTIF($S$1:S1828,Q1828+R1828)","v":0},"051305",1E-8,""]
[51305.000000009997,null,0.38514799999999993,1,42406.720539999995,null,1.46,null,110105,0.26379999999999998,"نفر ساعت","متصدی دستگاه شمع کوبی",13031201,null,1,{"$f":"COUNTIF($S$1:S1829,Q1829+R1829)","v":1},"051305",1E-8,51305.000000009997]
[51305.000000020002,null,0.1242,1,7081.0145999999995,null,1,null,57013,0.1242,"نفر- ساعت","كارگر ساده",14010102,null,2,{"$f":"COUNTIF($S$1:S1830,Q1830+R1830)","v":2},"051305",1E-8,51305.000000009997]
[51305.000000029999,null,0.38514799999999993,1,64947.892388000007,null,1.46,null,168631,0.26379999999999998,"نفر- ساعت","تکنیسین عملیات حفاری و شمعکوبی",14250101,null,3,{"$f":"COUNTIF($S$1:S1831,Q1831+R1831)","v":3},"051305",1E-8,51305.000000009997]
[51305.000000040003,null,0.38514799999999993,1,25486.013456000001,null,1.46,null,66172,0.26379999999999998,"نفر ساعت","کارگر شمع کوبی",14250301,null,4,{"$f":"COUNTIF($S$1:S1832,Q1832+R1832)","v":4},"051305",1E-8,51305.000000009997]
["",null,null,null,null,null,"ضريب",null,"بهاي واحد","مقـدار","واحــد","ماشين آلات ",null,null,"رديف",{"$f":"COUNTIF($S$1:S1833,Q1833+R1833)","v":0},"051305",9.9999999999999995E-7,""]
[51305.000001,null,1.7600000000000001E-2,1,1849.5135999999998,null,1,null,105086,1.7600000000000001E-2,"دستگاه ساعت","تراکتور جفت دیفرانسیل با راننده",23020802,null,1,{"$f":"COUNTIF($S$1:S1834,Q1834+R1834)","v":1},"051305",9.9999999999999995E-7,51305.000001]
[51305.000002000001,null,2.07E-2,1,1230.3665999999998,null,1,null,59438,2.07E-2,"دستگاه ساعت","تريلر کفي به ظرفيت حدود10 تن بدون کشنده",23020902,null,2,{"$f":"COUNTIF($S$1:S1835,Q1835+R1835)","v":2},"051305",9.9999999999999995E-7,51305.000001]
[51305.000003000001,null,1.7600000000000001E-2,1,5137.2815999999993,null,1,null,291891,1.7600000000000001E-2,"دستگاه ساعت","جرثقیل کفی5 تن با کامیون10 تن با راننده",24010104,null,3,{"$f":"COUNTIF($S$1:S1836,Q1836+R1836)","v":3},"051305",9.9999999999999995E-7,51305.000001]
[51305.000004000001,null,0.38514799999999993,1,224836.69251600004,null,1.46,null,583767,0.26379999999999998,"دستگاه ساعت","جرثقيل خودرو چرخ زنجيري حدود20 تن با راننده",24010402,null,4,{"$f":"COUNTIF($S$1:S1837,Q1837+R1837)","v":4},"051305",9.9999999999999995E-7,51305.000001]
[51305.000005000002,null,0.38514799999999993,1,80095.378079999995,null,1.46,null,207960,0.26379999999999998,"دستگاه-ساعت","دستگاه شمع کوب به ظرفیت حدود5  تن",25020703,null,5,{"$f":"COUNTIF($S$1:S1838,Q1838+R1838)","v":5},"051305",9.9999999999999995E-7,51305.000001]
[51305.000006000002,null,0.38514799999999993,1,50917.721043999998,null,1.46,null,132203,0.26379999999999998,"دستگاه ساعت","کمپرسور با ظرفیت حدود7 متر مکعب در دقیقه (250 سی اف ام ) با شیلنگ مربوط",25040103,null,6,{"$f":"COUNTIF($S$1:S1839,Q1839+R1839)","v":6},"051305",9.9999999999999995E-7,51305.000001]
["",null,null,null,null,null,null,null,null,null,null,null,null,"051306",null,{"$f":"COUNTIF($S$1:S1840,Q1840+R1840)","v":0},"051306",9.9999999999999995E-7,""]
["",null,null,null,null,null,null,null,null,null,null,"متر مربع",null,null,"واحـد :",{"$f":"COUNTIF($S$1:S1841,Q1841+R1841)","v":0},"051306",9.9999999999999995E-7,""]
["",null,null,null,null,null,"ضريب",null,"بهاي واحد","مقـدار","واحــد","نيروي انساني ",null,null,"رديف",{"$f":"COUNTIF($S$1:S1842,Q1842+R1842)","v":0},"051306",1E-8,""]
[51306.000000009997,null,0.38514799999999993,1,42406.720539999995,null,1.46,null,110105,0.26379999999999998,"نفر ساعت","متصدی دستگاه شمع کوبی",13031201,null,1,{"$f":"COUNTIF($S$1:S1843,Q1843+R1843)","v":1},"051306",1E-8,51306.000000009997]
[51306.000000020002,null,0.1242,1,7081.0145999999995,null,1,null,57013,0.1242,"نفر- ساعت","كارگر ساده",14010102,null,2,{"$f":"COUNTIF($S$1:S1844,Q1844+R1844)","v":2},"051306",1E-8,51306.000000009997]
[51306.000000029999,null,0.38514799999999993,1,64947.892388000007,null,1.46,null,168631,0.26379999999999998,"نفر- ساعت","تکنیسین عملیات حفاری و شمعکوبی",14250101,null,3,{"$f":"COUNTIF($S$1:S1845,Q1845+R1845)","v":3},"051306",1E-8,51306.000000009997]
[51306.000000040003,null,0.38514799999999993,1,25486.013456000001,null,1.46,null,66172,0.26379999999999998,"نفر ساعت","کارگر شمع کوبی",14250301,null,4,{"$f":"COUNTIF($S$1:S1846,Q1846+R1846)","v":4},"051306",1E-8,51306.000000009997]
["",null,null,null,null,null,"ضريب",null,"بهاي واحد","مقـدار","واحــد","ماشين آلات ",null,null,"رديف",{"$f":"COUNTIF($S$1:S1847,Q1847+R1847)","v":0},"051306",9.9999999999999995E-7,""]
[51306.000001,null,1.7600000000000001E-2,1,1849.5135999999998,null,1,null,105086,1.7600000000000001E-2,"دستگاه ساعت","تراکتور جفت دیفرانسیل با راننده",23020802,null,1,{"$f":"COUNTIF($S$1:S1848,Q1848+R1848)","v":1},"051306",9.9999999999999995E-7,51306.000001]
[51306.000002000001,null,2.07E-2,1,1230.3665999999998,null,1,null,59438,2.07E-2,"دستگاه ساعت","تريلر کفي به ظرفيت حدود10 تن بدون کشنده",23020902,null,2,{"$f":"COUNTIF($S$1:S1849,Q1849+R1849)","v":2},"051306",9.9999999999999995E-7,51306.000001]
[51306.000003000001,null,1.7600000000000001E-2,1,5137.2815999999993,null,1,null,291891,1.7600000000000001E-2,"دستگاه ساعت","جرثقیل کفی5 تن با کامیون10 تن با راننده",24010104,null,3,{"$f":"COUNTIF($S$1:S1850,Q1850+R1850)","v":3},"051306",9.9999999999999995E-7,51306.000001]
[51306.000004000001,null,0.38514799999999993,1,224836.69251600004,null,1.46,null,583767,0.26379999999999998,"دستگاه ساعت","جرثقيل خودرو چرخ زنجيري حدود20 تن با راننده",24010402,null,4,{"$f":"COUNTIF($S$1:S1851,Q1851+R1851)","v":4},"051306",9.9999999999999995E-7,51306.000001]
[51306.000005000002,null,0.38514799999999993,1,80095.378079999995,null,1.46,null,207960,0.26379999999999998,"دستگاه-ساعت","دستگاه شمع کوب به ظرفیت حدود5  تن",25020703,null,5,{"$f":"COUNTIF($S$1:S1852,Q1852+R1852)","v":5},"051306",9.9999999999999995E-7,51306.000001]
[51306.000006000002,null,0.38514799999999993,1,50917.721043999998,null,1.46,null,132203,0.26379999999999998,"دستگاه ساعت","کمپرسور با ظرفیت حدود7 متر مکعب در دقیقه (250 سی اف ام ) با شیلنگ مربوط",25040103,null,6,{"$f":"COUNTIF($S$1:S1853,Q1853+R1853)","v":6},"051306",9.9999999999999995E-7,51306.000001]
["",null,null,null,null,null,"ضريب",null,"بهاي واحد","مقـدار","واحــد","مصالح",null,null,"رديف",{"$f":"COUNTIF($S$1:S1854,Q1854+R1854)","v":0},"051306",1E-4,""]
[51306.000099999997,null,3.05,1,64050,null,1,null,21000,3.05,"كیلوگرم","سپر فلزی",31240901,null,1,{"$f":"COUNTIF($S$1:S1855,Q1855+R1855)","v":1},"051306",1E-4,51306.000099999997]
["",null,null,null,null,null,"ضريب",null,"بهاي واحد","مقـدار","واحــد"," حمل مصالح ",null,null,"رديف",{"$f":"COUNTIF($S$1:S1856,Q1856+R1856)","v":0},"051306",0.01,""]
[51306.01,null,3.05,1,500.2,null,1,null,164,3.05,"كیلوگرم","حمل مصالح فلزی مورد مصرف در سازه",41110101,null,1,{"$f":"COUNTIF($S$1:S1857,Q1857+R1857)","v":1},"051306",0.01,51306.01]
["",null,null,null,null,null,null,null,null,null,null,null,null,"051307",null,{"$f":"COUNTIF($S$1:S1858,Q1858+R1858)","v":0},"051307",0.01,""]
["",null,null,null,null,null,null,null,null,null,null,"متر مربع",null,null,"واحـد :",{"$f":"COUNTIF($S$1:S1859,Q1859+R1859)","v":0},"051307",0.01,""]
["",null,null,null,null,null,"ضريب",null,"بهاي واحد","مقـدار","واحــد","نيروي انساني ",null,null,"رديف",{"$f":"COUNTIF($S$1:S1860,Q1860+R1860)","v":0},"051307",1E-8,""]
[51307.000000009997,null,0.62049999999999994,1,68320.152499999997,null,1.46,null,110105,0.42499999999999999,"نفر ساعت","متصدی دستگاه شمع کوبی",13031201,null,1,{"$f":"COUNTIF($S$1:S1861,Q1861+R1861)","v":1},"051307",1E-8,51307.000000009997]
[51307.000000020002,null,0.1,1,5701.3,null,1,null,57013,0.1,"نفر- ساعت","كارگر ساده",14010102,null,2,{"$f":"COUNTIF($S$1:S1862,Q1862+R1862)","v":2},"051307",1E-8,51307.000000009997]
[51307.000000029999,null,0.62049999999999994,1,104635.53550000001,null,1.46,null,168631,0.42499999999999999,"نفر- ساعت","تکنیسین عملیات حفاری و شمعکوبی",14250101,null,3,{"$f":"COUNTIF($S$1:S1863,Q1863+R1863)","v":3},"051307",{"$f":"IF(IF(O1863=\"رديف\",VLOOKUP(L1863,Kod,2,0),0)=0,R1862,IF(O1863=\"رديف\",VLOOKUP(L1863,Kod,2,0),0))","v":1E-8},51307.000000009997]
[51307.000000040003,null,0.62049999999999994,1,41059.726000000002,null,1.46,null,66172,0.42499999999999999,"نفر ساعت","کارگر شمع کوبی",14250301,null,4,{"$f":"COUNTIF($S$1:S1864,Q1864+R1864)","v":4},"051307",1E-8,51307.000000009997]
[{"$f":"IF(M1865<>\"\",Q1865+(P1865*R1865),\"\")","v":""},null,null,null,null,null,"ضريب",null,"بهاي واحد","مقـدار","واحــد","ماشين آلات ",null,null,"رديف",{"$f":"COUNTIF($S$1:S1865,Q1865+R1865)","v":0},"051307",9.9999999999999995E-7,""]
[51307.000001,null,2.8199999999999999E-2,1,2963.4252000000001,null,1,null,105086,2.8199999999999999E-2,"دستگاه ساعت","تراکتور جفت دیفرانسیل با راننده",23020802,null,1,{"$f":"COUNTIF($S$1:S1866,Q1866+R1866)","v":1},"051307",9.9999999999999995E-7,51307.000001]
[51307.000002000001,null,1.67E-2,1,992.61460000000011,null,1,null,59438,1.67E-2,"دستگاه ساعت","تريلر کفي به ظرفيت حدود10 تن بدون کشنده",23020902,null,2,{"$f":"COUNTIF($S$1:S1867,Q1867+R1867)","v":2},"051307",9.9999999999999995E-7,51307.000001]
[51307.000003000001,null,2.8199999999999999E-2,1,8231.3261999999995,null,1,null,291891,2.8199999999999999E-2,"دستگاه ساعت","جرثقیل کفی5 تن با کامیون10 تن با راننده",24010104,null,3,{"$f":"COUNTIF($S$1:S1868,Q1868+R1868)","v":3},"051307",9.9999999999999995E-7,51307.000001]
[51307.000004000001,null,0.62049999999999994,1,362227.42350000003,null,1.46,null,583767,0.42499999999999999,"دستگاه ساعت","جرثقيل خودرو چرخ زنجيري حدود20 تن با راننده",24010402,null,4,{"$f":"COUNTIF($S$1:S1869,Q1869+R1869)","v":4},"051307",9.9999999999999995E-7,51307.000001]
[51307.000005000002,null,0.62049999999999994,1,129039.18,null,1.46,null,207960,0.42499999999999999,"دستگاه-ساعت","دستگاه شمع کوب به ظرفیت حدود5  تن",25020703,null,5,{"$f":"COUNTIF($S$1:S1870,Q1870+R1870)","v":5},"051307",9.9999999999999995E-7,51307.000001]
[51307.000006000002,null,0.62049999999999994,1,82031.961500000005,null,1.46,null,132203,0.42499999999999999,"دستگاه ساعت","کمپرسور با ظرفیت حدود7 متر مکعب در دقیقه (250 سی اف ام ) با شیلنگ مربوط",25040103,null,6,{"$f":"COUNTIF($S$1:S1871,Q1871+R1871)","v":6},"051307",9.9999999999999995E-7,51307.000001]
["",null,null,null,null,null,null,null,null,null,null,null,null,"051308",null,{"$f":"COUNTIF($S$1:S1872,Q1872+R1872)","v":0},"051308",9.9999999999999995E-7,""]
["",null,null,null,null,null,null,null,null,null,null,"متر مربع",null,null,"واحـد :",{"$f":"COUNTIF($S$1:S1873,Q1873+R1873)","v":0},"051308",9.9999999999999995E-7,""]
["",null,null,null,null,null,"ضريب",null,"بهاي واحد","مقـدار","واحــد","نيروي انساني ",null,null,"رديف",{"$f":"COUNTIF($S$1:S1874,Q1874+R1874)","v":0},"051308",1E-8,""]
[51308.000000009997,null,0.62049999999999994,1,68320.152499999997,null,1.46,null,110105,0.42499999999999999,"نفر ساعت","متصدی دستگاه شمع کوبی",13031201,null,1,{"$f":"COUNTIF($S$1:S1875,Q1875+R1875)","v":1},"051308",1E-8,51308.000000009997]
[51308.000000020002,null,0.1,1,5701.3,null,1,null,57013,0.1,"نفر- ساعت","كارگر ساده",14010102,null,2,{"$f":"COUNTIF($S$1:S1876,Q1876+R1876)","v":2},"051308",1E-8,51308.000000009997]
[51308.000000029999,null,0.62049999999999994,1,104635.53550000001,null,1.46,null,168631,0.42499999999999999,"نفر- ساعت","تکنیسین عملیات حفاری و شمعکوبی",14250101,null,3,{"$f":"COUNTIF($S$1:S1877,Q1877+R1877)","v":3},"051308",1E-8,51308.000000009997]
[51308.000000040003,null,0.62049999999999994,1,41059.726000000002,null,1.46,null,66172,0.42499999999999999,"نفر ساعت","کارگر شمع کوبی",14250301,null,4,{"$f":"COUNTIF($S$1:S1878,Q1878+R1878)","v":4},"051308",1E-8,51308.000000009997]
["",null,null,null,null,null,"ضريب",null,"بهاي واحد","مقـدار","واحــد","ماشين آلات ",null,null,"رديف",{"$f":"COUNTIF($S$1:S1879,Q1879+R1879)","v":0},"051308",9.9999999999999995E-7,""]
[51308.000001,null,2.8199999999999999E-2,1,2963.4252000000001,null,1,null,105086,2.8199999999999999E-2,"دستگاه ساعت","تراکتور جفت دیفرانسیل با راننده",23020802,null,1,{"$f":"COUNTIF($S$1:S1880,Q1880+R1880)","v":1},"051308",9.9999999999999995E-7,51308.000001]
[51308.000002000001,null,1.67E-2,1,992.61460000000011,null,1,null,59438,1.67E-2,"دستگاه ساعت","تريلر کفي به ظرفيت حدود10 تن بدون کشنده",23020902,null,2,{"$f":"COUNTIF($S$1:S1881,Q1881+R1881)","v":2},"051308",9.9999999999999995E-7,51308.000001]
[51308.000003000001,null,2.8199999999999999E-2,1,8231.3261999999995,null,1,null,291891,2.8199999999999999E-2,"دستگاه ساعت","جرثقیل کفی5 تن با کامیون10 تن با راننده",24010104,null,3,{"$f":"COUNTIF($S$1:S1882,Q1882+R1882)","v":3},"051308",9.9999999999999995E-7,51308.000001]
[51308.000004000001,null,0.62049999999999994,1,362227.42350000003,null,1.46,null,583767,0.42499999999999999,"دستگاه ساعت","جرثقيل خودرو چرخ زنجيري حدود20 تن با راننده",24010402,null,4,{"$f":"COUNTIF($S$1:S1883,Q1883+R1883)","v":4},{"$f":"IF(N1883>0,N1883,Q1882)","v":"051308"},9.9999999999999995E-7,{"$f":"IF(M1883<>\"\",Q1883+R1883,\"\")","v":51308.000001}]
[51308.000005000002,null,0.62049999999999994,1,129039.18,null,1.46,null,207960,0.42499999999999999,"دستگاه-ساعت","دستگاه شمع کوب به ظرفیت حدود5  تن",25020703,null,5,{"$f":"COUNTIF($S$1:S1884,Q1884+R1884)","v":5},"051308",9.9999999999999995E-7,51308.000001]
[51308.000006000002,null,0.62049999999999994,1,82031.961500000005,null,1.46,null,132203,0.42499999999999999,"دستگاه ساعت","کمپرسور با ظرفیت حدود7 متر مکعب در دقیقه (250 سی اف ام ) با شیلنگ مربوط",25040103,null,6,{"$f":"COUNTIF($S$1:S1885,Q1885+R1885)","v":6},"051308",9.9999999999999995E-7,51308.000001]
["",null,null,null,null,null,"ضريب",null,"بهاي واحد","مقـدار","واحــد","مصالح",null,null,"رديف",{"$f":"COUNTIF($S$1:S1886,Q1886+R1886)","v":0},"051308",1E-4,""]
[51308.000099999997,null,4.07,1,85470,null,1,null,21000,4.07,"كیلوگرم","سپر فلزی",31240901,null,1,{"$f":"COUNTIF($S$1:S1887,Q1887+R1887)","v":1},"051308",1E-4,51308.000099999997]
["",null,null,null,null,null,"ضريب",null,"بهاي واحد","مقـدار","واحــد"," حمل مصالح ",null,null,"رديف",{"$f":"COUNTIF($S$1:S1888,Q1888+R1888)","v":0},"051308",0.01,""]
[51308.01,null,4.07,1,667.48,null,1,null,164,4.07,"كیلوگرم","حمل مصالح فلزی مورد مصرف در سازه",41110101,null,1,{"$f":"COUNTIF($S$1:S1889,Q1889+R1889)","v":1},"051308",0.01,51308.01]
["",null,null,null,null,null,null,null,null,null,null,null,null,"051309",null,{"$f":"COUNTIF($S$1:S1890,Q1890+R1890)","v":0},"051309",0.01,""]
["",null,null,null,null,null,null,null,null,null,null,"متر مربع",null,null,"واحـد :",{"$f":"COUNTIF($S$1:S1891,Q1891+R1891)","v":0},"051309",0.01,""]
["",null,null,null,null,null,"ضريب",null,"بهاي واحد","مقـدار","واحــد","نيروي انساني ",null,null,"رديف",{"$f":"COUNTIF($S$1:S1892,Q1892+R1892)","v":0},"051309",1E-8,""]
[51309.000000009997,null,3.4132000000000003E-2,1,3758.1038600000002,null,1.61,null,110105,2.12E-2,"نفر ساعت","متصدی دستگاه شمع کوبی",13031201,null,1,{"$f":"COUNTIF($S$1:S1893,Q1893+R1893)","v":1},"051309",1E-8,51309.000000009997]
[51309.000000020002,null,1.6500000000000001E-2,1,940.71450000000016,null,1.1000000000000001,null,57013,1.4999999999999999E-2,"نفر- ساعت","كارگر ساده",14010102,null,2,{"$f":"COUNTIF($S$1:S1894,Q1894+R1894)","v":2},"051309",1E-8,51309.000000009997]
[51309.000000029999,null,2.332E-2,1,3932.4749200000001,null,1.1000000000000001,null,168631,2.12E-2,"نفر- ساعت","تکنیسین عملیات حفاری و شمعکوبی",14250101,null,3,{"$f":"COUNTIF($S$1:S1895,Q1895+R1895)","v":3},"051309",1E-8,51309.000000009997]
[51309.000000040003,null,3.4132000000000003E-2,1,2258.5827040000004,null,1.61,null,66172,2.12E-2,"نفر ساعت","کارگر شمع کوبی",14250301,null,4,{"$f":"COUNTIF($S$1:S1896,Q1896+R1896)","v":4},"051309",1E-8,51309.000000009997]
["",null,null,null,null,null,"ضريب",null,"بهاي واحد","مقـدار","واحــد","ماشين آلات ",null,null,"رديف",{"$f":"COUNTIF($S$1:S1897,Q1897+R1897)","v":0},"051309",9.9999999999999995E-7,""]
[51309.000001,null,2.31E-3,1,242.74866000000006,null,1.1000000000000001,null,105086,2.0999999999999999E-3,"دستگاه ساعت","تراکتور جفت دیفرانسیل با راننده",23020802,null,1,{"$f":"COUNTIF($S$1:S1898,Q1898+R1898)","v":1},"051309",9.9999999999999995E-7,51309.000001]
[51309.000002000001,null,2.7500000000000003E-3,1,163.45450000000002,null,1.1000000000000001,null,59438,2.5000000000000001E-3,"دستگاه ساعت","تريلر کفي به ظرفيت حدود10 تن بدون کشنده",23020902,null,2,{"$f":"COUNTIF($S$1:S1899,Q1899+R1899)","v":2},"051309",9.9999999999999995E-7,51309.000001]
[51309.000003000001,null,3.4132000000000003E-2,1,20831.135052000001,null,1.61,null,610311,2.12E-2,"دستگاه ساعت","جرثقيل کاميوني دو کابينه حدود 20 تن با راننده",24010202,null,3,{"$f":"COUNTIF($S$1:S1900,Q1900+R1900)","v":3},"051309",9.9999999999999995E-7,51309.000001]
[51309.000004000001,null,3.3809999999999999E-3,1,2332.5755670000003,null,1.61,null,689907,2.0999999999999999E-3,"دستگاه ساعت","جرثقیل خودرو چرخ زنجیری حدود30 تن با راننده",24010404,null,4,{"$f":"COUNTIF($S$1:S1901,Q1901+R1901)","v":4},"051309",9.9999999999999995E-7,51309.000001]
[51309.000005000002,null,3.4132000000000003E-2,1,7098.0907200000001,null,1.61,null,207960,2.12E-2,"دستگاه-ساعت","دستگاه شمع کوب به ظرفیت حدود5  تن",25020703,null,5,{"$f":"COUNTIF($S$1:S1902,Q1902+R1902)","v":5},"051309",9.9999999999999995E-7,51309.000001]
[51309.000006000002,null,3.4132000000000003E-2,1,4512.3527960000001,null,1.61,null,132203,2.12E-2,"دستگاه ساعت","کمپرسور با ظرفیت حدود7 متر مکعب در دقیقه (250 سی اف ام ) با شیلنگ مربوط",25040103,null,6,{"$f":"COUNTIF($S$1:S1903,Q1903+R1903)","v":6},"051309",9.9999999999999995E-7,51309.000001]
["",null,null,null,null,null,null,null,null,null,null,null,null,"051310",null,{"$f":"COUNTIF($S$1:S1904,Q1904+R1904)","v":0},"051310",9.9999999999999995E-7,""]
["",null,null,null,null,null,null,null,null,null,null,"متر مربع",null,null,"واحـد :",{"$f":"COUNTIF($S$1:S1905,Q1905+R1905)","v":0},"051310",9.9999999999999995E-7,""]
["",null,null,null,null,null,"ضريب",null,"بهاي واحد","مقـدار","واحــد","نيروي انساني ",null,null,"رديف",{"$f":"COUNTIF($S$1:S1906,Q1906+R1906)","v":0},"051310",1E-8,""]
[51310.000000009997,null,5.1359000000000002E-2,1,5654.8826950000002,null,1.61,null,110105,3.1899999999999998E-2,"نفر ساعت","متصدی دستگاه شمع کوبی",13031201,null,1,{"$f":"COUNTIF($S$1:S1907,Q1907+R1907)","v":1},"051310",1E-8,51310.000000009997]
[51310.000000020002,null,1.6500000000000001E-2,1,940.71450000000016,null,1.1000000000000001,null,57013,1.4999999999999999E-2,"نفر- ساعت","كارگر ساده",14010102,null,2,{"$f":"COUNTIF($S$1:S1908,Q1908+R1908)","v":2},"051310",1E-8,51310.000000009997]
[51310.000000029999,null,5.1359000000000002E-2,1,8660.719529,null,1.61,null,168631,3.1899999999999998E-2,"نفر- ساعت","تکنیسین عملیات حفاری و شمعکوبی",14250101,null,3,{"$f":"COUNTIF($S$1:S1909,Q1909+R1909)","v":3},"051310",1E-8,51310.000000009997]
[51310.000000040003,null,5.1359000000000002E-2,1,3398.5277479999995,null,1.61,null,66172,3.1899999999999998E-2,"نفر ساعت","کارگر شمع کوبی",14250301,null,4,{"$f":"COUNTIF($S$1:S1910,Q1910+R1910)","v":4},"051310",1E-8,51310.000000009997]
["",null,null,null,null,null,"ضريب",null,"بهاي واحد","مقـدار","واحــد","ماشين آلات ",null,null,"رديف",{"$f":"COUNTIF($S$1:S1911,Q1911+R1911)","v":0},"051310",9.9999999999999995E-7,""]
[51310.000001,null,2.31E-3,1,242.74866000000006,null,1.1000000000000001,null,105086,2.0999999999999999E-3,"دستگاه ساعت","تراکتور جفت دیفرانسیل با راننده",23020802,null,1,{"$f":"COUNTIF($S$1:S1912,Q1912+R1912)","v":1},"051310",9.9999999999999995E-7,51310.000001]
[51310.000002000001,null,2.7500000000000003E-3,1,163.45450000000002,null,1.1000000000000001,null,59438,2.5000000000000001E-3,"دستگاه ساعت","تريلر کفي به ظرفيت حدود10 تن بدون کشنده",23020902,null,2,{"$f":"COUNTIF($S$1:S1913,Q1913+R1913)","v":2},"051310",9.9999999999999995E-7,51310.000001]
[51310.000003000001,null,2.31E-3,1,674.26821000000007,null,1.1000000000000001,null,291891,2.0999999999999999E-3,"دستگاه ساعت","جرثقیل کفی5 تن با کامیون10 تن با راننده",24010104,null,3,{"$f":"COUNTIF($S$1:S1914,Q1914+R1914)","v":3},"051310",9.9999999999999995E-7,51310.000001]
[51310.000004000001,null,5.1359000000000002E-2,1,29981.689352999994,null,1.61,null,583767,3.1899999999999998E-2,"دستگاه ساعت","جرثقيل خودرو چرخ زنجيري حدود20 تن با راننده",24010402,null,4,{"$f":"COUNTIF($S$1:S1915,Q1915+R1915)","v":4},"051310",9.9999999999999995E-7,51310.000001]
[51310.000005000002,null,5.1359000000000002E-2,1,10680.61764,null,1.61,null,207960,3.1899999999999998E-2,"دستگاه-ساعت","دستگاه شمع کوب به ظرفیت حدود5  تن",25020703,null,5,{"$f":"COUNTIF($S$1:S1916,Q1916+R1916)","v":5},"051310",9.9999999999999995E-7,51310.000001]
[51310.000006000002,null,5.1359000000000002E-2,1,6789.8138769999996,null,1.61,null,132203,3.1899999999999998E-2,"دستگاه ساعت","کمپرسور با ظرفیت حدود7 متر مکعب در دقیقه (250 سی اف ام ) با شیلنگ مربوط",25040103,null,6,{"$f":"COUNTIF($S$1:S1917,Q1917+R1917)","v":6},"051310",9.9999999999999995E-7,51310.000001]
["",null,null,null,null,null,null,null,null,null,null,null,null,"051311",null,{"$f":"COUNTIF($S$1:S1918,Q1918+R1918)","v":0},"051311",9.9999999999999995E-7,""]
["",null,null,null,null,null,null,null,null,null,null,"متر مربع",null,null,"واحـد :",{"$f":"COUNTIF($S$1:S1919,Q1919+R1919)","v":0},"051311",9.9999999999999995E-7,""]
["",null,null,null,null,null,"ضريب",null,"بهاي واحد","مقـدار","واحــد","نيروي انساني ",null,null,"رديف",{"$f":"COUNTIF($S$1:S1920,Q1920+R1920)","v":0},"051311",1E-8,""]
[51311.000000009997,null,0.12166661799999999,1,13396.10297489,null,1.46,null,110105,8.3333299999999999E-2,"نفر ساعت","متصدی دستگاه شمع کوبی",13031201,null,1,{"$f":"COUNTIF($S$1:S1921,Q1921+R1921)","v":1},"051311",1E-8,51311.000000009997]
[51311.000000020002,null,0.12166661799999999,1,20516.763459958001,null,1.46,null,168631,8.3333299999999999E-2,"نفر- ساعت","تکنیسین عملیات حفاری و شمعکوبی",14250101,null,2,{"$f":"COUNTIF($S$1:S1922,Q1922+R1922)","v":2},"051311",1E-8,51311.000000009997]
[51311.000000029999,null,0.12166661799999999,1,8050.9234462960003,null,1.46,null,66172,8.3333299999999999E-2,"نفر ساعت","کارگر شمع کوبی",14250301,null,3,{"$f":"COUNTIF($S$1:S1923,Q1923+R1923)","v":3},"051311",1E-8,51311.000000009997]
["",null,null,null,null,null,"ضريب",null,"بهاي واحد","مقـدار","واحــد","ماشين آلات ",null,null,"رديف",{"$f":"COUNTIF($S$1:S1924,Q1924+R1924)","v":0},"051311",9.9999999999999995E-7,""]
[51311.000001,null,0.12166661799999999,1,71024.956590005997,null,1.46,null,583767,8.3333299999999999E-2,"دستگاه ساعت","جرثقيل خودرو چرخ زنجيري حدود20 تن با راننده",24010402,null,1,{"$f":"COUNTIF($S$1:S1925,Q1925+R1925)","v":1},"051311",9.9999999999999995E-7,51311.000001]
[51311.000002000001,null,0.12166661799999999,1,25301.789879280004,null,1.46,null,207960,8.3333299999999999E-2,"دستگاه-ساعت","دستگاه شمع کوب به ظرفیت حدود5  تن",25020703,null,2,{"$f":"COUNTIF($S$1:S1926,Q1926+R1926)","v":2},"051311",9.9999999999999995E-7,51311.000001]
[51311.000003000001,null,0.12166661799999999,1,16084.691899454005,null,1.46,null,132203,8.3333299999999999E-2,"دستگاه ساعت","کمپرسور با ظرفیت حدود7 متر مکعب در دقیقه (250 سی اف ام ) با شیلنگ مربوط",25040103,null,3,{"$f":"COUNTIF($S$1:S1927,Q1927+R1927)","v":3},"051311",{"$f":"IF(IF(O1927=\"رديف\",VLOOKUP(L1927,Kod,2,0),0)=0,R1926,IF(O1927=\"رديف\",VLOOKUP(L1927,Kod,2,0),0))","v":9.9999999999999995E-7},51311.000001]
["",null,null,null,null,null,null,null,null,null,null,null,null,"051401",null,{"$f":"COUNTIF($S$1:S1928,Q1928+R1928)","v":0},"051401",9.9999999999999995E-7,""]
[{"$f":"IF(M1929<>\"\",Q1929+(P1929*R1929),\"\")","v":""},null,null,null,null,null,null,null,null,null,null,"متر مربع",null,null,"واحـد :",{"$f":"COUNTIF($S$1:S1929,Q1929+R1929)","v":0},"051401",9.9999999999999995E-7,""]
["",null,null,null,null,null,"ضريب",null,"بهاي واحد","مقـدار","واحــد","نيروي انساني ",null,null,"رديف",{"$f":"COUNTIF($S$1:S1930,Q1930+R1930)","v":0},"051401",1E-8,""]
[51401.000000009997,null,0.44444400000000001,1,48935.506620000007,null,1,null,110105,0.44444400000000001,"نفر ساعت","متصدی دستگاه شمع کوبی",13031201,null,1,{"$f":"COUNTIF($S$1:S1931,Q1931+R1931)","v":1},"051401",1E-8,51401.000000009997]
[51401.000000020002,null,0.20200000000000004,1,11516.626,null,1,null,57013,0.20200000000000004,"نفر- ساعت","كارگر ساده",14010102,null,2,{"$f":"COUNTIF($S$1:S1932,Q1932+R1932)","v":2},"051401",1E-8,51401.000000009997]
[51401.000000029999,null,0.44444400000000001,1,74947.03616399999,null,1,null,168631,0.44444400000000001,"نفر- ساعت","تکنیسین عملیات حفاری و شمعکوبی",14250101,null,3,{"$f":"COUNTIF($S$1:S1933,Q1933+R1933)","v":3},"051401",1E-8,51401.000000009997]
[51401.000000040003,null,0.44444400000000001,1,29409.748368,null,1,null,66172,0.44444400000000001,"نفر ساعت","کارگر شمع کوبی",14250301,null,4,{"$f":"COUNTIF($S$1:S1934,Q1934+R1934)","v":4},"051401",1E-8,51401.000000009997]
["",null,null,null,null,null,"ضريب",null,"بهاي واحد","مقـدار","واحــد","ماشين آلات ",null,null,"رديف",{"$f":"COUNTIF($S$1:S1935,Q1935+R1935)","v":0},"051401",9.9999999999999995E-7,""]
[51401.000001,null,0.13466700000000001,1,55031.130881999998,null,1,null,408646,0.13466700000000001,"دستگاه-ساعت","تریلی دو محوره با ظرفیت 24 تن باراننده",23020302,null,1,{"$f":"COUNTIF($S$1:S1936,Q1936+R1936)","v":1},"051401",9.9999999999999995E-7,51401.000001]
[51401.000002000001,null,6.7333000000000004E-2,1,41094.070563000008,null,1,null,610311,6.7333000000000004E-2,"دستگاه ساعت","جرثقيل کاميوني دو کابينه حدود 20 تن با راننده",24010202,null,2,{"$f":"COUNTIF($S$1:S1937,Q1937+R1937)","v":2},"051401",9.9999999999999995E-7,51401.000001]
[51401.000003000001,null,0.44444400000000001,1,306625.02670799999,null,1,null,689907,0.44444400000000001,"دستگاه ساعت","جرثقیل خودرو چرخ زنجیری حدود30 تن با راننده",24010404,null,3,{"$f":"COUNTIF($S$1:S1938,Q1938+R1938)","v":3},"051401",9.9999999999999995E-7,51401.000001]
[51401.000004000001,null,0.44444400000000001,1,92426.574240000002,null,1,null,207960,0.44444400000000001,"دستگاه-ساعت","دستگاه شمع کوب به ظرفیت حدود5  تن",25020703,null,4,{"$f":"COUNTIF($S$1:S1939,Q1939+R1939)","v":4},"051401",9.9999999999999995E-7,51401.000001]
[51401.000005000002,null,0.44444400000000001,1,58756.83013200001,null,1,null,132203,0.44444400000000001,"دستگاه ساعت","کمپرسور با ظرفیت حدود7 متر مکعب در دقیقه (250 سی اف ام ) با شیلنگ مربوط",25040103,null,5,{"$f":"COUNTIF($S$1:S1940,Q1940+R1940)","v":5},"051401",9.9999999999999995E-7,51401.000001]
["",null,null,null,null,null,null,null,null,null,null,null,null,"060101",null,{"$f":"COUNTIF($S$1:S1941,Q1941+R1941)","v":0},"060101",9.9999999999999995E-7,""]
["",null,null,null,null,null,null,null,null,null,null,"مترمكعب",null,null,"واحـد :",{"$f":"COUNTIF($S$1:S1942,Q1942+R1942)","v":0},"060101",9.9999999999999995E-7,""]
["",null,null,null,null,null,"ضريب",null,"بهاي واحد","مقـدار","واحــد","نيروي انساني ",null,null,"رديف",{"$f":"COUNTIF($S$1:S1943,Q1943+R1943)","v":0},"060101",1E-8,""]
[60101.000000009997,null,0.11999399999999999,1,7928.6035499999998,null,1,null,66075,0.11999399999999999,"نفر ساعت","سر کارگر",14010101,null,1,{"$f":"COUNTIF($S$1:S1944,Q1944+R1944)","v":1},"060101",1E-8,60101.000000009997]
[60101.000000020002,null,1.2,1,68415.600000000006,null,1,null,57013,1.2,"نفر- ساعت","كارگر ساده",14010102,null,2,{"$f":"COUNTIF($S$1:S1945,Q1945+R1945)","v":2},"060101",1E-8,60101.000000009997]
["",null,null,null,null,null,"ضريب",null,"بهاي واحد","مقـدار","واحــد","ماشين آلات ",null,null,"رديف",{"$f":"COUNTIF($S$1:S1946,Q1946+R1946)","v":0},"060101",9.9999999999999995E-7,""]
[60101.000001,null,0.05,1,17334,null,1,null,346680,0.05,"دستگاه-ساعت","کامیون کمپرسی به ظرفیت حدود 10 تن با راننده",23020204,null,1,{"$f":"COUNTIF($S$1:S1947,Q1947+R1947)","v":1},{"$f":"IF(N1947>0,N1947,Q1946)","v":"060101"},9.9999999999999995E-7,{"$f":"IF(M1947<>\"\",Q1947+R1947,\"\")","v":60101.000001}]
[60101.000002000001,null,1.8518E-3,1,305.54700000000003,null,1,null,165000,1.8518E-3,"عدد","بیل",28070101,null,2,{"$f":"COUNTIF($S$1:S1948,Q1948+R1948)","v":2},"060101",9.9999999999999995E-7,60101.000001]
[60101.000003000001,null,5.1282000000000003E-3,1,5384.6100000000015,null,1,null,1050000,5.1282000000000003E-3,"دستگاه","فرگون",28070601,null,3,{"$f":"COUNTIF($S$1:S1949,Q1949+R1949)","v":3},"060101",9.9999999999999995E-7,60101.000001]
["",null,null,null,null,null,"ضريب",null,"بهاي واحد","مقـدار","واحــد","مصالح",null,null,"رديف",{"$f":"COUNTIF($S$1:S1950,Q1950+R1950)","v":0},"060101",1E-4,""]
[60101.000099999997,null,1.05,1,32196.15,null,1,null,30663,1.05,"مترمكعب","سنگ قلوه تولید کارگاه",31030702,null,1,{"$f":"COUNTIF($S$1:S1951,Q1951+R1951)","v":1},"060101",1E-4,60101.000099999997]
["",null,null,null,null,null,null,null,null,null,null,null,null,"060105",null,{"$f":"COUNTIF($S$1:S1952,Q1952+R1952)","v":0},"060105",1E-4,""]
["",null,null,null,null,null,null,null,null,null,null,"مترمكعب",null,null,"واحـد :",{"$f":"COUNTIF($S$1:S1953,Q1953+R1953)","v":0},"060105",1E-4,""]
["",null,null,null,null,null,"ضريب",null,"بهاي واحد","مقـدار","واحــد","نيروي انساني ",null,null,"رديف",{"$f":"COUNTIF($S$1:S1954,Q1954+R1954)","v":0},"060105",1E-8,""]
[60105.000000009997,null,0.2083333,1,13765.6227975,null,1,null,66075,0.2083333,"نفر ساعت","سر کارگر",14010101,null,1,{"$f":"COUNTIF($S$1:S1955,Q1955+R1955)","v":1},"060105",1E-8,60105.000000009997]
[60105.000000020002,null,3.3333332000000002,1,190043.32573159999,null,1,null,57013,3.3333332000000002,"نفر- ساعت","كارگر ساده",14010102,null,2,{"$f":"COUNTIF($S$1:S1956,Q1956+R1956)","v":2},"060105",1E-8,60105.000000009997]
[60105.000000029999,null,0.1666667,1,9596.5019193000007,null,1,null,57579,0.1666667,"نفر ساعت","کمک آرماتور بند",14050203,null,3,{"$f":"COUNTIF($S$1:S1957,Q1957+R1957)","v":3},"060105",1E-8,60105.000000009997]
[60105.000000040003,null,0.66666669999999995,1,51360.002567999996,null,1,null,77040,0.66666669999999995,"نفر ساعت","بنای سنگ چین درجه دو",14220302,null,4,{"$f":"COUNTIF($S$1:S1958,Q1958+R1958)","v":4},"060105",1E-8,60105.000000009997]
["",null,null,null,null,null,"ضريب",null,"بهاي واحد","مقـدار","واحــد","ماشين آلات ",null,null,"رديف",{"$f":"COUNTIF($S$1:S1959,Q1959+R1959)","v":0},"060105",9.9999999999999995E-7,""]
[60105.000001,null,5.4761799999999999E-2,1,18984.820824000002,null,1,null,346680,5.4761799999999999E-2,"دستگاه-ساعت","کامیون کمپرسی به ظرفیت حدود 10 تن با راننده",23020204,null,1,{"$f":"COUNTIF($S$1:S1960,Q1960+R1960)","v":1},"060105",9.9999999999999995E-7,60105.000001]
[60105.000002000001,null,1.8518E-3,1,305.54700000000003,null,1,null,165000,1.8518E-3,"عدد","بیل",28070101,null,2,{"$f":"COUNTIF($S$1:S1961,Q1961+R1961)","v":2},"060105",9.9999999999999995E-7,60105.000001]
[60105.000003000001,null,5.1282000000000003E-3,1,5384.6100000000015,null,1,null,1050000,5.1282000000000003E-3,"دستگاه","فرگون",28070601,null,3,{"$f":"COUNTIF($S$1:S1962,Q1962+R1962)","v":3},"060105",9.9999999999999995E-7,60105.000001]
["",null,null,null,null,null,"ضريب",null,"بهاي واحد","مقـدار","واحــد","مصالح",null,null,"رديف",{"$f":"COUNTIF($S$1:S1963,Q1963+R1963)","v":0},"060105",1E-4,""]
[60105.000099999997,null,1.1499999999999999,1,35262.449999999997,null,1,null,30663,1.1499999999999999,"مترمكعب","سنگ قلوه تولید کارگاه",31030702,null,1,{"$f":"COUNTIF($S$1:S1964,Q1964+R1964)","v":1},"060105",1E-4,60105.000099999997]
[60105.000200000002,null,11.9625,1,418687.5,null,0.87,null,35000,13.75,"كیلوگرم","توری گالوانیزه گابیون",31290906,null,2,{"$f":"COUNTIF($S$1:S1965,Q1965+R1965)","v":2},"060105",1E-4,60105.000099999997]
["",null,null,null,null,null,null,null,null,null,null,null,null,"060106",null,{"$f":"COUNTIF($S$1:S1966,Q1966+R1966)","v":0},"060106",1E-4,""]
["",null,null,null,null,null,null,null,null,null,null,"مترمكعب",null,null,"واحـد :",{"$f":"COUNTIF($S$1:S1967,Q1967+R1967)","v":0},"060106",1E-4,""]
["",null,null,null,null,null,"ضريب",null,"بهاي واحد","مقـدار","واحــد","نيروي انساني ",null,null,"رديف",{"$f":"COUNTIF($S$1:S1968,Q1968+R1968)","v":0},"060106",1E-8,""]
[60106.000000009997,null,0.24169180000000001,1,15969.785685000001,null,1,null,66075,0.24169180000000001,"نفر ساعت","سر کارگر",14010101,null,1,{"$f":"COUNTIF($S$1:S1969,Q1969+R1969)","v":1},"060106",1E-8,60106.000000009997]
[60106.000000020002,null,4,1,228052,null,1,null,57013,4,"نفر- ساعت","كارگر ساده",14010102,null,2,{"$f":"COUNTIF($S$1:S1970,Q1970+R1970)","v":2},"060106",1E-8,60106.000000009997]
[60106.000000029999,null,0.1666667,1,9596.5019193000007,null,1,null,57579,0.1666667,"نفر ساعت","کمک آرماتور بند",14050203,null,3,{"$f":"COUNTIF($S$1:S1971,Q1971+R1971)","v":3},"060106",1E-8,60106.000000009997]
[60106.000000040003,null,0.66666669999999995,1,51360.002567999996,null,1,null,77040,0.66666669999999995,"نفر ساعت","بنای سنگ چین درجه دو",14220302,null,4,{"$f":"COUNTIF($S$1:S1972,Q1972+R1972)","v":4},"060106",1E-8,60106.000000009997]
["",null,null,null,null,null,"ضريب",null,"بهاي واحد","مقـدار","واحــد","ماشين آلات ",null,null,"رديف",{"$f":"COUNTIF($S$1:S1973,Q1973+R1973)","v":0},"060106",9.9999999999999995E-7,""]
[60106.000001,null,6.8968000000000002E-2,1,23909.826239999999,null,1,null,346680,6.8968000000000002E-2,"دستگاه-ساعت","کامیون کمپرسی به ظرفیت حدود 10 تن با راننده",23020204,null,1,{"$f":"COUNTIF($S$1:S1974,Q1974+R1974)","v":1},"060106",9.9999999999999995E-7,60106.000001]
[60106.000002000001,null,5.1282000000000003E-3,1,5384.6100000000015,null,1,null,1050000,5.1282000000000003E-3,"دستگاه","فرگون",28070601,null,2,{"$f":"COUNTIF($S$1:S1975,Q1975+R1975)","v":2},"060106",9.9999999999999995E-7,60106.000001]
["",null,null,null,null,null,"ضريب",null,"بهاي واحد","مقـدار","واحــد","مصالح",null,null,"رديف",{"$f":"COUNTIF($S$1:S1976,Q1976+R1976)","v":0},"060106",1E-4,""]
[60106.000099999997,null,1.2,1,284887.2,null,1,null,237406,1.2,"مترمكعب","سنگ لاشه بنایی  تولیدکارگاه",31050202,null,1,{"$f":"COUNTIF($S$1:S1977,Q1977+R1977)","v":1},"060106",1E-4,60106.000099999997]
[60106.000200000002,null,11.9625,1,418687.5,null,0.87,null,35000,13.75,"كیلوگرم","توری گالوانیزه گابیون",31290906,null,2,{"$f":"COUNTIF($S$1:S1978,Q1978+R1978)","v":2},"060106",1E-4,60106.000099999997]
["",null,null,null,null,null,null,null,null,null,null,null,null,"060201",null,{"$f":"COUNTIF($S$1:S1979,Q1979+R1979)","v":0},"060201",1E-4,""]
["",null,null,null,null,null,null,null,null,null,null,"مترمكعب",null,null,"واحـد :",{"$f":"COUNTIF($S$1:S1980,Q1980+R1980)","v":0},"060201",1E-4,""]
["",null,null,null,null,null,"ضريب",null,"بهاي واحد","مقـدار","واحــد","نيروي انساني ",null,null,"رديف",{"$f":"COUNTIF($S$1:S1981,Q1981+R1981)","v":0},"060201",1E-8,""]
[60201.000000009997,null,0.33613439999999994,1,22210.080480000001,null,1,null,66075,0.33613439999999994,"نفر ساعت","سر کارگر",14010101,null,1,{"$f":"COUNTIF($S$1:S1982,Q1982+R1982)","v":1},"060201",1E-8,60201.000000009997]
[60201.000000020002,null,4.4342855999999999,1,252811.92491280005,null,1,null,57013,4.4342855999999999,"نفر- ساعت","كارگر ساده",14010102,null,2,{"$f":"COUNTIF($S$1:S1983,Q1983+R1983)","v":2},"060201",1E-8,60201.000000009997]
[60201.000000029999,null,1.1428571000000001,1,88045.710984000005,null,1,null,77040,1.1428571000000001,"نفر ساعت","بنای سنگ چین درجه دو",14220302,null,3,{"$f":"COUNTIF($S$1:S1984,Q1984+R1984)","v":3},"060201",1E-8,60201.000000009997]
[60201.000000040003,null,1.1428571000000001,1,72212.568720600015,null,1,null,63186,1.1428571000000001,"نفر ساعت","کمک بنای سنگ چین",14220303,null,4,{"$f":"COUNTIF($S$1:S1985,Q1985+R1985)","v":4},"060201",1E-8,60201.000000009997]
["",null,null,null,null,null,"ضريب",null,"بهاي واحد","مقـدار","واحــد","ماشين آلات ",null,null,"رديف",{"$f":"COUNTIF($S$1:S1986,Q1986+R1986)","v":0},"060201",9.9999999999999995E-7,""]
[60201.000001,null,6.8968000000000002E-2,1,23909.826239999999,null,1,null,346680,6.8968000000000002E-2,"دستگاه-ساعت","کامیون کمپرسی به ظرفیت حدود 10 تن با راننده",23020204,null,1,{"$f":"COUNTIF($S$1:S1987,Q1987+R1987)","v":1},"060201",9.9999999999999995E-7,60201.000001]
[60201.000002000001,null,6.0789999999999998E-4,1,100.3035,null,1,null,165000,6.0789999999999998E-4,"عدد","بیل",28070101,null,2,{"$f":"COUNTIF($S$1:S1988,Q1988+R1988)","v":2},"060201",9.9999999999999995E-7,60201.000001]
[60201.000003000001,null,3.0580999999999998E-3,1,824.17018239999993,null,1,null,269504,3.0580999999999998E-3,"عدد","زنبه",28070301,null,3,{"$f":"COUNTIF($S$1:S1989,Q1989+R1989)","v":3},"060201",9.9999999999999995E-7,60201.000001]
[60201.000004000001,null,5.1282000000000003E-3,1,5384.6100000000015,null,1,null,1050000,5.1282000000000003E-3,"دستگاه","فرگون",28070601,null,4,{"$f":"COUNTIF($S$1:S1990,Q1990+R1990)","v":4},"060201",9.9999999999999995E-7,60201.000001]
["",null,null,null,null,null,"ضريب",null,"بهاي واحد","مقـدار","واحــد","مصالح",null,null,"رديف",{"$f":"COUNTIF($S$1:S1991,Q1991+R1991)","v":0},"060201",{"$f":"IF(IF(O1991=\"رديف\",VLOOKUP(L1991,Kod,2,0),0)=0,R1990,IF(O1991=\"رديف\",VLOOKUP(L1991,Kod,2,0),0))","v":1E-4},""]
[60201.000099999997,null,1.2,1,284887.2,null,1,null,237406,1.2,"مترمكعب","سنگ لاشه بنایی  تولیدکارگاه",31050202,null,1,{"$f":"COUNTIF($S$1:S1992,Q1992+R1992)","v":1},"060201",1E-4,60201.000099999997]
[{"$f":"IF(M1993<>\"\",Q1993+(P1993*R1993),\"\")","v":60201.000200000002},null,0.35,1,298924.84999999998,null,1,null,854071,0.35,"مترمكعب","ملات ماسه سیمان 1:5با ماسه تولید کارگاه",31141202,null,2,{"$f":"COUNTIF($S$1:S1993,Q1993+R1993)","v":2},"060201",1E-4,60201.000099999997]
["",null,null,null,null,null,null,null,null,null,null,null,null,"060202",null,{"$f":"COUNTIF($S$1:S1994,Q1994+R1994)","v":0},"060202",1E-4,""]
["",null,null,null,null,null,null,null,null,null,null,"مترمكعب",null,null,"واحـد :",{"$f":"COUNTIF($S$1:S1995,Q1995+R1995)","v":0},"060202",1E-4,""]
["",null,null,null,null,null,"ضريب",null,"بهاي واحد","مقـدار","واحــد","نيروي انساني ",null,null,"رديف",{"$f":"COUNTIF($S$1:S1996,Q1996+R1996)","v":0},"060202",1E-8,""]
[60202.000000009997,null,0.33613439999999994,1,22210.080480000001,null,1,null,66075,0.33613439999999994,"نفر ساعت","سر کارگر",14010101,null,1,{"$f":"COUNTIF($S$1:S1997,Q1997+R1997)","v":1},"060202",1E-8,60202.000000009997]
[60202.000000020002,null,4.4342855999999999,1,252811.92491280005,null,1,null,57013,4.4342855999999999,"نفر- ساعت","كارگر ساده",14010102,null,2,{"$f":"COUNTIF($S$1:S1998,Q1998+R1998)","v":2},"060202",1E-8,60202.000000009997]
[60202.000000029999,null,1.1428571000000001,1,88045.710984000005,null,1,null,77040,1.1428571000000001,"نفر ساعت","بنای سنگ چین درجه دو",14220302,null,3,{"$f":"COUNTIF($S$1:S1999,Q1999+R1999)","v":3},"060202",1E-8,60202.000000009997]
[60202.000000040003,null,1.1428571000000001,1,72212.568720600015,null,1,null,63186,1.1428571000000001,"نفر ساعت","کمک بنای سنگ چین",14220303,null,4,{"$f":"COUNTIF($S$1:S2000,Q2000+R2000)","v":4},"060202",1E-8,60202.000000009997]
[60202.000001,null,6.8968000000000002E-2,1,23909.826239999999,null,1,null,346680,6.8968000000000002E-2,"دستگاه-ساعت","کامیون کمپرسی به ظرفیت حدود 10 تن با راننده",23020204,null,1,{"$f":"COUNTIF($S$1:S2002,Q2002+R2002)","v":1},"060202",9.9999999999999995E-7,60202.000001]
[60202.000003000001,null,3.0580999999999998E-3,1,824.17018239999993,null,1,null,269504,3.0580999999999998E-3,"عدد","زنبه",28070301,null,3,{"$f":"COUNTIF($S$1:S2004,Q2004+R2004)","v":3},"060202",9.9999999999999995E-7,60202.000001]
[60202.000099999997,null,1.2,1,284887.2,null,1,null,237406,1.2,"مترمكعب","سنگ لاشه بنایی  تولیدکارگاه",31050202,null,1,{"$f":"COUNTIF($S$1:S2007,Q2007+R2007)","v":1},"060202",1E-4,60202.000099999997]
["",null,null,null,null,null,"ضريب",null,"بهاي واحد","مقـدار","واحــد","نيروي انساني ",null,null,"رديف",{"$f":"COUNTIF($S$1:S2011,Q2011+R2011)","v":0},{"$f":"IF(N2011>0,N2011,Q2010)","v":"060203"},1E-8,{"$f":"IF(M2011<>\"\",Q2011+R2011,\"\")","v":""}]
[60203.000000029999,null,1.1428571000000001,1,88045.710984000005,null,1,null,77040,1.1428571000000001,"نفر ساعت","بنای سنگ چین درجه دو",14220302,null,3,{"$f":"COUNTIF($S$1:S2014,Q2014+R2014)","v":3},"060203",1E-8,60203.000000009997]
[60203.000001,null,6.8968000000000002E-2,1,23909.826239999999,null,1,null,346680,6.8968000000000002E-2,"دستگاه-ساعت","کامیون کمپرسی به ظرفیت حدود 10 تن با راننده",23020204,null,1,{"$f":"COUNTIF($S$1:S2017,Q2017+R2017)","v":1},"060203",9.9999999999999995E-7,60203.000001]
[60203.000002000001,null,6.0789999999999998E-4,1,100.3035,null,1,null,165000,6.0789999999999998E-4,"عدد","بیل",28070101,null,2,{"$f":"COUNTIF($S$1:S2018,Q2018+R2018)","v":2},"060203",9.9999999999999995E-7,60203.000001]
["",null,null,null,null,null,"ضريب",null,"بهاي واحد","مقـدار","واحــد","مصالح",null,null,"رديف",{"$f":"COUNTIF($S$1:S2021,Q2021+R2021)","v":0},"060203",1E-4,""]
["",null,null,null,null,null,null,null,null,null,null,"مترمكعب",null,null,"واحـد :",{"$f":"COUNTIF($S$1:S2025,Q2025+R2025)","v":0},"060301",1E-4,""]
[60301.000000009997,null,0.23529410000000003,1,15547.057657500003,null,1,null,66075,0.23529410000000003,"نفر ساعت","سر کارگر",14010101,null,1,{"$f":"COUNTIF($S$1:S2027,Q2027+R2027)","v":1},"060301",1E-8,60301.000000009997]
[60301.000000040003,null,0.45714280000000002,1,35218.281311999999,null,1,null,77040,0.45714280000000002,"نفر ساعت","بنای سنگ چین درجه دو",14220302,null,4,{"$f":"COUNTIF($S$1:S2030,Q2030+R2030)","v":4},"060301",1E-8,60301.000000009997]
["",null,null,null,null,null,"ضريب",null,"بهاي واحد","مقـدار","واحــد","نيروي انساني ",null,null,"رديف",{"$f":"COUNTIF($S$1:S2034,Q2034+R2034)","v":0},"060401",1E-8,""]
[60401.000000029999,null,1.6666666999999997,1,155316.66977299997,null,1,null,93190,1.6666666999999997,"نفر ساعت","بنای سنگ چین درجه یک",14220301,null,3,{"$f":"COUNTIF($S$1:S2037,Q2037+R2037)","v":3},"060401",1E-8,60401.000000009997]
["",null,null,null,null,null,null,null,null,null,null,null,null,"060402",null,{"$f":"COUNTIF($S$1:S2040,Q2040+R2040)","v":0},"060402",1E-8,""]
["",null,null,null,null,null,null,null,null,null,null,"متر مربع",null,null,"واحـد :",{"$f":"COUNTIF($S$1:S2041,Q2041+R2041)","v":0},"060402",1E-8,""]
[60402.000000020002,null,1.6,1,127852.8,null,1,null,79908,1.6,"نفر ساعت","سنگ تراش درجه دو",14220202,null,2,{"$f":"COUNTIF($S$1:S2044,Q2044+R2044)","v":2},"060402",1E-8,60402.000000009997]
["",null,null,null,null,null,"ضريب",null,"بهاي واحد","مقـدار","واحــد","مصالح",null,null,"رديف",{"$f":"COUNTIF($S$1:S2048,Q2048+R2048)","v":0},"060402",1E-4,""]
[60402.000200000002,null,0.33,1,213435.42,null,1,null,646774,0.33,"مترمكعب","سنگ لاشه قواره شده چهار گوش تولید کارگاه",31050402,null,2,{"$f":"COUNTIF($S$1:S2050,Q2050+R2050)","v":2},"060402",1E-4,60402.000099999997]
["",null,null,null,null,null,"ضريب",null,"بهاي واحد","مقـدار","واحــد","نيروي انساني ",null,null,"رديف",{"$f":"COUNTIF($S$1:S2053,Q2053+R2053)","v":0},"060403",1E-8,""]
[{"$f":"IF(M2057<>\"\",Q2057+(P2057*R2057),\"\")","v":60403.000000040003},null,6.8580000000000002E-2,1,4333.2958799999997,null,0.2,null,63186,0.34289999999999998,"نفر ساعت","کمک بنای سنگ چین",14220303,null,4,{"$f":"COUNTIF($S$1:S2057,Q2057+R2057)","v":4},"060403",1E-8,60403.000000009997]
["",null,null,null,null,null,"ضريب",null,"بهاي واحد","مقـدار","واحــد","نيروي انساني ",null,null,"رديف",{"$f":"COUNTIF($S$1:S2060,Q2060+R2060)","v":0},"060404",1E-8,""]
[60404.000000009997,null,0.11422857,1,6512.5134614100007,null,1,null,57013,0.11422857,"نفر- ساعت","كارگر ساده",14010102,null,1,{"$f":"COUNTIF($S$1:S2061,Q2061+R2061)","v":1},"060404",1E-8,60404.000000009997]
[60404.000000040003,null,-1.28,1,-98611.199999999997,null,1,null,77040,-1.28,"نفر ساعت","بنای سنگ چین درجه دو",14220302,null,4,{"$f":"COUNTIF($S$1:S2064,Q2064+R2064)","v":4},"060404",1E-8,60404.000000009997]
[60404.000099999997,null,-0.36,1,-85466.16,null,1,null,237406,-0.36,"مترمكعب","سنگ لاشه بنایی  تولیدکارگاه",31050202,null,1,{"$f":"COUNTIF($S$1:S2067,Q2067+R2067)","v":1},"060404",1E-4,60404.000099999997]
["",null,null,null,null,null,"ضريب",null,"بهاي واحد","مقـدار","واحــد","نيروي انساني ",null,null,"رديف",{"$f":"COUNTIF($S$1:S2071,Q2071+R2071)","v":0},"060501",1E-8,""]
[60501.000000029999,null,8,1,639264,null,1,null,79908,8,"نفر ساعت","سنگ تراش درجه دو",14220202,null,3,{"$f":"COUNTIF($S$1:S2074,Q2074+R2074)","v":3},"060501",1E-8,60501.000000009997]
["",null,null,null,null,null,"ضريب",null,"بهاي واحد","مقـدار","واحــد","ماشين آلات ",null,null,"رديف",{"$f":"COUNTIF($S$1:S2077,Q2077+R2077)","v":0},"060501",9.9999999999999995E-7,""]
[60501.000003000001,null,3.0580999999999998E-3,1,824.17018239999993,null,1,null,269504,3.0580999999999998E-3,"عدد","زنبه",28070301,null,3,{"$f":"COUNTIF($S$1:S2080,Q2080+R2080)","v":3},"060501",9.9999999999999995E-7,60501.000001]
[60501.000099999997,null,1.2,1,776128.8,null,1,null,646774,1.2,"مترمكعب","سنگ لاشه قواره شده چهار گوش تولید کارگاه",31050402,null,1,{"$f":"COUNTIF($S$1:S2083,Q2083+R2083)","v":1},"060501",1E-4,60501.000099999997]
[60501.000200000002,null,0.2,1,204577.8,null,1,null,1022889,0.2,"مترمكعب","ملات ماسه سیمان1:3 با ماسه تولید کارگاه",31141204,null,2,{"$f":"COUNTIF($S$1:S2084,Q2084+R2084)","v":2},"060501",1E-4,60501.000099999997]
["",null,null,null,null,null,"ضريب",null,"بهاي واحد","مقـدار","واحــد","نيروي انساني ",null,null,"رديف",{"$f":"COUNTIF($S$1:S2087,Q2087+R2087)","v":0},"060502",1E-8,""]
[60502.000000029999,null,9.6,1,767116.80000000005,null,1,null,79908,9.6,"نفر ساعت","سنگ تراش درجه دو",14220202,null,3,{"$f":"COUNTIF($S$1:S2090,Q2090+R2090)","v":3},"060502",1E-8,60502.000000009997]
[60502.000001,null,7.1841699999999994E-2,1,24906.080555999997,null,1,null,346680,7.1841699999999994E-2,"دستگاه-ساعت","کامیون کمپرسی به ظرفیت حدود 10 تن با راننده",23020204,null,1,{"$f":"COUNTIF($S$1:S2094,Q2094+R2094)","v":1},"060502",9.9999999999999995E-7,60502.000001]
[60502.000004000001,null,5.1282000000000003E-3,1,5384.6100000000015,null,1,null,1050000,5.1282000000000003E-3,"دستگاه","فرگون",28070601,null,4,{"$f":"COUNTIF($S$1:S2097,Q2097+R2097)","v":4},"060502",9.9999999999999995E-7,60502.000001]
[60502.000200000002,null,0.2,1,204577.8,null,1,null,1022889,0.2,"مترمكعب","ملات ماسه سیمان1:3 با ماسه تولید کارگاه",31141204,null,2,{"$f":"COUNTIF($S$1:S2100,Q2100+R2100)","v":2},"060502",1E-4,60502.000099999997]
["",null,null,null,null,null,null,null,null,null,null,"مترمكعب",null,null,"واحـد :",{"$f":"COUNTIF($S$1:S2102,Q2102+R2102)","v":0},"060601",1E-4,""]
[60601.000000029999,null,4.7E-2,1,3105.5250000000001,null,1,null,66075,4.7E-2,"نفر ساعت","سر کارگر",14010101,null,3,{"$f":"COUNTIF($S$1:S2106,Q2106+R2106)","v":3},"060601",1E-8,60601.000000009997]
[60601.000000040003,null,1.0182504999999999,1,58053.51575649999,null,1,null,57013,1.0182504999999999,"نفر- ساعت","كارگر ساده",14010102,null,4,{"$f":"COUNTIF($S$1:S2107,Q2107+R2107)","v":4},"060601",1E-8,60601.000000009997]
[60601.000000070002,null,6.4000000000000001E-2,1,5964.16,null,1,null,93190,6.4000000000000001E-2,"نفر ساعت","بنای سنگ چین درجه یک",14220301,null,7,{"$f":"COUNTIF($S$1:S2110,Q2110+R2110)","v":7},"060601",1E-8,60601.000000009997]
["",null,null,null,null,null,"ضريب",null,"بهاي واحد","مقـدار","واحــد","مصالح",null,null,"رديف",{"$f":"COUNTIF($S$1:S2113,Q2113+R2113)","v":0},"060601",1E-4,""]
[60601.000399999997,null,0.41799999999999998,1,8686.8760000000002,null,1,null,20782,0.41799999999999998,"كیلوگرم","نبشی",39050301,null,4,{"$f":"COUNTIF($S$1:S2117,Q2117+R2117)","v":4},"060601",1E-4,60601.000099999997]
["",null,null,null,null,null,null,null,null,null,null,"مترمكعب",null,null,"واحـد :",{"$f":"COUNTIF($S$1:S2120,Q2120+R2120)","v":0},"060602",1E-4,""]
[60602.000000029999,null,-0.92799999999999994,1,-71493.119999999995,null,0.57999999999999996,null,77040,-1.6,"نفر ساعت","بنای سنگ چین درجه دو",14220302,null,3,{"$f":"COUNTIF($S$1:S2124,Q2124+R2124)","v":3},"060602",1E-8,60602.000000009997]
["",null,null,null,null,null,null,null,null,null,null,"مترمكعب",null,null,"واحـد :",{"$f":"COUNTIF($S$1:S2127,Q2127+R2127)","v":0},"060603",1E-8,""]
[60603.000000009997,null,2.6666666999999999,1,152034.66856709999,null,1,null,57013,2.6666666999999999,"نفر- ساعت","كارگر ساده",14010102,null,1,{"$f":"COUNTIF($S$1:S2129,Q2129+R2129)","v":1},"060603",1E-8,60603.000000009997]
["",null,null,null,null,null,null,null,null,null,null,null,null,"060604",null,{"$f":"COUNTIF($S$1:S2130,Q2130+R2130)","v":0},"060604",1E-8,""]
[60604.000000009997,null,0.44433329999999999,1,31144.209663599999,null,1,null,70092,0.44433329999999999,"نفر- ساعت","متصدی پمپ اب",13041101,null,1,{"$f":"COUNTIF($S$1:S2133,Q2133+R2133)","v":1},"060604",1E-8,60604.000000009997]
[60604.000000040003,null,0.19047610000000004,1,14674.278744000003,null,1,null,77040,0.19047610000000004,"نفر ساعت","بنای سنگ چین درجه دو",14220302,null,4,{"$f":"COUNTIF($S$1:S2136,Q2136+R2136)","v":4},"060604",1E-8,60604.000000009997]
["",null,null,null,null,null,null,null,null,null,null,null,null,"060605",null,{"$f":"COUNTIF($S$1:S2140,Q2140+R2140)","v":0},"060605",9.9999999999999995E-7,""]
[60605.000000009997,null,-0.125,1,-8761.5,null,-1,null,70092,0.125,"نفر - ساعت","متصدی کمپرسور",13041001,null,1,{"$f":"COUNTIF($S$1:S2143,Q2143+R2143)","v":1},"060605",1E-8,60605.000000009997]
[60605.00000005,null,-0.25,1,-18489.75,null,-1,null,73959,0.25,"نفر- ساعت","چکش گیر (مینور)",14240601,null,5,{"$f":"COUNTIF($S$1:S2147,Q2147+R2147)","v":5},"060605",1E-8,60605.000000009997]
[60605.000001,null,1.67E-2,1,12142.920700000001,null,-1,null,727121,-1.67E-2,"دستگاه-ساعت","لودرچرخ زنجیری به قدرت حدود200  اسب بخار باراننده",25010701,null,1,{"$f":"COUNTIF($S$1:S2150,Q2150+R2150)","v":1},"060605",9.9999999999999995E-7,60605.000001]
["",null,null,null,null,null,"ضريب",null,"بهاي واحد","مقـدار","واحــد","مصالح",null,null,"رديف",{"$f":"COUNTIF($S$1:S2153,Q2153+R2153)","v":0},"060605",1E-4,""]
[60605.000099999997,null,1.1499999999999999,1,4369.9999999999991,null,-1,null,3800,-1.1499999999999999,"مترمكعب","ارزش قبل از استخراج سنگ لاشه",31050101,null,1,{"$f":"COUNTIF($S$1:S2154,Q2154+R2154)","v":1},"060605",1E-4,60605.000099999997]
[60605.0003,null,-3,1,-18900,null,-1,null,6300,3,"متر طول","فتیله باروتی ایرانی",31420503,null,3,{"$f":"COUNTIF($S$1:S2156,Q2156+R2156)","v":3},"060605",1E-4,60605.000099999997]
[60605.02,null,-3,1,-456,null,-1,null,152,3,"متر طول","حمل فتیله",41090201,null,2,{"$f":"COUNTIF($S$1:S2160,Q2160+R2160)","v":2},"060605",0.01,60605.01]
["",null,null,null,null,null,null,null,null,null,null,"متر مربع",null,null,"واحـد :",{"$f":"COUNTIF($S$1:S2163,Q2163+R2163)","v":0},"060606",0.01,""]
["",null,null,null,null,null,"ضريب",null,"بهاي واحد","مقـدار","واحــد","مصالح",null,null,"رديف",{"$f":"COUNTIF($S$1:S2166,Q2166+R2166)","v":0},"060606",1E-4,""]
["",null,null,null,null,null,"ضريب",null,"بهاي واحد","مقـدار","واحــد","ماشين آلات ",null,null,"رديف",{"$f":"COUNTIF($S$1:S2170,Q2170+R2170)","v":0},"060701",9.9999999999999995E-7,""]
["",null,null,null,null,null,null,null,null,null,null,"مترمکعب -کیلومتر",null,null,"واحـد :",{"$f":"COUNTIF($S$1:S2173,Q2173+R2173)","v":0},"060702",9.9999999999999995E-7,""]
["",null,null,null,null,null,null,null,null,null,null,null,null,"060703",null,{"$f":"COUNTIF($S$1:S2176,Q2176+R2176)","v":0},"060703",9.9999999999999995E-7,""]
["",null,null,null,null,null,null,null,null,null,null,"مترمكعب -  كیلومتر‏",null,null,"واحـد :",{"$f":"COUNTIF($S$1:S2177,Q2177+R2177)","v":0},"060703",9.9999999999999995E-7,""]
["",null,null,null,null,null,null,null,null,null,null,"متر مربع",null,null,"واحـد :",{"$f":"COUNTIF($S$1:S2181,Q2181+R2181)","v":0},"070101",9.9999999999999995E-7,""]
[70101.000000009997,null,2.3223199999999999E-2,1,1776.4122376,null,1.45,null,76493,1.6015999999999999E-2,"نفر ساعت","متصدی ماشینهای بتن ساز (بتونیرچی)",13040101,null,1,{"$f":"COUNTIF($S$1:S2183,Q2183+R2183)","v":1},"070101",{"$f":"IF(IF(O2183=\"رديف\",VLOOKUP(L2183,Kod,2,0),0)=0,R2182,IF(O2183=\"رديف\",VLOOKUP(L2183,Kod,2,0),0))","v":1E-8},70101.000000009997]
[70101.000000040003,null,0.48748999999999998,1,29335.198239999994,null,1.45,null,60176,0.3362,"نفر ساعت","کمک سیمانکار",14150103,null,4,{"$f":"COUNTIF($S$1:S2186,Q2186+R2186)","v":4},"070101",1E-8,70101.000000009997]
[70101.000002000001,null,1.9662E-3,1,590.7565871999999,null,1.45,null,300456,1.356E-3,"دستگاه-ساعت","کاميون به ظرفيت حدود 5 تن  باراننده",23020102,null,2,{"$f":"COUNTIF($S$1:S2189,Q2189+R2189)","v":2},"070101",9.9999999999999995E-7,70101.000000999993]
[70101.000199999995,null,1.7077499999999998E-3,1,16.174100250000002,null,1.1499999999999999,null,9471,1.485E-3,"مترمكعب","آب چاه و قنات",31010301,null,2,{"$f":"COUNTIF($S$1:S2193,Q2193+R2193)","v":2},"070101",1E-4,70101.000100000005]
["",null,null,null,null,null,"ضريب",null,"بهاي واحد","مقـدار","واحــد"," حمل مصالح ",null,null,"رديف",{"$f":"COUNTIF($S$1:S2196,Q2196+R2196)","v":0},"070101",0.01,""]
["",null,null,null,null,null,null,null,null,null,null,"متر مربع",null,null,"واحـد :",{"$f":"COUNTIF($S$1:S2199,Q2199+R2199)","v":0},"070102",0.01,""]
["",null,null,null,null,null,"ضريب",null,"بهاي واحد","مقـدار","واحــد","نيروي انساني ",null,null,"رديف",{"$f":"COUNTIF($S$1:S2200,Q2200+R2200)","v":0},"070102",1E-8,""]
[70102.000000030006,null,0.52721999999999991,1,36940.723740000001,null,1.45,null,70067,0.36359999999999998,"نفر ساعت","سیمانکار درجه دو",14150102,null,3,{"$f":"COUNTIF($S$1:S2203,Q2203+R2203)","v":3},{"$f":"IF(N2203>0,N2203,Q2202)","v":"070102"},1E-8,{"$f":"IF(M2203<>\"\",Q2203+R2203,\"\")","v":70102.000000009997}]
[70102.000000999993,null,4.2644499999999995E-2,1,1085.0040134999999,null,1.45,null,25443,2.9409999999999999E-2,"دستگاه ساعت","بتونیر300 لیتری",22020103,null,1,{"$f":"COUNTIF($S$1:S2206,Q2206+R2206)","v":1},"070102",9.9999999999999995E-7,70102.000000999993]
["",null,null,null,null,null,"ضريب",null,"بهاي واحد","مقـدار","واحــد","مصالح",null,null,"رديف",{"$f":"COUNTIF($S$1:S2209,Q2209+R2209)","v":0},"070102",1E-4,""]
[70102.0003,null,2.5299999999999996E-2,1,5205.4749999999985,null,1.1499999999999999,null,205750,2.1999999999999999E-2,"مترمكعب","ماسه شسته دانه بندی شده (تولید کارگاه)",31030301,null,3,{"$f":"COUNTIF($S$1:S2212,Q2212+R2212)","v":3},"070102",1E-4,70102.000100000005]
["",null,null,null,null,null,null,null,null,null,null,null,null,"070103",null,{"$f":"COUNTIF($S$1:S2216,Q2216+R2216)","v":0},"070103",0.01,""]
[70103.000000009997,null,7.0383000000000001E-2,1,5383.8068190000013,null,1.45,null,76493,4.854E-2,"نفر ساعت","متصدی ماشینهای بتن ساز (بتونیرچی)",13040101,null,1,{"$f":"COUNTIF($S$1:S2219,Q2219+R2219)","v":1},"070103",1E-8,70103.000000009997]
[70103.000000019994,null,0.33622599999999997,1,19169.252937999998,null,1.45,null,57013,0.23187999999999998,"نفر- ساعت","كارگر ساده",14010102,null,2,{"$f":"COUNTIF($S$1:S2220,Q2220+R2220)","v":2},"070103",1E-8,70103.000000009997]
["",null,null,null,null,null,"ضريب",null,"بهاي واحد","مقـدار","واحــد","ماشين آلات ",null,null,"رديف",{"$f":"COUNTIF($S$1:S2223,Q2223+R2223)","v":0},"070103",9.9999999999999995E-7,""]
[70103.000002999994,null,1.7718999999999999E-3,1,299.96140720000005,null,1.45,null,169288,1.222E-3,"دستگاه-ساعت","تانکر آب پاش به ظرفيت حدود 5000 ليتر باراننده",23020501,null,3,{"$f":"COUNTIF($S$1:S2226,Q2226+R2226)","v":3},"070103",9.9999999999999995E-7,70103.000000999993]
[70103.0003,null,3.7949999999999998E-2,1,7808.2124999999987,null,1.1499999999999999,null,205750,3.3000000000000002E-2,"مترمكعب","ماسه شسته دانه بندی شده (تولید کارگاه)",31030301,null,3,{"$f":"COUNTIF($S$1:S2230,Q2230+R2230)","v":3},"070103",1E-4,70103.000100000005]
[70103.009999999995,null,1.2239999999999999E-2,1,1136.5207199999998,null,1,null,92853,1.2239999999999999E-2,"تن","حمل سیمان فله و پاکتی",41060301,null,1,{"$f":"COUNTIF($S$1:S2233,Q2233+R2233)","v":1},"070103",0.01,70103.009999999995]
["",null,null,null,null,null,null,null,null,null,null,"متر مربع",null,null,"واحـد :",{"$f":"COUNTIF($S$1:S2235,Q2235+R2235)","v":0},"070104",0.01,""]
[70104.000000030006,null,0.82852999999999999,1,58052.611510000002,null,1.45,null,70067,0.57140000000000002,"نفر ساعت","سیمانکار درجه دو",14150102,null,3,{"$f":"COUNTIF($S$1:S2239,Q2239+R2239)","v":3},"070104",1E-8,70104.000000009997]
[70104.000000999993,null,0.1162204,1,2956.9956372000001,null,1.45,null,25443,8.0152000000000001E-2,"دستگاه ساعت","بتونیر300 لیتری",22020103,null,1,{"$f":"COUNTIF($S$1:S2242,Q2242+R2242)","v":1},"070104",9.9999999999999995E-7,70104.000000999993]
[70104.000002000001,null,1.05676E-2,1,3175.0988256000001,null,1.45,null,300456,7.2880000000000002E-3,"دستگاه-ساعت","کاميون به ظرفيت حدود 5 تن  باراننده",23020102,null,2,{"$f":"COUNTIF($S$1:S2243,Q2243+R2243)","v":2},"070104",9.9999999999999995E-7,70104.000000999993]
[70104.000100000005,null,8.5387499999999995E-3,1,10.699053749999997,null,1.1499999999999999,null,1253,7.4250000000000002E-3,"مترمكعب","آب رودخانه",31010201,null,1,{"$f":"COUNTIF($S$1:S2246,Q2246+R2246)","v":1},"070104",1E-4,70104.000100000005]
[{"$f":"IF(M2249<>\"\",Q2249+(P2249*R2249),\"\")","v":70104.000400000004},null,2.3617549999999998E-2,1,26787.025209999996,null,1.1499999999999999,null,1134200,2.0537E-2,"تن","سیمان پرتلند نوع یک (سیمان معمولی) پاکتی و فله",31080103,null,4,{"$f":"COUNTIF($S$1:S2249,Q2249+R2249)","v":4},"070104",1E-4,70104.000100000005]
["",null,null,null,null,null,null,null,null,null,null,"متر مربع",null,null,"واحـد :",{"$f":"COUNTIF($S$1:S2253,Q2253+R2253)","v":0},"070201",0.01,""]
[70201.000000019994,null,0.28570000000000001,1,16450.320299999999,null,1,null,57579,0.28570000000000001,"نفر ساعت","کمک بندکش",14150202,null,2,{"$f":"COUNTIF($S$1:S2256,Q2256+R2256)","v":2},"070201",1E-8,70201.000000009997]
[70201.000000999993,null,2.0339999999999998E-3,1,611.12750399999993,null,1,null,300456,2.0339999999999998E-3,"دستگاه-ساعت","کاميون به ظرفيت حدود 5 تن  باراننده",23020102,null,1,{"$f":"COUNTIF($S$1:S2258,Q2258+R2258)","v":1},"070201",9.9999999999999995E-7,70201.000000999993]
[70201.000199999995,null,1.8020000000000001E-2,1,170.66741999999999,null,1,null,9471,1.8020000000000001E-2,"مترمكعب","آب چاه و قنات",31010301,null,2,{"$f":"COUNTIF($S$1:S2262,Q2262+R2262)","v":2},"070201",1E-4,70201.000100000005]
["",null,null,null,null,null,"ضريب",null,"بهاي واحد","مقـدار","واحــد"," حمل مصالح ",null,null,"رديف",{"$f":"COUNTIF($S$1:S2265,Q2265+R2265)","v":0},"070201",0.01,""]
[70201.009999999995,null,4.45E-3,1,413.19585000000001,null,1,null,92853,4.45E-3,"تن","حمل سیمان فله و پاکتی",41060301,null,1,{"$f":"COUNTIF($S$1:S2266,Q2266+R2266)","v":1},"070201",0.01,70201.009999999995]
["",null,null,null,null,null,"ضريب",null,"بهاي واحد","مقـدار","واحــد","نيروي انساني ",null,null,"رديف",{"$f":"COUNTIF($S$1:S2269,Q2269+R2269)","v":0},"070202",1E-8,""]
["",null,null,null,null,null,"ضريب",null,"بهاي واحد","مقـدار","واحــد","ماشين آلات ",null,null,"رديف",{"$f":"COUNTIF($S$1:S2272,Q2272+R2272)","v":0},"070202",9.9999999999999995E-7,""]
[70202.000100000005,null,2.0149999999999999E-3,1,2.5247949999999997,null,1,null,1253,2.0149999999999999E-3,"مترمكعب","آب رودخانه",31010201,null,1,{"$f":"COUNTIF($S$1:S2276,Q2276+R2276)","v":1},"070202",1E-4,70202.000100000005]
[70202.000400000004,null,2.97E-3,1,3368.5740000000001,null,1,null,1134200,2.97E-3,"تن","سیمان پرتلند نوع یک (سیمان معمولی) پاکتی و فله",31080103,null,4,{"$f":"COUNTIF($S$1:S2279,Q2279+R2279)","v":4},"070202",1E-4,70202.000100000005]
[70202.009999999995,null,2.97E-3,1,275.77341000000001,null,1,null,92853,2.97E-3,"تن","حمل سیمان فله و پاکتی",41060301,null,1,{"$f":"COUNTIF($S$1:S2281,Q2281+R2281)","v":1},"070202",0.01,70202.009999999995]
[70203.000000009997,null,0.53,1,30216.89,null,1,null,57013,0.53,"نفر- ساعت","كارگر ساده",14010102,null,1,{"$f":"COUNTIF($S$1:S2285,Q2285+R2285)","v":1},"070203",1E-8,70203.000000009997]
["",null,null,null,null,null,null,null,null,null,null,null,null,"070301",null,{"$f":"COUNTIF($S$1:S2288,Q2288+R2288)","v":0},"070301",1E-8,""]
["",null,null,null,null,null,null,null,null,null,null,"مترمربع",null,null,"واحـد :",{"$f":"COUNTIF($S$1:S2289,Q2289+R2289)","v":0},"070301",1E-8,""]
[70301.000000019994,null,0.22500000000000001,1,12955.275,null,1,null,57579,0.22500000000000001,"نفر ساعت","کمک بندکش",14150202,null,2,{"$f":"COUNTIF($S$1:S2292,Q2292+R2292)","v":2},"070301",1E-8,70301.000000009997]
[70301.000002000001,null,7.1890000000000001E-3,1,1217.011432,null,1,null,169288,7.1890000000000001E-3,"دستگاه-ساعت","تانکر آب پاش به ظرفيت حدود 5000 ليتر باراننده",23020501,null,2,{"$f":"COUNTIF($S$1:S2295,Q2295+R2295)","v":2},"070301",9.9999999999999995E-7,70301.000000999993]
[70301.0003,null,1.0500000000000001E-2,1,11909.1,null,1,null,1134200,1.0500000000000001E-2,"تن","سیمان پرتلند نوع یک (سیمان معمولی) پاکتی و فله",31080103,null,3,{"$f":"COUNTIF($S$1:S2299,Q2299+R2299)","v":3},"070301",1E-4,70301.000100000005]
["",null,null,null,null,null,null,null,null,null,null,null,null,"070302",null,{"$f":"COUNTIF($S$1:S2302,Q2302+R2302)","v":0},"070302",0.01,""]
[70302.000000019994,null,8.9999999999999993E-3,1,518.2109999999999,null,1,null,57579,8.9999999999999993E-3,"نفر ساعت","کمک بندکش",14150202,null,2,{"$f":"COUNTIF($S$1:S2306,Q2306+R2306)","v":2},"070302",1E-8,70302.000000009997]
["",null,null,null,null,null,null,null,null,null,null,"مترطول",null,null,"واحـد :",{"$f":"COUNTIF($S$1:S2308,Q2308+R2308)","v":0},"070303",1E-8,""]
[70303.000000019994,null,1.8499999999999999E-2,1,1065.2114999999999,null,1,null,57579,1.8499999999999999E-2,"نفر ساعت","کمک بندکش",14150202,null,2,{"$f":"COUNTIF($S$1:S2311,Q2311+R2311)","v":2},"070303",{"$f":"IF(IF(O2311=\"رديف\",VLOOKUP(L2311,Kod,2,0),0)=0,R2310,IF(O2311=\"رديف\",VLOOKUP(L2311,Kod,2,0),0))","v":1E-8},70303.000000009997]
["",null,null,null,null,null,"ضريب",null,"بهاي واحد","مقـدار","واحــد","ماشين آلات ",null,null,"رديف",{"$f":"COUNTIF($S$1:S2312,Q2312+R2312)","v":0},"070303",9.9999999999999995E-7,""]
["",null,null,null,null,null,"ضريب",null,"بهاي واحد","مقـدار","واحــد","مصالح",null,null,"رديف",{"$f":"COUNTIF($S$1:S2315,Q2315+R2315)","v":0},"070303",1E-4,""]
["",null,null,null,null,null,"ضريب",null,"بهاي واحد","مقـدار","واحــد"," حمل مصالح ",null,null,"رديف",{"$f":"COUNTIF($S$1:S2319,Q2319+R2319)","v":0},"070303",0.01,""]
["",null,null,null,null,null,null,null,null,null,null,"متر مربع",null,null,"واحـد :",{"$f":"COUNTIF($S$1:S2322,Q2322+R2322)","v":0},"080101",0.01,""]
[80101.000000019994,null,2.4834599999999998E-2,1,2415.1400153999998,null,1.022,null,97249,2.4299999999999999E-2,"نفر ساعت","نجار قالب بند درجه یک",14030201,null,2,{"$f":"COUNTIF($S$1:S2325,Q2325+R2325)","v":2},"080101",1E-8,80101.000000009997]
[80101.000000059998,null,0.28616000000000003,1,21779.351440000009,null,1.022,null,76109,0.28000000000000003,"نفر ساعت","قالب بند فلزی درجه دو",14040102,null,6,{"$f":"COUNTIF($S$1:S2329,Q2329+R2329)","v":6},"080101",1E-8,80101.000000009997]
[80101.000000090004,null,2.4731199999999998E-2,1,1847.9894575999999,null,2.3780000000000001,null,74723,1.04E-2,"نفر ساعت","قالب ساز درجه دو قالب فلزی",14040202,null,9,{"$f":"COUNTIF($S$1:S2332,Q2332+R2332)","v":9},"080101",1E-8,80101.000000009997]
[80101.000000100001,null,2.4731199999999998E-2,1,1488.2246912000001,null,2.3780000000000001,null,60176,1.04E-2,"نفر ساعت","کمک قالب ساز قالب فلزی",14040203,null,10,{"$f":"COUNTIF($S$1:S2333,Q2333+R2333)","v":10},"080101",1E-8,80101.000000009997]
[80101.000000999993,null,2.7798399999999997E-2,1,5760.9682143999999,null,1.022,null,207241,2.7199999999999998E-2,"دستگاه-ساعت","کامیون به ظرفیت حدود3 تن  باراننده",23020101,null,1,{"$f":"COUNTIF($S$1:S2335,Q2335+R2335)","v":1},"080101",9.9999999999999995E-7,80101.000000999993]
[80101.000004000001,null,2.4731199999999998E-2,1,877.4135136000001,null,2.3780000000000001,null,35478,1.04E-2,"دستگاه ساعت","موتور جوش150 تا250 آمپر",26020502,null,4,{"$f":"COUNTIF($S$1:S2338,Q2338+R2338)","v":4},"080101",9.9999999999999995E-7,80101.000000999993]
[80101.000100000005,null,4.5989999999999996E-2,1,2989.35,null,1.022,null,65000,4.4999999999999998E-2,"كیلوگرم","میخ جور",31430101,null,1,{"$f":"COUNTIF($S$1:S2342,Q2342+R2342)","v":1},"080101",1E-4,80101.000100000005]
[80101.000400000004,null,5.1100000000000007E-2,1,1349.04,null,1.022,null,26400,0.05,"كیلوگرم","39030101 - مفتول سیاه",39030101,null,4,{"$f":"COUNTIF($S$1:S2345,Q2345+R2345)","v":4},"080101",1E-4,80101.000100000005]
[80101.000700000004,null,0.41496099999999997,1,12575.393105000001,null,2.3780000000000001,null,30305,0.17449999999999999,"كیلوگرم","پروفیل ناودانی سردخم شده",39050701,null,7,{"$f":"COUNTIF($S$1:S2348,Q2348+R2348)","v":7},"080101",1E-4,80101.000100000005]
[80101.001099999994,null,1.8786200000000003E-2,1,951.37074040000005,null,2.3780000000000001,null,50642,7.9000000000000008E-3,"كیلوگرم","ضدزنگ روغنی",39130101,null,11,{"$f":"COUNTIF($S$1:S2352,Q2352+R2352)","v":11},"080101",1E-4,80101.000100000005]
[80101.009999999995,null,7.9799999999999996E-2,1,20.269200000000001,null,1,null,254,7.9799999999999996E-2,"كیلوگرم","حمل قیر مظروف",41080201,null,1,{"$f":"COUNTIF($S$1:S2355,Q2355+R2355)","v":1},"080101",0.01,80101.009999999995]
[80101.039999999994,null,4.4999999999999998E-2,1,22.5,null,1,null,500,4.4999999999999998E-2,"كیلوگرم","حمل فراورده‌های فولادی توری، شبکه‌های فلزی، میخ، پرچ و الکترود",41110301,null,4,{"$f":"COUNTIF($S$1:S2358,Q2358+R2358)","v":4},"080101",0.01,80101.009999999995]
[80101.06,null,1.17,1,255.06,null,1,null,218,1.17,"كیلوگرم","حمل چوب گرد",41190201,null,6,{"$f":"COUNTIF($S$1:S2360,Q2360+R2360)","v":6},"080101",0.01,80101.009999999995]
[80101.070000000007,null,8.1000000000000003E-2,1,17.253,null,1,null,213,8.1000000000000003E-2,"كیلوگرم","حمل لوله های فولادی یک دوم اینچ تا 4 اینچ",42010101,null,7,{"$f":"COUNTIF($S$1:S2361,Q2361+R2361)","v":7},"080101",0.01,80101.009999999995]
[80102.000000009997,null,0.18717524999999999,1,10671.422528250001,null,0.92249999999999999,null,57013,0.2029,"نفر- ساعت","كارگر ساده",14010102,null,1,{"$f":"COUNTIF($S$1:S2365,Q2365+R2365)","v":1},"080102",1E-8,80102.000000009997]
[80102.000000040003,null,0.56558474999999997,1,34034.627915999998,null,0.92249999999999999,null,60176,0.61309999999999998,"نفر ساعت","کمک قالب بند",14040103,null,4,{"$f":"COUNTIF($S$1:S2368,Q2368+R2368)","v":4},"080102",1E-8,80102.000000009997]
[80102.000000069995,null,3.6811440000000001E-2,1,2215.1652134400006,null,2.1402000000000001,null,60176,1.72E-2,"نفر ساعت","کمک قالب ساز قالب فلزی",14040203,null,7,{"$f":"COUNTIF($S$1:S2371,Q2371+R2371)","v":7},"080102",1E-8,80102.000000009997]
[80102.000002999994,null,5.4427499999999997E-2,1,544.27499999999998,null,0.92249999999999999,null,10000,5.8999999999999997E-2,"لیتر","روغن قالب بندی",28991401,null,3,{"$f":"COUNTIF($S$1:S2375,Q2375+R2375)","v":3},"080102",{"$f":"IF(IF(O2375=\"رديف\",VLOOKUP(L2375,Kod,2,0),0)=0,R2374,IF(O2375=\"رديف\",VLOOKUP(L2375,Kod,2,0),0))","v":9.9999999999999995E-7},80102.000000999993]
[80102.000199999995,null,0.96094980000000008,1,25588.1712744,null,2.1402000000000001,null,26628,0.44900000000000001,"كیلوگرم","39040101 - ورق سیاه به ضخامت 3 میلیمتر و کمتر",39040101,null,2,{"$f":"COUNTIF($S$1:S2378,Q2378+R2378)","v":2},"080102",1E-4,80102.000100000005]
[80102.0003,null,1.9261799999999999E-2,1,857.53533599999992,null,2.1402000000000001,null,44520,8.9999999999999993E-3,"كیلوگرم","الکترود",39120101,null,3,{"$f":"COUNTIF($S$1:S2379,Q2379+R2379)","v":3},"080102",1E-4,80102.000100000005]
["",null,null,null,null,null,"ضريب",null,"بهاي واحد","مقـدار","واحــد"," حمل مصالح ",null,null,"رديف",{"$f":"COUNTIF($S$1:S2382,Q2382+R2382)","v":0},"080102",0.01,""]
["",null,null,null,null,null,null,null,null,null,null,null,null,"080201",null,{"$f":"COUNTIF($S$1:S2385,Q2385+R2385)","v":0},"080201",0.01,""]
[80201.000000009997,null,0.67308919999999994,1,38374.8345596,null,1.022,null,57013,0.65859999999999996,"نفر- ساعت","كارگر ساده",14010102,null,1,{"$f":"COUNTIF($S$1:S2388,Q2388+R2388)","v":1},"080201",1E-8,80201.000000009997]
[80201.000000040003,null,0.27594000000000002,1,16604.96544,null,1.022,null,60176,0.27,"نفر- ساعت","کمک نجار قالب بند",14030203,null,4,{"$f":"COUNTIF($S$1:S2391,Q2391+R2391)","v":4},"080201",1E-8,80201.000000009997]
[80201.000000069995,null,0.39490080000000005,1,23763.550540800003,null,1.022,null,60176,0.38640000000000002,"نفر ساعت","کمک قالب بند",14040103,null,7,{"$f":"COUNTIF($S$1:S2394,Q2394+R2394)","v":7},"080201",1E-8,80201.000000009997]
[80201.000000109998,null,0.12396860000000001,1,1823.2062002,null,1.022,null,14707,0.12130000000000001,"یکسر","هزینه دنده ای کردن ( رزوه کردن ) میلگرد",14280301,null,11,{"$f":"COUNTIF($S$1:S2398,Q2398+R2398)","v":11},"080201",1E-8,80201.000000009997]
[80201.000000999993,null,3.3317199999999998E-2,1,6904.6898452000005,null,1.022,null,207241,3.2599999999999997E-2,"دستگاه-ساعت","کامیون به ظرفیت حدود3 تن  باراننده",23020101,null,1,{"$f":"COUNTIF($S$1:S2401,Q2401+R2401)","v":1},"080201",9.9999999999999995E-7,80201.000000999993]
[80201.000002000001,null,2.5345599999999999E-2,1,2663.4677216,null,1.022,null,105086,2.4799999999999999E-2,"دستگاه ساعت","تراکتور جفت دیفرانسیل با راننده",23020802,null,2,{"$f":"COUNTIF($S$1:S2402,Q2402+R2402)","v":2},"080201",9.9999999999999995E-7,80201.000000999993]
[80201.000004999994,null,3.5670000000000003E-3,1,178.35,null,2.3780000000000001,null,50000,1.5E-3,"عدد","سنگ ساب اهن",28040701,null,5,{"$f":"COUNTIF($S$1:S2405,Q2405+R2405)","v":5},"080201",9.9999999999999995E-7,80201.000000999993]
[80201.000100000005,null,6.7451999999999998E-2,1,4384.38,null,1.022,null,65000,6.6000000000000003E-2,"كیلوگرم","میخ جور",31430101,null,1,{"$f":"COUNTIF($S$1:S2408,Q2408+R2408)","v":1},"080201",1E-4,80201.000100000005]
[80201.000499999995,null,5.6210000000000003E-2,1,1483.944,null,1.022,null,26400,5.5E-2,"كیلوگرم","39030101 - مفتول سیاه",39030101,null,5,{"$f":"COUNTIF($S$1:S2412,Q2412+R2412)","v":5},"080201",1E-4,80201.000100000005]
[80201.000700000004,null,1.0225400000000001E-2,1,240.86952239999999,null,2.3780000000000001,null,23556,4.3E-3,"كیلوگرم","ورق سیاه به ضخامت بیش از 3 میلیمتر",39040102,null,7,{"$f":"COUNTIF($S$1:S2414,Q2414+R2414)","v":7},"080201",1E-4,80201.000100000005]
[80201.001099999994,null,0.24921440000000003,1,8493.2267520000005,null,2.3780000000000001,null,34080,0.1048,"كیلوگرم","لوله یک و یک دوم فولادی",39070202,null,11,{"$f":"COUNTIF($S$1:S2418,Q2418+R2418)","v":11},"080201",1E-4,80201.000100000005]
[80201.001399999994,null,1.4505799999999999E-2,1,645.79821600000002,null,2.3780000000000001,null,44520,6.0999999999999995E-3,"كیلوگرم","الکترود",39120101,null,14,{"$f":"COUNTIF($S$1:S2421,Q2421+R2421)","v":14},"080201",1E-4,80201.000100000005]
["",null,null,null,null,null,"ضريب",null,"بهاي واحد","مقـدار","واحــد"," حمل مصالح ",null,null,"رديف",{"$f":"COUNTIF($S$1:S2424,Q2424+R2424)","v":0},"080201",0.01,""]
[80201.009999999995,null,8.7499999999999994E-2,1,22.225000000000001,null,1,null,254,8.7499999999999994E-2,"كیلوگرم","حمل قیر مظروف",41080201,null,1,{"$f":"COUNTIF($S$1:S2425,Q2425+R2425)","v":1},"080201",0.01,80201.009999999995]
[80201.039999999994,null,6.6000000000000003E-2,1,33,null,1,null,500,6.6000000000000003E-2,"كیلوگرم","حمل فراورده‌های فولادی توری، شبکه‌های فلزی، میخ، پرچ و الکترود",41110301,null,4,{"$f":"COUNTIF($S$1:S2428,Q2428+R2428)","v":4},"080201",0.01,80201.009999999995]
[80201.070000000007,null,0.13469999999999999,1,28.691100000000002,null,1,null,213,0.13469999999999999,"كیلوگرم","حمل لوله های فولادی یک دوم اینچ تا 4 اینچ",42010101,null,7,{"$f":"COUNTIF($S$1:S2431,Q2431+R2431)","v":7},"080201",0.01,80201.009999999995]
["",null,null,null,null,null,"ضريب",null,"بهاي واحد","مقـدار","واحــد","نيروي انساني ",null,null,"رديف",{"$f":"COUNTIF($S$1:S2435,Q2435+R2435)","v":0},"080202",1E-8,""]
[80202.000000019994,null,0.1056748,1,10276.7686252,null,1.022,null,97249,0.10339999999999999,"نفر ساعت","نجار قالب بند درجه یک",14030201,null,2,{"$f":"COUNTIF($S$1:S2437,Q2437+R2437)","v":2},"080202",1E-8,80202.000000009997]
[{"$f":"IF(M2441<>\"\",Q2441+(P2441*R2441),\"\")","v":80202.000000059998},null,0.39122159999999995,1,29775.484754399997,null,1.022,null,76109,0.38279999999999992,"نفر ساعت","قالب بند فلزی درجه دو",14040102,null,6,{"$f":"COUNTIF($S$1:S2441,Q2441+R2441)","v":6},"080202",1E-8,80202.000000009997]
[80202.000000090004,null,2.8298200000000003E-2,1,2114.5263986000004,null,2.3780000000000001,null,74723,1.1900000000000001E-2,"نفر ساعت","قالب ساز درجه دو قالب فلزی",14040202,null,9,{"$f":"COUNTIF($S$1:S2444,Q2444+R2444)","v":9},"080202",1E-8,80202.000000009997]
[80202.000000119995,null,9.7498000000000012E-3,1,1702.7148218000002,null,2.3780000000000001,null,174641,4.1000000000000003E-3,"عدد","هزينه دنده اي کردن جک سقفي",14280302,null,12,{"$f":"COUNTIF($S$1:S2447,Q2447+R2447)","v":12},"080202",1E-8,80202.000000009997]
["",null,null,null,null,null,"ضريب",null,"بهاي واحد","مقـدار","واحــد","ماشين آلات ",null,null,"رديف",{"$f":"COUNTIF($S$1:S2448,Q2448+R2448)","v":0},"080202",9.9999999999999995E-7,""]
[80202.000002999994,null,2.6163200000000001E-2,1,1083.2088064,null,1.022,null,41402,2.5600000000000001E-2,"دستگاه-ساعت","تریلر کفی به ظرفیت حدود 5  تن بدون کشنده",23020901,null,3,{"$f":"COUNTIF($S$1:S2451,Q2451+R2451)","v":3},"080202",9.9999999999999995E-7,80202.000000999993]
[80202.000006000002,null,9.6987799999999999E-2,1,969.87800000000004,null,1.022,null,10000,9.4899999999999998E-2,"لیتر","روغن قالب بندی",28991401,null,6,{"$f":"COUNTIF($S$1:S2454,Q2454+R2454)","v":6},"080202",9.9999999999999995E-7,80202.000000999993]
[80202.0003,null,0.68985000000000007,1,6898.5,null,1.022,null,10000,0.67500000000000004,"كیلوگرم","39010301 - چوب گرد سفید خشک",39010301,null,3,{"$f":"COUNTIF($S$1:S2458,Q2458+R2458)","v":3},"080202",1E-4,80202.000100000005]
[80202.000599999999,null,0.74740540000000011,1,19901.910991200006,null,2.3780000000000001,null,26628,0.31430000000000002,"كیلوگرم","39040101 - ورق سیاه به ضخامت 3 میلیمتر و کمتر",39040101,null,6,{"$f":"COUNTIF($S$1:S2461,Q2461+R2461)","v":6},"080202",1E-4,80202.000100000005]
[80202.000899999999,null,0.55264720000000001,1,16747.973396000001,null,2.3780000000000001,null,30305,0.2324,"كیلوگرم","پروفیل ناودانی سردخم شده",39050701,null,9,{"$f":"COUNTIF($S$1:S2464,Q2464+R2464)","v":9},"080202",1E-4,80202.000100000005]
[80202.001199999999,null,8.7034800000000009E-2,1,2966.1459840000002,null,2.3780000000000001,null,34080,3.6600000000000001E-2,"كیلوگرم","لوله2 اینچ فولادی",39070203,null,12,{"$f":"COUNTIF($S$1:S2467,Q2467+R2467)","v":12},"080202",1E-4,80202.000100000005]
[80202.001499999998,null,2.2353200000000004E-2,1,1132.0107544000002,null,2.3780000000000001,null,50642,9.4000000000000004E-3,"كیلوگرم","ضدزنگ روغنی",39130101,null,15,{"$f":"COUNTIF($S$1:S2470,Q2470+R2470)","v":15},"080202",1E-4,80202.000100000005]
[80202.001600000003,null,2.0235600000000003E-2,1,1553.0823000000005,null,1.022,null,76750,1.9800000000000002E-2,"كیلوگرم","39140101 - پیچ و مهره سیاه جور",39140101,null,16,{"$f":"COUNTIF($S$1:S2471,Q2471+R2471)","v":16},"080202",1E-4,80202.000100000005]
[80202.02,null,1.1155999999999999,1,182.95839999999995,null,1,null,164,1.1155999999999999,"كیلوگرم","حمل مصالح فلزی مورد مصرف در سازه",41110101,null,2,{"$f":"COUNTIF($S$1:S2474,Q2474+R2474)","v":2},"080202",0.01,80202.009999999995]
[80202.06,null,0.67500000000000004,1,147.15,null,1,null,218,0.67500000000000004,"كیلوگرم","حمل چوب گرد",41190201,null,6,{"$f":"COUNTIF($S$1:S2478,Q2478+R2478)","v":6},"080202",0.01,80202.009999999995]
["",null,null,null,null,null,null,null,null,null,null,null,null,"080203",null,{"$f":"COUNTIF($S$1:S2481,Q2481+R2481)","v":0},"080203",0.01,""]
[80203.000000009997,null,0.82168800000000008,1,46846.897944000011,null,1.022,null,57013,0.80400000000000005,"نفر- ساعت","كارگر ساده",14010102,null,1,{"$f":"COUNTIF($S$1:S2484,Q2484+R2484)","v":1},"080203",1E-8,80203.000000009997]
[80203.000000040003,null,0.40144160000000007,1,24157.149721599999,null,1.022,null,60176,0.39280000000000004,"نفر- ساعت","کمک نجار قالب بند",14030203,null,4,{"$f":"COUNTIF($S$1:S2487,Q2487+R2487)","v":4},"080203",1E-8,80203.000000009997]
[80203.000000069995,null,0.41462540000000003,1,24950.498070399997,null,1.022,null,60176,0.40570000000000001,"نفر ساعت","کمک قالب بند",14040103,null,7,{"$f":"COUNTIF($S$1:S2490,Q2490+R2490)","v":7},"080203",1E-8,80203.000000009997]
[80203.000000100001,null,3.0676200000000001E-2,1,1845.9710112,null,2.3780000000000001,null,60176,1.29E-2,"نفر ساعت","کمک قالب ساز قالب فلزی",14040203,null,10,{"$f":"COUNTIF($S$1:S2493,Q2493+R2493)","v":10},"080203",1E-8,80203.000000009997]
[80203.000000109998,null,0.12396860000000001,1,1823.2062002,null,1.022,null,14707,0.12130000000000001,"یکسر","هزینه دنده ای کردن ( رزوه کردن ) میلگرد",14280301,null,11,{"$f":"COUNTIF($S$1:S2494,Q2494+R2494)","v":11},"080203",1E-8,80203.000000009997]
[80203.000000999993,null,3.5361200000000002E-2,1,7328.2904491999998,null,1.022,null,207241,3.4599999999999999E-2,"دستگاه-ساعت","کامیون به ظرفیت حدود3 تن  باراننده",23020101,null,1,{"$f":"COUNTIF($S$1:S2497,Q2497+R2497)","v":1},"080203",9.9999999999999995E-7,80203.000000999993]
[80203.000004999994,null,3.0676200000000001E-2,1,1088.3302236000002,null,2.3780000000000001,null,35478,1.29E-2,"دستگاه ساعت","موتور جوش150 تا250 آمپر",26020502,null,5,{"$f":"COUNTIF($S$1:S2501,Q2501+R2501)","v":5},"080203",9.9999999999999995E-7,80203.000000999993]
[80203.000008000003,null,0.71539999999999992,1,10731,null,1.022,null,15000,0.7,"متر مربع","داربست فلزی",28992401,null,8,{"$f":"COUNTIF($S$1:S2504,Q2504+R2504)","v":8},"080203",9.9999999999999995E-7,80203.000000999993]
[80203.000199999995,null,5.8254000000000005E-3,1,43690.500000000007,null,1.022,null,7500000,5.7000000000000002E-3,"مترمكعب","تخته الوار ایرانی",39010202,null,2,{"$f":"COUNTIF($S$1:S2507,Q2507+R2507)","v":2},"080203",1E-4,80203.000100000005]
[80203.000599999999,null,0.76214899999999997,1,20294.503572000001,null,2.3780000000000001,null,26628,0.32049999999999995,"كیلوگرم","39040101 - ورق سیاه به ضخامت 3 میلیمتر و کمتر",39040101,null,6,{"$f":"COUNTIF($S$1:S2511,Q2511+R2511)","v":6},"080203",1E-4,80203.000100000005]
[80203.000700000004,null,1.0225400000000001E-2,1,240.86952239999999,null,2.3780000000000001,null,23556,4.3E-3,"كیلوگرم","ورق سیاه به ضخامت بیش از 3 میلیمتر",39040102,null,7,{"$f":"COUNTIF($S$1:S2512,Q2512+R2512)","v":7},"080203",1E-4,80203.000100000005]
[80203.001099999994,null,0.2801284,1,9546.775872000002,null,2.3780000000000001,null,34080,0.11779999999999999,"كیلوگرم","لوله یک و یک دوم فولادی",39070202,null,11,{"$f":"COUNTIF($S$1:S2516,Q2516+R2516)","v":11},"080203",1E-4,80203.000100000005]
[80203.001199999999,null,7.110219999999999E-2,1,2423.1629760000001,null,2.3780000000000001,null,34080,2.9899999999999996E-2,"كیلوگرم","لوله2 اینچ فولادی",39070203,null,12,{"$f":"COUNTIF($S$1:S2517,Q2517+R2517)","v":12},"080203",1E-4,80203.000100000005]
[80203.001499999998,null,2.3304399999999999E-2,1,1180.1814248000001,null,2.3780000000000001,null,50642,9.7999999999999997E-3,"كیلوگرم","ضدزنگ روغنی",39130101,null,15,{"$f":"COUNTIF($S$1:S2520,Q2520+R2520)","v":15},"080203",1E-4,80203.000100000005]
[80203.02,null,1.5714999999999997,1,257.72599999999994,null,1,null,164,1.5714999999999997,"كیلوگرم","حمل مصالح فلزی مورد مصرف در سازه",41110101,null,2,{"$f":"COUNTIF($S$1:S2524,Q2524+R2524)","v":2},"080203",0.01,80203.009999999995]
[80203.05,null,5.7000000000000002E-3,1,676.1853000000001,null,1,null,118629,5.7000000000000002E-3,"مترمكعب","حمل تخته ، الوار و MDF",41190101,null,5,{"$f":"COUNTIF($S$1:S2527,Q2527+R2527)","v":5},"080203",0.01,80203.009999999995]
[80203.08,null,1.3229999999999997,1,677.37599999999986,null,1,null,512,1.3229999999999997,"كیلوگرم","حمل لوله ها و اتصالات پی وی سی",42040101,null,8,{"$f":"COUNTIF($S$1:S2530,Q2530+R2530)","v":8},"080203",0.01,80203.009999999995]
[80204.000000009997,null,0.83078379999999996,1,47365.476789400003,null,1.022,null,57013,0.81289999999999996,"نفر- ساعت","كارگر ساده",14010102,null,1,{"$f":"COUNTIF($S$1:S2534,Q2534+R2534)","v":1},"080204",1E-8,80204.000000009997]
[80204.000000040003,null,0.42586740000000001,1,25626.996662400001,null,1.022,null,60176,0.41670000000000001,"نفر- ساعت","کمک نجار قالب بند",14030203,null,4,{"$f":"COUNTIF($S$1:S2537,Q2537+R2537)","v":4},"080204",1E-8,80204.000000009997]
[80204.000000059998,null,0.41074179999999999,1,31261.147656199999,null,1.022,null,76109,0.40189999999999998,"نفر ساعت","قالب بند فلزی درجه دو",14040102,null,6,{"$f":"COUNTIF($S$1:S2539,Q2539+R2539)","v":6},"080204",1E-8,80204.000000009997]
[80204.000000069995,null,0.44712499999999999,1,26906.194,null,1.022,null,60176,0.4375,"نفر ساعت","کمک قالب بند",14040103,null,7,{"$f":"COUNTIF($S$1:S2540,Q2540+R2540)","v":7},"080204",1E-8,80204.000000009997]
[80204.000000100001,null,2.9487200000000002E-2,1,1774.4217472000005,null,2.3780000000000001,null,60176,1.24E-2,"نفر ساعت","کمک قالب ساز قالب فلزی",14040203,null,10,{"$f":"COUNTIF($S$1:S2543,Q2543+R2543)","v":10},"080204",1E-8,80204.000000009997]
[80204.000000999993,null,3.6281000000000001E-2,1,7518.9107210000011,null,1.022,null,207241,3.5499999999999997E-2,"دستگاه-ساعت","کامیون به ظرفیت حدود3 تن  باراننده",23020101,null,1,{"$f":"COUNTIF($S$1:S2547,Q2547+R2547)","v":1},"080204",9.9999999999999995E-7,80204.000000999993]
[80204.000004000001,null,7.2970800000000002E-2,1,21299.519782800005,null,1.022,null,291891,7.1400000000000005E-2,"دستگاه ساعت","جرثقیل کفی5 تن با کامیون10 تن با راننده",24010104,null,4,{"$f":"COUNTIF($S$1:S2550,Q2550+R2550)","v":4},"080204",9.9999999999999995E-7,80204.000000999993]
[80204.000006999995,null,9.6987799999999999E-2,1,969.87800000000004,null,1.022,null,10000,9.4899999999999998E-2,"لیتر","روغن قالب بندی",28991401,null,7,{"$f":"COUNTIF($S$1:S2553,Q2553+R2553)","v":7},"080204",9.9999999999999995E-7,80204.000000999993]
[80204.000199999995,null,5.8254000000000005E-3,1,43690.500000000007,null,1.022,null,7500000,5.7000000000000002E-3,"مترمكعب","تخته الوار ایرانی",39010202,null,2,{"$f":"COUNTIF($S$1:S2557,Q2557+R2557)","v":2},"080204",1E-4,80204.000100000005]
[80204.000499999995,null,0.13081600000000002,1,3453.5423999999998,null,1.022,null,26400,0.128,"كیلوگرم","39030101 - مفتول سیاه",39030101,null,5,{"$f":"COUNTIF($S$1:S2560,Q2560+R2560)","v":5},"080204",1E-4,80204.000100000005]
[80204.000599999999,null,0.74740540000000011,1,19901.910991200006,null,2.3780000000000001,null,26628,0.31430000000000002,"كیلوگرم","39040101 - ورق سیاه به ضخامت 3 میلیمتر و کمتر",39040101,null,6,{"$f":"COUNTIF($S$1:S2561,Q2561+R2561)","v":6},"080204",1E-4,80204.000100000005]
[80204.000899999999,null,0.55264720000000001,1,16747.973396000001,null,2.3780000000000001,null,30305,0.2324,"كیلوگرم","پروفیل ناودانی سردخم شده",39050701,null,9,{"$f":"COUNTIF($S$1:S2564,Q2564+R2564)","v":9},"080204",1E-4,80204.000100000005]
[80204.001099999994,null,0.28107959999999999,1,9579.192767999999,null,2.3780000000000001,null,34080,0.1182,"كیلوگرم","لوله یک و یک دوم فولادی",39070202,null,11,{"$f":"COUNTIF($S$1:S2566,Q2566+R2566)","v":11},"080204",1E-4,80204.000100000005]
[80204.001499999998,null,2.3542200000000003E-2,1,1192.2240924000002,null,2.3780000000000001,null,50642,9.9000000000000008E-3,"كیلوگرم","ضدزنگ روغنی",39130101,null,15,{"$f":"COUNTIF($S$1:S2570,Q2570+R2570)","v":15},"080204",1E-4,80204.000100000005]
[80204.009999999995,null,8.5299999999999987E-2,1,21.6662,null,1,null,254,8.5299999999999987E-2,"كیلوگرم","حمل قیر مظروف",41080201,null,1,{"$f":"COUNTIF($S$1:S2573,Q2573+R2573)","v":1},"080204",0.01,80204.009999999995]
[80204.05,null,5.7000000000000002E-3,1,676.1853000000001,null,1,null,118629,5.7000000000000002E-3,"مترمكعب","حمل تخته ، الوار و MDF",41190101,null,5,{"$f":"COUNTIF($S$1:S2577,Q2577+R2577)","v":5},"080204",0.01,80204.009999999995]
[80204.08,null,2.1375000000000002,1,1094.4000000000001,null,1,null,512,2.1375000000000002,"كیلوگرم","حمل لوله ها و اتصالات پی وی سی",42040101,null,8,{"$f":"COUNTIF($S$1:S2580,Q2580+R2580)","v":8},"080204",0.01,80204.009999999995]
["",null,null,null,null,null,"ضريب",null,"بهاي واحد","مقـدار","واحــد","نيروي انساني ",null,null,"رديف",{"$f":"COUNTIF($S$1:S2583,Q2583+R2583)","v":0},"080205",1E-8,""]
[80205.000000009997,null,0.84550060000000005,1,48204.5257078,null,1.022,null,57013,0.82730000000000004,"نفر- ساعت","كارگر ساده",14010102,null,1,{"$f":"COUNTIF($S$1:S2584,Q2584+R2584)","v":1},"080205",1E-8,80205.000000009997]
[80205.000000040003,null,0.43261260000000001,1,26032.895817600005,null,1.022,null,60176,0.42330000000000001,"نفر- ساعت","کمک نجار قالب بند",14030203,null,4,{"$f":"COUNTIF($S$1:S2587,Q2587+R2587)","v":4},{"$f":"IF(N2587>0,N2587,Q2586)","v":"080205"},1E-8,{"$f":"IF(M2587<>\"\",Q2587+R2587,\"\")","v":80205.000000009997}]
[80205.000000080006,null,2.9487200000000002E-2,1,2616.9005384000002,null,2.3780000000000001,null,88747,1.24E-2,"نفر ساعت","قالب ساز درجه یک قالب فلزی",14040201,null,8,{"$f":"COUNTIF($S$1:S2591,Q2591+R2591)","v":8},"080205",1E-8,80205.000000009997]
[80205.000000100001,null,2.9487200000000002E-2,1,1774.4217472000005,null,2.3780000000000001,null,60176,1.24E-2,"نفر ساعت","کمک قالب ساز قالب فلزی",14040203,null,10,{"$f":"COUNTIF($S$1:S2593,Q2593+R2593)","v":10},"080205",1E-8,80205.000000009997]
["",null,null,null,null,null,"ضريب",null,"بهاي واحد","مقـدار","واحــد","ماشين آلات ",null,null,"رديف",{"$f":"COUNTIF($S$1:S2596,Q2596+R2596)","v":0},"080205",9.9999999999999995E-7,""]
[80205.000004000001,null,0.10015600000000001,1,37206.752128,null,1.022,null,371488,9.8000000000000004E-2,"دستگاه ساعت","جرثقيل کفي10 تن با کاميون 16 تن با راننده",24010106,null,4,{"$f":"COUNTIF($S$1:S2600,Q2600+R2600)","v":4},"080205",9.9999999999999995E-7,80205.000000999993]
[80205.000006999995,null,9.6987799999999999E-2,1,969.87800000000004,null,1.022,null,10000,9.4899999999999998E-2,"لیتر","روغن قالب بندی",28991401,null,7,{"$f":"COUNTIF($S$1:S2603,Q2603+R2603)","v":7},"080205",9.9999999999999995E-7,80205.000000999993]
[80205.000100000005,null,7.4503800000000009E-2,1,4842.7470000000003,null,1.022,null,65000,7.2900000000000006E-2,"كیلوگرم","میخ جور",31430101,null,1,{"$f":"COUNTIF($S$1:S2606,Q2606+R2606)","v":1},"080205",1E-4,80205.000100000005]
[80205.000199999995,null,5.9275999999999999E-3,1,44456.999999999993,null,1.022,null,7500000,5.7999999999999996E-3,"مترمكعب","تخته الوار ایرانی",39010202,null,2,{"$f":"COUNTIF($S$1:S2607,Q2607+R2607)","v":2},"080205",1E-4,80205.000100000005]
[80205.000499999995,null,0.13081600000000002,1,3453.5423999999998,null,1.022,null,26400,0.128,"كیلوگرم","39030101 - مفتول سیاه",39030101,null,5,{"$f":"COUNTIF($S$1:S2610,Q2610+R2610)","v":5},"080205",1E-4,80205.000100000005]
[80205.000799999994,null,0.63635280000000005,1,13224.683889599999,null,2.3780000000000001,null,20782,0.2676,"كیلوگرم","نبشی",39050301,null,8,{"$f":"COUNTIF($S$1:S2613,Q2613+R2613)","v":8},"080205",1E-4,80205.000100000005]
[80205.001099999994,null,0.29082940000000002,1,9911.4659520000005,null,2.3780000000000001,null,34080,0.12230000000000001,"كیلوگرم","لوله یک و یک دوم فولادی",39070202,null,11,{"$f":"COUNTIF($S$1:S2616,Q2616+R2616)","v":11},"080205",1E-4,80205.000100000005]
[80205.001399999994,null,1.5219200000000002E-2,1,677.55878400000006,null,2.3780000000000001,null,44520,6.4000000000000003E-3,"كیلوگرم","الکترود",39120101,null,14,{"$f":"COUNTIF($S$1:S2619,Q2619+R2619)","v":14},"080205",1E-4,80205.000100000005]
[80205.009999999995,null,8.5299999999999987E-2,1,21.6662,null,1,null,254,8.5299999999999987E-2,"كیلوگرم","حمل قیر مظروف",41080201,null,1,{"$f":"COUNTIF($S$1:S2623,Q2623+R2623)","v":1},"080205",0.01,80205.009999999995]
[80205.039999999994,null,7.2900000000000006E-2,1,36.450000000000003,null,1,null,500,7.2900000000000006E-2,"كیلوگرم","حمل فراورده‌های فولادی توری، شبکه‌های فلزی، میخ، پرچ و الکترود",41110301,null,4,{"$f":"COUNTIF($S$1:S2626,Q2626+R2626)","v":4},"080205",0.01,80205.009999999995]
[80205.070000000007,null,0.15890000000000001,1,33.845700000000001,null,1,null,213,0.15890000000000001,"كیلوگرم","حمل لوله های فولادی یک دوم اینچ تا 4 اینچ",42010101,null,7,{"$f":"COUNTIF($S$1:S2629,Q2629+R2629)","v":7},"080205",0.01,80205.009999999995]
[80205.08,null,2.61,1,1336.32,null,1,null,512,2.61,"كیلوگرم","حمل لوله ها و اتصالات پی وی سی",42040101,null,8,{"$f":"COUNTIF($S$1:S2630,Q2630+R2630)","v":8},"080205",0.01,80205.009999999995]
[{"$f":"IF(M2633<>\"\",Q2633+(P2633*R2633),\"\")","v":""},null,null,null,null,null,"ضريب",null,"بهاي واحد","مقـدار","واحــد","نيروي انساني ",null,null,"رديف",{"$f":"COUNTIF($S$1:S2633,Q2633+R2633)","v":0},"080301",1E-8,""]
[80301.000000040003,null,0.28002800000000005,1,16850.964928000001,null,1.022,null,60176,0.27400000000000002,"نفر- ساعت","کمک نجار قالب بند",14030203,null,4,{"$f":"COUNTIF($S$1:S2637,Q2637+R2637)","v":4},"080301",1E-8,80301.000000009997]
[80301.000000069995,null,0.51621220000000001,1,31063.585347199998,null,1.022,null,60176,0.50509999999999999,"نفر ساعت","کمک قالب بند",14040103,null,7,{"$f":"COUNTIF($S$1:S2640,Q2640+R2640)","v":7},"080301",1E-8,80301.000000009997]
[80301.000000100001,null,2.9962800000000001E-2,1,1803.0414527999999,null,2.3780000000000001,null,60176,1.26E-2,"نفر ساعت","کمک قالب ساز قالب فلزی",14040203,null,10,{"$f":"COUNTIF($S$1:S2643,Q2643+R2643)","v":10},"080301",1E-8,80301.000000009997]
[80301.000000999993,null,3.5463399999999999E-2,1,7349.4704793999999,null,1.022,null,207241,3.4700000000000002E-2,"دستگاه-ساعت","کامیون به ظرفیت حدود3 تن  باراننده",23020101,null,1,{"$f":"COUNTIF($S$1:S2646,Q2646+R2646)","v":1},"080301",9.9999999999999995E-7,80301.000000999993]
[80301.000004000001,null,2.9962800000000001E-2,1,1063.0202184,null,2.3780000000000001,null,35478,1.26E-2,"دستگاه ساعت","موتور جوش150 تا250 آمپر",26020502,null,4,{"$f":"COUNTIF($S$1:S2649,Q2649+R2649)","v":4},"080301",9.9999999999999995E-7,80301.000000999993]
["",null,null,null,null,null,"ضريب",null,"بهاي واحد","مقـدار","واحــد","مصالح",null,null,"رديف",{"$f":"COUNTIF($S$1:S2652,Q2652+R2652)","v":0},"080301",1E-4,""]
[80301.000100000005,null,6.132E-2,1,3985.8,null,1.022,null,65000,0.06,"كیلوگرم","میخ جور",31430101,null,1,{"$f":"COUNTIF($S$1:S2653,Q2653+R2653)","v":1},"080301",1E-4,80301.000100000005]
[80301.000400000004,null,5.1100000000000007E-2,1,1349.04,null,1.022,null,26400,0.05,"كیلوگرم","39030101 - مفتول سیاه",39030101,null,4,{"$f":"COUNTIF($S$1:S2656,Q2656+R2656)","v":4},"080301",1E-4,80301.000100000005]
[80301.000799999994,null,0.42875340000000001,1,12993.371786999998,null,2.3780000000000001,null,30305,0.18029999999999999,"كیلوگرم","پروفیل ناودانی سردخم شده",39050701,null,8,{"$f":"COUNTIF($S$1:S2660,Q2660+R2660)","v":8},"080301",1E-4,80301.000100000005]
[80301.001099999994,null,0.1619418,1,5518.9765440000001,null,2.3780000000000001,null,34080,6.8099999999999994E-2,"كیلوگرم","لوله2 اینچ فولادی",39070203,null,11,{"$f":"COUNTIF($S$1:S2663,Q2663+R2663)","v":11},"080301",1E-4,80301.000100000005]
[80301.001399999994,null,1.9315800000000001E-2,1,1482.4876500000005,null,1.022,null,76750,1.89E-2,"كیلوگرم","39140101 - پیچ و مهره سیاه جور",39140101,null,14,{"$f":"COUNTIF($S$1:S2666,Q2666+R2666)","v":14},"080301",1E-4,80301.000100000005]
["",null,null,null,null,null,"ضريب",null,"بهاي واحد","مقـدار","واحــد"," حمل مصالح ",null,null,"رديف",{"$f":"COUNTIF($S$1:S2668,Q2668+R2668)","v":0},"080301",0.01,""]
[80301.039999999994,null,5.7000000000000002E-3,1,676.1853000000001,null,1,null,118629,5.7000000000000002E-3,"مترمكعب","حمل تخته ، الوار و MDF",41190101,null,4,{"$f":"COUNTIF($S$1:S2672,Q2672+R2672)","v":4},"080301",0.01,80301.009999999995]
[80301.070000000007,null,2.1000000000000001E-2,1,7.0350000000000001,null,1,null,335,2.1000000000000001E-2,"كیلوگرم","حمل اتصالات لوله های فولادی",42010301,null,7,{"$f":"COUNTIF($S$1:S2675,Q2675+R2675)","v":7},"080301",0.01,80301.009999999995]
["",null,null,null,null,null,null,null,null,null,null,null,null,"080302",null,{"$f":"COUNTIF($S$1:S2676,Q2676+R2676)","v":0},"080302",0.01,""]
[80302.000000009997,null,1.0737132,1,61215.610671600007,null,1.022,null,57013,1.0506,"نفر- ساعت","كارگر ساده",14010102,null,1,{"$f":"COUNTIF($S$1:S2679,Q2679+R2679)","v":1},"080302",1E-8,80302.000000009997]
[80302.00000005,null,0.28299179999999996,1,26744.140058999998,null,1.022,null,94505,0.27689999999999998,"نفر ساعت","قالب بند فلزی درجه یک",14040101,null,5,{"$f":"COUNTIF($S$1:S2683,Q2683+R2683)","v":5},"080302",1E-8,80302.000000009997]
[80302.000000080006,null,3.8761400000000001E-2,1,3439.9579658000002,null,2.3780000000000001,null,88747,1.6299999999999999E-2,"نفر ساعت","قالب ساز درجه یک قالب فلزی",14040201,null,8,{"$f":"COUNTIF($S$1:S2686,Q2686+R2686)","v":8},"080302",1E-8,80302.000000009997]
[80302.000000109998,null,4.92246E-2,1,8596.6333685999998,null,2.3780000000000001,null,174641,2.07E-2,"عدد","هزينه دنده اي کردن جک سقفي",14280302,null,11,{"$f":"COUNTIF($S$1:S2689,Q2689+R2689)","v":11},"080302",1E-8,80302.000000009997]
[80302.000002999994,null,4.9158199999999999E-2,1,2035.2477964000002,null,1.022,null,41402,4.8099999999999997E-2,"دستگاه-ساعت","تریلر کفی به ظرفیت حدود 5  تن بدون کشنده",23020901,null,3,{"$f":"COUNTIF($S$1:S2693,Q2693+R2693)","v":3},"080302",9.9999999999999995E-7,80302.000000999993]
[80302.000004999994,null,5.4694000000000001E-3,1,273.47000000000003,null,2.3780000000000001,null,50000,2.3E-3,"عدد","سنگ ساب اهن",28040701,null,5,{"$f":"COUNTIF($S$1:S2695,Q2695+R2695)","v":5},"080302",{"$f":"IF(IF(O2695=\"رديف\",VLOOKUP(L2695,Kod,2,0),0)=0,R2694,IF(O2695=\"رديف\",VLOOKUP(L2695,Kod,2,0),0))","v":9.9999999999999995E-7},80302.000000999993]
[80302.000006000002,null,9.1060199999999994E-2,1,910.60199999999998,null,1.022,null,10000,8.9099999999999999E-2,"لیتر","روغن قالب بندی",28991401,null,6,{"$f":"COUNTIF($S$1:S2696,Q2696+R2696)","v":6},"080302",9.9999999999999995E-7,80302.000000999993]
[80302.000199999995,null,6.7451999999999998E-3,1,50589,null,1.022,null,7500000,6.6E-3,"مترمكعب","تخته الوار ایرانی",39010202,null,2,{"$f":"COUNTIF($S$1:S2699,Q2699+R2699)","v":2},"080302",1E-4,80302.000100000005]
[80302.000499999995,null,0.74907000000000001,1,19946.235960000002,null,2.3780000000000001,null,26628,0.315,"كیلوگرم","39040101 - ورق سیاه به ضخامت 3 میلیمتر و کمتر",39040101,null,5,{"$f":"COUNTIF($S$1:S2702,Q2702+R2702)","v":5},"080302",1E-4,80302.000100000005]
[80302.000899999999,null,0.33054200000000006,1,9104.4488480000018,null,2.3780000000000001,null,27544,0.13900000000000001,"كیلوگرم","پروفیل و قوطی معمولی",39060101,null,9,{"$f":"COUNTIF($S$1:S2706,Q2706+R2706)","v":9},"080302",1E-4,80302.000100000005]
[80302.001199999999,null,2.1639800000000001E-2,1,963.40389599999992,null,2.3780000000000001,null,44520,9.1000000000000004E-3,"كیلوگرم","الکترود",39120101,null,12,{"$f":"COUNTIF($S$1:S2709,Q2709+R2709)","v":12},"080302",1E-4,80302.000100000005]
[80302.001499999998,null,4.6608799999999999E-2,1,930.31164799999999,null,2.3780000000000001,null,19960,1.9599999999999999E-2,"عدد","بست دار بست",39150101,null,15,{"$f":"COUNTIF($S$1:S2712,Q2712+R2712)","v":15},"080302",1E-4,80302.000100000005]
[80302.03,null,6.7500000000000004E-2,1,33.75,null,1,null,500,6.7500000000000004E-2,"كیلوگرم","حمل فراورده‌های فولادی توری، شبکه‌های فلزی، میخ، پرچ و الکترود",41110301,null,3,{"$f":"COUNTIF($S$1:S2716,Q2716+R2716)","v":3},"080302",0.01,80302.009999999995]
[80302.05,null,2.7330000000000001,1,595.79399999999998,null,1,null,218,2.7330000000000001,"كیلوگرم","حمل چوب گرد",41190201,null,5,{"$f":"COUNTIF($S$1:S2718,Q2718+R2718)","v":5},"080302",0.01,80302.009999999995]
[80302.06,null,0.29299999999999998,1,62.408999999999985,null,1,null,213,0.29299999999999998,"كیلوگرم","حمل لوله های فولادی یک دوم اینچ تا 4 اینچ",42010101,null,6,{"$f":"COUNTIF($S$1:S2719,Q2719+R2719)","v":6},"080302",0.01,80302.009999999995]
["",null,null,null,null,null,null,null,null,null,null,"متر مربع",null,null,"واحـد :",{"$f":"COUNTIF($S$1:S2722,Q2722+R2722)","v":0},"080303",0.01,""]
[80303.000000019994,null,0.21094080000000001,1,20513.7818592,null,1.022,null,97249,0.2064,"نفر ساعت","نجار قالب بند درجه یک",14030201,null,2,{"$f":"COUNTIF($S$1:S2725,Q2725+R2725)","v":2},"080303",1E-8,80303.000000009997]
[80303.000000059998,null,0.3844764,1,29262.114327600004,null,1.022,null,76109,0.37619999999999998,"نفر ساعت","قالب بند فلزی درجه دو",14040102,null,6,{"$f":"COUNTIF($S$1:S2729,Q2729+R2729)","v":6},"080303",1E-8,80303.000000009997]
[80303.000000090004,null,3.3292000000000009E-2,1,2487.6781160000005,null,2.3780000000000001,null,74723,1.4000000000000002E-2,"نفر ساعت","قالب ساز درجه دو قالب فلزی",14040202,null,9,{"$f":"COUNTIF($S$1:S2732,Q2732+R2732)","v":9},"080303",1E-8,80303.000000009997]
[80303.000000999993,null,3.8631600000000002E-2,1,8006.0514155999999,null,1.022,null,207241,3.78E-2,"دستگاه-ساعت","کامیون به ظرفیت حدود3 تن  باراننده",23020101,null,1,{"$f":"COUNTIF($S$1:S2736,Q2736+R2736)","v":1},"080303",9.9999999999999995E-7,80303.000000999993]
[80303.000004000001,null,3.3292000000000009E-2,1,1181.1335760000004,null,2.3780000000000001,null,35478,1.4000000000000002E-2,"دستگاه ساعت","موتور جوش150 تا250 آمپر",26020502,null,4,{"$f":"COUNTIF($S$1:S2739,Q2739+R2739)","v":4},"080303",9.9999999999999995E-7,80303.000000999993]
["",null,null,null,null,null,"ضريب",null,"بهاي واحد","مقـدار","واحــد","مصالح",null,null,"رديف",{"$f":"COUNTIF($S$1:S2742,Q2742+R2742)","v":0},"080303",1E-4,""]
[80303.000100000005,null,6.132E-2,1,3985.8,null,1.022,null,65000,0.06,"كیلوگرم","میخ جور",31430101,null,1,{"$f":"COUNTIF($S$1:S2743,Q2743+R2743)","v":1},"080303",1E-4,80303.000100000005]
[80303.0003,null,1.6740359999999999,1,16740.359999999997,null,1.022,null,10000,1.6379999999999999,"كیلوگرم","39010301 - چوب گرد سفید خشک",39010301,null,3,{"$f":"COUNTIF($S$1:S2745,Q2745+R2745)","v":3},"080303",1E-4,80303.000100000005]
[80303.000599999999,null,5.4456200000000003E-2,1,1282.7702472000001,null,2.3780000000000001,null,23556,2.29E-2,"كیلوگرم","ورق سیاه به ضخامت بیش از 3 میلیمتر",39040102,null,6,{"$f":"COUNTIF($S$1:S2748,Q2748+R2748)","v":6},"080303",1E-4,80303.000100000005]
[80303.001000000004,null,0.2382756,1,8120.4324479999996,null,2.3780000000000001,null,34080,0.1002,"كیلوگرم","لوله یک و یک دوم فولادی",39070202,null,10,{"$f":"COUNTIF($S$1:S2752,Q2752+R2752)","v":10},"080303",1E-4,80303.000100000005]
[80303.001300000004,null,2.6158000000000001E-2,1,1324.6934359999996,null,2.3780000000000001,null,50642,1.0999999999999999E-2,"كیلوگرم","ضدزنگ روغنی",39130101,null,13,{"$f":"COUNTIF($S$1:S2755,Q2755+R2755)","v":13},"080303",1E-4,80303.000100000005]
[80303.009999999995,null,0.08,1,20.32,null,1,null,254,0.08,"كیلوگرم","حمل قیر مظروف",41080201,null,1,{"$f":"COUNTIF($S$1:S2759,Q2759+R2759)","v":1},"080303",{"$f":"IF(IF(O2759=\"رديف\",VLOOKUP(L2759,Kod,2,0),0)=0,R2758,IF(O2759=\"رديف\",VLOOKUP(L2759,Kod,2,0),0))","v":0.01},80303.009999999995]
[80303.039999999994,null,5.4000000000000003E-3,1,640.59660000000008,null,1,null,118629,5.4000000000000003E-3,"مترمكعب","حمل تخته ، الوار و MDF",41190101,null,4,{"$f":"COUNTIF($S$1:S2762,Q2762+R2762)","v":4},"080303",0.01,80303.009999999995]
[80303.070000000007,null,2.9399999999999999E-2,1,9.8490000000000002,null,1,null,335,2.9399999999999999E-2,"كیلوگرم","حمل اتصالات لوله های فولادی",42010301,null,7,{"$f":"COUNTIF($S$1:S2765,Q2765+R2765)","v":7},"080303",0.01,80303.009999999995]
["",null,null,null,null,null,null,null,null,null,null,null,null,"080304",null,{"$f":"COUNTIF($S$1:S2766,Q2766+R2766)","v":0},"080304",0.01,""]
[80304.000000019994,null,0.2459954,1,23922.806654600005,null,1.022,null,97249,0.2407,"نفر ساعت","نجار قالب بند درجه یک",14030201,null,2,{"$f":"COUNTIF($S$1:S2770,Q2770+R2770)","v":2},"080304",1E-8,80304.000000009997]
[80304.000000030006,null,0.23863700000000002,1,18817.959272000004,null,1.022,null,78856,0.23350000000000001,"نفر - ساعت","نجار قالب بند درجه دو",14030202,null,3,{"$f":"COUNTIF($S$1:S2771,Q2771+R2771)","v":3},"080304",1E-8,80304.000000009997]
[80304.000000069995,null,0.83793779999999995,1,50423.74505279999,null,1.022,null,60176,0.81989999999999996,"نفر ساعت","کمک قالب بند",14040103,null,7,{"$f":"COUNTIF($S$1:S2775,Q2775+R2775)","v":7},"080304",1E-8,80304.000000009997]
[80304.000000100001,null,2.8060399999999999E-2,1,1688.5626304,null,2.3780000000000001,null,60176,1.18E-2,"نفر ساعت","کمک قالب ساز قالب فلزی",14040203,null,10,{"$f":"COUNTIF($S$1:S2778,Q2778+R2778)","v":10},"080304",1E-8,80304.000000009997]
[80304.000002000001,null,4.9260400000000003E-2,1,5176.5783944000004,null,1.022,null,105086,4.82E-2,"دستگاه ساعت","تراکتور جفت دیفرانسیل با راننده",23020802,null,2,{"$f":"COUNTIF($S$1:S2782,Q2782+R2782)","v":2},"080304",9.9999999999999995E-7,80304.000000999993]
[80304.000004999994,null,2.8060399999999999E-2,1,995.52687120000019,null,2.3780000000000001,null,35478,1.18E-2,"دستگاه ساعت","موتور جوش150 تا250 آمپر",26020502,null,5,{"$f":"COUNTIF($S$1:S2785,Q2785+R2785)","v":5},"080304",9.9999999999999995E-7,80304.000000999993]
["",null,null,null,null,null,"ضريب",null,"بهاي واحد","مقـدار","واحــد","مصالح",null,null,"رديف",{"$f":"COUNTIF($S$1:S2788,Q2788+R2788)","v":0},"080304",1E-4,""]
[80304.000100000005,null,7.6649999999999996E-2,1,4982.25,null,1.022,null,65000,7.4999999999999997E-2,"كیلوگرم","میخ جور",31430101,null,1,{"$f":"COUNTIF($S$1:S2789,Q2789+R2789)","v":1},"080304",1E-4,80304.000100000005]
[80304.000400000004,null,5.1100000000000007E-2,1,1349.04,null,1.022,null,26400,0.05,"كیلوگرم","39030101 - مفتول سیاه",39030101,null,4,{"$f":"COUNTIF($S$1:S2792,Q2792+R2792)","v":4},"080304",1E-4,80304.000100000005]
[80304.000700000004,null,0.57951859999999999,1,12043.555545200001,null,2.3780000000000001,null,20782,0.2437,"كیلوگرم","نبشی",39050301,null,7,{"$f":"COUNTIF($S$1:S2795,Q2795+R2795)","v":7},"080304",1E-4,80304.000100000005]
[80304.001000000004,null,0.90173760000000014,1,30731.217408000004,null,2.3780000000000001,null,34080,0.37920000000000004,"كیلوگرم","لوله یک و یک دوم فولادی",39070202,null,10,{"$f":"COUNTIF($S$1:S2798,Q2798+R2798)","v":10},"080304",1E-4,80304.000100000005]
[80304.001300000004,null,2.3608199999999999E-2,1,1811.9293499999999,null,1.022,null,76750,2.3099999999999999E-2,"كیلوگرم","39140101 - پیچ و مهره سیاه جور",39140101,null,13,{"$f":"COUNTIF($S$1:S2801,Q2801+R2801)","v":13},"080304",1E-4,80304.000100000005]
[80304.02,null,0.91659999999999997,1,150.32239999999999,null,1,null,164,0.91659999999999997,"كیلوگرم","حمل مصالح فلزی مورد مصرف در سازه",41110101,null,2,{"$f":"COUNTIF($S$1:S2805,Q2805+R2805)","v":2},"080304",0.01,80304.009999999995]
[80304.05,null,3.1709999999999998,1,691.27799999999991,null,1,null,218,3.1709999999999998,"كیلوگرم","حمل چوب گرد",41190201,null,5,{"$f":"COUNTIF($S$1:S2808,Q2808+R2808)","v":5},"080304",0.01,80304.009999999995]
["",null,null,null,null,null,null,null,null,null,null,null,null,"080305",null,{"$f":"COUNTIF($S$1:S2811,Q2811+R2811)","v":0},"080305",0.01,""]
["",null,null,null,null,null,null,null,null,null,null,"متر مربع",null,null,"واحـد :",{"$f":"COUNTIF($S$1:S2812,Q2812+R2812)","v":0},"080305",0.01,""]
[80305.000000019994,null,0.28820399999999996,1,28027.550795999992,null,1.022,null,97249,0.28199999999999997,"نفر ساعت","نجار قالب بند درجه یک",14030201,null,2,{"$f":"COUNTIF($S$1:S2815,Q2815+R2815)","v":2},"080305",1E-8,80305.000000009997]
[80305.000000059998,null,0.44906679999999999,1,34178.025081200001,null,1.022,null,76109,0.43939999999999996,"نفر ساعت","قالب بند فلزی درجه دو",14040102,null,6,{"$f":"COUNTIF($S$1:S2819,Q2819+R2819)","v":6},"080305",1E-8,80305.000000009997]
[80305.000000090004,null,2.8060399999999999E-2,1,2096.7572692000003,null,2.3780000000000001,null,74723,1.18E-2,"نفر ساعت","قالب ساز درجه دو قالب فلزی",14040202,null,9,{"$f":"COUNTIF($S$1:S2822,Q2822+R2822)","v":9},"080305",1E-8,80305.000000009997]
[80305.000000109998,null,1.7121600000000001E-2,1,2990.1333456000007,null,2.3780000000000001,null,174641,7.1999999999999998E-3,"عدد","هزینه دنده ای کردن پیچ تنظیم داربست",14280303,null,11,{"$f":"COUNTIF($S$1:S2824,Q2824+R2824)","v":11},"080305",1E-8,80305.000000009997]
[80305.000002999994,null,5.2939599999999996E-2,1,2191.8053191999998,null,1.022,null,41402,5.1799999999999999E-2,"دستگاه-ساعت","تریلر کفی به ظرفیت حدود 5  تن بدون کشنده",23020901,null,3,{"$f":"COUNTIF($S$1:S2828,Q2828+R2828)","v":3},"080305",9.9999999999999995E-7,80305.000000999993]
[80305.000006000002,null,3.5670000000000003E-3,1,178.35,null,2.3780000000000001,null,50000,1.5E-3,"عدد","سنگ ساب اهن",28040701,null,6,{"$f":"COUNTIF($S$1:S2831,Q2831+R2831)","v":6},"080305",9.9999999999999995E-7,80305.000000999993]
[80305.000006999995,null,9.1264599999999987E-2,1,912.64600000000007,null,1.022,null,10000,8.929999999999999E-2,"لیتر","روغن قالب بندی",28991401,null,7,{"$f":"COUNTIF($S$1:S2832,Q2832+R2832)","v":7},"080305",9.9999999999999995E-7,80305.000000999993]
[80305.000199999995,null,6.2341999999999996E-3,1,46756.5,null,1.022,null,7500000,6.0999999999999995E-3,"مترمكعب","تخته الوار ایرانی",39010202,null,2,{"$f":"COUNTIF($S$1:S2835,Q2835+R2835)","v":2},"080305",1E-4,80305.000100000005]
[80305.000499999995,null,0.74907000000000001,1,19946.235960000002,null,2.3780000000000001,null,26628,0.315,"كیلوگرم","39040101 - ورق سیاه به ضخامت 3 میلیمتر و کمتر",39040101,null,5,{"$f":"COUNTIF($S$1:S2838,Q2838+R2838)","v":5},"080305",1E-4,80305.000100000005]
[80305.000899999999,null,0.23613540000000002,1,6504.1134575999995,null,2.3780000000000001,null,27544,9.9299999999999999E-2,"كیلوگرم","پروفیل و قوطی معمولی",39060101,null,9,{"$f":"COUNTIF($S$1:S2842,Q2842+R2842)","v":9},"080305",1E-4,80305.000100000005]
[80305.001199999999,null,2.0213000000000002E-2,1,1023.6267459999998,null,2.3780000000000001,null,50642,8.5000000000000006E-3,"كیلوگرم","ضدزنگ روغنی",39130101,null,12,{"$f":"COUNTIF($S$1:S2845,Q2845+R2845)","v":12},"080305",1E-4,80305.000100000005]
[80305.001399999994,null,0.25397039999999999,1,5069.2491839999993,null,2.3780000000000001,null,19960,0.10679999999999999,"عدد","بست دار بست",39150101,null,14,{"$f":"COUNTIF($S$1:S2847,Q2847+R2847)","v":14},"080305",1E-4,80305.000100000005]
[80305.03,null,7.4999999999999997E-2,1,37.5,null,1,null,500,7.4999999999999997E-2,"كیلوگرم","حمل فراورده‌های فولادی توری، شبکه‌های فلزی، میخ، پرچ و الکترود",41110301,null,3,{"$f":"COUNTIF($S$1:S2851,Q2851+R2851)","v":3},"080305",0.01,80305.009999999995]
[80305.06,null,0.58240000000000003,1,124.05120000000001,null,1,null,213,0.58240000000000003,"كیلوگرم","حمل لوله های فولادی یک دوم اینچ تا 4 اینچ",42010101,null,6,{"$f":"COUNTIF($S$1:S2854,Q2854+R2854)","v":6},"080305",0.01,80305.009999999995]
[80305.070000000007,null,0.16020000000000001,1,53.667000000000002,null,1,null,335,0.16020000000000001,"كیلوگرم","حمل اتصالات لوله های فولادی",42010301,null,7,{"$f":"COUNTIF($S$1:S2855,Q2855+R2855)","v":7},"080305",0.01,80305.009999999995]
["",null,null,null,null,null,"ضريب",null,"بهاي واحد","مقـدار","واحــد","نيروي انساني ",null,null,"رديف",{"$f":"COUNTIF($S$1:S2858,Q2858+R2858)","v":0},"080306",1E-8,""]
[80306.000000030006,null,0.35136360000000005,1,27707.128041600005,null,1.022,null,78856,0.34380000000000005,"نفر - ساعت","نجار قالب بند درجه دو",14030202,null,3,{"$f":"COUNTIF($S$1:S2861,Q2861+R2861)","v":3},"080306",1E-8,80306.000000009997]
[80306.000000069995,null,1.2283417999999999,1,73916.696156800012,null,1.022,null,60176,1.2019,"نفر ساعت","کمک قالب بند",14040103,null,7,{"$f":"COUNTIF($S$1:S2865,Q2865+R2865)","v":7},"080306",1E-8,80306.000000009997]
[80306.000000100001,null,2.8060399999999999E-2,1,1688.5626304,null,2.3780000000000001,null,60176,1.18E-2,"نفر ساعت","کمک قالب ساز قالب فلزی",14040203,null,10,{"$f":"COUNTIF($S$1:S2868,Q2868+R2868)","v":10},"080306",1E-8,80306.000000009997]
[80306.000000999993,null,7.0007000000000014E-2,1,14508.320686999999,null,1.022,null,207241,6.8500000000000005E-2,"دستگاه-ساعت","کامیون به ظرفیت حدود3 تن  باراننده",23020101,null,1,{"$f":"COUNTIF($S$1:S2871,Q2871+R2871)","v":1},"080306",9.9999999999999995E-7,80306.000000999993]
[80306.000004000001,null,6.6634399999999996E-2,1,24753.879987199995,null,1.022,null,371488,6.5199999999999994E-2,"دستگاه ساعت","جرثقيل کفي10 تن با کاميون 16 تن با راننده",24010106,null,4,{"$f":"COUNTIF($S$1:S2874,Q2874+R2874)","v":4},"080306",9.9999999999999995E-7,80306.000000999993]
[80306.000006999995,null,9.1264599999999987E-2,1,912.64600000000007,null,1.022,null,10000,8.929999999999999E-2,"لیتر","روغن قالب بندی",28991401,null,7,{"$f":"COUNTIF($S$1:S2877,Q2877+R2877)","v":7},"080306",9.9999999999999995E-7,80306.000000999993]
["",null,null,null,null,null,"ضريب",null,"بهاي واحد","مقـدار","واحــد","مصالح",null,null,"رديف",{"$f":"COUNTIF($S$1:S2878,Q2878+R2878)","v":0},"080306",1E-4,""]
[80306.0003,null,4.8442800000000004,1,48442.8,null,1.022,null,10000,4.74,"كیلوگرم","39010301 - چوب گرد سفید خشک",39010301,null,3,{"$f":"COUNTIF($S$1:S2881,Q2881+R2881)","v":3},"080306",1E-4,80306.000100000005]
[80306.000599999999,null,1.2365599999999999E-2,1,291.28407360000006,null,2.3780000000000001,null,23556,5.1999999999999998E-3,"كیلوگرم","ورق سیاه به ضخامت بیش از 3 میلیمتر",39040102,null,6,{"$f":"COUNTIF($S$1:S2884,Q2884+R2884)","v":6},"080306",1E-4,80306.000100000005]
[80306.001000000004,null,2.1352062000000003,1,72767.827296000003,null,2.3780000000000001,null,34080,0.89790000000000003,"كیلوگرم","لوله یک و یک دوم فولادی",39070202,null,10,{"$f":"COUNTIF($S$1:S2888,Q2888+R2888)","v":10},"080306",1E-4,80306.000100000005]
[80306.001300000004,null,2.3608199999999999E-2,1,1811.9293499999999,null,1.022,null,76750,2.3099999999999999E-2,"كیلوگرم","39140101 - پیچ و مهره سیاه جور",39140101,null,13,{"$f":"COUNTIF($S$1:S2891,Q2891+R2891)","v":13},"080306",1E-4,80306.000100000005]
[80306.02,null,0.91659999999999997,1,150.32239999999999,null,1,null,164,0.91659999999999997,"كیلوگرم","حمل مصالح فلزی مورد مصرف در سازه",41110101,null,2,{"$f":"COUNTIF($S$1:S2895,Q2895+R2895)","v":2},"080306",0.01,80306.009999999995]
[80306.05,null,4.74,1,1033.32,null,1,null,218,4.74,"كیلوگرم","حمل چوب گرد",41190201,null,5,{"$f":"COUNTIF($S$1:S2898,Q2898+R2898)","v":5},"080306",0.01,80306.009999999995]
[80306.06,null,0.89790000000000003,1,191.25270000000003,null,1,null,213,0.89790000000000003,"كیلوگرم","حمل لوله های فولادی یک دوم اینچ تا 4 اینچ",42010101,null,6,{"$f":"COUNTIF($S$1:S2899,Q2899+R2899)","v":6},"080306",0.01,80306.009999999995]
["",null,null,null,null,null,null,null,null,null,null,null,null,"080307",null,{"$f":"COUNTIF($S$1:S2901,Q2901+R2901)","v":0},"080307",0.01,""]
[80307.000000009997,null,0.81749780000000005,1,46608.002071400013,null,1.022,null,57013,0.79990000000000006,"نفر- ساعت","كارگر ساده",14010102,null,1,{"$f":"COUNTIF($S$1:S2904,Q2904+R2904)","v":1},"080307",1E-8,80307.000000009997]
[80307.000000040003,null,0.5511646,1,33166.880969600003,null,1.022,null,60176,0.5393,"نفر- ساعت","کمک نجار قالب بند",14030203,null,4,{"$f":"COUNTIF($S$1:S2907,Q2907+R2907)","v":4},{"$f":"IF(N2907>0,N2907,Q2906)","v":"080307"},1E-8,{"$f":"IF(M2907<>\"\",Q2907+R2907,\"\")","v":80307.000000009997}]
[80307.000000080006,null,3.3529799999999998E-2,1,2975.6691606000004,null,2.3780000000000001,null,88747,1.41E-2,"نفر ساعت","قالب ساز درجه یک قالب فلزی",14040201,null,8,{"$f":"COUNTIF($S$1:S2911,Q2911+R2911)","v":8},"080307",1E-8,80307.000000009997]
[80307.000000109998,null,3.8285800000000002E-2,1,6686.270397799999,null,2.3780000000000001,null,174641,1.61E-2,"عدد","هزينه دنده اي کردن جک سقفي",14280302,null,11,{"$f":"COUNTIF($S$1:S2914,Q2914+R2914)","v":11},"080307",1E-8,80307.000000009997]
[80307.000002999994,null,3.1068800000000001E-2,1,1286.3104576000001,null,1.022,null,41402,3.04E-2,"دستگاه-ساعت","تریلر کفی به ظرفیت حدود 5  تن بدون کشنده",23020901,null,3,{"$f":"COUNTIF($S$1:S2918,Q2918+R2918)","v":3},"080307",9.9999999999999995E-7,80307.000000999993]
[80307.000006000002,null,9.1264599999999987E-2,1,912.64600000000007,null,1.022,null,10000,8.929999999999999E-2,"لیتر","روغن قالب بندی",28991401,null,6,{"$f":"COUNTIF($S$1:S2921,Q2921+R2921)","v":6},"080307",9.9999999999999995E-7,80307.000000999993]
[80307.000199999995,null,5.8254000000000005E-3,1,43690.500000000007,null,1.022,null,7500000,5.7000000000000002E-3,"مترمكعب","تخته الوار ایرانی",39010202,null,2,{"$f":"COUNTIF($S$1:S2924,Q2924+R2924)","v":2},"080307",1E-4,80307.000100000005]
[80307.000400000004,null,5.1100000000000007E-2,1,1349.04,null,1.022,null,26400,0.05,"كیلوگرم","39030101 - مفتول سیاه",39030101,null,4,{"$f":"COUNTIF($S$1:S2926,Q2926+R2926)","v":4},"080307",1E-4,80307.000100000005]
[80307.000499999995,null,0.74907000000000001,1,19946.235960000002,null,2.3780000000000001,null,26628,0.315,"كیلوگرم","39040101 - ورق سیاه به ضخامت 3 میلیمتر و کمتر",39040101,null,5,{"$f":"COUNTIF($S$1:S2927,Q2927+R2927)","v":5},"080307",1E-4,80307.000100000005]
[80307.000799999994,null,0.42875340000000001,1,12993.371786999998,null,2.3780000000000001,null,30305,0.18029999999999999,"كیلوگرم","پروفیل ناودانی سردخم شده",39050701,null,8,{"$f":"COUNTIF($S$1:S2930,Q2930+R2930)","v":8},"080307",1E-4,80307.000100000005]
[80307.001199999999,null,1.85484E-2,1,825.77476799999999,null,2.3780000000000001,null,44520,7.7999999999999988E-3,"كیلوگرم","الکترود",39120101,null,12,{"$f":"COUNTIF($S$1:S2934,Q2934+R2934)","v":12},"080307",1E-4,80307.000100000005]
[80307.001499999998,null,6.1114600000000012E-2,1,1219.8474160000003,null,2.3780000000000001,null,19960,2.5700000000000004E-2,"عدد","بست دار بست",39150101,null,15,{"$f":"COUNTIF($S$1:S2937,Q2937+R2937)","v":15},"080307",1E-4,80307.000100000005]
[80307.03,null,0.06,1,30,null,1,null,500,0.06,"كیلوگرم","حمل فراورده‌های فولادی توری، شبکه‌های فلزی، میخ، پرچ و الکترود",41110301,null,3,{"$f":"COUNTIF($S$1:S2941,Q2941+R2941)","v":3},"080307",0.01,80307.009999999995]
[80307.06,null,0.27600000000000002,1,58.788000000000004,null,1,null,213,0.27600000000000002,"كیلوگرم","حمل لوله های فولادی یک دوم اینچ تا 4 اینچ",42010101,null,6,{"$f":"COUNTIF($S$1:S2944,Q2944+R2944)","v":6},"080307",0.01,80307.009999999995]
["",null,null,null,null,null,null,null,null,null,null,"متر مربع",null,null,"واحـد :",{"$f":"COUNTIF($S$1:S2947,Q2947+R2947)","v":0},"080308",0.01,""]
[80308.000000009997,null,1.0924157999999999,1,62281.902005400007,null,1.022,null,57013,1.0689,"نفر- ساعت","كارگر ساده",14010102,null,1,{"$f":"COUNTIF($S$1:S2949,Q2949+R2949)","v":1},"080308",1E-8,80308.000000009997]
[80308.000000019994,null,0.30895060000000002,1,30045.1368994,null,1.022,null,97249,0.30230000000000001,"نفر ساعت","نجار قالب بند درجه یک",14030201,null,2,{"$f":"COUNTIF($S$1:S2950,Q2950+R2950)","v":2},"080308",1E-8,80308.000000009997]
[80308.000000059998,null,0.48115760000000002,1,36620.4237784,null,1.022,null,76109,0.4708,"نفر ساعت","قالب بند فلزی درجه دو",14040102,null,6,{"$f":"COUNTIF($S$1:S2954,Q2954+R2954)","v":6},"080308",1E-8,80308.000000009997]
[80308.000000090004,null,2.8060399999999999E-2,1,2096.7572692000003,null,2.3780000000000001,null,74723,1.18E-2,"نفر ساعت","قالب ساز درجه دو قالب فلزی",14040202,null,9,{"$f":"COUNTIF($S$1:S2957,Q2957+R2957)","v":9},"080308",1E-8,80308.000000009997]
["",null,null,null,null,null,"ضريب",null,"بهاي واحد","مقـدار","واحــد","ماشين آلات ",null,null,"رديف",{"$f":"COUNTIF($S$1:S2960,Q2960+R2960)","v":0},"080308",9.9999999999999995E-7,""]
[80308.000004000001,null,4.4456999999999997E-2,1,12976.598187,null,1.022,null,291891,4.3499999999999997E-2,"دستگاه ساعت","جرثقیل کفی5 تن با کامیون10 تن با راننده",24010104,null,4,{"$f":"COUNTIF($S$1:S2964,Q2964+R2964)","v":4},"080308",9.9999999999999995E-7,80308.000000999993]
[80308.000006999995,null,9.1264599999999987E-2,1,912.64600000000007,null,1.022,null,10000,8.929999999999999E-2,"لیتر","روغن قالب بندی",28991401,null,7,{"$f":"COUNTIF($S$1:S2967,Q2967+R2967)","v":7},"080308",9.9999999999999995E-7,80308.000000999993]
[80308.000199999995,null,5.8254000000000005E-3,1,43690.500000000007,null,1.022,null,7500000,5.7000000000000002E-3,"مترمكعب","تخته الوار ایرانی",39010202,null,2,{"$f":"COUNTIF($S$1:S2970,Q2970+R2970)","v":2},"080308",1E-4,80308.000100000005]
[80308.0003,null,3.2652899999999998,1,32652.9,null,1.022,null,10000,3.1949999999999998,"كیلوگرم","39010301 - چوب گرد سفید خشک",39010301,null,3,{"$f":"COUNTIF($S$1:S2971,Q2971+R2971)","v":3},{"$f":"IF(N2971>0,N2971,Q2970)","v":"080308"},1E-4,{"$f":"IF(M2971<>\"\",Q2971+R2971,\"\")","v":80308.000100000005}]
[80308.000599999999,null,1.3079E-2,1,308.08892399999996,null,2.3780000000000001,null,23556,5.4999999999999997E-3,"كیلوگرم","ورق سیاه به ضخامت بیش از 3 میلیمتر",39040102,null,6,{"$f":"COUNTIF($S$1:S2974,Q2974+R2974)","v":6},"080308",1E-4,80308.000100000005]
[80308.000899999999,null,0.24802540000000003,1,6831.6116176000005,null,2.3780000000000001,null,27544,0.1043,"كیلوگرم","پروفیل و قوطی معمولی",39060101,null,9,{"$f":"COUNTIF($S$1:S2977,Q2977+R2977)","v":9},"080308",1E-4,80308.000100000005]
[80308.001199999999,null,2.0450800000000002E-2,1,1035.6694136000001,null,2.3780000000000001,null,50642,8.6E-3,"كیلوگرم","ضدزنگ روغنی",39130101,null,12,{"$f":"COUNTIF($S$1:S2980,Q2980+R2980)","v":12},"080308",1E-4,80308.000100000005]
["",null,null,null,null,null,"ضريب",null,"بهاي واحد","مقـدار","واحــد"," حمل مصالح ",null,null,"رديف",{"$f":"COUNTIF($S$1:S2983,Q2983+R2983)","v":0},"080308",0.01,""]
[80308.039999999994,null,5.7000000000000002E-3,1,676.1853000000001,null,1,null,118629,5.7000000000000002E-3,"مترمكعب","حمل تخته ، الوار و MDF",41190101,null,4,{"$f":"COUNTIF($S$1:S2987,Q2987+R2987)","v":4},"080308",0.01,80308.009999999995]
[80308.070000000007,null,0.1096,1,36.716000000000001,null,1,null,335,0.1096,"كیلوگرم","حمل اتصالات لوله های فولادی",42010301,null,7,{"$f":"COUNTIF($S$1:S2990,Q2990+R2990)","v":7},"080308",0.01,80308.009999999995]
["",null,null,null,null,null,null,null,null,null,null,null,null,"080309",null,{"$f":"COUNTIF($S$1:S2991,Q2991+R2991)","v":0},"080309",0.01,""]
[80309.000000009997,null,1.232021,1,70241.213273000001,null,1.022,null,57013,1.2055,"نفر- ساعت","كارگر ساده",14010102,null,1,{"$f":"COUNTIF($S$1:S2994,Q2994+R2994)","v":1},"080309",1E-8,80309.000000009997]
[80309.000000040003,null,0.74779740000000006,1,44999.456342400008,null,1.022,null,60176,0.73170000000000002,"نفر- ساعت","کمک نجار قالب بند",14030203,null,4,{"$f":"COUNTIF($S$1:S2997,Q2997+R2997)","v":4},"080309",1E-8,80309.000000009997]
[80309.000000080006,null,2.8060399999999999E-2,1,2490.2763187999999,null,2.3780000000000001,null,88747,1.18E-2,"نفر ساعت","قالب ساز درجه یک قالب فلزی",14040201,null,8,{"$f":"COUNTIF($S$1:S3001,Q3001+R3001)","v":8},"080309",1E-8,80309.000000009997]
[80309.000000100001,null,2.8060399999999999E-2,1,1688.5626304,null,2.3780000000000001,null,60176,1.18E-2,"نفر ساعت","کمک قالب ساز قالب فلزی",14040203,null,10,{"$f":"COUNTIF($S$1:S3003,Q3003+R3003)","v":10},"080309",1E-8,80309.000000009997]
[80309.000000999993,null,5.6823199999999997E-2,1,11776.0967912,null,1.022,null,207241,5.5599999999999997E-2,"دستگاه-ساعت","کامیون به ظرفیت حدود3 تن  باراننده",23020101,null,1,{"$f":"COUNTIF($S$1:S3006,Q3006+R3006)","v":1},"080309",9.9999999999999995E-7,80309.000000999993]
[80309.000004999994,null,2.8060399999999999E-2,1,995.52687120000019,null,2.3780000000000001,null,35478,1.18E-2,"دستگاه ساعت","موتور جوش150 تا250 آمپر",26020502,null,5,{"$f":"COUNTIF($S$1:S3010,Q3010+R3010)","v":5},"080309",9.9999999999999995E-7,80309.000000999993]
["",null,null,null,null,null,"ضريب",null,"بهاي واحد","مقـدار","واحــد","مصالح",null,null,"رديف",{"$f":"COUNTIF($S$1:S3013,Q3013+R3013)","v":0},"080309",1E-4,""]
[80309.000100000005,null,7.6649999999999996E-2,1,4982.25,null,1.022,null,65000,7.4999999999999997E-2,"كیلوگرم","میخ جور",31430101,null,1,{"$f":"COUNTIF($S$1:S3014,Q3014+R3014)","v":1},"080309",1E-4,80309.000100000005]
[{"$f":"IF(M3017<>\"\",Q3017+(P3017*R3017),\"\")","v":80309.000400000004},null,5.1100000000000007E-2,1,1349.04,null,1.022,null,26400,0.05,"كیلوگرم","39030101 - مفتول سیاه",39030101,null,4,{"$f":"COUNTIF($S$1:S3017,Q3017+R3017)","v":4},"080309",1E-4,80309.000100000005]
[80309.000700000004,null,0.57951859999999999,1,12043.555545200001,null,2.3780000000000001,null,20782,0.2437,"كیلوگرم","نبشی",39050301,null,7,{"$f":"COUNTIF($S$1:S3020,Q3020+R3020)","v":7},"080309",1E-4,80309.000100000005]
[80309.001099999994,null,1.4268000000000001E-2,1,635.21136000000001,null,2.3780000000000001,null,44520,6.0000000000000001E-3,"كیلوگرم","الکترود",39120101,null,11,{"$f":"COUNTIF($S$1:S3024,Q3024+R3024)","v":11},"080309",1E-4,80309.000100000005]
[80309.001300000004,null,2.3608199999999999E-2,1,1811.9293499999999,null,1.022,null,76750,2.3099999999999999E-2,"كیلوگرم","39140101 - پیچ و مهره سیاه جور",39140101,null,13,{"$f":"COUNTIF($S$1:S3026,Q3026+R3026)","v":13},"080309",1E-4,80309.000100000005]
[80309.009999999995,null,0.08,1,20.32,null,1,null,254,0.08,"كیلوگرم","حمل قیر مظروف",41080201,null,1,{"$f":"COUNTIF($S$1:S3029,Q3029+R3029)","v":1},"080309",0.01,80309.009999999995]
[80309.05,null,2.9609999999999999,1,645.49799999999993,null,1,null,218,2.9609999999999999,"كیلوگرم","حمل چوب گرد",41190201,null,5,{"$f":"COUNTIF($S$1:S3033,Q3033+R3033)","v":5},"080309",0.01,80309.009999999995]
["",null,null,null,null,null,null,null,null,null,null,null,null,"080310",null,{"$f":"COUNTIF($S$1:S3036,Q3036+R3036)","v":0},"080310",0.01,""]
["",null,null,null,null,null,null,null,null,null,null,"متر مربع",null,null,"واحـد :",{"$f":"COUNTIF($S$1:S3037,Q3037+R3037)","v":0},"080310",0.01,""]
[80310.000000019994,null,0.45008880000000001,1,43770.685711199993,null,1.022,null,97249,0.44040000000000001,"نفر ساعت","نجار قالب بند درجه یک",14030201,null,2,{"$f":"COUNTIF($S$1:S3040,Q3040+R3040)","v":2},"080310",1E-8,80310.000000009997]
[80310.00000005,null,0.70354479999999997,1,66488.501324000012,null,1.022,null,94505,0.68840000000000001,"نفر ساعت","قالب بند فلزی درجه یک",14040101,null,5,{"$f":"COUNTIF($S$1:S3043,Q3043+R3043)","v":5},"080310",1E-8,80310.000000009997]
[80310.000000090004,null,2.8060399999999999E-2,1,2096.7572692000003,null,2.3780000000000001,null,74723,1.18E-2,"نفر ساعت","قالب ساز درجه دو قالب فلزی",14040202,null,9,{"$f":"COUNTIF($S$1:S3047,Q3047+R3047)","v":9},"080310",1E-8,80310.000000009997]
["",null,null,null,null,null,"ضريب",null,"بهاي واحد","مقـدار","واحــد","ماشين آلات ",null,null,"رديف",{"$f":"COUNTIF($S$1:S3050,Q3050+R3050)","v":0},"080310",9.9999999999999995E-7,""]
[80310.000002999994,null,7.6547799999999999E-2,1,3169.2320156000001,null,1.022,null,41402,7.4899999999999994E-2,"دستگاه-ساعت","تریلر کفی به ظرفیت حدود 5  تن بدون کشنده",23020901,null,3,{"$f":"COUNTIF($S$1:S3053,Q3053+R3053)","v":3},"080310",9.9999999999999995E-7,80310.000000999993]
[80310.000006000002,null,3.5670000000000003E-3,1,178.35,null,2.3780000000000001,null,50000,1.5E-3,"عدد","سنگ ساب اهن",28040701,null,6,{"$f":"COUNTIF($S$1:S3056,Q3056+R3056)","v":6},"080310",9.9999999999999995E-7,80310.000000999993]
[80310.000100000005,null,7.6649999999999996E-2,1,4982.25,null,1.022,null,65000,7.4999999999999997E-2,"كیلوگرم","میخ جور",31430101,null,1,{"$f":"COUNTIF($S$1:S3059,Q3059+R3059)","v":1},"080310",1E-4,80310.000100000005]
[80310.000199999995,null,7.3584000000000002E-3,1,55188,null,1.022,null,7500000,7.1999999999999998E-3,"مترمكعب","تخته الوار ایرانی",39010202,null,2,{"$f":"COUNTIF($S$1:S3060,Q3060+R3060)","v":2},"080310",1E-4,80310.000100000005]
[80310.000499999995,null,0.74907000000000001,1,19946.235960000002,null,2.3780000000000001,null,26628,0.315,"كیلوگرم","39040101 - ورق سیاه به ضخامت 3 میلیمتر و کمتر",39040101,null,5,{"$f":"COUNTIF($S$1:S3063,Q3063+R3063)","v":5},"080310",1E-4,80310.000100000005]
[80310.000799999994,null,0.43279600000000001,1,13115.882780000002,null,2.3780000000000001,null,30305,0.182,"كیلوگرم","پروفیل ناودانی سردخم شده",39050701,null,8,{"$f":"COUNTIF($S$1:S3066,Q3066+R3066)","v":8},"080310",1E-4,80310.000100000005]
[80310.001199999999,null,2.0213000000000002E-2,1,1023.6267459999998,null,2.3780000000000001,null,50642,8.5000000000000006E-3,"كیلوگرم","ضدزنگ روغنی",39130101,null,12,{"$f":"COUNTIF($S$1:S3070,Q3070+R3070)","v":12},"080310",1E-4,80310.000100000005]
["",null,null,null,null,null,"ضريب",null,"بهاي واحد","مقـدار","واحــد"," حمل مصالح ",null,null,"رديف",{"$f":"COUNTIF($S$1:S3073,Q3073+R3073)","v":0},"080310",0.01,""]
[80310.039999999994,null,7.1999999999999998E-3,1,854.12880000000007,null,1,null,118629,7.1999999999999998E-3,"مترمكعب","حمل تخته ، الوار و MDF",41190101,null,4,{"$f":"COUNTIF($S$1:S3077,Q3077+R3077)","v":4},"080310",0.01,80310.009999999995]
[80310.05,null,4.5659999999999998,1,995.38800000000003,null,1,null,218,4.5659999999999998,"كیلوگرم","حمل چوب گرد",41190201,null,5,{"$f":"COUNTIF($S$1:S3078,Q3078+R3078)","v":5},"080310",0.01,80310.009999999995]
["",null,null,null,null,null,null,null,null,null,null,"متر مربع",null,null,"واحـد :",{"$f":"COUNTIF($S$1:S3082,Q3082+R3082)","v":0},"080311",0.01,""]
["",null,null,null,null,null,"ضريب",null,"بهاي واحد","مقـدار","واحــد","نيروي انساني ",null,null,"رديف",{"$f":"COUNTIF($S$1:S3083,Q3083+R3083)","v":0},"080311",1E-8,""]
[80311.000000030006,null,0.37924999999999998,1,45888.491499999996,null,1.0249999999999999,null,120998,0.37,"نفر ساعت","تکنیسین عمومی کارگاه با سابقه تا 5 سال",12010304,null,3,{"$f":"COUNTIF($S$1:S3086,Q3086+R3086)","v":3},"080311",1E-8,80311.000000009997]
[80311.000000069995,null,1.1018749999999999,1,86889.454999999987,null,1.0249999999999999,null,78856,1.075,"نفر - ساعت","نجار قالب بند درجه دو",14030202,null,7,{"$f":"COUNTIF($S$1:S3090,Q3090+R3090)","v":7},"080311",1E-8,80311.000000009997]
[80311.000000100001,null,0.38048000000000004,1,28957.952319999997,null,2.3780000000000001,null,76109,0.16,"نفر ساعت","قالب بند فلزی درجه دو",14040102,null,10,{"$f":"COUNTIF($S$1:S3093,Q3093+R3093)","v":10},"080311",1E-8,80311.000000009997]
[80311.000000130007,null,0.38048000000000004,1,28430.607040000003,null,2.3780000000000001,null,74723,0.16,"نفر ساعت","قالب ساز درجه دو قالب فلزی",14040202,null,13,{"$f":"COUNTIF($S$1:S3096,Q3096+R3096)","v":13},"080311",1E-8,80311.000000009997]
[80311.000002000001,null,1.0967499999999996E-2,1,454.07643499999983,null,1.0249999999999999,null,41402,1.0699999999999998E-2,"دستگاه-ساعت","تریلر کفی به ظرفیت حدود 5  تن بدون کشنده",23020901,null,2,{"$f":"COUNTIF($S$1:S3100,Q3100+R3100)","v":2},"080311",9.9999999999999995E-7,80311.000000999993]
[80311.000004999994,null,0.75849999999999995,1,239668.55449999997,null,1.0249999999999999,null,315977,0.74,"دستگاه ساعت","دستگاه شاریو",24011303,null,5,{"$f":"COUNTIF($S$1:S3103,Q3103+R3103)","v":5},"080311",9.9999999999999995E-7,80311.000000999993]
[80311.000006999995,null,2.1402000000000001E-2,1,1070.0999999999999,null,2.3780000000000001,null,50000,8.9999999999999993E-3,"عدد","سنگ ساب اهن",28040701,null,7,{"$f":"COUNTIF($S$1:S3105,Q3105+R3105)","v":7},"080311",9.9999999999999995E-7,80311.000000999993]
[80311.000008000003,null,0.13324999999999998,1,1332.4999999999998,null,1.0249999999999999,null,10000,0.13,"لیتر","روغن قالب بندی",28991401,null,8,{"$f":"COUNTIF($S$1:S3106,Q3106+R3106)","v":8},"080311",9.9999999999999995E-7,80311.000000999993]
[80311.000199999995,null,1.4999999999999999E-2,1,112500,null,1,null,7500000,1.4999999999999999E-2,"مترمكعب","تخته الوار ایرانی",39010202,null,2,{"$f":"COUNTIF($S$1:S3109,Q3109+R3109)","v":2},"080311",1E-4,80311.000100000005]
[80311.000599999999,null,6.6583999999999992E-3,1,156.84527039999998,null,2.3780000000000001,null,23556,2.7999999999999995E-3,"كیلوگرم","ورق سیاه به ضخامت بیش از 3 میلیمتر",39040102,null,6,{"$f":"COUNTIF($S$1:S3113,Q3113+R3113)","v":6},"080311",1E-4,80311.000100000005]
[80311.000899999999,null,7.6096000000000011E-3,1,338.77939200000003,null,2.3780000000000001,null,44520,3.2000000000000002E-3,"كیلوگرم","الکترود",39120101,null,9,{"$f":"COUNTIF($S$1:S3116,Q3116+R3116)","v":9},"080311",1E-4,80311.000100000005]
["",null,null,null,null,null,null,null,null,null,null,null,null,"080401",null,{"$f":"COUNTIF($S$1:S3119,Q3119+R3119)","v":0},"080401",1E-4,""]
[80401.000000019994,null,0.20388900000000004,1,19828.001361000006,null,1.022,null,97249,0.19950000000000004,"نفر ساعت","نجار قالب بند درجه یک",14030201,null,2,{"$f":"COUNTIF($S$1:S3123,Q3123+R3123)","v":2},"080401",1E-8,80401.000000009997]
[80401.00000005,null,7.9102800000000001E-2,1,7475.6101139999992,null,1.022,null,94505,7.7399999999999997E-2,"نفر ساعت","قالب بند فلزی درجه یک",14040101,null,5,{"$f":"COUNTIF($S$1:S3126,Q3126+R3126)","v":5},"080401",1E-8,80401.000000009997]
[80401.000000080006,null,5.8472999999999997E-2,1,5189.3033309999992,null,1.335,null,88747,4.3799999999999999E-2,"نفر ساعت","قالب ساز درجه یک قالب فلزی",14040201,null,8,{"$f":"COUNTIF($S$1:S3129,Q3129+R3129)","v":8},"080401",1E-8,80401.000000009997]
[80401.000000090004,null,5.8472999999999997E-2,1,4369.2779790000004,null,1.335,null,74723,4.3799999999999999E-2,"نفر ساعت","قالب ساز درجه دو قالب فلزی",14040202,null,9,{"$f":"COUNTIF($S$1:S3130,Q3130+R3130)","v":9},"080401",1E-8,80401.000000009997]
[80401.000000109998,null,-0.13623260000000001,1,-2003.5728482,null,1.022,null,14707,-0.1333,"یکسر","هزینه دنده ای کردن ( رزوه کردن ) میلگرد",14280301,null,11,{"$f":"COUNTIF($S$1:S3132,Q3132+R3132)","v":11},"080401",1E-8,80401.000000009997]
[80401.000000999993,null,-4.0880000000000002E-5,1,-8.4720120800000007,null,1.022,null,207241,-4.0000000000000003E-5,"دستگاه-ساعت","کامیون به ظرفیت حدود3 تن  باراننده",23020101,null,1,{"$f":"COUNTIF($S$1:S3136,Q3136+R3136)","v":1},"080401",9.9999999999999995E-7,80401.000000999993]
[80401.000004000001,null,5.8472999999999997E-2,1,2074.5050940000001,null,1.335,null,35478,4.3799999999999999E-2,"دستگاه ساعت","موتور جوش150 تا250 آمپر",26020502,null,4,{"$f":"COUNTIF($S$1:S3139,Q3139+R3139)","v":4},"080401",9.9999999999999995E-7,80401.000000999993]
[80401.000100000005,null,3.2806199999999994E-2,1,2132.4029999999998,null,1.022,null,65000,3.2099999999999997E-2,"كیلوگرم","میخ جور",31430101,null,1,{"$f":"COUNTIF($S$1:S3142,Q3142+R3142)","v":1},"080401",1E-4,80401.000100000005]
[80401.000499999995,null,0.7246743000000001,1,19296.627260400004,null,1.149,null,26628,0.63070000000000004,"كیلوگرم","39040101 - ورق سیاه به ضخامت 3 میلیمتر و کمتر",39040101,null,5,{"$f":"COUNTIF($S$1:S3146,Q3146+R3146)","v":5},"080401",1E-4,80401.000100000005]
[80401.000799999994,null,0.12386640000000002,1,3096.6600000000008,null,1.022,null,25000,0.12120000000000002,"كیلوگرم","تسمه تخت (بریده شده)",39050601,null,8,{"$f":"COUNTIF($S$1:S3149,Q3149+R3149)","v":8},"080401",1E-4,80401.000100000005]
[80401.000899999999,null,-0.55264720000000001,1,-16747.973396000001,null,2.3780000000000001,null,30305,-0.2324,"كیلوگرم","پروفیل ناودانی سردخم شده",39050701,null,9,{"$f":"COUNTIF($S$1:S3150,Q3150+R3150)","v":9},"080401",1E-4,80401.000100000005]
[80401.001199999999,null,5.2880800000000006E-2,1,1802.1776639999996,null,0.99400000000000011,null,34080,5.3199999999999997E-2,"كیلوگرم","لوله2 اینچ فولادی",39070203,null,12,{"$f":"COUNTIF($S$1:S3153,Q3153+R3153)","v":12},"080401",1E-4,80401.000100000005]
[80401.001600000003,null,4.0880000000000005E-3,1,313.75400000000002,null,1.022,null,76750,4.0000000000000001E-3,"كیلوگرم","39140101 - پیچ و مهره سیاه جور",39140101,null,16,{"$f":"COUNTIF($S$1:S3157,Q3157+R3157)","v":16},"080401",1E-4,80401.000100000005]
[80401.009999999995,null,0.77,1,126.28,null,1,null,164,0.77,"كیلوگرم","حمل مصالح فلزی مورد مصرف در سازه",41110101,null,1,{"$f":"COUNTIF($S$1:S3159,Q3159+R3159)","v":1},"080401",0.01,80401.009999999995]
[80401.039999999994,null,1.2999999999999999E-3,1,154.21770000000001,null,1,null,118629,1.2999999999999999E-3,"مترمكعب","حمل تخته ، الوار و MDF",41190101,null,4,{"$f":"COUNTIF($S$1:S3162,Q3162+R3162)","v":4},"080401",0.01,80401.009999999995]
[80401.070000000007,null,-0.70799999999999996,1,-362.49599999999998,null,1,null,512,-0.70799999999999996,"كیلوگرم","حمل لوله ها و اتصالات پی وی سی",42040101,null,7,{"$f":"COUNTIF($S$1:S3165,Q3165+R3165)","v":7},"080401",0.01,80401.009999999995]
[80402.000000009997,null,-0.26471199999999995,1,-15092.025255999999,null,1.0149999999999999,null,57013,-0.26079999999999998,"نفر- ساعت","كارگر ساده",14010102,null,1,{"$f":"COUNTIF($S$1:S3169,Q3169+R3169)","v":1},"080402",1E-8,80402.000000009997]
[80402.000000040003,null,-3.7656499999999996E-2,1,-2266.0175439999998,null,1.0149999999999999,null,60176,-3.7100000000000001E-2,"نفر- ساعت","کمک نجار قالب بند",14030203,null,4,{"$f":"COUNTIF($S$1:S3172,Q3172+R3172)","v":4},"080402",1E-8,80402.000000009997]
["",null,null,null,null,null,"ضريب",null,"بهاي واحد","مقـدار","واحــد","ماشين آلات ",null,null,"رديف",{"$f":"COUNTIF($S$1:S3173,Q3173+R3173)","v":0},"080402",9.9999999999999995E-7,""]
[80402.000002999994,null,-8.4245E-2,1,-842.45,null,1.0149999999999999,null,10000,-8.3000000000000004E-2,"لیتر","روغن قالب بندی",28991401,null,3,{"$f":"COUNTIF($S$1:S3176,Q3176+R3176)","v":3},"080402",9.9999999999999995E-7,80402.000000999993]
[80402.0003,null,-3.9584999999999995,1,-39584.999999999993,null,1.0149999999999999,null,10000,-3.9,"كیلوگرم","39010301 - چوب گرد سفید خشک",39010301,null,3,{"$f":"COUNTIF($S$1:S3180,Q3180+R3180)","v":3},"080402",1E-4,80402.000100000005]
[80402.009999999995,null,-7.4999999999999997E-2,1,-19.05,null,1,null,254,-7.4999999999999997E-2,"كیلوگرم","حمل قیر مظروف",41080201,null,1,{"$f":"COUNTIF($S$1:S3182,Q3182+R3182)","v":1},"080402",0.01,80402.009999999995]
[80402.039999999994,null,-3.9,1,-850.2,null,1,null,218,-3.9,"كیلوگرم","حمل چوب گرد",41190201,null,4,{"$f":"COUNTIF($S$1:S3185,Q3185+R3185)","v":4},"080402",0.01,80402.009999999995]
["",null,null,null,null,null,"ضريب",null,"بهاي واحد","مقـدار","واحــد","نيروي انساني ",null,null,"رديف",{"$f":"COUNTIF($S$1:S3188,Q3188+R3188)","v":0},"080403",1E-8,""]
[80403.000000040003,null,2.048088E-2,1,1232.4574348799999,null,1.022,null,60176,2.0039999999999999E-2,"نفر- ساعت","کمک نجار قالب بند",14030203,null,4,{"$f":"COUNTIF($S$1:S3192,Q3192+R3192)","v":4},"080403",1E-8,80403.000000009997]
[80403.000000069995,null,3.2663120000000004E-2,1,1965.53590912,null,1.022,null,60176,3.1960000000000002E-2,"نفر ساعت","کمک قالب بند",14040103,null,7,{"$f":"COUNTIF($S$1:S3195,Q3195+R3195)","v":7},"080403",1E-8,80403.000000009997]
["",null,null,null,null,null,"ضريب",null,"بهاي واحد","مقـدار","واحــد","ماشين آلات ",null,null,"رديف",{"$f":"COUNTIF($S$1:S3196,Q3196+R3196)","v":0},"080403",9.9999999999999995E-7,""]
["",null,null,null,null,null,null,null,null,null,null,"دسیمترمکعب",null,null,"واحـد :",{"$f":"COUNTIF($S$1:S3199,Q3199+R3199)","v":0},"080501",9.9999999999999995E-7,""]
[80501.000000019994,null,6.6430000000000005E-3,1,646.02510700000005,null,1.022,null,97249,6.5000000000000006E-3,"نفر ساعت","نجار قالب بند درجه یک",14030201,null,2,{"$f":"COUNTIF($S$1:S3202,Q3202+R3202)","v":2},"080501",1E-8,80501.000000009997]
[80501.00000005,null,1.3286000000000001E-2,1,1255.5934300000001,null,1.022,null,94505,1.3000000000000001E-2,"نفر ساعت","قالب بند فلزی درجه یک",14040101,null,5,{"$f":"COUNTIF($S$1:S3205,Q3205+R3205)","v":5},"080501",1E-8,80501.000000009997]
[80501.000000080006,null,1.9024000000000003E-3,1,168.8322928,null,2.3780000000000001,null,88747,8.0000000000000004E-4,"نفر ساعت","قالب ساز درجه یک قالب فلزی",14040201,null,8,{"$f":"COUNTIF($S$1:S3208,Q3208+R3208)","v":8},"080501",1E-8,80501.000000009997]
[80501.000000119995,null,4.7560000000000007E-4,1,83.059259600000004,null,2.3780000000000001,null,174641,2.0000000000000001E-4,"عدد","هزينه دنده اي کردن جک سقفي",14280302,null,12,{"$f":"COUNTIF($S$1:S3212,Q3212+R3212)","v":12},"080501",1E-8,80501.000000009997]
[80501.000002000001,null,1.6352000000000001E-3,1,171.83662720000001,null,1.022,null,105086,1.6000000000000001E-3,"دستگاه ساعت","تراکتور جفت دیفرانسیل با راننده",23020802,null,2,{"$f":"COUNTIF($S$1:S3215,Q3215+R3215)","v":2},"080501",9.9999999999999995E-7,80501.000000999993]
[80501.000004999994,null,2.3780000000000003E-4,1,11.89,null,2.3780000000000001,null,50000,1E-4,"عدد","سنگ ساب اهن",28040701,null,5,{"$f":"COUNTIF($S$1:S3218,Q3218+R3218)","v":5},"080501",9.9999999999999995E-7,80501.000000999993]
[80501.000006000002,null,6.6430000000000005E-3,1,66.430000000000007,null,1.022,null,10000,6.5000000000000006E-3,"لیتر","روغن قالب بندی",28991401,null,6,{"$f":"COUNTIF($S$1:S3219,Q3219+R3219)","v":6},"080501",9.9999999999999995E-7,80501.000000999993]
[80501.000199999995,null,1.1242000000000001E-3,1,718.22889600000008,null,1.022,null,638880,1.1000000000000001E-3,"مترمكعب","پلاستوفوم",31700501,null,2,{"$f":"COUNTIF($S$1:S3222,Q3222+R3222)","v":2},"080501",1E-4,80501.000100000005]
[80501.000499999995,null,4.5785599999999996E-2,1,457.85599999999999,null,1.022,null,10000,4.4799999999999993E-2,"كیلوگرم","39010301 - چوب گرد سفید خشک",39010301,null,5,{"$f":"COUNTIF($S$1:S3225,Q3225+R3225)","v":5},"080501",1E-4,80501.000100000005]
[80501.000899999999,null,7.1339999999999999E-4,1,16.804850399999999,null,2.3780000000000001,null,23556,2.9999999999999997E-4,"كیلوگرم","ورق سیاه به ضخامت بیش از 3 میلیمتر",39040102,null,9,{"$f":"COUNTIF($S$1:S3229,Q3229+R3229)","v":9},"080501",1E-4,80501.000100000005]
[80501.001199999999,null,1.4268E-3,1,39.762062399999998,null,2.3780000000000001,null,27868,5.9999999999999995E-4,"كیلوگرم","پروفیل زهوار و قوطی ریز سبک",39060201,null,12,{"$f":"COUNTIF($S$1:S3232,Q3232+R3232)","v":12},"080501",1E-4,80501.000100000005]
[80501.001499999998,null,1.5738800000000001E-2,1,484.75504000000001,null,0.51100000000000001,null,30800,3.0800000000000001E-2,"كیلوگرم","لوله پی وی سی21",39080101,null,15,{"$f":"COUNTIF($S$1:S3235,Q3235+R3235)","v":15},"080501",1E-4,80501.000100000005]
[80501.001799999998,null,1.4307999999999999E-3,1,109.81389999999999,null,1.022,null,76750,1.3999999999999998E-3,"كیلوگرم","39140101 - پیچ و مهره سیاه جور",39140101,null,18,{"$f":"COUNTIF($S$1:S3238,Q3238+R3238)","v":18},"080501",1E-4,80501.000100000005]
[80501.02,null,7.0800000000000002E-2,1,11.611199999999998,null,1,null,164,7.0800000000000002E-2,"كیلوگرم","حمل مصالح فلزی مورد مصرف در سازه",41110101,null,2,{"$f":"COUNTIF($S$1:S3241,Q3241+R3241)","v":2},"080501",0.01,80501.009999999995]
[80501.03,null,5.9999999999999995E-4,1,0.1158,null,1,null,193,5.9999999999999995E-4,"كیلوگرم","حمل پروفیل های فولادی در و پنجره",41110201,null,3,{"$f":"COUNTIF($S$1:S3242,Q3242+R3242)","v":3},"080501",0.01,80501.009999999995]
[80501.06,null,4.0000000000000002E-4,1,47.451599999999999,null,1,null,118629,4.0000000000000002E-4,"مترمكعب","حمل تخته ، الوار و MDF",41190101,null,6,{"$f":"COUNTIF($S$1:S3245,Q3245+R3245)","v":6},"080501",0.01,80501.009999999995]
["",null,null,null,null,null,null,null,null,null,null,null,null,"080502",null,{"$f":"COUNTIF($S$1:S3249,Q3249+R3249)","v":0},"080502",0.01,""]
[80502.000000009997,null,2.9024800000000003E-2,1,1654.7909224000002,null,1.022,null,57013,2.8400000000000002E-2,"نفر- ساعت","كارگر ساده",14010102,null,1,{"$f":"COUNTIF($S$1:S3252,Q3252+R3252)","v":1},"080502",1E-8,80502.000000009997]
[80502.000000040003,null,1.2264000000000001E-2,1,737.9984639999999,null,1.022,null,60176,1.2E-2,"نفر- ساعت","کمک نجار قالب بند",14030203,null,4,{"$f":"COUNTIF($S$1:S3255,Q3255+R3255)","v":4},"080502",1E-8,80502.000000009997]
[80502.000000059998,null,1.28772E-2,1,980.07081479999988,null,1.022,null,76109,1.26E-2,"نفر ساعت","قالب بند فلزی درجه دو",14040102,null,6,{"$f":"COUNTIF($S$1:S3257,Q3257+R3257)","v":6},"080502",1E-8,80502.000000009997]
[80502.000000100001,null,2.3780000000000003E-3,1,143.09852800000002,null,2.3780000000000001,null,60176,1E-3,"نفر ساعت","کمک قالب ساز قالب فلزی",14040203,null,10,{"$f":"COUNTIF($S$1:S3261,Q3261+R3261)","v":10},"080502",1E-8,80502.000000009997]
[80502.000002000001,null,6.1320000000000002E-5,1,6.4438735199999995,null,1.022,null,105086,6.0000000000000002E-5,"دستگاه ساعت","تراکتور جفت دیفرانسیل با راننده",23020802,null,2,{"$f":"COUNTIF($S$1:S3264,Q3264+R3264)","v":2},"080502",9.9999999999999995E-7,80502.000000999993]
[80502.000002999994,null,6.1320000000000002E-5,1,2.5387706400000001,null,1.022,null,41402,6.0000000000000002E-5,"دستگاه-ساعت","تریلر کفی به ظرفیت حدود 5  تن بدون کشنده",23020901,null,3,{"$f":"COUNTIF($S$1:S3265,Q3265+R3265)","v":3},"080502",9.9999999999999995E-7,80502.000000999993]
[80502.000006000002,null,4.4968000000000004E-3,1,44.968000000000004,null,1.022,null,10000,4.4000000000000003E-3,"لیتر","روغن قالب بندی",28991401,null,6,{"$f":"COUNTIF($S$1:S3268,Q3268+R3268)","v":6},"080502",9.9999999999999995E-7,80502.000000999993]
[80502.0003,null,3.0659999999999997E-4,1,8.094240000000001,null,1.022,null,26400,2.9999999999999997E-4,"كیلوگرم","39030101 - مفتول سیاه",39030101,null,3,{"$f":"COUNTIF($S$1:S3272,Q3272+R3272)","v":3},"080502",1E-4,80502.000100000005]
[80502.000599999999,null,2.0450800000000002E-2,1,569.92289440000002,null,2.3780000000000001,null,27868,8.6E-3,"كیلوگرم","پروفیل زهوار و قوطی ریز سبک",39060201,null,6,{"$f":"COUNTIF($S$1:S3275,Q3275+R3275)","v":6},"080502",1E-4,80502.000100000005]
["",null,null,null,null,null,"ضريب",null,"بهاي واحد","مقـدار","واحــد"," حمل مصالح ",null,null,"رديف",{"$f":"COUNTIF($S$1:S3278,Q3278+R3278)","v":0},"080502",0.01,""]
[80502.039999999994,null,2.0000000000000001E-4,1,23.7258,null,1,null,118629,2.0000000000000001E-4,"مترمكعب","حمل تخته ، الوار و MDF",41190101,null,4,{"$f":"COUNTIF($S$1:S3282,Q3282+R3282)","v":4},"080502",0.01,80502.009999999995]
["",null,null,null,null,null,null,null,null,null,null,"متر مربع",null,null,"واحـد :",{"$f":"COUNTIF($S$1:S3284,Q3284+R3284)","v":0},"080601",0.01,""]
[80601.000000019994,null,0.61813499999999988,1,60113.010614999992,null,1.0149999999999999,null,97249,0.60899999999999999,"نفر ساعت","نجار قالب بند درجه یک",14030201,null,2,{"$f":"COUNTIF($S$1:S3287,Q3287+R3287)","v":2},"080601",1E-8,80601.000000009997]
[80601.000000030006,null,0.61813499999999988,1,37196.891759999999,null,1.0149999999999999,null,60176,0.60899999999999999,"نفر- ساعت","کمک نجار قالب بند",14030203,null,3,{"$f":"COUNTIF($S$1:S3288,Q3288+R3288)","v":3},"080601",1E-8,80601.000000009997]
[80601.000002000001,null,7.4399499999999993E-2,1,3080.2880989999994,null,1.0149999999999999,null,41402,7.3300000000000004E-2,"دستگاه-ساعت","تریلر کفی به ظرفیت حدود 5  تن بدون کشنده",23020901,null,2,{"$f":"COUNTIF($S$1:S3291,Q3291+R3291)","v":2},{"$f":"IF(N3291>0,N3291,Q3290)","v":"080601"},9.9999999999999995E-7,{"$f":"IF(M3291<>\"\",Q3291+R3291,\"\")","v":80601.000000999993}]
[80601.0003,null,4.0599999999999997E-2,1,925.67999999999984,null,1.0149999999999999,null,22800,0.04,"كیلوگرم","میلگرد ساده نمره10 و کمتر",39020101,null,3,{"$f":"COUNTIF($S$1:S3295,Q3295+R3295)","v":3},"080601",1E-4,80601.000100000005]
[80601.02,null,9.2999999999999992E-3,1,1103.2497000000001,null,1,null,118629,9.2999999999999992E-3,"مترمكعب","حمل تخته ، الوار و MDF",41190101,null,2,{"$f":"COUNTIF($S$1:S3298,Q3298+R3298)","v":2},"080601",0.01,80601.009999999995]
["",null,null,null,null,null,null,null,null,null,null,"متر مربع",null,null,"واحـد :",{"$f":"COUNTIF($S$1:S3301,Q3301+R3301)","v":0},"080701",0.01,""]
[80701.000000030006,null,0.187165,1,14244.940984999999,null,1.0249999999999999,null,76109,0.18260000000000001,"نفر ساعت","قالب بند فلزی درجه دو",14040102,null,3,{"$f":"COUNTIF($S$1:S3305,Q3305+R3305)","v":3},"080701",1E-8,80701.000000009997]
[80701.000000059998,null,8.5030399999999992E-2,1,6353.7265791999989,null,1.456,null,74723,5.8400000000000001E-2,"نفر ساعت","قالب ساز درجه دو قالب فلزی",14040202,null,6,{"$f":"COUNTIF($S$1:S3308,Q3308+R3308)","v":6},"080701",1E-8,80701.000000009997]
[80701.000000069995,null,8.5030399999999992E-2,1,5116.7893504000003,null,1.456,null,60176,5.8400000000000001E-2,"نفر ساعت","کمک قالب ساز قالب فلزی",14040203,null,7,{"$f":"COUNTIF($S$1:S3309,Q3309+R3309)","v":7},"080701",1E-8,80701.000000009997]
[80701.000000999993,null,8.5030399999999992E-2,1,3016.7085311999999,null,1.456,null,35478,5.8400000000000001E-2,"دستگاه ساعت","موتور جوش150 تا250 آمپر",26020502,null,1,{"$f":"COUNTIF($S$1:S3311,Q3311+R3311)","v":1},"080701",9.9999999999999995E-7,80701.000000999993]
["",null,null,null,null,null,"ضريب",null,"بهاي واحد","مقـدار","واحــد","مصالح",null,null,"رديف",{"$f":"COUNTIF($S$1:S3314,Q3314+R3314)","v":0},"080701",1E-4,""]
[80701.000400000004,null,4.2515199999999996E-2,1,1892.7767040000001,null,1.456,null,44520,2.92E-2,"كیلوگرم","الکترود",39120101,null,4,{"$f":"COUNTIF($S$1:S3318,Q3318+R3318)","v":4},"080701",1E-4,80701.000100000005]
["",null,null,null,null,null,"ضريب",null,"بهاي واحد","مقـدار","واحــد"," حمل مصالح ",null,null,"رديف",{"$f":"COUNTIF($S$1:S3321,Q3321+R3321)","v":0},"080701",0.01,""]
["",null,null,null,null,null,null,null,null,null,null,null,null,"080702",null,{"$f":"COUNTIF($S$1:S3324,Q3324+R3324)","v":0},"080702",0.01,""]
[80702.000000019994,null,-4.8000000000000001E-4,1,-35.867040000000003,null,-1,null,74723,4.8000000000000001E-4,"نفر ساعت","قالب ساز درجه دو قالب فلزی",14040202,null,2,{"$f":"COUNTIF($S$1:S3328,Q3328+R3328)","v":2},"080702",1E-8,80702.000000009997]
[80702.000000999993,null,-4.8000000000000001E-4,1,-17.029440000000001,null,-1,null,35478,4.8000000000000001E-4,"دستگاه ساعت","موتور جوش150 تا250 آمپر",26020502,null,1,{"$f":"COUNTIF($S$1:S3331,Q3331+R3331)","v":1},"080702",9.9999999999999995E-7,80702.000000999993]
[80702.000002000001,null,-6.0000000000000002E-5,1,-3,null,-1,null,50000,6.0000000000000002E-5,"عدد","سنگ ساب اهن",28040701,null,2,{"$f":"COUNTIF($S$1:S3332,Q3332+R3332)","v":2},"080702",9.9999999999999995E-7,80702.000000999993]
[80702.0003,null,-3.3E-3,1,-100.0065,null,-1,null,30305,3.3E-3,"كیلوگرم","پروفیل ناودانی سردخم شده",39050701,null,3,{"$f":"COUNTIF($S$1:S3336,Q3336+R3336)","v":3},"080702",1E-4,80702.000100000005]
[{"$f":"IF(M3337<>\"\",Q3337+(P3337*R3337),\"\")","v":80702.000400000004},null,-2.5000000000000001E-4,1,-11.13,null,-1,null,44520,2.5000000000000001E-4,"كیلوگرم","الکترود",39120101,null,4,{"$f":"COUNTIF($S$1:S3337,Q3337+R3337)","v":4},"080702",1E-4,80702.000100000005]
["",null,null,null,null,null,null,null,null,null,null,null,null,"080901",null,{"$f":"COUNTIF($S$1:S3341,Q3341+R3341)","v":0},"080901",0.01,""]
[80901.000000009997,null,1,1,57013,null,1,null,57013,1,"نفر- ساعت","كارگر ساده",14010102,null,1,{"$f":"COUNTIF($S$1:S3344,Q3344+R3344)","v":1},"080901",1E-8,80901.000000009997]
[80901.000000040003,null,0.1,1,9450.5,null,1,null,94505,0.1,"نفر ساعت","قالب بند فلزی درجه یک",14040101,null,4,{"$f":"COUNTIF($S$1:S3347,Q3347+R3347)","v":4},"080901",1E-8,80901.000000009997]
[80901.0003,null,4.2699999999999996,1,42699.999999999993,null,1,null,10000,4.2699999999999996,"كیلوگرم","چوب گرد سفید خشک",31330501,null,3,{"$f":"COUNTIF($S$1:S3351,Q3351+R3351)","v":3},"080901",1E-4,80901.000100000005]
[80901.009999999995,null,1.06,1,173.84,null,1,null,164,1.06,"كیلوگرم","حمل مصالح فلزی مورد مصرف در سازه",41110101,null,1,{"$f":"COUNTIF($S$1:S3354,Q3354+R3354)","v":1},"080901",0.01,80901.009999999995]
[80901.02,null,1.2999999999999999E-3,1,154.21770000000001,null,1,null,118629,1.2999999999999999E-3,"مترمكعب","حمل تخته ، الوار و MDF",41190101,null,2,{"$f":"COUNTIF($S$1:S3355,Q3355+R3355)","v":2},{"$f":"IF(N3355>0,N3355,Q3354)","v":"080901"},0.01,{"$f":"IF(M3355<>\"\",Q3355+R3355,\"\")","v":80901.009999999995}]
["",null,null,null,null,null,null,null,null,null,null,"مترمكعب",null,null,"واحـد :",{"$f":"COUNTIF($S$1:S3358,Q3358+R3358)","v":0},"080902",0.01,""]
[80902.000000019994,null,0.92,1,89469.08,null,1,null,97249,0.92,"نفر ساعت","نجار قالب بند درجه یک",14030201,null,2,{"$f":"COUNTIF($S$1:S3361,Q3361+R3361)","v":2},"080902",1E-8,80902.000000009997]
[80902.000100000005,null,0.4,1,26000,null,1,null,65000,0.4,"كیلوگرم","میخ جور",31430101,null,1,{"$f":"COUNTIF($S$1:S3364,Q3364+R3364)","v":1},"080902",1E-4,80902.000100000005]
["",null,null,null,null,null,"ضريب",null,"بهاي واحد","مقـدار","واحــد"," حمل مصالح ",null,null,"رديف",{"$f":"COUNTIF($S$1:S3367,Q3367+R3367)","v":0},"080902",0.01,""]
["",null,null,null,null,null,null,null,null,null,null,null,null,"081001",null,{"$f":"COUNTIF($S$1:S3371,Q3371+R3371)","v":0},"081001",0.01,""]
[81001.000000009997,null,0.10800000000000001,1,18942.227999999999,null,1.08,null,175391,0.1,"نفر ساعت","نقشه بردار با سابقه بیش از 10 سال",12030101,null,1,{"$f":"COUNTIF($S$1:S3374,Q3374+R3374)","v":1},"081001",1E-8,81001.000000009997]
[81001.000000040003,null,0.50406299999999993,1,33305.962724999998,null,1.89,null,66075,0.26669999999999999,"نفر ساعت","سر کارگر",14010101,null,4,{"$f":"COUNTIF($S$1:S3377,Q3377+R3377)","v":4},"081001",1E-8,81001.000000009997]
[81001.00000005,null,8.4390000000000007E-2,1,4811.3270699999994,null,1.45,null,57013,5.8200000000000002E-2,"نفر- ساعت","كارگر ساده",14010102,null,5,{"$f":"COUNTIF($S$1:S3378,Q3378+R3378)","v":5},"081001",1E-8,81001.000000009997]
[81001.000000080006,null,5.568E-2,1,4941.4329599999992,null,1.1599999999999999,null,88747,4.8000000000000001E-2,"نفر ساعت","قالب ساز درجه یک قالب فلزی",14040201,null,8,{"$f":"COUNTIF($S$1:S3381,Q3381+R3381)","v":8},"081001",1E-8,81001.000000009997]
["",null,null,null,null,null,"ضريب",null,"بهاي واحد","مقـدار","واحــد","ماشين آلات ",null,null,"رديف",{"$f":"COUNTIF($S$1:S3384,Q3384+R3384)","v":0},"081001",9.9999999999999995E-7,""]
[81001.000004000001,null,0.12312000000000001,1,14271.577920000002,null,0.91200000000000003,null,115916,0.13500000000000001,"دستگاه ساعت","دوربین نقشه برداری 3600 Trimble همراه با ژالون، منشور، سه پایه",28230405,null,4,{"$f":"COUNTIF($S$1:S3388,Q3388+R3388)","v":4},"081001",9.9999999999999995E-7,81001.000000999993]
["",null,null,null,null,null,"ضريب",null,"بهاي واحد","مقـدار","واحــد","مصالح",null,null,"رديف",{"$f":"COUNTIF($S$1:S3390,Q3390+R3390)","v":0},"081001",1E-4,""]
[81001.000400000004,null,1.0079999999999999E-2,1,4047.9667200000004,null,8.4,null,401584,1.1999999999999999E-3,"متر مکعب","چوب گرد کوتاه",31330512,null,4,{"$f":"COUNTIF($S$1:S3394,Q3394+R3394)","v":4},"081001",1E-4,81001.000100000005]
[81001.009999999995,null,0.74739999999999995,1,122.5736,null,1,null,164,0.74739999999999995,"كیلوگرم","حمل مصالح فلزی مورد مصرف در سازه",41110101,null,1,{"$f":"COUNTIF($S$1:S3397,Q3397+R3397)","v":1},"081001",0.01,81001.009999999995]
["",null,null,null,null,null,"ضريب",null,"بهاي واحد","مقـدار","واحــد","نيروي انساني ",null,null,"رديف",{"$f":"COUNTIF($S$1:S3400,Q3400+R3400)","v":0},"081002",1E-8,""]
[{"$f":"IF(M3401<>\"\",Q3401+(P3401*R3401),\"\")","v":81002.000000009997},null,3.5964000000000003E-2,1,6307.7619240000004,null,1.08,null,175391,3.3300000000000003E-2,"نفر ساعت","نقشه بردار با سابقه بیش از 10 سال",12030101,null,1,{"$f":"COUNTIF($S$1:S3401,Q3401+R3401)","v":1},"081002",1E-8,81002.000000009997]
[81002.000000040003,null,0.28219400000000006,1,30151.864512000004,null,1.27,null,106848,0.22220000000000004,"نفر ساعت","جوشکار درجه یک",13010401,null,4,{"$f":"COUNTIF($S$1:S3404,Q3404+R3404)","v":4},"081002",1E-8,81002.000000009997]
[81002.000000080006,null,0.50703399999999998,1,38589.850706000005,null,1.0449999999999999,null,76109,0.48520000000000002,"نفر ساعت","قالب بند فلزی درجه دو",14040102,null,8,{"$f":"COUNTIF($S$1:S3408,Q3408+R3408)","v":8},"081002",1E-8,81002.000000009997]
[81002.000000109998,null,8.0039999999999986E-2,1,12770.62212,null,1.2,null,159553,6.6699999999999995E-2,"نفر ساعت","تکنسین متخصص تونل",14240101,null,11,{"$f":"COUNTIF($S$1:S3411,Q3411+R3411)","v":11},"081002",1E-8,81002.000000009997]
["",null,null,null,null,null,"ضريب",null,"بهاي واحد","مقـدار","واحــد","ماشين آلات ",null,null,"رديف",{"$f":"COUNTIF($S$1:S3413,Q3413+R3413)","v":0},"081002",9.9999999999999995E-7,""]
[81002.000004000001,null,0.16979900000000001,1,18069.330384000001,null,1.91,null,106416,8.8900000000000007E-2,"دستگاه ساعت","موتور جوش دیزلی500 آمپر",26020504,null,4,{"$f":"COUNTIF($S$1:S3417,Q3417+R3417)","v":4},"081002",9.9999999999999995E-7,81002.000000999993]
[81002.000006999995,null,4.0529280000000001E-2,1,405.2928,null,0.91200000000000003,null,10000,4.444E-2,"لیتر","روغن قالب بندی",28991401,null,7,{"$f":"COUNTIF($S$1:S3420,Q3420+R3420)","v":7},"081002",9.9999999999999995E-7,81002.000000999993]
[81002.000100000005,null,7.0574399999999999E-3,1,1164.4775999999999,null,0.49009999999999998,null,165000,1.44E-2,"مترمكعب","ماسه شسته",31030202,null,1,{"$f":"COUNTIF($S$1:S3423,Q3423+R3423)","v":1},"081002",1E-4,81002.000100000005]
[81002.000199999995,null,2.7999999999999995E-3,1,2995.9999999999995,null,1,null,1070000,2.7999999999999995E-3,"تن","سیمان پرتلند نوع یک (سیمان معمولی) فله",31080102,null,2,{"$f":"COUNTIF($S$1:S3424,Q3424+R3424)","v":2},"081002",1E-4,81002.000100000005]
[81002.000499999995,null,2.0556000000000001,1,75831.084000000003,null,1,null,36890,2.0556000000000001,"كیلوگرم","تیراهن بال پهن",31240201,null,5,{"$f":"COUNTIF($S$1:S3427,Q3427+R3427)","v":5},"081002",1E-4,81002.000100000005]
[81002.009999999995,null,2.7999999999999995E-3,1,250.71479999999997,null,1,null,89541,2.7999999999999995E-3,"تن","حمل سیمان فله",41060101,null,1,{"$f":"COUNTIF($S$1:S3431,Q3431+R3431)","v":1},"081002",0.01,81002.009999999995]
["",null,null,null,null,null,null,null,null,null,null,"مترمربع",null,null,"واحـد :",{"$f":"COUNTIF($S$1:S3434,Q3434+R3434)","v":0},"081003",0.01,""]
[81003.000000009997,null,0.378,1,24976.35,null,1.89,null,66075,0.2,"نفر ساعت","سر کارگر",14010101,null,1,{"$f":"COUNTIF($S$1:S3436,Q3436+R3436)","v":1},"081003",1E-8,81003.000000009997]
["",null,null,null,null,null,"ضريب",null,"بهاي واحد","مقـدار","واحــد","ماشين آلات ",null,null,"رديف",{"$f":"COUNTIF($S$1:S3440,Q3440+R3440)","v":0},"081003",9.9999999999999995E-7,""]
["",null,null,null,null,null,"ضريب",null,"بهاي واحد","مقـدار","واحــد","مصالح",null,null,"رديف",{"$f":"COUNTIF($S$1:S3443,Q3443+R3443)","v":0},"081003",1E-4,""]
[81003.0003,null,4.1248799999999995E-2,1,26353.033343999996,null,1.7186999999999997,null,638880,2.4E-2,"مترمكعب","پلاستوفوم",31700501,null,3,{"$f":"COUNTIF($S$1:S3446,Q3446+R3446)","v":3},"081003",1E-4,81003.000100000005]
["",null,null,null,null,null,null,null,null,null,null,null,null,"081004",null,{"$f":"COUNTIF($S$1:S3447,Q3447+R3447)","v":0},"081004",1E-4,""]
[81004.000000009997,null,0.56699999999999995,1,37464.525000000001,null,1.89,null,66075,0.3,"نفر ساعت","سر کارگر",14010101,null,1,{"$f":"COUNTIF($S$1:S3450,Q3450+R3450)","v":1},"081004",1E-8,81004.000000009997]
["",null,null,null,null,null,"ضريب",null,"بهاي واحد","مقـدار","واحــد","ماشين آلات ",null,null,"رديف",{"$f":"COUNTIF($S$1:S3454,Q3454+R3454)","v":0},"081004",9.9999999999999995E-7,""]
["",null,null,null,null,null,"ضريب",null,"بهاي واحد","مقـدار","واحــد","مصالح",null,null,"رديف",{"$f":"COUNTIF($S$1:S3457,Q3457+R3457)","v":0},"081004",1E-4,""]
[81004.0003,null,4.8120000000000003E-2,1,30742.905600000002,null,2.4060000000000001,null,638880,0.02,"مترمكعب","پلاستوفوم",31700501,null,3,{"$f":"COUNTIF($S$1:S3460,Q3460+R3460)","v":3},"081004",1E-4,81004.000100000005]
["",null,null,null,null,null,"ضريب",null,"بهاي واحد","مقـدار","واحــد","نيروي انساني ",null,null,"رديف",{"$f":"COUNTIF($S$1:S3463,Q3463+R3463)","v":0},"081005",{"$f":"IF(IF(O3463=\"رديف\",VLOOKUP(L3463,Kod,2,0),0)=0,R3462,IF(O3463=\"رديف\",VLOOKUP(L3463,Kod,2,0),0))","v":1E-8},""]
["",null,null,null,null,null,null,null,null,null,null,"درصد",null,null,"واحـد :",{"$f":"COUNTIF($S$1:S3466,Q3466+R3466)","v":0},"081006",1E-8,""]
["",null,null,null,null,null,"ضريب",null,"بهاي واحد","مقـدار","واحــد","نيروي انساني ",null,null,"رديف",{"$f":"COUNTIF($S$1:S3467,Q3467+R3467)","v":0},"081006",1E-8,""]
["",null,null,null,null,null,null,null,null,null,null,"درصد",null,null,"واحـد :",{"$f":"COUNTIF($S$1:S3470,Q3470+R3470)","v":0},"081007",1E-8,""]
["",null,null,null,null,null,null,null,null,null,null,null,null,"090101",null,{"$f":"COUNTIF($S$1:S3473,Q3473+R3473)","v":0},"090101",1E-8,""]
[90101.000000019994,null,2.9999999399999999E-3,1,320.63099358737998,null,1.05,null,106877,2.8571427999999999E-3,"نفر ساعت","سر آرماتور بند",14050101,null,2,{"$f":"COUNTIF($S$1:S3477,Q3477+R3477)","v":2},"090101",1E-8,90101.000000009997]
[90101.00000005,null,4.7999999249999994E-2,1,2763.7919568157499,null,1.05,null,57579,4.5714284999999993E-2,"نفر ساعت","کمک آرماتور بند",14050203,null,5,{"$f":"COUNTIF($S$1:S3480,Q3480+R3480)","v":5},"090101",1E-8,90101.000000009997]
["",null,null,null,null,null,"ضريب",null,"بهاي واحد","مقـدار","واحــد","مصالح",null,null,"رديف",{"$f":"COUNTIF($S$1:S3483,Q3483+R3483)","v":0},{"$f":"IF(N3483>0,N3483,Q3482)","v":"090101"},1E-4,{"$f":"IF(M3483<>\"\",Q3483+R3483,\"\")","v":""}]
[90101.01,null,1.0656699999999999,1,174.76987999999997,null,1,null,164,1.0656699999999999,"كیلوگرم","حمل مصالح فلزی مورد مصرف در سازه",41110101,null,1,{"$f":"COUNTIF($S$1:S3487,Q3487+R3487)","v":1},"090101",0.01,90101.01]
["",null,null,null,null,null,null,null,null,null,null,null,null,"090102",null,{"$f":"COUNTIF($S$1:S3488,Q3488+R3488)","v":0},"090102",0.01,""]
["",null,null,null,null,null,"ضريب",null,"بهاي واحد","مقـدار","واحــد","نيروي انساني ",null,null,"رديف",{"$f":"COUNTIF($S$1:S3490,Q3490+R3490)","v":0},"090102",1E-8,""]
[90102.000000030006,null,6.2222221950000009E-3,1,499.12799781631492,null,1.05,null,80217,5.9259259000000002E-3,"نفر ساعت","آرماتور بند درجه یک",14050201,null,3,{"$f":"COUNTIF($S$1:S3493,Q3493+R3493)","v":3},"090102",1E-8,90102.000000009997]
["",null,null,null,null,null,"ضريب",null,"بهاي واحد","مقـدار","واحــد","مصالح",null,null,"رديف",{"$f":"COUNTIF($S$1:S3496,Q3496+R3496)","v":0},"090102",1E-4,""]
[90102.01,null,1.0475000000000001,1,171.79000000000005,null,1,null,164,1.0475000000000001,"كیلوگرم","حمل مصالح فلزی مورد مصرف در سازه",41110101,null,1,{"$f":"COUNTIF($S$1:S3500,Q3500+R3500)","v":1},"090102",0.01,90102.01]
["",null,null,null,null,null,"ضريب",null,"بهاي واحد","مقـدار","واحــد","نيروي انساني ",null,null,"رديف",{"$f":"COUNTIF($S$1:S3503,Q3503+R3503)","v":0},"090103",1E-8,""]
[90103.000000040003,null,1.26E-2,1,865.38059999999996,null,1.05,null,68681,1.2E-2,"نفر ساعت","آرماتور بند درجه دو",14050202,null,4,{"$f":"COUNTIF($S$1:S3507,Q3507+R3507)","v":4},"090103",1E-8,90103.000000009997]
[90103.000100000005,null,1.0375000000000001,1,26352.500000000004,null,1,null,25400,1.0375000000000001,"كیلوگرم","میلگرد ساده نمره 20 به بالا",31150611,null,1,{"$f":"COUNTIF($S$1:S3510,Q3510+R3510)","v":1},"090103",1E-4,90103.000100000005]
[90103.01,null,1.0475000000000001,1,171.79000000000005,null,1,null,164,1.0475000000000001,"كیلوگرم","حمل مصالح فلزی مورد مصرف در سازه",41110101,null,1,{"$f":"COUNTIF($S$1:S3513,Q3513+R3513)","v":1},"090103",0.01,90103.01]
["",null,null,null,null,null,null,null,null,null,null,"عدد",null,null,"واحـد :",{"$f":"COUNTIF($S$1:S3515,Q3515+R3515)","v":0},"090104",0.01,""]
["",null,null,null,null,null,"ضريب",null,"بهاي واحد","مقـدار","واحــد","نيروي انساني ",null,null,"رديف",{"$f":"COUNTIF($S$1:S3516,Q3516+R3516)","v":0},"090104",1E-8,""]
[90104.000100000005,null,1,1,19942,null,1,null,19942,1,"عدد","قلاب آهنگری شده به وزن 85 گرم",31430102,null,1,{"$f":"COUNTIF($S$1:S3519,Q3519+R3519)","v":1},"090104",1E-4,90104.000100000005]
["",null,null,null,null,null,null,null,null,null,null,"كیلوگرم",null,null,"واحـد :",{"$f":"COUNTIF($S$1:S3523,Q3523+R3523)","v":0},"090201",0.01,""]
[90201.000000019994,null,3.1485713656000001E-3,1,336.50986184123116,null,1.1020000000000001,null,106877,2.8571427999999999E-3,"نفر ساعت","سر آرماتور بند",14050101,null,2,{"$f":"COUNTIF($S$1:S3526,Q3526+R3526)","v":2},"090201",1E-8,90201.000000009997]
["",null,null,null,null,null,"ضريب",null,"بهاي واحد","مقـدار","واحــد","ماشين آلات ",null,null,"رديف",{"$f":"COUNTIF($S$1:S3530,Q3530+R3530)","v":0},"090201",9.9999999999999995E-7,""]
[90201.000100000005,null,1.0375000000000001,1,21061.250000000004,null,1,null,20300,1.0375000000000001,"كیلوگرم","میلگرد آجدار AII نمره 10 و کمتر",31250201,null,1,{"$f":"COUNTIF($S$1:S3533,Q3533+R3533)","v":1},"090201",1E-4,90201.000100000005]
[90201.01,null,1.0656699999999999,1,174.76987999999997,null,1,null,164,1.0656699999999999,"كیلوگرم","حمل مصالح فلزی مورد مصرف در سازه",41110101,null,1,{"$f":"COUNTIF($S$1:S3536,Q3536+R3536)","v":1},"090201",0.01,90201.01]
["",null,null,null,null,null,null,null,null,null,null,null,null,"090202",null,{"$f":"COUNTIF($S$1:S3537,Q3537+R3537)","v":0},"090202",0.01,""]
[90202.000000009997,null,9.7955555678000007E-3,1,558.47400958698142,null,1.1020000000000001,null,57013,8.8888888999999992E-3,"نفر- ساعت","كارگر ساده",14010102,null,1,{"$f":"COUNTIF($S$1:S3540,Q3540+R3540)","v":1},"090202",1E-8,90202.000000009997]
[90202.000000030006,null,6.5303703418000004E-3,1,523.84671770817044,null,1.1020000000000001,null,80217,5.9259259000000002E-3,"نفر ساعت","آرماتور بند درجه یک",14050201,null,3,{"$f":"COUNTIF($S$1:S3542,Q3542+R3542)","v":3},"090202",1E-8,90202.000000009997]
[90202.000100000005,null,1.0375000000000001,1,21165.000000000004,null,1,null,20400,1.0375000000000001,"كیلوگرم","میلگرد آجدار AII نمره 12 تا 18",31250202,null,1,{"$f":"COUNTIF($S$1:S3546,Q3546+R3546)","v":1},"090202",1E-4,90202.000100000005]
[90202.01,null,1.0475000000000001,1,171.79000000000005,null,1,null,164,1.0475000000000001,"كیلوگرم","حمل مصالح فلزی مورد مصرف در سازه",41110101,null,1,{"$f":"COUNTIF($S$1:S3549,Q3549+R3549)","v":1},"090202",0.01,90202.01]
[90203.000000009997,null,1.8599155974000001E-2,1,1060.3936795456621,null,1.1020000000000001,null,57013,1.6877637000000001E-2,"نفر- ساعت","كارگر ساده",14010102,null,1,{"$f":"COUNTIF($S$1:S3553,Q3553+R3553)","v":1},"090203",1E-8,90203.000000009997]
[90203.000000040003,null,8.8160000000000009E-3,1,605.49169600000005,null,1.1020000000000001,null,68681,8.0000000000000002E-3,"نفر ساعت","آرماتور بند درجه دو",14050202,null,4,{"$f":"COUNTIF($S$1:S3556,Q3556+R3556)","v":4},"090203",1E-8,90203.000000009997]
[90203.000100000005,null,1.0375000000000001,1,21580.000000000004,null,1,null,20800,1.0375000000000001,"كیلوگرم","میلگرد آجدار AII نمره 20 به بالا",31250203,null,1,{"$f":"COUNTIF($S$1:S3559,Q3559+R3559)","v":1},"090203",1E-4,90203.000100000005]
[90203.000199999995,null,0.01,1,264,null,1,null,26400,0.01,"كیلوگرم","مفتول سیاه",31250401,null,2,{"$f":"COUNTIF($S$1:S3560,Q3560+R3560)","v":2},"090203",1E-4,90203.000100000005]
["",null,null,null,null,null,null,null,null,null,null,null,null,"090204",null,{"$f":"COUNTIF($S$1:S3563,Q3563+R3563)","v":0},"090204",0.01,""]
[90204.000000019994,null,3.1485713656000001E-3,1,336.50986184123116,null,1.1020000000000001,null,106877,2.8571427999999999E-3,"نفر ساعت","سر آرماتور بند",14050101,null,2,{"$f":"COUNTIF($S$1:S3567,Q3567+R3567)","v":2},"090204",1E-8,90204.000000009997]
[90204.000000040003,null,2.5188570484000004E-2,1,1729.9762094116043,null,1.1020000000000001,null,68681,2.2857142E-2,"نفر ساعت","آرماتور بند درجه دو",14050202,null,4,{"$f":"COUNTIF($S$1:S3569,Q3569+R3569)","v":4},"090204",1E-8,90204.000000009997]
[90204.000000999993,null,4.4742729000000004E-3,1,561.62863149960003,null,1,null,125524,4.4742729000000004E-3,"دستگاه ساعت","تراکتور تک دیفرانسیل با تریلر و راننده",23020803,null,1,{"$f":"COUNTIF($S$1:S3572,Q3572+R3572)","v":1},"090204",9.9999999999999995E-7,90204.000000999993]
["",null,null,null,null,null,"ضريب",null,"بهاي واحد","مقـدار","واحــد"," حمل مصالح ",null,null,"رديف",{"$f":"COUNTIF($S$1:S3576,Q3576+R3576)","v":0},"090204",0.01,""]
["",null,null,null,null,null,null,null,null,null,null,"كیلوگرم",null,null,"واحـد :",{"$f":"COUNTIF($S$1:S3579,Q3579+R3579)","v":0},"090205",0.01,""]
[90205.000000019994,null,3.2651852260000007E-3,1,348.97320139920203,null,1.1020000000000001,null,106877,2.9629630000000003E-3,"نفر ساعت","سر آرماتور بند",14050101,null,2,{"$f":"COUNTIF($S$1:S3582,Q3582+R3582)","v":2},"090205",1E-8,90205.000000009997]
[90205.000000030006,null,6.5303703418000004E-3,1,523.84671770817044,null,1.1020000000000001,null,80217,5.9259259000000002E-3,"نفر ساعت","آرماتور بند درجه یک",14050201,null,3,{"$f":"COUNTIF($S$1:S3583,Q3583+R3583)","v":3},"090205",1E-8,90205.000000009997]
["",null,null,null,null,null,"ضريب",null,"بهاي واحد","مقـدار","واحــد","مصالح",null,null,"رديف",{"$f":"COUNTIF($S$1:S3586,Q3586+R3586)","v":0},"090205",1E-4,""]
[90205.01,null,1.0475000000000001,1,171.79000000000005,null,1,null,164,1.0475000000000001,"كیلوگرم","حمل مصالح فلزی مورد مصرف در سازه",41110101,null,1,{"$f":"COUNTIF($S$1:S3590,Q3590+R3590)","v":1},"090205",0.01,90205.01]
["",null,null,null,null,null,null,null,null,null,null,"كیلوگرم",null,null,"واحـد :",{"$f":"COUNTIF($S$1:S3592,Q3592+R3592)","v":0},"090206",0.01,""]
[90206.000000019994,null,2.2040000000000002E-3,1,235.55690799999999,null,1.1020000000000001,null,106877,2E-3,"نفر ساعت","سر آرماتور بند",14050101,null,2,{"$f":"COUNTIF($S$1:S3595,Q3595+R3595)","v":2},"090206",1E-8,90206.000000009997]
["",null,null,null,null,null,"ضريب",null,"بهاي واحد","مقـدار","واحــد","مصالح",null,null,"رديف",{"$f":"COUNTIF($S$1:S3599,Q3599+R3599)","v":0},"090206",1E-4,""]
["",null,null,null,null,null,"ضريب",null,"بهاي واحد","مقـدار","واحــد"," حمل مصالح ",null,null,"رديف",{"$f":"COUNTIF($S$1:S3602,Q3602+R3602)","v":0},"090206",0.01,""]
["",null,null,null,null,null,null,null,null,null,null,"كیلوگرم",null,null,"واحـد :",{"$f":"COUNTIF($S$1:S3605,Q3605+R3605)","v":0},"090401",0.01,""]
["",null,null,null,null,null,"ضريب",null,"بهاي واحد","مقـدار","واحــد","نيروي انساني ",null,null,"رديف",{"$f":"COUNTIF($S$1:S3606,Q3606+R3606)","v":0},"090401",1E-8,""]
[90401.000000030006,null,1.0319999999999999E-3,1,82.783943999999991,null,1,null,80217,1.0319999999999999E-3,"نفر ساعت","آرماتور بند درجه یک",14050201,null,3,{"$f":"COUNTIF($S$1:S3609,Q3609+R3609)","v":3},"090401",1E-8,90401.000000009997]
[90401.000000999993,null,2.0640000000000002E-2,1,625.20623999999998,null,1,null,30291,2.0640000000000002E-2,"دستگاه ساعت","موتور پمپ دیزلی تخلیه آب 4 اینچ",26010201,null,1,{"$f":"COUNTIF($S$1:S3613,Q3613+R3613)","v":1},"090401",9.9999999999999995E-7,90401.000000999993]
["",null,null,null,null,null,"ضريب",null,"بهاي واحد","مقـدار","واحــد","نيروي انساني ",null,null,"رديف",{"$f":"COUNTIF($S$1:S3616,Q3616+R3616)","v":0},"090501",1E-8,""]
[90501.000000030006,null,1.6800000000000002E-2,1,1240.5288,null,1.05,null,73841,1.6E-2,"نفر ساعت","کمک اسکلت ساز",14070203,null,3,{"$f":"COUNTIF($S$1:S3619,Q3619+R3619)","v":3},"090501",1E-8,90501.000000009997]
["",null,null,null,null,null,"ضريب",null,"بهاي واحد","مقـدار","واحــد","ماشين آلات ",null,null,"رديف",{"$f":"COUNTIF($S$1:S3622,Q3622+R3622)","v":0},"090501",9.9999999999999995E-7,""]
[90501.000100000005,null,1.7999999999999999E-2,1,801.3599999999999,null,1,null,44520,1.7999999999999999E-2,"كیلوگرم","الکترود معمولی",31230101,null,1,{"$f":"COUNTIF($S$1:S3625,Q3625+R3625)","v":1},"090501",1E-4,90501.000100000005]
[90501.000199999995,null,0.51875000000000004,1,13176.250000000002,null,1,null,25400,0.51875000000000004,"كیلوگرم","31250102 - میلگرد ساده نمره 12 تا 18",31250102,null,2,{"$f":"COUNTIF($S$1:S3626,Q3626+R3626)","v":2},"090501",1E-4,90501.000100000005]
[90501.01,null,1.0375000000000001,1,170.15000000000003,null,1,null,164,1.0375000000000001,"كیلوگرم","حمل مصالح فلزی مورد مصرف در سازه",41110101,null,1,{"$f":"COUNTIF($S$1:S3629,Q3629+R3629)","v":1},"090501",0.01,90501.01]
["",null,null,null,null,null,null,null,null,null,null,"كیلوگرم",null,null,"واحـد :",{"$f":"COUNTIF($S$1:S3632,Q3632+R3632)","v":0},"090502",0.01,""]
[90502.000000030006,null,8.1553397100000008E-2,1,6021.9843952611,null,1.05,null,73841,7.7669901999999999E-2,"نفر ساعت","کمک اسکلت ساز",14070203,null,3,{"$f":"COUNTIF($S$1:S3636,Q3636+R3636)","v":3},"090502",1E-8,90502.000000009997]
[90502.000000999993,null,5.3333332999999997E-3,1,1105.2853264252999,null,1,null,207241,5.3333332999999997E-3,"دستگاه-ساعت","کامیون به ظرفیت حدود3 تن  باراننده",23020101,null,1,{"$f":"COUNTIF($S$1:S3639,Q3639+R3639)","v":1},"090502",9.9999999999999995E-7,90502.000000999993]
[90502.000199999995,null,0.48749999999999999,1,12382.5,null,1,null,25400,0.48749999999999999,"كیلوگرم","ميلگرد ساده نمره 20 به بالا",31250103,null,2,{"$f":"COUNTIF($S$1:S3642,Q3642+R3642)","v":2},"090502",1E-4,90502.000100000005]
["",null,null,null,null,null,"ضريب",null,"بهاي واحد","مقـدار","واحــد"," حمل مصالح ",null,null,"رديف",{"$f":"COUNTIF($S$1:S3645,Q3645+R3645)","v":0},"090502",0.01,""]
["",null,null,null,null,null,null,null,null,null,null,null,null,"090503",null,{"$f":"COUNTIF($S$1:S3648,Q3648+R3648)","v":0},"090503",0.01,""]
["",null,null,null,null,null,null,null,null,null,null,"كیلوگرم",null,null,"واحـد :",{"$f":"COUNTIF($S$1:S3649,Q3649+R3649)","v":0},"090503",0.01,""]
[90503.000000019994,null,5.4474000000000015E-2,1,4811.5794720000004,null,1.05,null,88328,5.1880000000000009E-2,"نفر ساعت","بنای سفت کار درجه یک",14020101,null,2,{"$f":"COUNTIF($S$1:S3652,Q3652+R3652)","v":2},"090503",1E-8,90503.000000009997]
[90503.00000005,null,5.4474000000000015E-2,1,3278.0274240000003,null,1.05,null,60176,5.1880000000000009E-2,"نفر- ساعت","کمک نجار قالب بند",14030203,null,5,{"$f":"COUNTIF($S$1:S3655,Q3655+R3655)","v":5},"090503",{"$f":"IF(IF(O3655=\"رديف\",VLOOKUP(L3655,Kod,2,0),0)=0,R3654,IF(O3655=\"رديف\",VLOOKUP(L3655,Kod,2,0),0))","v":1E-8},90503.000000009997]
["",null,null,null,null,null,"ضريب",null,"بهاي واحد","مقـدار","واحــد","ماشين آلات ",null,null,"رديف",{"$f":"COUNTIF($S$1:S3659,Q3659+R3659)","v":0},"090503",9.9999999999999995E-7,""]
[90503.000100000005,null,0.98499999999999999,1,25019,null,1,null,25400,0.98499999999999999,"كیلوگرم","ميلگرد ساده نمره 20 به بالا",31250103,null,1,{"$f":"COUNTIF($S$1:S3662,Q3662+R3662)","v":1},"090503",1E-4,90503.000100000005]
[90503.01,null,0.98499999999999999,1,161.54,null,1,null,164,0.98499999999999999,"كیلوگرم","حمل مصالح فلزی مورد مصرف در سازه",41110101,null,1,{"$f":"COUNTIF($S$1:S3666,Q3666+R3666)","v":1},"090503",0.01,90503.01]
[90503.02,null,5.4000000000000006E-2,1,27,null,1,null,500,5.4000000000000006E-2,"كیلوگرم","حمل فراورده‌های فولادی توری، شبکه‌های فلزی، میخ، پرچ و الکترود",41110301,null,2,{"$f":"COUNTIF($S$1:S3667,Q3667+R3667)","v":2},"090503",0.01,90503.01]
[90504.000000009997,null,0.05,1,6049.9,null,1,null,120998,0.05,"نفر ساعت","تکنیسین عمومی کارگاه با سابقه تا 5 سال",12010304,null,1,{"$f":"COUNTIF($S$1:S3671,Q3671+R3671)","v":1},"090504",1E-8,90504.000000009997]
["",null,null,null,null,null,"ضريب",null,"بهاي واحد","مقـدار","واحــد","ماشين آلات ",null,null,"رديف",{"$f":"COUNTIF($S$1:S3672,Q3672+R3672)","v":0},"090504",9.9999999999999995E-7,""]
[90504.000100000005,null,1,1,6655,null,1,null,6655,1,"عدد","بست اسپیت و چاشنی",31431301,null,1,{"$f":"COUNTIF($S$1:S3675,Q3675+R3675)","v":1},{"$f":"IF(N3675>0,N3675,Q3674)","v":"090504"},1E-4,{"$f":"IF(M3675<>\"\",Q3675+R3675,\"\")","v":90504.000100000005}]
["",null,null,null,null,null,"ضريب",null,"بهاي واحد","مقـدار","واحــد","نيروي انساني ",null,null,"رديف",{"$f":"COUNTIF($S$1:S3678,Q3678+R3678)","v":0},"090601",1E-8,""]
[90601.000000040003,null,9.2399999999999999E-3,1,711.84960000000001,null,1,null,77040,9.2399999999999999E-3,"نفر ساعت","نقاش درجه دو ساختمان",14200102,null,4,{"$f":"COUNTIF($S$1:S3682,Q3682+R3682)","v":4},"090601",1E-8,90601.000000009997]
[90601.000000069995,null,9.2399999999999999E-3,1,598.30848000000003,null,1,null,64752,9.2399999999999999E-3,"نفر ساعت","کارگرسندبلاست",17020304,null,7,{"$f":"COUNTIF($S$1:S3685,Q3685+R3685)","v":7},"090601",1E-8,90601.000000009997]
[90601.000002999994,null,7.9999999999999996E-6,1,65.728623999999996,null,1,null,8216078,7.9999999999999996E-6,"عدد","نازل سند بلاست",27020401,null,3,{"$f":"COUNTIF($S$1:S3689,Q3689+R3689)","v":3},"090601",9.9999999999999995E-7,90601.000000999993]
[90601.000006000002,null,9.2350000000000002E-3,1,20.095359999999999,null,1,null,2176,9.2350000000000002E-3,"دستگاه ساعت","پمپ رنگ پاشی با متعلقات",28080701,null,6,{"$f":"COUNTIF($S$1:S3692,Q3692+R3692)","v":6},"090601",9.9999999999999995E-7,90601.000000999993]
[90601.000100000005,null,1.05,1,26670,null,1,null,25400,1.05,"كیلوگرم","ميلگرد ساده نمره 20 به بالا",31250103,null,1,{"$f":"COUNTIF($S$1:S3694,Q3694+R3694)","v":1},"090601",1E-4,90601.000100000005]
[90601.000199999995,null,3.1704000000000003E-3,1,286.9212,null,0.8,null,90500,3.9630000000000004E-3,"كیلوگرم","ضد زنگ برای رنگ اپوکسی",31410102,null,2,{"$f":"COUNTIF($S$1:S3695,Q3695+R3695)","v":2},"090601",1E-4,90601.000100000005]
[90601.000499999995,null,1.9024000000000001E-3,1,124.60719999999999,null,0.8,null,65500,2.3779999999999999E-3,"كیلوگرم","تینر رنگ اپوکسی",31411705,null,5,{"$f":"COUNTIF($S$1:S3698,Q3698+R3698)","v":5},"090601",1E-4,90601.000100000005]
["",null,null,null,null,null,"ضريب",null,"بهاي واحد","مقـدار","واحــد"," حمل مصالح ",null,null,"رديف",{"$f":"COUNTIF($S$1:S3701,Q3701+R3701)","v":0},"090601",0.01,""]
["",null,null,null,null,null,"ضريب",null,"بهاي واحد","مقـدار","واحــد","نيروي انساني ",null,null,"رديف",{"$f":"COUNTIF($S$1:S3705,Q3705+R3705)","v":0},"090602",1E-8,""]
[90602.000000030006,null,9.2399999999999999E-3,1,861.07560000000001,null,1,null,93190,9.2399999999999999E-3,"نفر ساعت","نقاش درجه یک ساختمان",14200101,null,3,{"$f":"COUNTIF($S$1:S3708,Q3708+R3708)","v":3},"090602",1E-8,90602.000000009997]
[90602.000000069995,null,9.2399999999999999E-3,1,598.30848000000003,null,1,null,64752,9.2399999999999999E-3,"نفر ساعت","کارگرسندبلاست",17020304,null,7,{"$f":"COUNTIF($S$1:S3712,Q3712+R3712)","v":7},"090602",1E-8,90602.000000009997]
[90602.000002000001,null,9.2350000000000002E-3,1,2136.5818949999998,null,1,null,231357,9.2350000000000002E-3,"دستگاه ساعت","کمپرسور با ظرفيت حدود11 متر در دقيقه (390 سي اف ام) با شيلنگ مربوط",25040104,null,2,{"$f":"COUNTIF($S$1:S3715,Q3715+R3715)","v":2},"090602",9.9999999999999995E-7,90602.000000999993]
[90602.000004999994,null,9.2350000000000002E-3,1,75.727000000000004,null,1,null,8200,9.2350000000000002E-3,"دستگاه -  ساعت","فرزاهن ساب",28040501,null,5,{"$f":"COUNTIF($S$1:S3718,Q3718+R3718)","v":5},"090602",9.9999999999999995E-7,90602.000000999993]
[90602.000006000002,null,9.2350000000000002E-3,1,20.095359999999999,null,1,null,2176,9.2350000000000002E-3,"دستگاه ساعت","پمپ رنگ پاشی با متعلقات",28080701,null,6,{"$f":"COUNTIF($S$1:S3719,Q3719+R3719)","v":6},"090602",{"$f":"IF(IF(O3719=\"رديف\",VLOOKUP(L3719,Kod,2,0),0)=0,R3718,IF(O3719=\"رديف\",VLOOKUP(L3719,Kod,2,0),0))","v":9.9999999999999995E-7},90602.000000999993]
[{"$f":"IF(M3721<>\"\",Q3721+(P3721*R3721),\"\")","v":90602.000100000005},null,1.05,1,26670,null,1,null,25400,1.05,"كیلوگرم","ميلگرد ساده نمره 20 به بالا",31250103,null,1,{"$f":"COUNTIF($S$1:S3721,Q3721+R3721)","v":1},"090602",1E-4,90602.000100000005]
[90602.000499999995,null,6.3440000000000002E-4,1,39.910103999999997,null,0.8,null,62910,7.9299999999999998E-4,"كیلوگرم","تینر برای ضد زنگ اپوکسی",31411702,null,5,{"$f":"COUNTIF($S$1:S3725,Q3725+R3725)","v":5},"090602",1E-4,90602.000100000005]
[90602.000799999994,null,0.7,1,270.89999999999998,null,1,null,387,0.7,"كیلوگرم","ماسه سند بلاست",39100102,null,8,{"$f":"COUNTIF($S$1:S3728,Q3728+R3728)","v":8},"090602",1E-4,90602.000100000005]
["",null,null,null,null,null,null,null,null,null,null,null,null,"090702",null,{"$f":"COUNTIF($S$1:S3731,Q3731+R3731)","v":0},"090702",0.01,""]
[90702.000000019994,null,8.1900000000000001E-2,1,8154.7830000000004,null,1.05,null,99570,7.8E-2,"نفر ساعت","اسکلت ساز درجه دو",14070202,null,2,{"$f":"COUNTIF($S$1:S3735,Q3735+R3735)","v":2},"090702",1E-8,90702.000000009997]
["",null,null,null,null,null,"ضريب",null,"بهاي واحد","مقـدار","واحــد","ماشين آلات ",null,null,"رديف",{"$f":"COUNTIF($S$1:S3738,Q3738+R3738)","v":0},"090702",9.9999999999999995E-7,""]
[90702.000100000005,null,0.48749999999999999,1,12382.5,null,1,null,25400,0.48749999999999999,"كیلوگرم","31250102 - میلگرد ساده نمره 12 تا 18",31250102,null,1,{"$f":"COUNTIF($S$1:S3741,Q3741+R3741)","v":1},"090702",1E-4,90702.000100000005]
[90702.000199999995,null,0.48749999999999999,1,12382.5,null,1,null,25400,0.48749999999999999,"كیلوگرم","ميلگرد ساده نمره 20 به بالا",31250103,null,2,{"$f":"COUNTIF($S$1:S3742,Q3742+R3742)","v":2},"090702",1E-4,90702.000100000005]
[90702.01,null,0.97499999999999998,1,159.9,null,1,null,164,0.97499999999999998,"كیلوگرم","حمل مصالح فلزی مورد مصرف در سازه",41110101,null,1,{"$f":"COUNTIF($S$1:S3746,Q3746+R3746)","v":1},"090702",0.01,90702.01]
["",null,null,null,null,null,null,null,null,null,null,null,null,"100101",null,{"$f":"COUNTIF($S$1:S3748,Q3748+R3748)","v":0},"100101",0.01,""]
[100101.00000001,null,6.1800000000000001E-2,1,3523.4034000000001,null,1.03,null,57013,0.06,"نفر- ساعت","كارگر ساده",14010102,null,1,{"$f":"COUNTIF($S$1:S3751,Q3751+R3751)","v":1},"100101",1E-8,100101.00000001]
[100101.00000004,null,4.1200000000000004E-3,1,248.42363999999998,null,1.03,null,60297,4.0000000000000001E-3,"نفر ساعت","کمک نقاش",14200103,null,4,{"$f":"COUNTIF($S$1:S3754,Q3754+R3754)","v":4},"100101",1E-8,100101.00000001]
["",null,null,null,null,null,"ضريب",null,"بهاي واحد","مقـدار","واحــد","مصالح",null,null,"رديف",{"$f":"COUNTIF($S$1:S3758,Q3758+R3758)","v":0},"100101",1E-4,""]
[100101.0003,null,8.276625E-2,1,1720.0482074999998,null,1.0509999999999999,null,20782,7.8750000000000001E-2,"کیلو گرم","انواع نبشی",31240401,null,3,{"$f":"COUNTIF($S$1:S3761,Q3761+R3761)","v":3},"100101",1E-4,100101.0001]
[100101.0006,null,2.6275E-2,1,2469.85,null,1.0509999999999999,null,94000,2.5000000000000001E-2,"كیلوگرم","پیچ و مهره معمولی (سخت) 10/9",31430803,null,6,{"$f":"COUNTIF($S$1:S3764,Q3764+R3764)","v":6},"100101",1E-4,100101.0001]
["",null,null,null,null,null,"ضريب",null,"بهاي واحد","مقـدار","واحــد"," حمل مصالح ",null,null,"رديف",{"$f":"COUNTIF($S$1:S3765,Q3765+R3765)","v":0},"100101",0.01,""]
[100101.03,null,4.2039999999999994E-3,1,1.5933159999999997,null,1.0509999999999999,null,379,4.0000000000000001E-3,"كیلوگرم","حمل مواد مصرفی در نقاشی و چسبها",41170201,null,3,{"$f":"COUNTIF($S$1:S3768,Q3768+R3768)","v":3},"100101",0.01,100101.01]
["",null,null,null,null,null,"ضريب",null,"بهاي واحد","مقـدار","واحــد","نيروي انساني ",null,null,"رديف",{"$f":"COUNTIF($S$1:S3771,Q3771+R3771)","v":0},"100102",1E-8,""]
[100102.00000003001,null,5.1500000000000004E-2,1,3802.8115000000003,null,1.03,null,73841,0.05,"نفر ساعت","کمک جوشکار اسکلت",14070302,null,3,{"$f":"COUNTIF($S$1:S3774,Q3774+R3774)","v":3},"100102",1E-8,100102.00000001]
[100102.00000099999,null,2.8E-3,1,1931.7395999999999,null,1.4,null,689907,2E-3,"دستگاه ساعت","جرثقیل خودرو چرخ لاستیکی حدود30 تن با راننده",24010304,null,1,{"$f":"COUNTIF($S$1:S3777,Q3777+R3777)","v":1},"100102",9.9999999999999995E-7,100102.00000099999]
[100102.00019999999,null,8.276625E-2,1,2218.1354999999999,null,1.0509999999999999,null,26800,7.8750000000000001E-2,"كیلوگرم","انواع ناودانی",31240301,null,2,{"$f":"COUNTIF($S$1:S3781,Q3781+R3781)","v":2},"100102",1E-4,100102.0001]
[100102.00049999999,null,4.2039999999999994E-3,1,227.01599999999999,null,1.0509999999999999,null,54000,4.0000000000000001E-3,"كیلوگرم","ضد زنگ معمولی",31410101,null,5,{"$f":"COUNTIF($S$1:S3784,Q3784+R3784)","v":5},"100102",1E-4,100102.0001]
[{"$f":"IF(M3785<>\"\",Q3785+(P3785*R3785),\"\")","v":100102.0006},null,2.6275E-2,1,2469.85,null,1.0509999999999999,null,94000,2.5000000000000001E-2,"كیلوگرم","پیچ و مهره معمولی (سخت) 10/9",31430803,null,6,{"$f":"COUNTIF($S$1:S3785,Q3785+R3785)","v":6},"100102",1E-4,100102.0001]
[100102.02,null,6.8315000000000001E-2,1,34.157499999999999,null,1.0509999999999999,null,500,6.5000000000000002E-2,"كیلوگرم","حمل فراورده‌های فولادی توری، شبکه‌های فلزی، میخ، پرچ و الکترود",41110301,null,2,{"$f":"COUNTIF($S$1:S3788,Q3788+R3788)","v":2},"100102",0.01,100102.01]
["",null,null,null,null,null,null,null,null,null,null,"كیلوگرم",null,null,"واحـد :",{"$f":"COUNTIF($S$1:S3791,Q3791+R3791)","v":0},"100103",0.01,""]
[100103.00000003001,null,5.1500000000000004E-2,1,3802.8115000000003,null,1.03,null,73841,0.05,"نفر ساعت","کمک جوشکار اسکلت",14070302,null,3,{"$f":"COUNTIF($S$1:S3795,Q3795+R3795)","v":3},"100103",1E-8,100103.00000001]
[100103.00000099999,null,2.5200000000000001E-3,1,3610.8676799999998,null,1.26,null,1432884,2E-3,"دستگاه ساعت","جرثقیل خودرو چرخ لاستیکی حدود50 تن با راننده",24010306,null,1,{"$f":"COUNTIF($S$1:S3798,Q3798+R3798)","v":1},"100103",9.9999999999999995E-7,100103.00000099999]
["",null,null,null,null,null,"ضريب",null,"بهاي واحد","مقـدار","واحــد","مصالح",null,null,"رديف",{"$f":"COUNTIF($S$1:S3800,Q3800+R3800)","v":0},"100103",1E-4,""]
[100103.0004,null,0.93801749999999995,1,22095.94023,null,1.0509999999999999,null,23556,0.89249999999999996,"كیلوگرم","ورق سياه به ضخامت بيش از 3 ميلي متر",31260102,null,4,{"$f":"COUNTIF($S$1:S3804,Q3804+R3804)","v":4},"100103",1E-4,100103.0001]
["",null,null,null,null,null,"ضريب",null,"بهاي واحد","مقـدار","واحــد"," حمل مصالح ",null,null,"رديف",{"$f":"COUNTIF($S$1:S3807,Q3807+R3807)","v":0},"100103",0.01,""]
[100103.01,null,1.10355,1,180.98220000000001,null,1.0509999999999999,null,164,1.05,"كیلوگرم","حمل مصالح فلزی مورد مصرف در سازه",41110101,null,1,{"$f":"COUNTIF($S$1:S3808,Q3808+R3808)","v":1},"100103",0.01,100103.01]
["",null,null,null,null,null,null,null,null,null,null,null,null,"100104",null,{"$f":"COUNTIF($S$1:S3811,Q3811+R3811)","v":0},"100104",0.01,""]
[100104.00000001,null,6.1800000000000001E-2,1,3523.4034000000001,null,1.03,null,57013,0.06,"نفر- ساعت","كارگر ساده",14010102,null,1,{"$f":"COUNTIF($S$1:S3814,Q3814+R3814)","v":1},"100104",1E-8,100104.00000001]
["",null,null,null,null,null,"ضريب",null,"بهاي واحد","مقـدار","واحــد","ماشين آلات ",null,null,"رديف",{"$f":"COUNTIF($S$1:S3818,Q3818+R3818)","v":0},"100104",9.9999999999999995E-7,""]
["",null,null,null,null,null,"ضريب",null,"بهاي واحد","مقـدار","واحــد","مصالح",null,null,"رديف",{"$f":"COUNTIF($S$1:S3821,Q3821+R3821)","v":0},"100104",1E-4,""]
[100104.00019999999,null,8.276625E-2,1,2218.1354999999999,null,1.0509999999999999,null,26800,7.8750000000000001E-2,"كیلوگرم","انواع ناودانی",31240301,null,2,{"$f":"COUNTIF($S$1:S3823,Q3823+R3823)","v":2},"100104",1E-4,100104.0001]
[100104.0006,null,2.6275E-2,1,2469.85,null,1.0509999999999999,null,94000,2.5000000000000001E-2,"كیلوگرم","پیچ و مهره معمولی (سخت) 10/9",31430803,null,6,{"$f":"COUNTIF($S$1:S3827,Q3827+R3827)","v":6},"100104",1E-4,100104.0001]
[100104.02,null,6.8315000000000001E-2,1,34.157499999999999,null,1.0509999999999999,null,500,6.5000000000000002E-2,"كیلوگرم","حمل فراورده‌های فولادی توری، شبکه‌های فلزی، میخ، پرچ و الکترود",41110301,null,2,{"$f":"COUNTIF($S$1:S3830,Q3830+R3830)","v":2},"100104",0.01,100104.01]
[100104.03,null,4.2039999999999994E-3,1,1.5933159999999997,null,1.0509999999999999,null,379,4.0000000000000001E-3,"كیلوگرم","حمل مواد مصرفی در نقاشی و چسبها",41170201,null,3,{"$f":"COUNTIF($S$1:S3831,Q3831+R3831)","v":3},"100104",0.01,100104.01]
["",null,null,null,null,null,"ضريب",null,"بهاي واحد","مقـدار","واحــد","نيروي انساني ",null,null,"رديف",{"$f":"COUNTIF($S$1:S3834,Q3834+R3834)","v":0},"100201",1E-8,""]
[100201.00000003001,null,5.1500000000000004E-2,1,3802.8115000000003,null,1.03,null,73841,0.05,"نفر ساعت","کمک جوشکار اسکلت",14070302,null,3,{"$f":"COUNTIF($S$1:S3837,Q3837+R3837)","v":3},"100201",1E-8,100201.00000001]
[100201.000002,null,0.05,1,4729.3500000000004,null,1,null,94587,0.05,"دستگاه ساعت","موتور جوش دیزلی 400 آمپر",26020503,null,2,{"$f":"COUNTIF($S$1:S3841,Q3841+R3841)","v":2},"100201",9.9999999999999995E-7,100201.00000099999]
[100201.00019999999,null,0.99319499999999994,1,36638.96355,null,1.0509999999999999,null,36890,0.94499999999999995,"كیلوگرم","تیراهن بال پهن",31240201,null,2,{"$f":"COUNTIF($S$1:S3844,Q3844+R3844)","v":2},"100201",1E-4,100201.0001]
["",null,null,null,null,null,"ضريب",null,"بهاي واحد","مقـدار","واحــد"," حمل مصالح ",null,null,"رديف",{"$f":"COUNTIF($S$1:S3848,Q3848+R3848)","v":0},"100201",0.01,""]
[100201.02,null,6.8315000000000001E-2,1,34.157499999999999,null,1.0509999999999999,null,500,6.5000000000000002E-2,"كیلوگرم","حمل فراورده‌های فولادی توری، شبکه‌های فلزی، میخ، پرچ و الکترود",41110301,null,2,{"$f":"COUNTIF($S$1:S3850,Q3850+R3850)","v":2},"100201",0.01,100201.01]
["",null,null,null,null,null,null,null,null,null,null,"كیلوگرم",null,null,"واحـد :",{"$f":"COUNTIF($S$1:S3853,Q3853+R3853)","v":0},"100202",0.01,""]
["",null,null,null,null,null,"ضريب",null,"بهاي واحد","مقـدار","واحــد","نيروي انساني ",null,null,"رديف",{"$f":"COUNTIF($S$1:S3854,Q3854+R3854)","v":0},"100202",1E-8,""]
[100202.00000003001,null,5.1500000000000004E-2,1,3802.8115000000003,null,1.03,null,73841,0.05,"نفر ساعت","کمک جوشکار اسکلت",14070302,null,3,{"$f":"COUNTIF($S$1:S3857,Q3857+R3857)","v":3},"100202",1E-8,100202.00000001]
[100202.00000099999,null,2.8E-3,1,1931.7395999999999,null,1.4,null,689907,2E-3,"دستگاه ساعت","جرثقیل خودرو چرخ لاستیکی حدود30 تن با راننده",24010304,null,1,{"$f":"COUNTIF($S$1:S3860,Q3860+R3860)","v":1},"100202",9.9999999999999995E-7,100202.00000099999]
[100202.00019999999,null,0.99319499999999994,1,36638.96355,null,1.0509999999999999,null,36890,0.94499999999999995,"كیلوگرم","تیراهن بال پهن",31240201,null,2,{"$f":"COUNTIF($S$1:S3864,Q3864+R3864)","v":2},"100202",1E-4,100202.0001]
[100202.00049999999,null,2.6275E-2,1,2469.85,null,1.0509999999999999,null,94000,2.5000000000000001E-2,"كیلوگرم","پیچ و مهره معمولی (سخت) 10/9",31430803,null,5,{"$f":"COUNTIF($S$1:S3867,Q3867+R3867)","v":5},{"$f":"IF(N3867>0,N3867,Q3866)","v":"100202"},1E-4,{"$f":"IF(M3867<>\"\",Q3867+R3867,\"\")","v":100202.0001}]
[100202.03,null,4.2039999999999994E-3,1,1.5933159999999997,null,1.0509999999999999,null,379,4.0000000000000001E-3,"كیلوگرم","حمل مواد مصرفی در نقاشی و چسبها",41170201,null,3,{"$f":"COUNTIF($S$1:S3871,Q3871+R3871)","v":3},"100202",0.01,100202.01]
["",null,null,null,null,null,null,null,null,null,null,"كیلوگرم",null,null,"واحـد :",{"$f":"COUNTIF($S$1:S3873,Q3873+R3873)","v":0},"100203",0.01,""]
[100203.00000001999,null,5.1500000000000004E-2,1,5127.8549999999996,null,1.03,null,99570,0.05,"نفر ساعت","جوشکار اسکلت",14070301,null,2,{"$f":"COUNTIF($S$1:S3876,Q3876+R3876)","v":2},"100203",1E-8,100203.00000001]
[100203.00000003001,null,5.1500000000000004E-2,1,3802.8115000000003,null,1.03,null,73841,0.05,"نفر ساعت","کمک جوشکار اسکلت",14070302,null,3,{"$f":"COUNTIF($S$1:S3877,Q3877+R3877)","v":3},"100203",1E-8,100203.00000001]
[100203.00000099999,null,2.5200000000000001E-3,1,3610.8676799999998,null,1.26,null,1432884,2E-3,"دستگاه ساعت","جرثقیل خودرو چرخ لاستیکی حدود50 تن با راننده",24010306,null,1,{"$f":"COUNTIF($S$1:S3880,Q3880+R3880)","v":1},"100203",9.9999999999999995E-7,100203.00000099999]
[100203.00019999999,null,0.99319499999999994,1,36638.96355,null,1.0509999999999999,null,36890,0.94499999999999995,"كیلوگرم","تیراهن بال پهن",31240201,null,2,{"$f":"COUNTIF($S$1:S3884,Q3884+R3884)","v":2},"100203",1E-4,100203.0001]
[100203.00049999999,null,2.6275E-2,1,2469.85,null,1.0509999999999999,null,94000,2.5000000000000001E-2,"كیلوگرم","پیچ و مهره معمولی (سخت) 10/9",31430803,null,5,{"$f":"COUNTIF($S$1:S3887,Q3887+R3887)","v":5},"100203",1E-4,100203.0001]
[100203.02,null,6.8315000000000001E-2,1,34.157499999999999,null,1.0509999999999999,null,500,6.5000000000000002E-2,"كیلوگرم","حمل فراورده‌های فولادی توری، شبکه‌های فلزی، میخ، پرچ و الکترود",41110301,null,2,{"$f":"COUNTIF($S$1:S3890,Q3890+R3890)","v":2},"100203",0.01,100203.01]
["",null,null,null,null,null,"ضريب",null,"بهاي واحد","مقـدار","واحــد","نيروي انساني ",null,null,"رديف",{"$f":"COUNTIF($S$1:S3894,Q3894+R3894)","v":0},"100204",1E-8,""]
[100204.00000003001,null,5.1500000000000004E-2,1,3802.8115000000003,null,1.03,null,73841,0.05,"نفر ساعت","کمک جوشکار اسکلت",14070302,null,3,{"$f":"COUNTIF($S$1:S3897,Q3897+R3897)","v":3},"100204",1E-8,100204.00000001]
[100204.00000004,null,4.1200000000000004E-3,1,248.42363999999998,null,1.03,null,60297,4.0000000000000001E-3,"نفر ساعت","کمک نقاش",14200103,null,4,{"$f":"COUNTIF($S$1:S3898,Q3898+R3898)","v":4},"100204",1E-8,100204.00000001]
[100204.00000099999,null,3.8E-3,1,6049.9496000000008,null,1.9,null,1592092,2E-3,"دستگاه ساعت","جرثقیل خودرو چرخ لاستیکی حدود 60 تن با راننده",24010307,null,1,{"$f":"COUNTIF($S$1:S3900,Q3900+R3900)","v":1},"100204",9.9999999999999995E-7,100204.00000099999]
[100204.0001,null,4.2040000000000001E-2,1,1871.6207999999999,null,1.0509999999999999,null,44520,0.04,"كیلوگرم","الکترود معمولی",31230101,null,1,{"$f":"COUNTIF($S$1:S3903,Q3903+R3903)","v":1},"100204",1E-4,100204.0001]
[100204.00049999999,null,2.6275E-2,1,2469.85,null,1.0509999999999999,null,94000,2.5000000000000001E-2,"كیلوگرم","پیچ و مهره معمولی (سخت) 10/9",31430803,null,5,{"$f":"COUNTIF($S$1:S3907,Q3907+R3907)","v":5},"100204",1E-4,100204.0001]
[100204.02,null,6.8315000000000001E-2,1,34.157499999999999,null,1.0509999999999999,null,500,6.5000000000000002E-2,"كیلوگرم","حمل فراورده‌های فولادی توری، شبکه‌های فلزی، میخ، پرچ و الکترود",41110301,null,2,{"$f":"COUNTIF($S$1:S3910,Q3910+R3910)","v":2},"100204",0.01,100204.01]
[{"$f":"IF(M3913<>\"\",Q3913+(P3913*R3913),\"\")","v":""},null,null,null,null,null,null,null,null,null,null,"كیلوگرم",null,null,"واحـد :",{"$f":"COUNTIF($S$1:S3913,Q3913+R3913)","v":0},"100302",0.01,""]
[100302.00000003001,null,7.8539999999999999E-3,1,512.95259399999998,null,1.19,null,65311,6.6E-3,"نفر- ساعت","کارگر نقشه‌برداري (ميرکش)",12030104,null,3,{"$f":"COUNTIF($S$1:S3917,Q3917+R3917)","v":3},"100302",1E-8,100302.00000001]
[100302.00000006,null,1.4364E-2,1,949.10130000000004,null,1.89,null,66075,7.6E-3,"نفر ساعت","سر کارگر",14010101,null,6,{"$f":"COUNTIF($S$1:S3920,Q3920+R3920)","v":6},"100302",1E-8,100302.00000001]
[100302.00000006999,null,2.494E-2,1,1421.9042199999999,null,1.45,null,57013,1.72E-2,"نفر- ساعت","كارگر ساده",14010102,null,7,{"$f":"COUNTIF($S$1:S3921,Q3921+R3921)","v":7},"100302",1E-8,100302.00000001]
["",null,null,null,null,null,"ضريب",null,"بهاي واحد","مقـدار","واحــد","ماشين آلات ",null,null,"رديف",{"$f":"COUNTIF($S$1:S3925,Q3925+R3925)","v":0},"100302",9.9999999999999995E-7,""]
[100302.00000099999,null,1.52E-2,1,2156.5304000000001,null,1,null,141877,1.52E-2,"دستگاه ساعت","ماشین سواری لندرور یا مشابه با راننده",23010301,null,1,{"$f":"COUNTIF($S$1:S3926,Q3926+R3926)","v":1},"100302",9.9999999999999995E-7,100302.00000099999]
[100302.00000499999,null,6.0192000000000006E-3,1,697.72158720000004,null,0.91200000000000003,null,115916,6.6E-3,"دستگاه ساعت","دوربین نقشه برداری 3600 Trimble همراه با ژالون، منشور، سه پایه",28230405,null,5,{"$f":"COUNTIF($S$1:S3930,Q3930+R3930)","v":5},"100302",9.9999999999999995E-7,100302.00000099999]
[100302.00019999999,null,0.78320000000000012,1,20661.599200000004,null,1,null,26381,0.78320000000000012,"كیلوگرم","انواع تیرآهن",31240101,null,2,{"$f":"COUNTIF($S$1:S3933,Q3933+R3933)","v":2},"100302",1E-4,100302.0001]
["",null,null,null,null,null,"ضريب",null,"بهاي واحد","مقـدار","واحــد"," حمل مصالح ",null,null,"رديف",{"$f":"COUNTIF($S$1:S3936,Q3936+R3936)","v":0},"100302",0.01,""]
["",null,null,null,null,null,"ضريب",null,"بهاي واحد","مقـدار","واحــد","نيروي انساني ",null,null,"رديف",{"$f":"COUNTIF($S$1:S3940,Q3940+R3940)","v":0},"100303",1E-8,""]
[100303.00000003001,null,8.9249999999999989E-3,1,582.90067499999998,null,1.19,null,65311,7.4999999999999997E-3,"نفر- ساعت","کارگر نقشه‌برداري (ميرکش)",12030104,null,3,{"$f":"COUNTIF($S$1:S3943,Q3943+R3943)","v":3},"100303",1E-8,100303.00000001]
[100303.00000004,null,1.1339999999999999E-2,1,1211.6563199999996,null,1.26,null,106848,8.9999999999999993E-3,"نفر ساعت","جوشکار درجه یک",13010401,null,4,{"$f":"COUNTIF($S$1:S3944,Q3944+R3944)","v":4},"100303",1E-8,100303.00000001]
[100303.00000006999,null,2.6245000000000001E-2,1,1496.3061849999999,null,1.45,null,57013,1.8100000000000002E-2,"نفر- ساعت","كارگر ساده",14010102,null,7,{"$f":"COUNTIF($S$1:S3947,Q3947+R3947)","v":7},"100303",1E-8,100303.00000001]
["",null,null,null,null,null,"ضريب",null,"بهاي واحد","مقـدار","واحــد","ماشين آلات ",null,null,"رديف",{"$f":"COUNTIF($S$1:S3950,Q3950+R3950)","v":0},"100303",9.9999999999999995E-7,""]
[100303.00000299999,null,2.5199999999999997E-2,1,402.31799999999998,null,2.8,null,15965,8.9999999999999993E-3,"دستگاه ساعت","ترانس جوشکاری تا400 آمپر",26020302,null,3,{"$f":"COUNTIF($S$1:S3953,Q3953+R3953)","v":3},"100303",9.9999999999999995E-7,100303.00000099999]
[100303.0001,null,1.2E-2,1,534.24,null,1,null,44520,1.2E-2,"كیلوگرم","الکترود معمولی",31230101,null,1,{"$f":"COUNTIF($S$1:S3956,Q3956+R3956)","v":1},"100303",1E-4,100303.0001]
[100303.01,null,1,1,164,null,1,null,164,1,"كیلوگرم","حمل مصالح فلزی مورد مصرف در سازه",41110101,null,1,{"$f":"COUNTIF($S$1:S3959,Q3959+R3959)","v":1},"100303",0.01,100303.01]
[100304.00000001,null,5,1,0,null,1,null,0,5,"درصد","درصد",19020199,null,1,{"$f":"COUNTIF($S$1:S3963,Q3963+R3963)","v":1},"100304",1E-8,100304.00000001]
["",null,null,null,null,null,"ضريب",null,"بهاي واحد","مقـدار","واحــد","مصالح",null,null,"رديف",{"$f":"COUNTIF($S$1:S3966,Q3966+R3966)","v":0},"100305",1E-4,""]
[100305.0001,null,-0.78320000000000012,1,-20661.599200000004,null,1,null,26381,-0.78320000000000012,"كیلوگرم","انواع تیرآهن",31240101,null,1,{"$f":"COUNTIF($S$1:S3967,Q3967+R3967)","v":1},"100305",1E-4,100305.0001]
["",null,null,null,null,null,null,null,null,null,null,"درصد",null,null,"واحـد :",{"$f":"COUNTIF($S$1:S3970,Q3970+R3970)","v":0},"100306",1E-4,""]
["",null,null,null,null,null,null,null,null,null,null,null,null,"100307",null,{"$f":"COUNTIF($S$1:S3973,Q3973+R3973)","v":0},"100307",1E-8,""]
[{"$f":"IF(M3977<>\"\",Q3977+(P3977*R3977),\"\")","v":""},null,null,null,null,null,null,null,null,null,null,null,null,"100403",null,{"$f":"COUNTIF($S$1:S3977,Q3977+R3977)","v":0},"100403",1E-8,""]
["",null,null,null,null,null,"ضريب",null,"بهاي واحد","مقـدار","واحــد","نيروي انساني ",null,null,"رديف",{"$f":"COUNTIF($S$1:S3979,Q3979+R3979)","v":0},"100403",1E-8,""]
[100403.00000099999,null,7.0000000000000007E-2,1,1241.8000000000002,null,1,null,17740,7.0000000000000007E-2,"دستگاه ساعت","موتور جوش100 تا150 آمپر",26020501,null,1,{"$f":"COUNTIF($S$1:S3983,Q3983+R3983)","v":1},"100403",9.9999999999999995E-7,100403.00000099999]
[100403.00019999999,null,1.05,1,21821.1,null,1,null,20782,1.05,"کیلو گرم","انواع نبشی",31240401,null,2,{"$f":"COUNTIF($S$1:S3986,Q3986+R3986)","v":2},"100403",1E-4,100403.0001]
["",null,null,null,null,null,null,null,null,null,null,null,null,"100502",null,{"$f":"COUNTIF($S$1:S3989,Q3989+R3989)","v":0},"100502",0.01,""]
["",null,null,null,null,null,null,null,null,null,null,"كیلوگرم",null,null,"واحـد :",{"$f":"COUNTIF($S$1:S3990,Q3990+R3990)","v":0},"100502",0.01,""]
["",null,null,null,null,null,"ضريب",null,"بهاي واحد","مقـدار","واحــد","ماشين آلات ",null,null,"رديف",{"$f":"COUNTIF($S$1:S3993,Q3993+R3993)","v":0},"100502",9.9999999999999995E-7,""]
["",null,null,null,null,null,"ضريب",null,"بهاي واحد","مقـدار","واحــد","مصالح",null,null,"رديف",{"$f":"COUNTIF($S$1:S3996,Q3996+R3996)","v":0},"100502",1E-4,""]
["",null,null,null,null,null,null,null,null,null,null,null,null,"100503",null,{"$f":"COUNTIF($S$1:S4000,Q4000+R4000)","v":0},"100503",0.01,""]
["",null,null,null,null,null,"ضريب",null,"بهاي واحد","مقـدار","واحــد","نيروي انساني ",null,null,"رديف",{"$f":"COUNTIF($S$1:S4002,Q4002+R4002)","v":0},"100503",1E-8,""]
[100503.000002,null,1E-4,1,29.1891,null,1,null,291891,1E-4,"دستگاه ساعت","جرثقیل کفی5 تن با کامیون10 تن با راننده",24010104,null,2,{"$f":"COUNTIF($S$1:S4006,Q4006+R4006)","v":2},"100503",9.9999999999999995E-7,100503.00000099999]
["",null,null,null,null,null,"ضريب",null,"بهاي واحد","مقـدار","واحــد"," حمل مصالح ",null,null,"رديف",{"$f":"COUNTIF($S$1:S4009,Q4009+R4009)","v":0},"100503",0.01,""]
["",null,null,null,null,null,null,null,null,null,null,"كیلوگرم",null,null,"واحـد :",{"$f":"COUNTIF($S$1:S4012,Q4012+R4012)","v":0},"100504",0.01,""]
["",null,null,null,null,null,"ضريب",null,"بهاي واحد","مقـدار","واحــد","نيروي انساني ",null,null,"رديف",{"$f":"COUNTIF($S$1:S4013,Q4013+R4013)","v":0},"100504",1E-8,""]
[100504.00000003001,null,1.0200000000000001E-3,1,101.56139999999999,null,1.02,null,99570,1E-3,"نفر ساعت","جوشکار اسکلت",14070301,null,3,{"$f":"COUNTIF($S$1:S4016,Q4016+R4016)","v":3},"100504",1E-8,100504.00000001]
["",null,null,null,null,null,"ضريب",null,"بهاي واحد","مقـدار","واحــد","ماشين آلات ",null,null,"رديف",{"$f":"COUNTIF($S$1:S4019,Q4019+R4019)","v":0},"100504",9.9999999999999995E-7,""]
[100504.000004,null,7.3440000000000002E-5,1,2.1931387199999999,null,1.02,null,29863,7.2000000000000002E-5,"عدد","بهای پرکردن کپسول 11 کیلویی  بوتان وپروپان",28992702,null,4,{"$f":"COUNTIF($S$1:S4023,Q4023+R4023)","v":4},"100504",9.9999999999999995E-7,100504.00000099999]
[100504.00019999999,null,1.0404,1,28090.799999999999,null,1.02,null,27000,1.02,"كیلوگرم","لوله غلاف (کیسینگ)",31240801,null,2,{"$f":"COUNTIF($S$1:S4026,Q4026+R4026)","v":2},"100504",1E-4,100504.0001]
["",null,null,null,null,null,null,null,null,null,null,null,null,"100505",null,{"$f":"COUNTIF($S$1:S4029,Q4029+R4029)","v":0},"100505",0.01,""]
[100505.00000001,null,1.8564000000000001E-2,1,1756.5628080000001,null,1.02,null,94622,1.8200000000000001E-2,"نفر ساعت","آهنگر در و پنجره ساز درجه یک",14080101,null,1,{"$f":"COUNTIF($S$1:S4032,Q4032+R4032)","v":1},"100505",1E-8,100505.00000001]
["",null,null,null,null,null,"ضريب",null,"بهاي واحد","مقـدار","واحــد","ماشين آلات ",null,null,"رديف",{"$f":"COUNTIF($S$1:S4035,Q4035+R4035)","v":0},"100505",9.9999999999999995E-7,""]
[100505.00000099999,null,0.1479,1,5247.1961999999985,null,1.02,null,35478,0.14499999999999999,"دستگاه ساعت","موتور جوش150 تا250 آمپر",26020502,null,1,{"$f":"COUNTIF($S$1:S4036,Q4036+R4036)","v":1},"100505",9.9999999999999995E-7,100505.00000099999]
[100505.0001,null,2.0400000000000001E-2,1,908.20800000000008,null,1.02,null,44520,0.02,"كیلوگرم","الکترود معمولی",31230101,null,1,{"$f":"COUNTIF($S$1:S4039,Q4039+R4039)","v":1},"100505",{"$f":"IF(IF(O4039=\"رديف\",VLOOKUP(L4039,Kod,2,0),0)=0,R4038,IF(O4039=\"رديف\",VLOOKUP(L4039,Kod,2,0),0))","v":1E-4},100505.0001]
["",null,null,null,null,null,null,null,null,null,null,null,null,"100506",null,{"$f":"COUNTIF($S$1:S4043,Q4043+R4043)","v":0},"100506",0.01,""]
[100506.00000001,null,2.3999999999999998E-3,1,307.76159999999999,null,1,null,128234,2.3999999999999998E-3,"نفر ساعت","اسکلت ساز درجه یک",14070201,null,1,{"$f":"COUNTIF($S$1:S4046,Q4046+R4046)","v":1},"100506",1E-8,100506.00000001]
[100506.00000004,null,1.01E-2,1,1005.6569999999999,null,1,null,99570,1.01E-2,"نفر ساعت","جوشکار اسکلت",14070301,null,4,{"$f":"COUNTIF($S$1:S4049,Q4049+R4049)","v":4},"100506",1E-8,100506.00000001]
[100506.00000099999,null,6.9999999999999988E-4,1,170.88399999999999,null,1,null,244120,6.9999999999999988E-4,"دستگاه-ساعت","جرثقیل کفی 3 تن باکامیون 5 تن با راننده",24010102,null,1,{"$f":"COUNTIF($S$1:S4053,Q4053+R4053)","v":1},"100506",9.9999999999999995E-7,100506.00000099999]
[100506.000002,null,1.1999999999999999E-3,1,350.26919999999996,null,1,null,291891,1.1999999999999999E-3,"دستگاه ساعت","جرثقیل کفی5 تن با کامیون10 تن با راننده",24010104,null,2,{"$f":"COUNTIF($S$1:S4054,Q4054+R4054)","v":2},"100506",9.9999999999999995E-7,100506.00000099999]
[100506.000006,null,6.9999999999999988E-4,1,20.9041,null,1,null,29863,6.9999999999999988E-4,"عدد","بهای پرکردن کپسول 11 کیلویی  بوتان وپروپان",28992702,null,6,{"$f":"COUNTIF($S$1:S4058,Q4058+R4058)","v":6},"100506",9.9999999999999995E-7,100506.00000099999]
["",null,null,null,null,null,"ضريب",null,"بهاي واحد","مقـدار","واحــد","مصالح",null,null,"رديف",{"$f":"COUNTIF($S$1:S4059,Q4059+R4059)","v":0},{"$f":"IF(N4059>0,N4059,Q4058)","v":"100506"},1E-4,{"$f":"IF(M4059<>\"\",Q4059+R4059,\"\")","v":""}]
[100506.0003,null,0.26,1,5403.32,null,1,null,20782,0.26,"کیلو گرم","انواع نبشی",31240401,null,3,{"$f":"COUNTIF($S$1:S4062,Q4062+R4062)","v":3},"100506",1E-4,100506.0001]
[100506.01,null,1.04,1,170.56,null,1,null,164,1.04,"كیلوگرم","حمل مصالح فلزی مورد مصرف در سازه",41110101,null,1,{"$f":"COUNTIF($S$1:S4066,Q4066+R4066)","v":1},"100506",0.01,100506.01]
["",null,null,null,null,null,null,null,null,null,null,"كیلوگرم",null,null,"واحـد :",{"$f":"COUNTIF($S$1:S4069,Q4069+R4069)","v":0},"100507",0.01,""]
[100507.00000001999,null,1.3999999999999998E-3,1,139.39799999999997,null,1,null,99570,1.3999999999999998E-3,"نفر ساعت","اسکلت ساز درجه دو",14070202,null,2,{"$f":"COUNTIF($S$1:S4072,Q4072+R4072)","v":2},"100507",1E-8,100507.00000001]
[100507.00000006,null,4.5999999999999999E-3,1,412.5188,null,1,null,89678,4.5999999999999999E-3,"نفر ساعت","برشکار",14070401,null,6,{"$f":"COUNTIF($S$1:S4076,Q4076+R4076)","v":6},"100507",1E-8,100507.00000001]
[100507.000002,null,1.1999999999999999E-3,1,350.26919999999996,null,1,null,291891,1.1999999999999999E-3,"دستگاه ساعت","جرثقیل کفی5 تن با کامیون10 تن با راننده",24010104,null,2,{"$f":"COUNTIF($S$1:S4079,Q4079+R4079)","v":2},"100507",9.9999999999999995E-7,100507.00000099999]
[100507.000004,null,1.6000000000000001E-3,1,80,null,1,null,50000,1.6000000000000001E-3,"عدد","سنگ ساب اهن",28040701,null,4,{"$f":"COUNTIF($S$1:S4081,Q4081+R4081)","v":4},"100507",9.9999999999999995E-7,100507.00000099999]
[100507.00000499999,null,1.3999999999999998E-3,1,201.26259999999999,null,1,null,143759,1.3999999999999998E-3,"عدد","بهای پرکردن کپسول 40 لیتری   اکسیژن",28992701,null,5,{"$f":"COUNTIF($S$1:S4082,Q4082+R4082)","v":5},"100507",9.9999999999999995E-7,100507.00000099999]
[100507.0001,null,0.52,1,10920,null,1,null,21000,0.52,"كیلوگرم","سپر فلزی",31240901,null,1,{"$f":"COUNTIF($S$1:S4085,Q4085+R4085)","v":1},"100507",1E-4,100507.0001]
[100507.01,null,1.04,1,170.56,null,1,null,164,1.04,"كیلوگرم","حمل مصالح فلزی مورد مصرف در سازه",41110101,null,1,{"$f":"COUNTIF($S$1:S4089,Q4089+R4089)","v":1},"100507",0.01,100507.01]
["",null,null,null,null,null,null,null,null,null,null,"كیلوگرم",null,null,"واحـد :",{"$f":"COUNTIF($S$1:S4092,Q4092+R4092)","v":0},"110102",0.01,""]
[110102.00000001999,null,1.4663000000000001E-2,1,1387.4423860000002,null,1.1000000000000001,null,94622,1.333E-2,"نفر ساعت","آهنگر در و پنجره ساز درجه یک",14080101,null,2,{"$f":"COUNTIF($S$1:S4095,Q4095+R4095)","v":2},"110102",1E-8,110102.00000001]
[110102.0001,null,0.24618000000000001,1,6494.474580000001,null,1.1000000000000001,null,26381,0.2238,"كیلوگرم","انواع تیرآهن",31240101,null,1,{"$f":"COUNTIF($S$1:S4099,Q4099+R4099)","v":1},"110102",1E-4,110102.0001]
["",null,null,null,null,null,"ضريب",null,"بهاي واحد","مقـدار","واحــد"," حمل مصالح ",null,null,"رديف",{"$f":"COUNTIF($S$1:S4102,Q4102+R4102)","v":0},"110102",0.01,""]
[110102.02,null,0.81359999999999999,1,157.0248,null,1,null,193,0.81359999999999999,"كیلوگرم","حمل پروفیل های فولادی در و پنجره",41110201,null,2,{"$f":"COUNTIF($S$1:S4104,Q4104+R4104)","v":2},"110102",0.01,110102.01]
[{"$f":"IF(M4105<>\"\",Q4105+(P4105*R4105),\"\")","v":""},null,null,null,null,null,null,null,null,null,null,null,null,"110103",null,{"$f":"COUNTIF($S$1:S4105,Q4105+R4105)","v":0},"110103",0.01,""]
[110103.00000001,null,1.6E-2,1,912.20800000000008,null,1,null,57013,1.6E-2,"نفر- ساعت","كارگر ساده",14010102,null,1,{"$f":"COUNTIF($S$1:S4108,Q4108+R4108)","v":1},"110103",1E-8,110103.00000001]
["",null,null,null,null,null,"ضريب",null,"بهاي واحد","مقـدار","واحــد","مصالح",null,null,"رديف",{"$f":"COUNTIF($S$1:S4112,Q4112+R4112)","v":0},"110103",1E-4,""]
[110103.0003,null,1.04,1,26000,null,1,null,25000,1.04,"كیلوگرم","تسمه تخت (بریده شده)",39050601,null,3,{"$f":"COUNTIF($S$1:S4115,Q4115+R4115)","v":3},"110103",1E-4,110103.0001]
[110103.02,null,0.01,1,5,null,1,null,500,0.01,"كیلوگرم","حمل فراورده‌های فولادی توری، شبکه‌های فلزی، میخ، پرچ و الکترود",41110301,null,2,{"$f":"COUNTIF($S$1:S4118,Q4118+R4118)","v":2},"110103",0.01,110103.01]
[110104.00000001,null,0.02,1,1140.26,null,1,null,57013,0.02,"نفر- ساعت","كارگر ساده",14010102,null,1,{"$f":"COUNTIF($S$1:S4122,Q4122+R4122)","v":1},"110104",1E-8,110104.00000001]
["",null,null,null,null,null,"ضريب",null,"بهاي واحد","مقـدار","واحــد","مصالح",null,null,"رديف",{"$f":"COUNTIF($S$1:S4125,Q4125+R4125)","v":0},"110104",1E-4,""]
[110104.0001,null,1.08,1,27000,null,1,null,25000,1.08,"كیلوگرم","تسمه تخت (بریده شده)",39050601,null,1,{"$f":"COUNTIF($S$1:S4126,Q4126+R4126)","v":1},"110104",1E-4,110104.0001]
["",null,null,null,null,null,null,null,null,null,null,null,null,"110105",null,{"$f":"COUNTIF($S$1:S4129,Q4129+R4129)","v":0},"110105",0.01,""]
["",null,null,null,null,null,"ضريب",null,"بهاي واحد","مقـدار","واحــد","نيروي انساني ",null,null,"رديف",{"$f":"COUNTIF($S$1:S4131,Q4131+R4131)","v":0},"110105",1E-8,""]
["",null,null,null,null,null,null,null,null,null,null,null,null,"110201",null,{"$f":"COUNTIF($S$1:S4135,Q4135+R4135)","v":0},"110201",0.01,""]
[110201.00000001,null,3.1108E-2,1,1773.5604040000001,null,1.01,null,57013,3.0800000000000001E-2,"نفر- ساعت","كارگر ساده",14010102,null,1,{"$f":"COUNTIF($S$1:S4138,Q4138+R4138)","v":1},"110201",1E-8,110201.00000001]
[110201.00000005,null,4.7470000000000004E-3,1,449.17063400000001,null,1.01,null,94622,4.7000000000000002E-3,"نفر ساعت","آهنگر در و پنجره ساز درجه یک",14080101,null,5,{"$f":"COUNTIF($S$1:S4142,Q4142+R4142)","v":5},"110201",1E-8,110201.00000001]
["",null,null,null,null,null,"ضريب",null,"بهاي واحد","مقـدار","واحــد","ماشين آلات ",null,null,"رديف",{"$f":"COUNTIF($S$1:S4145,Q4145+R4145)","v":0},"110201",9.9999999999999995E-7,""]
[110201.00000299999,null,2.3633999999999999E-2,1,838.48705199999984,null,1.01,null,35478,2.3399999999999997E-2,"دستگاه ساعت","موتور جوش150 تا250 آمپر",26020502,null,3,{"$f":"COUNTIF($S$1:S4148,Q4148+R4148)","v":3},"110201",9.9999999999999995E-7,110201.00000099999]
[110201.000004,null,2.5249999999999999E-3,1,126.25,null,1.01,null,50000,2.5000000000000001E-3,"عدد","سنگ ساب اهن",28040701,null,4,{"$f":"COUNTIF($S$1:S4149,Q4149+R4149)","v":4},"110201",9.9999999999999995E-7,110201.00000099999]
[110201.00019999999,null,1.0504,1,28886,null,1.01,null,27500,1.04,"کیلو گرم","پروفیل و قوطی معمولی",39060101,null,2,{"$f":"COUNTIF($S$1:S4152,Q4152+R4152)","v":2},"110201",1E-4,110201.0001]
["",null,null,null,null,null,null,null,null,null,null,"كیلوگرم",null,null,"واحـد :",{"$f":"COUNTIF($S$1:S4156,Q4156+R4156)","v":0},"110202",0.01,""]
[110202.00000001,null,5.373402E-2,1,3063.5376822600001,null,1.01,null,57013,5.3201999999999999E-2,"نفر- ساعت","كارگر ساده",14010102,null,1,{"$f":"COUNTIF($S$1:S4158,Q4158+R4158)","v":1},"110202",1E-8,110202.00000001]
[110202.00000004,null,2.3189600000000001E-2,1,1486.6620664000002,null,1.01,null,64109,2.2960000000000001E-2,"نفر ساعت","کمک بنای سفت کار",14020103,null,4,{"$f":"COUNTIF($S$1:S4161,Q4161+R4161)","v":4},"110202",1E-8,110202.00000001]
["",null,null,null,null,null,"ضريب",null,"بهاي واحد","مقـدار","واحــد","ماشين آلات ",null,null,"رديف",{"$f":"COUNTIF($S$1:S4165,Q4165+R4165)","v":0},"110202",9.9999999999999995E-7,""]
["",null,null,null,null,null,"ضريب",null,"بهاي واحد","مقـدار","واحــد","مصالح",null,null,"رديف",{"$f":"COUNTIF($S$1:S4168,Q4168+R4168)","v":0},"110202",1E-4,""]
[110202.0003,null,5.2186700000000003E-2,1,1398.6035600000002,null,1.01,null,26800,5.1670000000000001E-2,"كیلوگرم","انواع ناودانی",31240301,null,3,{"$f":"COUNTIF($S$1:S4171,Q4171+R4171)","v":3},"110202",1E-4,110202.0001]
[110202.0004,null,0.13971330000000001,1,2903.5218006,null,1.01,null,20782,0.13833000000000001,"کیلو گرم","انواع نبشی",31240401,null,4,{"$f":"COUNTIF($S$1:S4172,Q4172+R4172)","v":4},"110202",1E-4,110202.0001]
[110202.0007,null,0.10478749999999999,1,3080.6477125000001,null,1.01,null,29399,0.10375,"كیلوگرم","لوله فولادی سیاه درزداربه قطرنامی یک و یک دوم اینچ",32010105,null,7,{"$f":"COUNTIF($S$1:S4175,Q4175+R4175)","v":7},"110202",1E-4,110202.0001]
["",null,null,null,null,null,"ضريب",null,"بهاي واحد","مقـدار","واحــد"," حمل مصالح ",null,null,"رديف",{"$f":"COUNTIF($S$1:S4179,Q4179+R4179)","v":0},"110202",0.01,""]
[110202.02,null,0.13833000000000001,1,26.697690000000001,null,1,null,193,0.13833000000000001,"كیلوگرم","حمل پروفیل های فولادی در و پنجره",41110201,null,2,{"$f":"COUNTIF($S$1:S4181,Q4181+R4181)","v":2},"110202",0.01,110202.01]
["",null,null,null,null,null,null,null,null,null,null,"كیلوگرم",null,null,"واحـد :",{"$f":"COUNTIF($S$1:S4184,Q4184+R4184)","v":0},"110203",0.01,""]
["",null,null,null,null,null,"ضريب",null,"بهاي واحد","مقـدار","واحــد","ماشين آلات ",null,null,"رديف",{"$f":"COUNTIF($S$1:S4188,Q4188+R4188)","v":0},"110203",9.9999999999999995E-7,""]
["",null,null,null,null,null,"ضريب",null,"بهاي واحد","مقـدار","واحــد","مصالح",null,null,"رديف",{"$f":"COUNTIF($S$1:S4191,Q4191+R4191)","v":0},"110203",1E-4,""]
[110203.0003,null,0.52500000000000002,1,10910.55,null,1,null,20782,0.52500000000000002,"کیلو گرم","انواع نبشی",31240401,null,3,{"$f":"COUNTIF($S$1:S4194,Q4194+R4194)","v":3},"110203",1E-4,110203.0001]
["",null,null,null,null,null,"ضريب",null,"بهاي واحد","مقـدار","واحــد"," حمل مصالح ",null,null,"رديف",{"$f":"COUNTIF($S$1:S4195,Q4195+R4195)","v":0},"110203",0.01,""]
["",null,null,null,null,null,null,null,null,null,null,"كیلوگرم",null,null,"واحـد :",{"$f":"COUNTIF($S$1:S4198,Q4198+R4198)","v":0},"110204",0.01,""]
["",null,null,null,null,null,"ضريب",null,"بهاي واحد","مقـدار","واحــد","ماشين آلات ",null,null,"رديف",{"$f":"COUNTIF($S$1:S4202,Q4202+R4202)","v":0},"110204",9.9999999999999995E-7,""]
["",null,null,null,null,null,"ضريب",null,"بهاي واحد","مقـدار","واحــد","مصالح",null,null,"رديف",{"$f":"COUNTIF($S$1:S4205,Q4205+R4205)","v":0},"110204",1E-4,""]
["",null,null,null,null,null,"ضريب",null,"بهاي واحد","مقـدار","واحــد"," حمل مصالح ",null,null,"رديف",{"$f":"COUNTIF($S$1:S4208,Q4208+R4208)","v":0},"110204",0.01,""]
["",null,null,null,null,null,null,null,null,null,null,null,null,"110205",null,{"$f":"COUNTIF($S$1:S4211,Q4211+R4211)","v":0},"110205",0.01,""]
[110205.00000001,null,7.4074000000000001E-2,1,4223.1809619999995,null,1,null,57013,7.4074000000000001E-2,"نفر- ساعت","كارگر ساده",14010102,null,1,{"$f":"COUNTIF($S$1:S4214,Q4214+R4214)","v":1},"110205",1E-8,110205.00000001]
[110205.00000004,null,1.3332999999999999E-2,1,784.50038699999993,null,1,null,58839,1.3332999999999999E-2,"نفر ساعت","کمک آهنگر در و پنجره ساز",14080103,null,4,{"$f":"COUNTIF($S$1:S4217,Q4217+R4217)","v":4},"110205",1E-8,110205.00000001]
["",null,null,null,null,null,"ضريب",null,"بهاي واحد","مقـدار","واحــد","ماشين آلات ",null,null,"رديف",{"$f":"COUNTIF($S$1:S4218,Q4218+R4218)","v":0},"110205",9.9999999999999995E-7,""]
["",null,null,null,null,null,"ضريب",null,"بهاي واحد","مقـدار","واحــد","مصالح",null,null,"رديف",{"$f":"COUNTIF($S$1:S4221,Q4221+R4221)","v":0},"110205",1E-4,""]
[110205.01,null,1.0189999999999999,1,509.5,null,1,null,500,1.0189999999999999,"كیلوگرم","حمل فراورده‌های فولادی توری، شبکه‌های فلزی، میخ، پرچ و الکترود",41110301,null,1,{"$f":"COUNTIF($S$1:S4225,Q4225+R4225)","v":1},"110205",0.01,110205.01]
["",null,null,null,null,null,"ضريب",null,"بهاي واحد","مقـدار","واحــد","نيروي انساني ",null,null,"رديف",{"$f":"COUNTIF($S$1:S4228,Q4228+R4228)","v":0},"110206",1E-8,""]
["",null,null,null,null,null,"ضريب",null,"بهاي واحد","مقـدار","واحــد","مصالح",null,null,"رديف",{"$f":"COUNTIF($S$1:S4231,Q4231+R4231)","v":0},"110206",{"$f":"IF(IF(O4231=\"رديف\",VLOOKUP(L4231,Kod,2,0),0)=0,R4230,IF(O4231=\"رديف\",VLOOKUP(L4231,Kod,2,0),0))","v":1E-4},""]
[{"$f":"IF(M4233<>\"\",Q4233+(P4233*R4233),\"\")","v":110206.00019999999},null,1,1,35000,null,1,null,35000,1,"كیلوگرم","سیم خاردار2*2.5",31290801,null,2,{"$f":"COUNTIF($S$1:S4233,Q4233+R4233)","v":2},"110206",1E-4,110206.0001]
["",null,null,null,null,null,null,null,null,null,null,null,null,"110207",null,{"$f":"COUNTIF($S$1:S4237,Q4237+R4237)","v":0},"110207",0.01,""]
["",null,null,null,null,null,null,null,null,null,null,"كیلوگرم",null,null,"واحـد :",{"$f":"COUNTIF($S$1:S4238,Q4238+R4238)","v":0},"110207",0.01,""]
[110207.00000001999,null,3.2659200000000007E-3,1,288.47218176000001,null,1.05,null,88328,3.1104000000000006E-3,"نفر ساعت","بنای سفت کار درجه یک",14020101,null,2,{"$f":"COUNTIF($S$1:S4241,Q4241+R4241)","v":2},"110207",1E-8,110207.00000001]
[110207.00000005,null,6.5116799999999989E-3,1,616.14818495999998,null,1.05,null,94622,6.201599999999999E-3,"نفر ساعت","آهنگر در و پنجره ساز درجه یک",14080101,null,5,{"$f":"COUNTIF($S$1:S4244,Q4244+R4244)","v":5},"110207",1E-8,110207.00000001]
[110207.00000099999,null,2.5500000000000002E-3,1,267.96929999999998,null,1,null,105086,2.5500000000000002E-3,"دستگاه ساعت","تراکتور جفت دیفرانسیل با راننده",23020802,null,1,{"$f":"COUNTIF($S$1:S4248,Q4248+R4248)","v":1},"110207",9.9999999999999995E-7,110207.00000099999]
[110207.0001,null,4.0000000000000001E-3,1,178.08,null,1,null,44520,4.0000000000000001E-3,"كیلوگرم","الکترود معمولی",31230101,null,1,{"$f":"COUNTIF($S$1:S4251,Q4251+R4251)","v":1},{"$f":"IF(N4251>0,N4251,Q4250)","v":"110207"},1E-4,{"$f":"IF(M4251<>\"\",Q4251+R4251,\"\")","v":110207.0001}]
[110207.0004,null,0.41499999999999998,1,8624.5300000000007,null,1,null,20782,0.41499999999999998,"کیلو گرم","انواع نبشی",31240401,null,4,{"$f":"COUNTIF($S$1:S4254,Q4254+R4254)","v":4},"110207",1E-4,110207.0001]
[110207.02,null,4.0000000000000001E-3,1,2,null,1,null,500,4.0000000000000001E-3,"كیلوگرم","حمل فراورده‌های فولادی توری، شبکه‌های فلزی، میخ، پرچ و الکترود",41110301,null,2,{"$f":"COUNTIF($S$1:S4258,Q4258+R4258)","v":2},"110207",0.01,110207.01]
["",null,null,null,null,null,null,null,null,null,null,"كیلوگرم",null,null,"واحـد :",{"$f":"COUNTIF($S$1:S4260,Q4260+R4260)","v":0},"110208",0.01,""]
["",null,null,null,null,null,"ضريب",null,"بهاي واحد","مقـدار","واحــد","نيروي انساني ",null,null,"رديف",{"$f":"COUNTIF($S$1:S4261,Q4261+R4261)","v":0},"110208",1E-8,""]
[110208.00000003001,null,2.5256000000000004E-2,1,1870.9897360000004,null,1.1000000000000001,null,74081,2.2960000000000001E-2,"نفر - ساعت","بنای سفت کار درجه دو",14020102,null,3,{"$f":"COUNTIF($S$1:S4264,Q4264+R4264)","v":3},"110208",1E-8,110208.00000001]
[110208.00000006,null,4.5677500000000003E-2,1,3583.4455525000003,null,1.1000000000000001,null,78451,4.1524999999999999E-2,"نفر ساعت","آهنگر در و پنجره ساز درجه دو",14080102,null,6,{"$f":"COUNTIF($S$1:S4267,Q4267+R4267)","v":6},"110208",1E-8,110208.00000001]
[110208.000002,null,3.4628000000000007E-3,1,143.3668456,null,1.1000000000000001,null,41402,3.1480000000000002E-3,"دستگاه-ساعت","تریلر کفی به ظرفیت حدود 5  تن بدون کشنده",23020901,null,2,{"$f":"COUNTIF($S$1:S4271,Q4271+R4271)","v":2},"110208",9.9999999999999995E-7,110208.00000099999]
[110208.00019999999,null,1.9063000000000004E-2,1,502.90100300000012,null,1.1000000000000001,null,26381,1.7330000000000002E-2,"كیلوگرم","انواع تیرآهن",31240101,null,2,{"$f":"COUNTIF($S$1:S4274,Q4274+R4274)","v":2},"110208",1E-4,110208.0001]
[110208.00049999999,null,0.15216300000000002,1,4077.9684000000007,null,1.1000000000000001,null,26800,0.13833000000000001,"كیلوگرم","سپری",31240501,null,5,{"$f":"COUNTIF($S$1:S4277,Q4277+R4277)","v":5},"110208",1E-4,110208.0001]
[110208.0009,null,0.19019000000000003,1,8140.1320000000014,null,1.1000000000000001,null,42800,0.1729,"كیلوگرم","لوله گالوانیزه به قطر نامی یک و یک دوم اینچ",32010305,null,9,{"$f":"COUNTIF($S$1:S4281,Q4281+R4281)","v":9},"110208",1E-4,110208.0001]
[110208.01,null,0.38623970000000007,1,63.343310800000012,null,1.1000000000000001,null,164,0.35112700000000002,"كیلوگرم","حمل مصالح فلزی مورد مصرف در سازه",41110101,null,1,{"$f":"COUNTIF($S$1:S4284,Q4284+R4284)","v":1},"110208",0.01,110208.01]
[110208.02,null,0.15216300000000002,1,29.367459000000007,null,1.1000000000000001,null,193,0.13833000000000001,"كیلوگرم","حمل پروفیل های فولادی در و پنجره",41110201,null,2,{"$f":"COUNTIF($S$1:S4285,Q4285+R4285)","v":2},"110208",0.01,110208.01]
["",null,null,null,null,null,null,null,null,null,null,null,null,"110301",null,{"$f":"COUNTIF($S$1:S4287,Q4287+R4287)","v":0},"110301",0.01,""]
[110301.00000001,null,2.4714700000000003E-2,1,2663.4537896000002,null,1.01,null,107768,2.4470000000000002E-2,"نفر ساعت","چدنکار درجه یک",15010401,null,1,{"$f":"COUNTIF($S$1:S4290,Q4290+R4290)","v":1},"110301",1E-8,110301.00000001]
[110301.0001,null,5.1409000000000003E-2,1,1692.795552,null,1.01,null,32928,5.0900000000000001E-2,"كیلوگرم","لگنچه و درپوش چدنی",31290701,null,1,{"$f":"COUNTIF($S$1:S4294,Q4294+R4294)","v":1},"110301",1E-4,110301.0001]
[{"$f":"IF(M4297<>\"\",Q4297+(P4297*R4297),\"\")","v":110301.0004},null,0.99646599999999996,1,35075.603199999998,null,1.01,null,35200,0.98659999999999992,"كیلوگرم","لوله چدنی بدون سرکاسه به قطرنامی150 میلیمتر",32020205,null,4,{"$f":"COUNTIF($S$1:S4297,Q4297+R4297)","v":4},"110301",1E-4,110301.0001]
["",null,null,null,null,null,null,null,null,null,null,"كیلوگرم",null,null,"واحـد :",{"$f":"COUNTIF($S$1:S4301,Q4301+R4301)","v":0},"110302",0.01,""]
[110302.00000001999,null,1.4234999999999999E-2,1,1257.3490800000002,null,1,null,88328,1.4234999999999999E-2,"نفر ساعت","بنای سفت کار درجه یک",14020101,null,2,{"$f":"COUNTIF($S$1:S4304,Q4304+R4304)","v":2},"110302",1E-8,110302.00000001]
["",null,null,null,null,null,"ضريب",null,"بهاي واحد","مقـدار","واحــد","ماشين آلات ",null,null,"رديف",{"$f":"COUNTIF($S$1:S4307,Q4307+R4307)","v":0},"110302",9.9999999999999995E-7,""]
[110302.00000099999,null,1.2689999999999999E-3,1,133.35413399999999,null,1,null,105086,1.2689999999999999E-3,"دستگاه ساعت","تراکتور جفت دیفرانسیل با راننده",23020802,null,1,{"$f":"COUNTIF($S$1:S4308,Q4308+R4308)","v":1},"110302",9.9999999999999995E-7,110302.00000099999]
[110302.00019999999,null,1,1,33000,null,1,null,33000,1,"كیلوگرم","دریچه چدنی حوضچه‌ها و منهول‌ها",31290501,null,2,{"$f":"COUNTIF($S$1:S4312,Q4312+R4312)","v":2},"110302",1E-4,110302.0001]
["",null,null,null,null,null,"ضريب",null,"بهاي واحد","مقـدار","واحــد"," حمل مصالح ",null,null,"رديف",{"$f":"COUNTIF($S$1:S4313,Q4313+R4313)","v":0},"110302",0.01,""]
["",null,null,null,null,null,"ضريب",null,"بهاي واحد","مقـدار","واحــد","نيروي انساني ",null,null,"رديف",{"$f":"COUNTIF($S$1:S4317,Q4317+R4317)","v":0},"110303",1E-8,""]
[110303.00000003001,null,5.9157000000000003E-3,1,379.24961130000003,null,1.05,null,64109,5.6340000000000001E-3,"نفر ساعت","کمک بنای سفت کار",14020103,null,3,{"$f":"COUNTIF($S$1:S4320,Q4320+R4320)","v":3},"110303",1E-8,110303.00000001]
[110303.00000006999,null,2.6880000000000003E-3,1,267.64416,null,1.05,null,99570,2.5600000000000002E-3,"نفر ساعت","جوشکار اسکلت",14070301,null,7,{"$f":"COUNTIF($S$1:S4324,Q4324+R4324)","v":7},"110303",1E-8,110303.00000001]
["",null,null,null,null,null,"ضريب",null,"بهاي واحد","مقـدار","واحــد","ماشين آلات ",null,null,"رديف",{"$f":"COUNTIF($S$1:S4327,Q4327+R4327)","v":0},"110303",9.9999999999999995E-7,""]
[110303.00000299999,null,6.0599999999999998E-4,1,87.117954000000012,null,1,null,143759,6.0599999999999998E-4,"عدد","بهای پرکردن کپسول 40 لیتری   اکسیژن",28992701,null,3,{"$f":"COUNTIF($S$1:S4330,Q4330+R4330)","v":3},"110303",9.9999999999999995E-7,110303.00000099999]
[110303.000004,null,3.0299999999999999E-4,1,9.048489,null,1,null,29863,3.0299999999999999E-4,"عدد","بهای پرکردن کپسول 11 کیلویی  بوتان وپروپان",28992702,null,4,{"$f":"COUNTIF($S$1:S4331,Q4331+R4331)","v":4},"110303",9.9999999999999995E-7,110303.00000099999]
[110303.0003,null,0.77450000000000008,1,20756.599999999999,null,1,null,26800,0.77450000000000008,"كیلوگرم","انواع ناودانی",31240301,null,3,{"$f":"COUNTIF($S$1:S4335,Q4335+R4335)","v":3},"110303",1E-4,110303.0001]
[110303.01,null,1.05,1,172.2,null,1,null,164,1.05,"كیلوگرم","حمل مصالح فلزی مورد مصرف در سازه",41110101,null,1,{"$f":"COUNTIF($S$1:S4337,Q4337+R4337)","v":1},"110303",0.01,110303.01]
["",null,null,null,null,null,null,null,null,null,null,"كیلوگرم",null,null,"واحـد :",{"$f":"COUNTIF($S$1:S4340,Q4340+R4340)","v":0},"110401",0.01,""]
[110401.00000001999,null,2.2857143E-3,1,244.2902872411,null,1,null,106877,2.2857143E-3,"نفر ساعت","سر آرماتور بند",14050101,null,2,{"$f":"COUNTIF($S$1:S4343,Q4343+R4343)","v":2},"110401",1E-8,110401.00000001]
[110401.0001,null,1.0375000000000001,1,35769.887500000004,null,1,null,34477,1.0375000000000001,"كیلوگرم","شبکه جوشی مش فولادی با میلگرد ساده",31250301,null,1,{"$f":"COUNTIF($S$1:S4347,Q4347+R4347)","v":1},"110401",1E-4,110401.0001]
[110401.01,null,1.0434099999999999,1,521.70500000000004,null,1,null,500,1.0434099999999999,"كیلوگرم","حمل فراورده‌های فولادی توری، شبکه‌های فلزی، میخ، پرچ و الکترود",41110301,null,1,{"$f":"COUNTIF($S$1:S4350,Q4350+R4350)","v":1},"110401",0.01,110401.01]
["",null,null,null,null,null,"ضريب",null,"بهاي واحد","مقـدار","واحــد","نيروي انساني ",null,null,"رديف",{"$f":"COUNTIF($S$1:S4353,Q4353+R4353)","v":0},"110402",1E-8,""]
[110402.00000001,null,2.5000000000000001E-2,1,1425.325,null,1,null,57013,2.5000000000000001E-2,"نفر- ساعت","كارگر ساده",14010102,null,1,{"$f":"COUNTIF($S$1:S4354,Q4354+R4354)","v":1},"110402",1E-8,110402.00000001]
[110402.00000004,null,1.1428571E-2,1,658.04568960900008,null,1,null,57579,1.1428571E-2,"نفر ساعت","کمک آرماتور بند",14050203,null,4,{"$f":"COUNTIF($S$1:S4357,Q4357+R4357)","v":4},"110402",1E-8,110402.00000001]
[110402.00019999999,null,5.9100000000000012E-3,1,156.024,null,1,null,26400,5.9100000000000012E-3,"كیلوگرم","مفتول سیاه",31250401,null,2,{"$f":"COUNTIF($S$1:S4360,Q4360+R4360)","v":2},"110402",1E-4,110402.0001]
["",null,null,null,null,null,null,null,null,null,null,null,null,"110403",null,{"$f":"COUNTIF($S$1:S4363,Q4363+R4363)","v":0},"110403",0.01,""]
[110403.00000001,null,3.024E-2,1,1998.1079999999999,null,1.2,null,66075,2.52E-2,"نفر ساعت","سر کارگر",14010101,null,1,{"$f":"COUNTIF($S$1:S4366,Q4366+R4366)","v":1},"110403",1E-8,110403.00000001]
["",null,null,null,null,null,"ضريب",null,"بهاي واحد","مقـدار","واحــد","ماشين آلات ",null,null,"رديف",{"$f":"COUNTIF($S$1:S4370,Q4370+R4370)","v":0},"110403",9.9999999999999995E-7,""]
[110403.00000299999,null,4.0000000000000002E-4,1,302.96559999999999,null,1,null,757414,4.0000000000000002E-4,"دستگاه ساعت","لودر چرخ لاستیکی به قدرت حدود 250 اسب بخار با راننده",25010804,null,3,{"$f":"COUNTIF($S$1:S4373,Q4373+R4373)","v":3},"110403",9.9999999999999995E-7,110403.00000099999]
[110403.00019999999,null,2.5020000000000001E-2,1,660.52800000000002,null,1,null,26400,2.5020000000000001E-2,"كیلوگرم","مفتول سیاه",31250401,null,2,{"$f":"COUNTIF($S$1:S4376,Q4376+R4376)","v":2},"110403",1E-4,110403.0001]
["",null,null,null,null,null,"ضريب",null,"بهاي واحد","مقـدار","واحــد"," حمل مصالح ",null,null,"رديف",{"$f":"COUNTIF($S$1:S4377,Q4377+R4377)","v":0},"110403",0.01,""]
["",null,null,null,null,null,null,null,null,null,null,"کیلو گرم",null,null,"واحـد :",{"$f":"COUNTIF($S$1:S4380,Q4380+R4380)","v":0},"110404",0.01,""]
[110404.00000003001,null,4.3199999999999995E-2,1,2769.5087999999996,null,1.2,null,64109,3.5999999999999997E-2,"نفر ساعت","کارگر فنی ماهر",14010103,null,3,{"$f":"COUNTIF($S$1:S4384,Q4384+R4384)","v":3},"110404",1E-8,110404.00000001]
[110404.00000099999,null,2.29E-2,1,3248.9833000000003,null,1,null,141877,2.29E-2,"دستگاه ساعت","ماشین سواری لندرور یا مشابه با راننده",23010301,null,1,{"$f":"COUNTIF($S$1:S4387,Q4387+R4387)","v":1},"110404",9.9999999999999995E-7,110404.00000099999]
[110404.00000299999,null,4.0000000000000002E-4,1,302.96559999999999,null,1,null,757414,4.0000000000000002E-4,"دستگاه ساعت","لودر چرخ لاستیکی به قدرت حدود 250 اسب بخار با راننده",25010804,null,3,{"$f":"COUNTIF($S$1:S4389,Q4389+R4389)","v":3},"110404",9.9999999999999995E-7,110404.00000099999]
["",null,null,null,null,null,"ضريب",null,"بهاي واحد","مقـدار","واحــد"," حمل مصالح ",null,null,"رديف",{"$f":"COUNTIF($S$1:S4393,Q4393+R4393)","v":0},"110404",0.01,""]
["",null,null,null,null,null,null,null,null,null,null,"درصد",null,null,"واحـد :",{"$f":"COUNTIF($S$1:S4396,Q4396+R4396)","v":0},"110405",0.01,""]
["",null,null,null,null,null,"ضريب",null,"بهاي واحد","مقـدار","واحــد","نيروي انساني ",null,null,"رديف",{"$f":"COUNTIF($S$1:S4397,Q4397+R4397)","v":0},"110405",1E-8,""]
["",null,null,null,null,null,null,null,null,null,null,"درصد",null,null,"واحـد :",{"$f":"COUNTIF($S$1:S4400,Q4400+R4400)","v":0},"110406",1E-8,""]
["",null,null,null,null,null,null,null,null,null,null,null,null,"110407",null,{"$f":"COUNTIF($S$1:S4403,Q4403+R4403)","v":0},"110407",1E-8,""]
["",null,null,null,null,null,null,null,null,null,null,null,null,"120101",null,{"$f":"COUNTIF($S$1:S4407,Q4407+R4407)","v":0},"120101",1E-8,""]
[120101.00000001,null,0.29090880000000002,1,22252.4868384,null,1,null,76493,0.29090880000000002,"نفر ساعت","متصدی ماشینهای بتن ساز (بتونیرچی)",13040101,null,1,{"$f":"COUNTIF($S$1:S4410,Q4410+R4410)","v":1},"120101",1E-8,120101.00000001]
[120101.00000003001,null,0.32,1,19256.32,null,1,null,60176,0.32,"نفر ساعت","ویبراتور چی",13041401,null,3,{"$f":"COUNTIF($S$1:S4412,Q4412+R4412)","v":3},"120101",1E-8,120101.00000001]
[120101.00000006999,null,0.32257999999999998,1,24851.563199999997,null,1,null,77040,0.32257999999999998,"نفر ساعت","بنای بتن کار",14060201,null,7,{"$f":"COUNTIF($S$1:S4416,Q4416+R4416)","v":7},"120101",1E-8,120101.00000001]
[120101.00000099999,null,0.29411759999999998,1,20495.879073599997,null,1,null,69686,0.29411759999999998,"دستگاه ساعت","بتونیر750 لیتری",22020107,null,1,{"$f":"COUNTIF($S$1:S4419,Q4419+R4419)","v":1},"120101",9.9999999999999995E-7,120101.00000099999]
[120101.000002,null,3.2051200000000002E-2,1,12222.661017599999,null,1,null,381348,3.2051200000000002E-2,"دستگاه ساعت","ایستگاه بتن ساز بچینگ پلانت25 تا30 مترمکعب در ساعت",22020204,null,2,{"$f":"COUNTIF($S$1:S4420,Q4420+R4420)","v":2},"120101",9.9999999999999995E-7,120101.00000099999]
[120101.00000499999,null,3.2051200000000002E-2,1,11652.598374399999,null,1,null,363562,3.2051200000000002E-2,"دستگاه-ساعت","لودرچرخ لاستيکي به قدرت حدود150  اسب بخار باراننده",25010802,null,5,{"$f":"COUNTIF($S$1:S4423,Q4423+R4423)","v":5},"120101",{"$f":"IF(IF(O4423=\"رديف\",VLOOKUP(L4423,Kod,2,0),0)=0,R4422,IF(O4423=\"رديف\",VLOOKUP(L4423,Kod,2,0),0))","v":9.9999999999999995E-7},120101.00000099999]
["",null,null,null,null,null,"ضريب",null,"بهاي واحد","مقـدار","واحــد","مصالح",null,null,"رديف",{"$f":"COUNTIF($S$1:S4426,Q4426+R4426)","v":0},"120101",1E-4,""]
[120101.0004,null,1.05,1,178500,null,1,null,170000,1.05,"مترمكعب","شن شسته دانه بندی شده25 میلیمتر تولید کارگاه",31030604,null,4,{"$f":"COUNTIF($S$1:S4430,Q4430+R4430)","v":4},"120101",1E-4,120101.0001]
[120101.01,null,0.1085,1,10074.550500000001,null,1,null,92853,0.1085,"تن","حمل سیمان فله و پاکتی",41060301,null,1,{"$f":"COUNTIF($S$1:S4433,Q4433+R4433)","v":1},"120101",0.01,120101.01]
["",null,null,null,null,null,"ضريب",null,"بهاي واحد","مقـدار","واحــد","نيروي انساني ",null,null,"رديف",{"$f":"COUNTIF($S$1:S4436,Q4436+R4436)","v":0},"120102",1E-8,""]
[120102.00000003001,null,0.32,1,19256.32,null,1,null,60176,0.32,"نفر ساعت","ویبراتور چی",13041401,null,3,{"$f":"COUNTIF($S$1:S4439,Q4439+R4439)","v":3},"120102",1E-8,120102.00000001]
[120102.00000006,null,9.6969600000000003E-2,1,9622.8752256000007,null,1,null,99236,9.6969600000000003E-2,"نفر ساعت","استادکار کارهای بتنی",14060101,null,6,{"$f":"COUNTIF($S$1:S4442,Q4442+R4442)","v":6},"120102",1E-8,120102.00000001]
[120102.00000006999,null,0.32257999999999998,1,24851.563199999997,null,1,null,77040,0.32257999999999998,"نفر ساعت","بنای بتن کار",14060201,null,7,{"$f":"COUNTIF($S$1:S4443,Q4443+R4443)","v":7},{"$f":"IF(N4443>0,N4443,Q4442)","v":"120102"},1E-8,{"$f":"IF(M4443<>\"\",Q4443+R4443,\"\")","v":120102.00000001}]
[120102.00000099999,null,0.29411759999999998,1,20495.879073599997,null,1,null,69686,0.29411759999999998,"دستگاه ساعت","بتونیر750 لیتری",22020107,null,1,{"$f":"COUNTIF($S$1:S4446,Q4446+R4446)","v":1},"120102",9.9999999999999995E-7,120102.00000099999]
[120102.000004,null,1.21078E-2,1,3392.7145302000004,null,1,null,280209,1.21078E-2,"دستگاه-ساعت","تانکراب پاش به ظرفیت حدود 15000 لیتر باراننده",23020503,null,4,{"$f":"COUNTIF($S$1:S4449,Q4449+R4449)","v":4},"120102",9.9999999999999995E-7,120102.00000099999]
["",null,null,null,null,null,"ضريب",null,"بهاي واحد","مقـدار","واحــد","مصالح",null,null,"رديف",{"$f":"COUNTIF($S$1:S4453,Q4453+R4453)","v":0},"120102",1E-4,""]
[120102.0003,null,0.53,1,109047.5,null,1,null,205750,0.53,"مترمكعب","ماسه شسته دانه بندی شده (تولید کارگاه)",31030301,null,3,{"$f":"COUNTIF($S$1:S4456,Q4456+R4456)","v":3},"120102",1E-4,120102.0001]
[120102.01,null,0.16250000000000001,1,15088.612499999999,null,1,null,92853,0.16250000000000001,"تن","حمل سیمان فله و پاکتی",41060301,null,1,{"$f":"COUNTIF($S$1:S4460,Q4460+R4460)","v":1},"120102",0.01,120102.01]
["",null,null,null,null,null,"ضريب",null,"بهاي واحد","مقـدار","واحــد","نيروي انساني ",null,null,"رديف",{"$f":"COUNTIF($S$1:S4463,Q4463+R4463)","v":0},"120103",1E-8,""]
[120103.00000001,null,0.29090880000000002,1,22252.4868384,null,1,null,76493,0.29090880000000002,"نفر ساعت","متصدی ماشینهای بتن ساز (بتونیرچی)",13040101,null,1,{"$f":"COUNTIF($S$1:S4464,Q4464+R4464)","v":1},"120103",1E-8,120103.00000001]
[120103.00000003001,null,0.32,1,19256.32,null,1,null,60176,0.32,"نفر ساعت","ویبراتور چی",13041401,null,3,{"$f":"COUNTIF($S$1:S4466,Q4466+R4466)","v":3},"120103",1E-8,120103.00000001]
[120103.00000006,null,9.6969600000000003E-2,1,9622.8752256000007,null,1,null,99236,9.6969600000000003E-2,"نفر ساعت","استادکار کارهای بتنی",14060101,null,6,{"$f":"COUNTIF($S$1:S4469,Q4469+R4469)","v":6},"120103",1E-8,120103.00000001]
["",null,null,null,null,null,"ضريب",null,"بهاي واحد","مقـدار","واحــد","ماشين آلات ",null,null,"رديف",{"$f":"COUNTIF($S$1:S4472,Q4472+R4472)","v":0},"120103",9.9999999999999995E-7,""]
[120103.000004,null,1.21078E-2,1,3392.7145302000004,null,1,null,280209,1.21078E-2,"دستگاه-ساعت","تانکراب پاش به ظرفیت حدود 15000 لیتر باراننده",23020503,null,4,{"$f":"COUNTIF($S$1:S4476,Q4476+R4476)","v":4},"120103",9.9999999999999995E-7,120103.00000099999]
[120103.000007,null,0.32616879999999993,1,9114.7871159999977,null,1,null,27945,0.32616879999999993,"دستگاه-ساعت","ویبراتوردیزلی",28100101,null,7,{"$f":"COUNTIF($S$1:S4479,Q4479+R4479)","v":7},"120103",9.9999999999999995E-7,120103.00000099999]
[120103.0003,null,0.53,1,109047.5,null,1,null,205750,0.53,"مترمكعب","ماسه شسته دانه بندی شده (تولید کارگاه)",31030301,null,3,{"$f":"COUNTIF($S$1:S4483,Q4483+R4483)","v":3},"120103",1E-4,120103.0001]
[120103.0006,null,0.78,1,14083.68,null,1,null,18056,0.78,"متر مربع","گونی چتایی 7 ×0 4",31210101,null,6,{"$f":"COUNTIF($S$1:S4486,Q4486+R4486)","v":6},"120103",1E-4,120103.0001]
[{"$f":"IF(M4489<>\"\",Q4489+(P4489*R4489),\"\")","v":120103.02},null,0.78,1,170.82,null,1,null,219,0.78,"مترمربع","حمل عایق‌های رطوبتی چتایی و کنف",41200201,null,2,{"$f":"COUNTIF($S$1:S4489,Q4489+R4489)","v":2},"120103",0.01,120103.01]
["",null,null,null,null,null,null,null,null,null,null,"مترمكعب",null,null,"واحـد :",{"$f":"COUNTIF($S$1:S4491,Q4491+R4491)","v":0},"120104",0.01,""]
["",null,null,null,null,null,"ضريب",null,"بهاي واحد","مقـدار","واحــد","نيروي انساني ",null,null,"رديف",{"$f":"COUNTIF($S$1:S4492,Q4492+R4492)","v":0},"120104",1E-8,""]
[120104.00000004,null,3.2000000000000001E-2,1,2242.944,null,1,null,70092,3.2000000000000001E-2,"نفر ساعت","کمک اپراتور ماشین آلات",13041501,null,4,{"$f":"COUNTIF($S$1:S4496,Q4496+R4496)","v":4},"120104",1E-8,120104.00000001]
[120104.00000006999,null,0.32257999999999998,1,24851.563199999997,null,1,null,77040,0.32257999999999998,"نفر ساعت","بنای بتن کار",14060201,null,7,{"$f":"COUNTIF($S$1:S4499,Q4499+R4499)","v":7},"120104",1E-8,120104.00000001]
[120104.00000099999,null,0.29411759999999998,1,20495.879073599997,null,1,null,69686,0.29411759999999998,"دستگاه ساعت","بتونیر750 لیتری",22020107,null,1,{"$f":"COUNTIF($S$1:S4502,Q4502+R4502)","v":1},"120104",9.9999999999999995E-7,120104.00000099999]
[120104.00000499999,null,3.2051200000000002E-2,1,11652.598374399999,null,1,null,363562,3.2051200000000002E-2,"دستگاه-ساعت","لودرچرخ لاستيکي به قدرت حدود150  اسب بخار باراننده",25010802,null,5,{"$f":"COUNTIF($S$1:S4506,Q4506+R4506)","v":5},"120104",9.9999999999999995E-7,120104.00000099999]
["",null,null,null,null,null,"ضريب",null,"بهاي واحد","مقـدار","واحــد","مصالح",null,null,"رديف",{"$f":"COUNTIF($S$1:S4509,Q4509+R4509)","v":0},"120104",1E-4,""]
[120104.0003,null,0.53,1,109047.5,null,1,null,205750,0.53,"مترمكعب","ماسه شسته دانه بندی شده (تولید کارگاه)",31030301,null,3,{"$f":"COUNTIF($S$1:S4512,Q4512+R4512)","v":3},"120104",1E-4,120104.0001]
[120104.0004,null,0.93,1,158100,null,1,null,170000,0.93,"مترمكعب","شن شسته دانه بندی شده25 میلیمتر تولید کارگاه",31030604,null,4,{"$f":"COUNTIF($S$1:S4513,Q4513+R4513)","v":4},"120104",1E-4,120104.0001]
["",null,null,null,null,null,"ضريب",null,"بهاي واحد","مقـدار","واحــد"," حمل مصالح ",null,null,"رديف",{"$f":"COUNTIF($S$1:S4516,Q4516+R4516)","v":0},"120104",0.01,""]
["",null,null,null,null,null,null,null,null,null,null,null,null,"120105",null,{"$f":"COUNTIF($S$1:S4519,Q4519+R4519)","v":0},"120105",0.01,""]
[120105.00000001,null,0.29090880000000002,1,22252.4868384,null,1,null,76493,0.29090880000000002,"نفر ساعت","متصدی ماشینهای بتن ساز (بتونیرچی)",13040101,null,1,{"$f":"COUNTIF($S$1:S4522,Q4522+R4522)","v":1},"120105",1E-8,120105.00000001]
[120105.00000004,null,3.2000000000000001E-2,1,2242.944,null,1,null,70092,3.2000000000000001E-2,"نفر ساعت","کمک اپراتور ماشین آلات",13041501,null,4,{"$f":"COUNTIF($S$1:S4525,Q4525+R4525)","v":4},"120105",1E-8,120105.00000001]
[120105.00000008001,null,0.29090880000000002,1,17116.782883200001,null,1,null,58839,0.29090880000000002,"نفر - ساعت","کمک بنای بتن کار",14060202,null,8,{"$f":"COUNTIF($S$1:S4529,Q4529+R4529)","v":8},"120105",1E-8,120105.00000001]
[120105.000002,null,0.04,1,15253.92,null,1,null,381348,0.04,"دستگاه ساعت","ایستگاه بتن ساز بچینگ پلانت25 تا30 مترمکعب در ساعت",22020204,null,2,{"$f":"COUNTIF($S$1:S4532,Q4532+R4532)","v":2},"120105",9.9999999999999995E-7,120105.00000099999]
[120105.00000499999,null,0.04,1,14542.48,null,1,null,363562,0.04,"دستگاه-ساعت","لودرچرخ لاستيکي به قدرت حدود150  اسب بخار باراننده",25010802,null,5,{"$f":"COUNTIF($S$1:S4535,Q4535+R4535)","v":5},"120105",9.9999999999999995E-7,120105.00000099999]
[120105.000006,null,0.33411760000000001,1,40490.7095912,null,1,null,121187,0.33411760000000001,"دستگاه -  ساعت","دستگاه هوشمند ليزري با کشنده موتوري مانند تراکتور با راننده",25011101,null,6,{"$f":"COUNTIF($S$1:S4536,Q4536+R4536)","v":6},"120105",9.9999999999999995E-7,120105.00000099999]
[120105.0001,null,0.25,1,313.25,null,1,null,1253,0.25,"مترمكعب","آب رودخانه",31010201,null,1,{"$f":"COUNTIF($S$1:S4539,Q4539+R4539)","v":1},"120105",1E-4,120105.0001]
[120105.00049999999,null,0.32539999999999997,1,369068.68,null,1,null,1134200,0.32539999999999997,"تن","سیمان پرتلند نوع یک (سیمان معمولی) پاکتی و فله",31080103,null,5,{"$f":"COUNTIF($S$1:S4543,Q4543+R4543)","v":5},"120105",1E-4,120105.0001]
["",null,null,null,null,null,"ضريب",null,"بهاي واحد","مقـدار","واحــد"," حمل مصالح ",null,null,"رديف",{"$f":"COUNTIF($S$1:S4545,Q4545+R4545)","v":0},"120105",0.01,""]
["",null,null,null,null,null,null,null,null,null,null,null,null,"120106",null,{"$f":"COUNTIF($S$1:S4548,Q4548+R4548)","v":0},"120106",0.01,""]
[120106.00000001999,null,3.2000000000000001E-2,1,3092.9920000000002,null,1,null,96656,3.2000000000000001E-2,"نفر ساعت","متصدی ایستگاههای بتن ساز یا بچینگ پلانت",13040102,null,2,{"$f":"COUNTIF($S$1:S4552,Q4552+R4552)","v":2},"120106",1E-8,120106.00000001]
[120106.00000005,null,3.34728,1,190838.47464000003,null,1,null,57013,3.34728,"نفر- ساعت","كارگر ساده",14010102,null,5,{"$f":"COUNTIF($S$1:S4555,Q4555+R4555)","v":5},"120106",1E-8,120106.00000001]
[120106.00000006,null,9.6969600000000003E-2,1,9622.8752256000007,null,1,null,99236,9.6969600000000003E-2,"نفر ساعت","استادکار کارهای بتنی",14060101,null,6,{"$f":"COUNTIF($S$1:S4556,Q4556+R4556)","v":6},"120106",1E-8,120106.00000001]
["",null,null,null,null,null,"ضريب",null,"بهاي واحد","مقـدار","واحــد","ماشين آلات ",null,null,"رديف",{"$f":"COUNTIF($S$1:S4559,Q4559+R4559)","v":0},"120106",9.9999999999999995E-7,""]
[120106.00000299999,null,6.4761799999999994E-2,1,22451.620823999998,null,1,null,346680,6.4761799999999994E-2,"دستگاه-ساعت","کامیون کمپرسی به ظرفیت حدود 10 تن با راننده",23020204,null,3,{"$f":"COUNTIF($S$1:S4562,Q4562+R4562)","v":3},"120106",9.9999999999999995E-7,120106.00000099999]
[120106.000007,null,0.33411760000000001,1,9336.9163320000007,null,1,null,27945,0.33411760000000001,"دستگاه-ساعت","ویبراتوردیزلی",28100101,null,7,{"$f":"COUNTIF($S$1:S4566,Q4566+R4566)","v":7},"120106",9.9999999999999995E-7,120106.00000099999]
[120106.0001,null,0.25,1,313.25,null,1,null,1253,0.25,"مترمكعب","آب رودخانه",31010201,null,1,{"$f":"COUNTIF($S$1:S4568,Q4568+R4568)","v":1},"120106",1E-4,120106.0001]
[120106.0004,null,0.83,1,141100,null,1,null,170000,0.83,"مترمكعب","شن شسته دانه بندی شده25 میلیمتر تولید کارگاه",31030604,null,4,{"$f":"COUNTIF($S$1:S4571,Q4571+R4571)","v":4},{"$f":"IF(N4571>0,N4571,Q4570)","v":"120106"},1E-4,{"$f":"IF(M4571<>\"\",Q4571+R4571,\"\")","v":120106.0001}]
[120106.01,null,0.37959999999999999,1,35246.998800000001,null,1,null,92853,0.37959999999999999,"تن","حمل سیمان فله و پاکتی",41060301,null,1,{"$f":"COUNTIF($S$1:S4575,Q4575+R4575)","v":1},"120106",0.01,120106.01]
["",null,null,null,null,null,null,null,null,null,null,"مترمكعب",null,null,"واحـد :",{"$f":"COUNTIF($S$1:S4578,Q4578+R4578)","v":0},"120107",0.01,""]
["",null,null,null,null,null,"ضريب",null,"بهاي واحد","مقـدار","واحــد","نيروي انساني ",null,null,"رديف",{"$f":"COUNTIF($S$1:S4579,Q4579+R4579)","v":0},"120107",1E-8,""]
[120107.00000003001,null,0.32,1,19256.32,null,1,null,60176,0.32,"نفر ساعت","ویبراتور چی",13041401,null,3,{"$f":"COUNTIF($S$1:S4582,Q4582+R4582)","v":3},"120107",1E-8,120107.00000001]
[120107.00000006,null,9.6969600000000003E-2,1,9622.8752256000007,null,1,null,99236,9.6969600000000003E-2,"نفر ساعت","استادکار کارهای بتنی",14060101,null,6,{"$f":"COUNTIF($S$1:S4585,Q4585+R4585)","v":6},"120107",1E-8,120107.00000001]
[120107.00000099999,null,0.29411759999999998,1,20495.879073599997,null,1,null,69686,0.29411759999999998,"دستگاه ساعت","بتونیر750 لیتری",22020107,null,1,{"$f":"COUNTIF($S$1:S4589,Q4589+R4589)","v":1},"120107",9.9999999999999995E-7,120107.00000099999]
[120107.00000299999,null,6.23808E-2,1,21626.175743999996,null,1,null,346680,6.23808E-2,"دستگاه-ساعت","کامیون کمپرسی به ظرفیت حدود 10 تن با راننده",23020204,null,3,{"$f":"COUNTIF($S$1:S4591,Q4591+R4591)","v":3},"120107",9.9999999999999995E-7,120107.00000099999]
[120107.000007,null,0.33411760000000001,1,9336.9163320000007,null,1,null,27945,0.33411760000000001,"دستگاه-ساعت","ویبراتوردیزلی",28100101,null,7,{"$f":"COUNTIF($S$1:S4595,Q4595+R4595)","v":7},"120107",9.9999999999999995E-7,120107.00000099999]
[120107.00019999999,null,0.25,1,2367.75,null,1,null,9471,0.25,"مترمكعب","آب چاه و قنات",31010301,null,2,{"$f":"COUNTIF($S$1:S4598,Q4598+R4598)","v":2},"120107",1E-4,120107.0001]
[120107.00049999999,null,0.43384999999999996,1,492072.67,null,1,null,1134200,0.43384999999999996,"تن","سیمان پرتلند نوع یک (سیمان معمولی) پاکتی و فله",31080103,null,5,{"$f":"COUNTIF($S$1:S4601,Q4601+R4601)","v":5},"120107",1E-4,120107.0001]
[120107.0006,null,0.78,1,14083.68,null,1,null,18056,0.78,"متر مربع","گونی چتایی 7 ×0 4",31210101,null,6,{"$f":"COUNTIF($S$1:S4602,Q4602+R4602)","v":6},"120107",1E-4,120107.0001]
[120107.02,null,0.78,1,170.82,null,1,null,219,0.78,"مترمربع","حمل عایق‌های رطوبتی چتایی و کنف",41200201,null,2,{"$f":"COUNTIF($S$1:S4605,Q4605+R4605)","v":2},"120107",0.01,120107.01]
["",null,null,null,null,null,"ضريب",null,"بهاي واحد","مقـدار","واحــد","نيروي انساني ",null,null,"رديف",{"$f":"COUNTIF($S$1:S4608,Q4608+R4608)","v":0},"120201",1E-8,""]
[120201.00000004,null,5.2000000000000005E-2,1,3396.172,null,1.04,null,65311,0.05,"نفر- ساعت","کارگر نقشه‌برداري (ميرکش)",12030104,null,4,{"$f":"COUNTIF($S$1:S4612,Q4612+R4612)","v":4},"120201",1E-8,120201.00000001]
[120201.00000006999,null,3.2500000000000001E-2,1,3141.32,null,1.3,null,96656,2.5000000000000001E-2,"نفر ساعت","متصدی ایستگاههای بتن ساز یا بچینگ پلانت",13040102,null,7,{"$f":"COUNTIF($S$1:S4615,Q4615+R4615)","v":7},"120201",{"$f":"IF(IF(O4615=\"رديف\",VLOOKUP(L4615,Kod,2,0),0)=0,R4614,IF(O4615=\"رديف\",VLOOKUP(L4615,Kod,2,0),0))","v":1E-8},120201.00000001]
[120201.0000001,null,1.155555555544,1,65881.68888823007,null,1.04,null,57013,1.1111111111,"نفر- ساعت","كارگر ساده",14010102,null,10,{"$f":"COUNTIF($S$1:S4618,Q4618+R4618)","v":10},"120201",1E-8,120201.00000001]
[120201.00000013001,null,2.6000000000000002E-2,1,2003.04,null,1.04,null,77040,2.5000000000000001E-2,"نفر ساعت","بنای بتن کار",14060201,null,13,{"$f":"COUNTIF($S$1:S4621,Q4621+R4621)","v":13},"120201",1E-8,120201.00000001]
[120201.00000099999,null,1.8200000000000001E-2,1,113274.07,null,0.72799999999999998,null,6223850,2.5000000000000001E-2,"دستگاه ساعت","ایستگاه بتن‌ساز (بچینگ پلانت) خارجی به ظرفیت 120 متر مکعب بر ساعت",22020212,null,1,{"$f":"COUNTIF($S$1:S4624,Q4624+R4624)","v":1},"120201",9.9999999999999995E-7,120201.00000099999]
[120201.000002,null,2.6000000000000002E-2,1,260000,null,1.04,null,10000000,2.5000000000000001E-2,"دستگاه -  ساعت","فینیشرمخصوص بتن به ظرظیت حدود 120 مترمکعب درساعت باراننده",22020805,null,2,{"$f":"COUNTIF($S$1:S4625,Q4625+R4625)","v":2},"120201",9.9999999999999995E-7,120201.00000099999]
[120201.00000499999,null,2.6000000000000002E-2,1,3535.2719999999999,null,1.04,null,135972,2.5000000000000001E-2,"دستگاه-ساعت","وانت یک تن باراننده",23010502,null,5,{"$f":"COUNTIF($S$1:S4628,Q4628+R4628)","v":5},"120201",9.9999999999999995E-7,120201.00000099999]
[120201.000008,null,2.6000000000000002E-2,1,7285.4340000000002,null,1.04,null,280209,2.5000000000000001E-2,"دستگاه-ساعت","تانکراب پاش به ظرفیت حدود 15000 لیتر باراننده",23020503,null,8,{"$f":"COUNTIF($S$1:S4631,Q4631+R4631)","v":8},"120201",9.9999999999999995E-7,120201.00000099999]
[120201.000012,null,2.6000000000000002E-2,1,3013.8159999999998,null,1.04,null,115916,2.5000000000000001E-2,"دستگاه ساعت","دوربین نقشه برداری 3600 Trimble همراه با ژالون، منشور، سه پایه",28230405,null,12,{"$f":"COUNTIF($S$1:S4635,Q4635+R4635)","v":12},{"$f":"IF(N4635>0,N4635,Q4634)","v":"120201"},9.9999999999999995E-7,{"$f":"IF(M4635<>\"\",Q4635+R4635,\"\")","v":120201.00000099999}]
[120201.00019999999,null,0.156,1,1477.4760000000001,null,1.04,null,9471,0.15,"مترمكعب","آب چاه و قنات",31010301,null,2,{"$f":"COUNTIF($S$1:S4638,Q4638+R4638)","v":2},"120201",1E-4,120201.0001]
[120201.0006,null,2.6,1,73239.399999999994,null,1.04,null,28169,2.5,"کیلو گرم","مواد شیمیایی هوازا حباب هوازا",31131001,null,6,{"$f":"COUNTIF($S$1:S4642,Q4642+R4642)","v":6},"120201",1E-4,120201.0001]
[120201.0007,null,2.6,1,49238.8,null,1.04,null,18938,2.5,"کیلوگرم","مواد افزودنی شیمیایی",31131002,null,7,{"$f":"COUNTIF($S$1:S4643,Q4643+R4643)","v":7},"120201",1E-4,120201.0001]
["",null,null,null,null,null,"ضريب",null,"بهاي واحد","مقـدار","واحــد"," حمل مصالح ",null,null,"رديف",{"$f":"COUNTIF($S$1:S4647,Q4647+R4647)","v":0},"120201",0.01,""]
[120201.01,null,0.43368000000000001,1,40268.489039999993,null,1.04,null,92853,0.41699999999999998,"تن","حمل سیمان فله و پاکتی",41060301,null,1,{"$f":"COUNTIF($S$1:S4648,Q4648+R4648)","v":1},"120201",0.01,120201.01]
["",null,null,null,null,null,null,null,null,null,null,null,null,"120202",null,{"$f":"COUNTIF($S$1:S4651,Q4651+R4651)","v":0},"120202",0.01,""]
[120202.00000001999,null,0.03,1,5261.73,null,1,null,175391,0.03,"نفر ساعت","نقشه بردار با سابقه بیش از 10 سال",12030101,null,2,{"$f":"COUNTIF($S$1:S4655,Q4655+R4655)","v":2},"120202",1E-8,120202.00000001]
[120202.00000005,null,0.03,1,5423.37,null,1,null,180779,0.03,"نفر - ساعت","استادکار تعميرات و نگهداري ماشين‌آلات (سرمکانيک)",13010102,null,5,{"$f":"COUNTIF($S$1:S4658,Q4658+R4658)","v":5},"120202",1E-8,120202.00000001]
[120202.00000008001,null,0.03,1,2102.7600000000002,null,1,null,70092,0.03,"نفر ساعت","کمک اپراتور ماشین آلات",13041501,null,8,{"$f":"COUNTIF($S$1:S4661,Q4661+R4661)","v":8},"120202",1E-8,120202.00000001]
[120202.00000012,null,0.03,1,2977.08,null,1,null,99236,0.03,"نفر ساعت","استادکار کارهای بتنی",14060101,null,12,{"$f":"COUNTIF($S$1:S4665,Q4665+R4665)","v":12},"120202",1E-8,120202.00000001]
["",null,null,null,null,null,"ضريب",null,"بهاي واحد","مقـدار","واحــد","ماشين آلات ",null,null,"رديف",{"$f":"COUNTIF($S$1:S4668,Q4668+R4668)","v":0},"120202",9.9999999999999995E-7,""]
[120202.000002,null,0.03,1,300000,null,1,null,10000000,0.03,"دستگاه -  ساعت","فینیشرمخصوص بتن به ظرظیت حدود 120 مترمکعب درساعت باراننده",22020805,null,2,{"$f":"COUNTIF($S$1:S4670,Q4670+R4670)","v":2},"120202",9.9999999999999995E-7,120202.00000099999]
[120202.00000299999,null,0.03,1,6916.65,null,1,null,230555,0.03,"دستگاه ساعت","ماشین سواری استیشن چهاردر  باراننده",23010402,null,3,{"$f":"COUNTIF($S$1:S4671,Q4671+R4671)","v":3},"120202",9.9999999999999995E-7,120202.00000099999]
[120202.000006,null,0.03,1,10400.4,null,1,null,346680,0.03,"دستگاه-ساعت","کامیون کمپرسی به ظرفیت حدود10  تن باراننده",23020204,null,6,{"$f":"COUNTIF($S$1:S4674,Q4674+R4674)","v":6},"120202",9.9999999999999995E-7,120202.00000099999]
["",null,null,null,null,null,"ضريب",null,"بهاي واحد","مقـدار","واحــد","مصالح",null,null,"رديف",{"$f":"COUNTIF($S$1:S4678,Q4678+R4678)","v":0},"120202",1E-4,""]
[{"$f":"IF(M4681<>\"\",Q4681+(P4681*R4681),\"\")","v":120202.0003},null,0.99434999999999985,1,204587.51249999995,null,1.05,null,205750,0.94699999999999984,"مترمكعب","ماسه شسته دانه بندی شده (تولید کارگاه)",31030301,null,3,{"$f":"COUNTIF($S$1:S4681,Q4681+R4681)","v":3},"120202",1E-4,120202.0001]
[120202.0006,null,5,1,140845,null,1,null,28169,5,"کیلو گرم","مواد شیمیایی هوازا حباب هوازا",31131001,null,6,{"$f":"COUNTIF($S$1:S4684,Q4684+R4684)","v":6},"120202",1E-4,120202.0001]
[120202.01,null,0.43785000000000002,1,40655.686049999997,null,1.05,null,92853,0.41699999999999998,"تن","حمل سیمان فله و پاکتی",41060301,null,1,{"$f":"COUNTIF($S$1:S4688,Q4688+R4688)","v":1},"120202",0.01,120202.01]
["",null,null,null,null,null,null,null,null,null,null,"مترمكعب",null,null,"واحـد :",{"$f":"COUNTIF($S$1:S4691,Q4691+R4691)","v":0},"120301",0.01,""]
[120301.00000001999,null,0.54983000000000004,1,42358.903200000001,null,1,null,77040,0.54983000000000004,"نفر ساعت","بنای بتن کار",14060201,null,2,{"$f":"COUNTIF($S$1:S4694,Q4694+R4694)","v":2},"120301",1E-8,120301.00000001]
["",null,null,null,null,null,null,null,null,null,null,null,null,"120302",null,{"$f":"COUNTIF($S$1:S4695,Q4695+R4695)","v":0},"120302",1E-8,""]
["",null,null,null,null,null,"ضريب",null,"بهاي واحد","مقـدار","واحــد","نيروي انساني ",null,null,"رديف",{"$f":"COUNTIF($S$1:S4697,Q4697+R4697)","v":0},"120302",1E-8,""]
["",null,null,null,null,null,null,null,null,null,null,null,null,"120303",null,{"$f":"COUNTIF($S$1:S4701,Q4701+R4701)","v":0},"120303",9.9999999999999995E-7,""]
[120303.00000001,null,0.84000000000000008,1,47890.920000000013,null,1.5,null,57013,0.56000000000000005,"نفر- ساعت","كارگر ساده",14010102,null,1,{"$f":"COUNTIF($S$1:S4704,Q4704+R4704)","v":1},"120303",1E-8,120303.00000001]
["",null,null,null,null,null,null,null,null,null,null,null,null,"120304",null,{"$f":"COUNTIF($S$1:S4707,Q4707+R4707)","v":0},"120304",9.9999999999999995E-7,""]
["",null,null,null,null,null,"ضريب",null,"بهاي واحد","مقـدار","واحــد","ماشين آلات ",null,null,"رديف",{"$f":"COUNTIF($S$1:S4711,Q4711+R4711)","v":0},"120304",9.9999999999999995E-7,""]
["",null,null,null,null,null,null,null,null,null,null,"مترمكعب",null,null,"واحـد :",{"$f":"COUNTIF($S$1:S4714,Q4714+R4714)","v":0},"120305",9.9999999999999995E-7,""]
["",null,null,null,null,null,"ضريب",null,"بهاي واحد","مقـدار","واحــد","نيروي انساني ",null,null,"رديف",{"$f":"COUNTIF($S$1:S4715,Q4715+R4715)","v":0},"120305",1E-8,""]
[120305.00000099999,null,0.2,1,106139.4,null,1,null,530697,0.2,"دستگاه-ساعت","جرثقيل کاميوني دو کابينه حدود 15 تن باراننده",24010201,null,1,{"$f":"COUNTIF($S$1:S4718,Q4718+R4718)","v":1},"120305",9.9999999999999995E-7,120305.00000099999]
[120306.00000001,null,8.7300000000000003E-2,1,6677.8388999999997,null,1,null,76493,8.7300000000000003E-2,"نفر ساعت","متصدی ماشینهای بتن ساز (بتونیرچی)",13040101,null,1,{"$f":"COUNTIF($S$1:S4722,Q4722+R4722)","v":1},"120306",1E-8,120306.00000001]
[120306.00000003001,null,1.2E-2,1,722.11199999999997,null,1,null,60176,1.2E-2,"نفر ساعت","ویبراتور چی",13041401,null,3,{"$f":"COUNTIF($S$1:S4724,Q4724+R4724)","v":3},"120306",1E-8,120306.00000001]
[120306.00000006,null,2.9100000000000001E-2,1,2887.7676000000001,null,1,null,99236,2.9100000000000001E-2,"نفر ساعت","استادکار کارهای بتنی",14060101,null,6,{"$f":"COUNTIF($S$1:S4727,Q4727+R4727)","v":6},"120306",1E-8,120306.00000001]
["",null,null,null,null,null,"ضريب",null,"بهاي واحد","مقـدار","واحــد","ماشين آلات ",null,null,"رديف",{"$f":"COUNTIF($S$1:S4730,Q4730+R4730)","v":0},"120306",9.9999999999999995E-7,""]
[120306.000004,null,0.1002,1,12142.937400000001,null,1,null,121187,0.1002,"دستگاه -  ساعت","دستگاه هوشمند ليزري با کشنده موتوري مانند تراکتور با راننده",25011101,null,4,{"$f":"COUNTIF($S$1:S4734,Q4734+R4734)","v":4},"120306",9.9999999999999995E-7,120306.00000099999]
["",null,null,null,null,null,null,null,null,null,null,"مترمكعب",null,null,"واحـد :",{"$f":"COUNTIF($S$1:S4737,Q4737+R4737)","v":0},"120307",9.9999999999999995E-7,""]
["",null,null,null,null,null,"ضريب",null,"بهاي واحد","مقـدار","واحــد","نيروي انساني ",null,null,"رديف",{"$f":"COUNTIF($S$1:S4738,Q4738+R4738)","v":0},"120307",1E-8,""]
[120307.00000003001,null,0.24737000000000001,1,17338.658039999998,null,1,null,70092,0.24737000000000001,"نفر- ساعت","متصدی پمپ اب",13041101,null,3,{"$f":"COUNTIF($S$1:S4741,Q4741+R4741)","v":3},"120307",1E-8,120307.00000001]
[120307.00000006,null,0.3265304,1,18616.477695199999,null,1,null,57013,0.3265304,"نفر- ساعت","كارگر ساده",14010102,null,6,{"$f":"COUNTIF($S$1:S4744,Q4744+R4744)","v":6},"120307",1E-8,120307.00000001]
[120307.00000009,null,2.9090400000000002E-2,1,1711.6500456000001,null,1,null,58839,2.9090400000000002E-2,"نفر - ساعت","کمک بنای بتن کار",14060202,null,9,{"$f":"COUNTIF($S$1:S4747,Q4747+R4747)","v":9},"120307",1E-8,120307.00000001]
[120307.000002,null,3.2000000000000001E-2,1,12203.136,null,1,null,381348,3.2000000000000001E-2,"دستگاه ساعت","ایستگاه بتن ساز بچینگ پلانت25 تا30 مترمکعب در ساعت",22020204,null,2,{"$f":"COUNTIF($S$1:S4750,Q4750+R4750)","v":2},"120307",9.9999999999999995E-7,120307.00000099999]
["",null,null,null,null,null,null,null,null,null,null,null,null,"120310",null,{"$f":"COUNTIF($S$1:S4754,Q4754+R4754)","v":0},"120310",9.9999999999999995E-7,""]
[120310.00000001,null,0.63390999999999997,1,36141.110829999998,null,1,null,57013,0.63390999999999997,"نفر- ساعت","كارگر ساده",14010102,null,1,{"$f":"COUNTIF($S$1:S4757,Q4757+R4757)","v":1},"120310",1E-8,120310.00000001]
["",null,null,null,null,null,"ضريب",null,"بهاي واحد","مقـدار","واحــد","نيروي انساني ",null,null,"رديف",{"$f":"COUNTIF($S$1:S4760,Q4760+R4760)","v":0},"120401",1E-8,""]
[120401.00000001,null,2.1600000000000001E-2,1,3788.4456,null,1.08,null,175391,0.02,"نفر ساعت","نقشه بردار با سابقه بیش از 10 سال",12030101,null,1,{"$f":"COUNTIF($S$1:S4761,Q4761+R4761)","v":1},"120401",1E-8,120401.00000001]
[120401.00000004,null,1.4931E-2,1,986.56582500000002,null,1.89,null,66075,7.9000000000000008E-3,"نفر ساعت","سر کارگر",14010101,null,4,{"$f":"COUNTIF($S$1:S4764,Q4764+R4764)","v":4},"120401",1E-8,120401.00000001]
[120401.00000006999,null,9.1199999999999996E-3,1,1455.12336,null,1.2,null,159553,7.6E-3,"نفر ساعت","تکنسین متخصص تونل",14240101,null,7,{"$f":"COUNTIF($S$1:S4767,Q4767+R4767)","v":7},"120401",1E-8,120401.00000001]
[120401.000002,null,3.2011200000000004E-2,1,5856.7051296,null,0.91200000000000003,null,182958,3.5099999999999999E-2,"دستگاه ساعت","پمپ شاتکریت ALIVA 262 با اپراتور (5 تا 8 مترمکعب در ساعت) با نازل",22020707,null,2,{"$f":"COUNTIF($S$1:S4771,Q4771+R4771)","v":2},"120401",9.9999999999999995E-7,120401.00000099999]
[120401.00000499999,null,3.2993999999999996E-2,1,7633.3928579999993,null,0.94,null,231357,3.5099999999999999E-2,"دستگاه ساعت","کمپرسور با ظرفيت حدود11 متر در دقيقه (390 سي اف ام) با شيلنگ مربوط",25040104,null,5,{"$f":"COUNTIF($S$1:S4774,Q4774+R4774)","v":5},"120401",9.9999999999999995E-7,120401.00000099999]
[120401.000008,null,9.1200000000000008E-5,1,495.52763039999996,null,0.91200000000000003,null,5433417,1E-4,"عدد","صفحه پمپ شاتکریت",28992303,null,8,{"$f":"COUNTIF($S$1:S4777,Q4777+R4777)","v":8},"120401",9.9999999999999995E-7,120401.00000099999]
[120401.00019999999,null,1.2305070000000001E-2,1,2030.3365500000002,null,0.87270000000000014,null,165000,1.41E-2,"مترمكعب","ماسه شسته",31030202,null,2,{"$f":"COUNTIF($S$1:S4780,Q4780+R4780)","v":2},"120401",1E-4,120401.0001]
[120401.00049999999,null,1.2699999999999999E-2,1,569.46800000000007,null,1,null,44840,1.2699999999999999E-2,"متر طول","کابل زمینی چهار سیمه باعایق وروکش ترموپلاستیک مطابق بااستاندارد60713 ایران یا0271 آلمان از نوعNYY با ولتاژ نامی1000ولت وبه مقطع2.5*4میلیمتر مربع",33070502,null,5,{"$f":"COUNTIF($S$1:S4783,Q4783+R4783)","v":5},"120401",1E-4,120401.0001]
["",null,null,null,null,null,"ضريب",null,"بهاي واحد","مقـدار","واحــد"," حمل مصالح ",null,null,"رديف",{"$f":"COUNTIF($S$1:S4784,Q4784+R4784)","v":0},"120401",0.01,""]
["",null,null,null,null,null,null,null,null,null,null,"متر مربع",null,null,"واحـد :",{"$f":"COUNTIF($S$1:S4787,Q4787+R4787)","v":0},"120402",0.01,""]
[120402.00000001999,null,2.2185E-2,1,1264.8334050000001,null,1.45,null,57013,1.5300000000000001E-2,"نفر- ساعت","كارگر ساده",14010102,null,2,{"$f":"COUNTIF($S$1:S4790,Q4790+R4790)","v":2},"120402",1E-8,120402.00000001]
["",null,null,null,null,null,"ضريب",null,"بهاي واحد","مقـدار","واحــد","ماشين آلات ",null,null,"رديف",{"$f":"COUNTIF($S$1:S4794,Q4794+R4794)","v":0},"120402",9.9999999999999995E-7,""]
[120402.00000299999,null,7.6E-3,1,1078.2652,null,1,null,141877,7.6E-3,"دستگاه ساعت","ماشین سواری لندرور یا مشابه با راننده",23010301,null,3,{"$f":"COUNTIF($S$1:S4797,Q4797+R4797)","v":3},"120402",9.9999999999999995E-7,120402.00000099999]
[120402.000006,null,7.3872E-3,1,3378.8683440000004,null,0.91200000000000003,null,457395,8.0999999999999996E-3,"دستگاه ساعت","ژنراتور 140KAV",26030122,null,6,{"$f":"COUNTIF($S$1:S4800,Q4800+R4800)","v":6},"120402",9.9999999999999995E-7,120402.00000099999]
[120402.0001,null,2.3E-3,1,2.8818999999999995,null,1,null,1253,2.3E-3,"مترمكعب","آب رودخانه",31010201,null,1,{"$f":"COUNTIF($S$1:S4803,Q4803+R4803)","v":1},"120402",1E-4,120402.0001]
[120402.0004,null,8.3000000000000004E-2,1,6640.0000000000009,null,1,null,80000,8.3000000000000004E-2,"کیلو گرم","لوله پلی اتیلن PE80 با فشار کار PN 10 به قطر 50 میلیمتر",32032106,null,4,{"$f":"COUNTIF($S$1:S4806,Q4806+R4806)","v":4},"120402",1E-4,120402.0001]
["",null,null,null,null,null,"ضريب",null,"بهاي واحد","مقـدار","واحــد"," حمل مصالح ",null,null,"رديف",{"$f":"COUNTIF($S$1:S4807,Q4807+R4807)","v":0},"120402",{"$f":"IF(IF(O4807=\"رديف\",VLOOKUP(L4807,Kod,2,0),0)=0,R4806,IF(O4807=\"رديف\",VLOOKUP(L4807,Kod,2,0),0))","v":0.01},""]
["",null,null,null,null,null,null,null,null,null,null,"درصد",null,null,"واحـد :",{"$f":"COUNTIF($S$1:S4810,Q4810+R4810)","v":0},"120403",0.01,""]
["",null,null,null,null,null,null,null,null,null,null,"درصد",null,null,"واحـد :",{"$f":"COUNTIF($S$1:S4814,Q4814+R4814)","v":0},"120404",1E-8,""]
["",null,null,null,null,null,null,null,null,null,null,null,null,"120405",null,{"$f":"COUNTIF($S$1:S4817,Q4817+R4817)","v":0},"120405",1E-8,""]
[120405.00000001,null,15,1,0,null,1,null,0,15,"درصد","درصد",19020199,null,1,{"$f":"COUNTIF($S$1:S4820,Q4820+R4820)","v":1},"120405",1E-8,120405.00000001]
["",null,null,null,null,null,null,null,null,null,null,"درصد",null,null,"واحـد :",{"$f":"COUNTIF($S$1:S4822,Q4822+R4822)","v":0},"120406",1E-8,""]
["",null,null,null,null,null,null,null,null,null,null,"مترمكعب",null,null,"واحـد :",{"$f":"COUNTIF($S$1:S4826,Q4826+R4826)","v":0},"120601",1E-8,""]
[120601.00019999999,null,0.57240000000000002,1,119655.0684,null,1.08,null,209041,0.53,"مترمكعب","ماسه شسته دانه بندی شده از سنگ کوهی تولید کارگاه",31030302,null,2,{"$f":"COUNTIF($S$1:S4829,Q4829+R4829)","v":2},"120601",1E-4,120601.0001]
[120601.0003,null,-0.93,1,-158100,null,1,null,170000,-0.93,"مترمكعب","شن شسته دانه بندی شده25 میلیمتر تولید کارگاه",31030604,null,3,{"$f":"COUNTIF($S$1:S4830,Q4830+R4830)","v":3},"120601",1E-4,120601.0001]
["",null,null,null,null,null,null,null,null,null,null,"كیلوگرم",null,null,"واحـد :",{"$f":"COUNTIF($S$1:S4833,Q4833+R4833)","v":0},"120701",1E-4,""]
["",null,null,null,null,null,null,null,null,null,null,null,null,"120702",null,{"$f":"COUNTIF($S$1:S4837,Q4837+R4837)","v":0},"120702",1E-4,""]
[120702.0001,null,-1.06E-3,1,-1202.252,null,1,null,1134200,-1.06E-3,"تن","سیمان پرتلند نوع یک (سیمان معمولی) پاکتی و فله",31080103,null,1,{"$f":"COUNTIF($S$1:S4840,Q4840+R4840)","v":1},"120702",1E-4,120702.0001]
["",null,null,null,null,null,null,null,null,null,null,"مترمكعب -  كیلومتر‏",null,null,"واحـد :",{"$f":"COUNTIF($S$1:S4843,Q4843+R4843)","v":0},"120801",1E-4,""]
["",null,null,null,null,null,null,null,null,null,null,"مترمكعب",null,null,"واحـد :",{"$f":"COUNTIF($S$1:S4847,Q4847+R4847)","v":0},"120901",9.9999999999999995E-7,""]
[120901.00000001,null,0.22399977600000001,1,17134.414865568,null,0.77,null,76493,0.29090880000000002,"نفر ساعت","متصدی ماشینهای بتن ساز (بتونیرچی)",13040101,null,1,{"$f":"COUNTIF($S$1:S4849,Q4849+R4849)","v":1},"120901",1E-8,120901.00000001]
[120901.00000001999,null,2.4640000000000002E-2,1,2381.6038400000002,null,0.77,null,96656,3.2000000000000001E-2,"نفر ساعت","متصدی ایستگاههای بتن ساز یا بچینگ پلانت",13040102,null,2,{"$f":"COUNTIF($S$1:S4850,Q4850+R4850)","v":2},"120901",1E-8,120901.00000001]
[120901.00000005,null,2.8349999999999997E-2,1,1873.2262499999999,null,1.89,null,66075,1.4999999999999999E-2,"نفر ساعت","سر کارگر",14010101,null,5,{"$f":"COUNTIF($S$1:S4853,Q4853+R4853)","v":5},"120901",1E-8,120901.00000001]
[120901.00000008001,null,7.4666592000000004E-2,1,7409.6139237120005,null,0.77,null,99236,9.6969600000000003E-2,"نفر ساعت","استادکار کارهای بتنی",14060101,null,8,{"$f":"COUNTIF($S$1:S4856,Q4856+R4856)","v":8},"120901",1E-8,120901.00000001]
["",null,null,null,null,null,"ضريب",null,"بهاي واحد","مقـدار","واحــد","ماشين آلات ",null,null,"رديف",{"$f":"COUNTIF($S$1:S4860,Q4860+R4860)","v":0},"120901",9.9999999999999995E-7,""]
[120901.00000299999,null,5.2166400000000002E-2,1,75354.36480000001,null,0.91200000000000003,null,1444500,5.7200000000000001E-2,"دستگاه ساعت","پمپ انتقال بتن45 تا60 مترمکعب درساعت",22020503,null,3,{"$f":"COUNTIF($S$1:S4863,Q4863+R4863)","v":3},"120901",9.9999999999999995E-7,120901.00000099999]
[120901.000006,null,3.6480000000000005E-2,1,13262.741759999999,null,0.91200000000000003,null,363562,0.04,"دستگاه-ساعت","لودرچرخ لاستيکي به قدرت حدود150  اسب بخار باراننده",25010802,null,6,{"$f":"COUNTIF($S$1:S4866,Q4866+R4866)","v":6},"120901",9.9999999999999995E-7,120901.00000099999]
[120901.00001,null,1.5960000000000002E-2,1,2770.6400400000007,null,0.91200000000000003,null,173599,1.7500000000000002E-2,"دستگاه ساعت","ویبراتور برقی",28100301,null,10,{"$f":"COUNTIF($S$1:S4870,Q4870+R4870)","v":10},"120901",9.9999999999999995E-7,120901.00000099999]
[{"$f":"IF(M4873<>\"\",Q4873+(P4873*R4873),\"\")","v":120901.00019999999},null,0.25,1,2367.75,null,1,null,9471,0.25,"مترمكعب","آب چاه و قنات",31010301,null,2,{"$f":"COUNTIF($S$1:S4873,Q4873+R4873)","v":2},"120901",1E-4,120901.0001]
[120901.0003,null,0.53,1,109047.5,null,1,null,205750,0.53,"مترمكعب","ماسه شسته دانه بندی شده (تولید کارگاه)",31030301,null,3,{"$f":"COUNTIF($S$1:S4874,Q4874+R4874)","v":3},"120901",1E-4,120901.0001]
[120901.00049999999,null,0.32539999999999997,1,369068.68,null,1,null,1134200,0.32539999999999997,"تن","سیمان پرتلند نوع یک (سیمان معمولی) پاکتی و فله",31080103,null,5,{"$f":"COUNTIF($S$1:S4876,Q4876+R4876)","v":5},"120901",1E-4,120901.0001]
[120901.01,null,0.32539999999999997,1,30214.3662,null,1,null,92853,0.32539999999999997,"تن","حمل سیمان فله و پاکتی",41060301,null,1,{"$f":"COUNTIF($S$1:S4879,Q4879+R4879)","v":1},"120901",0.01,120901.01]
[120902.00000001,null,0.22399977600000001,1,17134.414865568,null,0.77,null,76493,0.29090880000000002,"نفر ساعت","متصدی ماشینهای بتن ساز (بتونیرچی)",13040101,null,1,{"$f":"COUNTIF($S$1:S4883,Q4883+R4883)","v":1},"120902",1E-8,120902.00000001]
[120902.00000004,null,2.4640000000000002E-2,1,1727.0668799999999,null,0.77,null,70092,3.2000000000000001E-2,"نفر ساعت","کمک اپراتور ماشین آلات",13041501,null,4,{"$f":"COUNTIF($S$1:S4886,Q4886+R4886)","v":4},"120902",1E-8,120902.00000001]
[120902.00000006999,null,0.20549699999999999,1,13174.207173000001,null,1.77,null,64109,0.11609999999999999,"نفر ساعت","کارگر فنی ماهر",14010103,null,7,{"$f":"COUNTIF($S$1:S4889,Q4889+R4889)","v":7},"120902",1E-8,120902.00000001]
[120902.00000011,null,2.8560000000000002E-2,1,4556.8336800000016,null,1.2,null,159553,2.3800000000000002E-2,"نفر ساعت","تکنسین متخصص تونل",14240101,null,11,{"$f":"COUNTIF($S$1:S4893,Q4893+R4893)","v":11},"120902",1E-8,120902.00000001]
[120902.00000099999,null,3.6480000000000005E-2,1,13911.57504,null,0.91200000000000003,null,381348,0.04,"دستگاه ساعت","ایستگاه بتن ساز بچینگ پلانت25 تا30 مترمکعب در ساعت",22020204,null,1,{"$f":"COUNTIF($S$1:S4896,Q4896+R4896)","v":1},"120902",9.9999999999999995E-7,120902.00000099999]
[120902.000002,null,3.4342999999999999E-2,1,15874.708320000002,null,0.61,null,462240,5.6299999999999996E-2,"دستگاه ساعت","مخزن متحرک بتن تراک میکسر 7 متر مکعبی با راننده",22020303,null,2,{"$f":"COUNTIF($S$1:S4897,Q4897+R4897)","v":2},"120902",9.9999999999999995E-7,120902.00000099999]
[120902.000006,null,1.1042313600000001E-2,1,3094.1556515423999,null,0.91200000000000003,null,280209,1.21078E-2,"دستگاه-ساعت","تانکراب پاش به ظرفیت حدود 15000 لیتر باراننده",23020503,null,6,{"$f":"COUNTIF($S$1:S4901,Q4901+R4901)","v":6},"120902",9.9999999999999995E-7,120902.00000099999]
[120902.000007,null,3.6480000000000005E-2,1,13262.741759999999,null,0.91200000000000003,null,363562,0.04,"دستگاه-ساعت","لودرچرخ لاستيکي به قدرت حدود150  اسب بخار باراننده",25010802,null,7,{"$f":"COUNTIF($S$1:S4902,Q4902+R4902)","v":7},"120902",9.9999999999999995E-7,120902.00000099999]
["",null,null,null,null,null,"ضريب",null,"بهاي واحد","مقـدار","واحــد","مصالح",null,null,"رديف",{"$f":"COUNTIF($S$1:S4906,Q4906+R4906)","v":0},"120902",1E-4,""]
[120902.0003,null,0.53,1,109047.5,null,1,null,205750,0.53,"مترمكعب","ماسه شسته دانه بندی شده (تولید کارگاه)",31030301,null,3,{"$f":"COUNTIF($S$1:S4909,Q4909+R4909)","v":3},"120902",1E-4,120902.0001]
["",null,null,null,null,null,"ضريب",null,"بهاي واحد","مقـدار","واحــد"," حمل مصالح ",null,null,"رديف",{"$f":"COUNTIF($S$1:S4913,Q4913+R4913)","v":0},"120902",0.01,""]
["",null,null,null,null,null,null,null,null,null,null,"درصد",null,null,"واحـد :",{"$f":"COUNTIF($S$1:S4916,Q4916+R4916)","v":0},"120903",0.01,""]
["",null,null,null,null,null,null,null,null,null,null,null,null,"121001",null,{"$f":"COUNTIF($S$1:S4919,Q4919+R4919)","v":0},"121001",1E-8,""]
["",null,null,null,null,null,null,null,null,null,null,"مترمکعب -کیلومتر",null,null,"واحـد :",{"$f":"COUNTIF($S$1:S4920,Q4920+R4920)","v":0},"121001",1E-8,""]
["",null,null,null,null,null,null,null,null,null,null,null,null,"121002",null,{"$f":"COUNTIF($S$1:S4923,Q4923+R4923)","v":0},"121002",9.9999999999999995E-7,""]
[121002.00000099999,null,8.1374888000000003E-3,1,2915.1414377568003,null,1.96,null,358236,4.1517799999999999E-3,"دستگاه ساعت","کامیون کمپرسی به ظرفیت حدود 16 تن با راننده",23020205,null,1,{"$f":"COUNTIF($S$1:S4926,Q4926+R4926)","v":1},"121002",9.9999999999999995E-7,121002.00000099999]
["",null,null,null,null,null,"ضريب",null,"بهاي واحد","مقـدار","واحــد","ماشين آلات ",null,null,"رديف",{"$f":"COUNTIF($S$1:S4929,Q4929+R4929)","v":0},"121003",9.9999999999999995E-7,""]
["",null,null,null,null,null,null,null,null,null,null,"مترمكعب",null,null,"واحـد :",{"$f":"COUNTIF($S$1:S4932,Q4932+R4932)","v":0},"121101",9.9999999999999995E-7,""]
[121101.00000003001,null,6.6149999999999998E-4,1,60.775312499999998,null,0.63,null,91875,1.0499999999999999E-3,"نفر ساعت","اپراتور دستگاه برش آسفالت ( کاتر )",13041801,null,3,{"$f":"COUNTIF($S$1:S4936,Q4936+R4936)","v":3},"121101",1E-8,121101.00000001]
[121101.00000006,null,0.24102439200000003,1,18568.51915968,null,0.63,null,77040,0.38257840000000004,"نفر ساعت","بنای بتن کار",14060201,null,6,{"$f":"COUNTIF($S$1:S4939,Q4939+R4939)","v":6},"121101",1E-8,121101.00000001]
[121101.00000099999,null,0.29600000000000004,1,112879.008,null,14.8,null,381348,0.02,"دستگاه ساعت","ایستگاه بتن ساز بچینگ پلانت25 تا30 مترمکعب در ساعت",22020204,null,1,{"$f":"COUNTIF($S$1:S4942,Q4942+R4942)","v":1},"121101",9.9999999999999995E-7,121101.00000099999]
[121101.000002,null,0.23919999999999997,1,208018.12719999999,null,1,null,869641,0.23919999999999997,"دستگاه ساعت","ماشین آسفالت پخش کنی فینیشر لاستیکی با راننده",22030202,null,2,{"$f":"COUNTIF($S$1:S4943,Q4943+R4943)","v":2},"121101",9.9999999999999995E-7,121101.00000099999]
[121101.00000499999,null,0.14000000000000001,1,48535.200000000012,null,1,null,346680,0.14000000000000001,"دستگاه-ساعت","کامیون کمپرسی به ظرفیت حدود 10 تن با راننده",23020204,null,5,{"$f":"COUNTIF($S$1:S4946,Q4946+R4946)","v":5},"121101",9.9999999999999995E-7,121101.00000099999]
[121101.000008,null,0.04,1,14542.48,null,1,null,363562,0.04,"دستگاه-ساعت","لودرچرخ لاستيکي به قدرت حدود150  اسب بخار باراننده",25010802,null,8,{"$f":"COUNTIF($S$1:S4949,Q4949+R4949)","v":8},"121101",9.9999999999999995E-7,121101.00000099999]
["",null,null,null,null,null,"ضريب",null,"بهاي واحد","مقـدار","واحــد","مصالح",null,null,"رديف",{"$f":"COUNTIF($S$1:S4953,Q4953+R4953)","v":0},"121101",1E-4,""]
[121101.00019999999,null,0.26,1,2462.46,null,1.04,null,9471,0.25,"مترمكعب","آب چاه و قنات",31010301,null,2,{"$f":"COUNTIF($S$1:S4955,Q4955+R4955)","v":2},{"$f":"IF(N4955>0,N4955,Q4954)","v":"121101"},1E-4,{"$f":"IF(M4955<>\"\",Q4955+R4955,\"\")","v":121101.0001}]
[121101.0006,null,2.5,1,47345,null,1,null,18938,2.5,"کیلوگرم","مواد افزودنی شیمیایی",31131002,null,6,{"$f":"COUNTIF($S$1:S4959,Q4959+R4959)","v":6},"121101",1E-4,121101.0001]
[121101.01,null,0.38150000000000001,1,35423.419500000004,null,1.0900000000000001,null,92853,0.35,"تن","حمل سیمان فله و پاکتی",41060301,null,1,{"$f":"COUNTIF($S$1:S4962,Q4962+R4962)","v":1},"121101",0.01,121101.01]
["",null,null,null,null,null,null,null,null,null,null,"مترمكعب",null,null,"واحـد :",{"$f":"COUNTIF($S$1:S4965,Q4965+R4965)","v":0},"121102",0.01,""]
["",null,null,null,null,null,"ضريب",null,"بهاي واحد","مقـدار","واحــد","نيروي انساني ",null,null,"رديف",{"$f":"COUNTIF($S$1:S4966,Q4966+R4966)","v":0},"121102",1E-8,""]
[121102.00000003001,null,5.9639999999999986E-4,1,54.794250000000005,null,0.56799999999999995,null,91875,1.0499999999999999E-3,"نفر ساعت","اپراتور دستگاه برش آسفالت ( کاتر )",13041801,null,3,{"$f":"COUNTIF($S$1:S4969,Q4969+R4969)","v":3},"121102",1E-8,121102.00000001]
[121102.00000006999,null,0.16611659840000001,1,9774.1345332576002,null,0.56799999999999995,null,58839,0.29245880000000002,"نفر - ساعت","کمک بنای بتن کار",14060202,null,7,{"$f":"COUNTIF($S$1:S4973,Q4973+R4973)","v":7},"121102",1E-8,121102.00000001]
[121102.000002,null,0.21432319999999999,1,186384.24197119998,null,0.89600000000000013,null,869641,0.23919999999999997,"دستگاه ساعت","ماشین آسفالت پخش کنی فینیشر لاستیکی با راننده",22030202,null,2,{"$f":"COUNTIF($S$1:S4976,Q4976+R4976)","v":2},"121102",9.9999999999999995E-7,121102.00000099999]
[121102.000004,null,1.3440000000000002E-2,1,26092.523519999999,null,0.89600000000000013,null,1941408,1.4999999999999999E-2,"عدد","تیغه برش کاتر",22030702,null,4,{"$f":"COUNTIF($S$1:S4978,Q4978+R4978)","v":4},"121102",9.9999999999999995E-7,121102.00000099999]
[121102.000008,null,3.5840000000000004E-2,1,13030.062080000002,null,0.89600000000000013,null,363562,0.04,"دستگاه-ساعت","لودرچرخ لاستيکي به قدرت حدود150  اسب بخار باراننده",25010802,null,8,{"$f":"COUNTIF($S$1:S4982,Q4982+R4982)","v":8},"121102",9.9999999999999995E-7,121102.00000099999]
[121102.000011,null,2.2000000000000002E-2,1,10062.69,null,1.1000000000000001,null,457395,0.02,"دستگاه ساعت","ژنراتور 140KAV",26030122,null,11,{"$f":"COUNTIF($S$1:S4985,Q4985+R4985)","v":11},"121102",9.9999999999999995E-7,121102.00000099999]
[121102.00019999999,null,0.26,1,2462.46,null,1.04,null,9471,0.25,"مترمكعب","آب چاه و قنات",31010301,null,2,{"$f":"COUNTIF($S$1:S4988,Q4988+R4988)","v":2},"121102",1E-4,121102.0001]
[121102.0003,null,0.55120000000000002,1,113409.4,null,1.04,null,205750,0.53,"مترمكعب","ماسه شسته دانه بندی شده (تولید کارگاه)",31030301,null,3,{"$f":"COUNTIF($S$1:S4989,Q4989+R4989)","v":3},"121102",1E-4,121102.0001]
[121102.0006,null,2.6,1,46945.599999999999,null,1.04,null,18056,2.5,"متر مربع","گونی چتایی 7 ×0 4",31210101,null,6,{"$f":"COUNTIF($S$1:S4992,Q4992+R4992)","v":6},"121102",1E-4,121102.0001]
["",null,null,null,null,null,null,null,null,null,null,null,null,"121114",null,{"$f":"COUNTIF($S$1:S4996,Q4996+R4996)","v":0},"121114",0.01,""]
[121114.00000001,null,1.8E-3,1,102.6234,null,1,null,57013,1.8E-3,"نفر- ساعت","كارگر ساده",14010102,null,1,{"$f":"COUNTIF($S$1:S4999,Q4999+R4999)","v":1},"121114",{"$f":"IF(IF(O4999=\"رديف\",VLOOKUP(L4999,Kod,2,0),0)=0,R4998,IF(O4999=\"رديف\",VLOOKUP(L4999,Kod,2,0),0))","v":1E-8},121114.00000001]
["",null,null,null,null,null,"ضريب",null,"بهاي واحد","مقـدار","واحــد","مصالح",null,null,"رديف",{"$f":"COUNTIF($S$1:S5002,Q5002+R5002)","v":0},"121114",1E-4,""]
["",null,null,null,null,null,null,null,null,null,null,"مترمكعب",null,null,"واحـد :",{"$f":"COUNTIF($S$1:S5005,Q5005+R5005)","v":0},"130101",1E-4,""]
[130101.00000001999,null,3.2000000000000001E-2,1,3092.9920000000002,null,1,null,96656,3.2000000000000001E-2,"نفر ساعت","متصدی ایستگاههای بتن ساز یا بچینگ پلانت",13040102,null,2,{"$f":"COUNTIF($S$1:S5008,Q5008+R5008)","v":2},"130101",1E-8,130101.00000001]
[130101.00000003001,null,0.08,1,4814.08,null,1,null,60176,0.08,"نفر ساعت","ویبراتور چی",13041401,null,3,{"$f":"COUNTIF($S$1:S5009,Q5009+R5009)","v":3},"130101",1E-8,130101.00000001]
[130101.00000006,null,9.7000000000000017E-2,1,9625.8920000000016,null,1,null,99236,9.7000000000000017E-2,"نفر ساعت","استادکار کارهای بتنی",14060101,null,6,{"$f":"COUNTIF($S$1:S5012,Q5012+R5012)","v":6},"130101",1E-8,130101.00000001]
["",null,null,null,null,null,"ضريب",null,"بهاي واحد","مقـدار","واحــد","ماشين آلات ",null,null,"رديف",{"$f":"COUNTIF($S$1:S5015,Q5015+R5015)","v":0},"130101",9.9999999999999995E-7,""]
[130101.000004,null,0.3448,1,140901.14079999999,null,1,null,408646,0.3448,"دستگاه-ساعت","تریلی دو محوره با ظرفیت 24 تن باراننده",23020302,null,4,{"$f":"COUNTIF($S$1:S5019,Q5019+R5019)","v":4},{"$f":"IF(N5019>0,N5019,Q5018)","v":"130101"},9.9999999999999995E-7,{"$f":"IF(M5019<>\"\",Q5019+R5019,\"\")","v":130101.00000099999}]
[130101.000007,null,0.1724,1,45745.822799999994,null,1,null,265347,0.1724,"دستگاه ساعت","جرثقیل سقفی حدود15 تن با راننده",24011002,null,7,{"$f":"COUNTIF($S$1:S5022,Q5022+R5022)","v":7},"130101",9.9999999999999995E-7,130101.00000099999]
[130101.00001,null,0.66820000000000013,1,18672.849000000002,null,1,null,27945,0.66820000000000013,"دستگاه-ساعت","ویبراتوردیزلی",28100101,null,10,{"$f":"COUNTIF($S$1:S5025,Q5025+R5025)","v":10},"130101",9.9999999999999995E-7,130101.00000099999]
[130101.00019999999,null,0.25,1,2367.75,null,1,null,9471,0.25,"مترمكعب","آب چاه و قنات",31010301,null,2,{"$f":"COUNTIF($S$1:S5028,Q5028+R5028)","v":2},"130101",1E-4,130101.0001]
[130101.00049999999,null,0.43380000000000002,1,492015.96,null,1,null,1134200,0.43380000000000002,"تن","سیمان پرتلند نوع یک (سیمان معمولی) پاکتی و فله",31080103,null,5,{"$f":"COUNTIF($S$1:S5031,Q5031+R5031)","v":5},"130101",1E-4,130101.0001]
[130101.0006,null,0.78,1,14083.68,null,1,null,18056,0.78,"متر مربع","گونی چتایی 7 ×0 4",31210101,null,6,{"$f":"COUNTIF($S$1:S5032,Q5032+R5032)","v":6},"130101",1E-4,130101.0001]
[130101.02,null,0.78,1,170.82,null,1,null,219,0.78,"مترمربع","حمل عایق‌های رطوبتی چتایی و کنف",41200201,null,2,{"$f":"COUNTIF($S$1:S5035,Q5035+R5035)","v":2},"130101",0.01,130101.01]
["",null,null,null,null,null,"ضريب",null,"بهاي واحد","مقـدار","واحــد","ماشين آلات ",null,null,"رديف",{"$f":"COUNTIF($S$1:S5038,Q5038+R5038)","v":0},"130202",9.9999999999999995E-7,""]
[130202.000004,null,0.21740000000000001,1,248055.13920000001,null,1,null,1141008,0.21740000000000001,"دستگاه ساعت","جرثقيل کاميوني دو کابينه حدود 40 تن با راننده",24010205,null,4,{"$f":"COUNTIF($S$1:S5042,Q5042+R5042)","v":4},"130202",9.9999999999999995E-7,130202.00000099999]
["",null,null,null,null,null,null,null,null,null,null,null,null,"130301",null,{"$f":"COUNTIF($S$1:S5045,Q5045+R5045)","v":0},"130301",9.9999999999999995E-7,""]
[130301.00000001,null,5.8200000000000002E-2,1,4451.8926000000001,null,1,null,76493,5.8200000000000002E-2,"نفر ساعت","متصدی ماشینهای بتن ساز (بتونیرچی)",13040101,null,1,{"$f":"COUNTIF($S$1:S5048,Q5048+R5048)","v":1},"130301",1E-8,130301.00000001]
[130301.00000005,null,0.67800000000000016,1,38654.814000000006,null,1,null,57013,0.67800000000000016,"نفر- ساعت","كارگر ساده",14010102,null,5,{"$f":"COUNTIF($S$1:S5052,Q5052+R5052)","v":5},"130301",1E-8,130301.00000001]
[130301.00000006,null,1.9400000000000001E-2,1,1925.1784,null,1,null,99236,1.9400000000000001E-2,"نفر ساعت","استادکار کارهای بتنی",14060101,null,6,{"$f":"COUNTIF($S$1:S5053,Q5053+R5053)","v":6},"130301",1E-8,130301.00000001]
[130301.00000008001,null,5.8200000000000002E-2,1,3424.4297999999999,null,1,null,58839,5.8200000000000002E-2,"نفر - ساعت","کمک بنای بتن کار",14060202,null,8,{"$f":"COUNTIF($S$1:S5055,Q5055+R5055)","v":8},"130301",1E-8,130301.00000001]
[130301.000002,null,8.0000000000000002E-3,1,3050.7840000000001,null,1,null,381348,8.0000000000000002E-3,"دستگاه ساعت","ایستگاه بتن ساز بچینگ پلانت25 تا30 مترمکعب در ساعت",22020204,null,2,{"$f":"COUNTIF($S$1:S5058,Q5058+R5058)","v":2},"130301",9.9999999999999995E-7,130301.00000099999]
[130301.00000499999,null,0.1336,1,3733.4520000000002,null,1,null,27945,0.1336,"دستگاه-ساعت","ویبراتوردیزلی",28100101,null,5,{"$f":"COUNTIF($S$1:S5061,Q5061+R5061)","v":5},"130301",9.9999999999999995E-7,130301.00000099999]
[{"$f":"IF(M5065<>\"\",Q5065+(P5065*R5065),\"\")","v":130302.00000001},null,7.2700000000000001E-2,1,5561.0410999999995,null,1,null,76493,7.2700000000000001E-2,"نفر ساعت","متصدی ماشینهای بتن ساز (بتونیرچی)",13040101,null,1,{"$f":"COUNTIF($S$1:S5065,Q5065+R5065)","v":1},"130302",1E-8,130302.00000001]
[130302.00000004,null,8.0000000000000002E-3,1,560.73599999999999,null,1,null,70092,8.0000000000000002E-3,"نفر ساعت","کمک اپراتور ماشین آلات",13041501,null,4,{"$f":"COUNTIF($S$1:S5068,Q5068+R5068)","v":4},"130302",1E-8,130302.00000001]
[130302.00000008001,null,7.2700000000000001E-2,1,4277.5953,null,1,null,58839,7.2700000000000001E-2,"نفر - ساعت","کمک بنای بتن کار",14060202,null,8,{"$f":"COUNTIF($S$1:S5072,Q5072+R5072)","v":8},"130302",1E-8,130302.00000001]
[130302.000002,null,0.01,1,3813.48,null,1,null,381348,0.01,"دستگاه ساعت","ایستگاه بتن ساز بچینگ پلانت25 تا30 مترمکعب در ساعت",22020204,null,2,{"$f":"COUNTIF($S$1:S5075,Q5075+R5075)","v":2},"130302",9.9999999999999995E-7,130302.00000099999]
[130302.00000499999,null,0.1671,1,4669.6095000000005,null,1,null,27945,0.1671,"دستگاه-ساعت","ویبراتوردیزلی",28100101,null,5,{"$f":"COUNTIF($S$1:S5078,Q5078+R5078)","v":5},"130302",9.9999999999999995E-7,130302.00000099999]
["",null,null,null,null,null,null,null,null,null,null,"مترمكعب",null,null,"واحـد :",{"$f":"COUNTIF($S$1:S5080,Q5080+R5080)","v":0},"130401",9.9999999999999995E-7,""]
["",null,null,null,null,null,"ضريب",null,"بهاي واحد","مقـدار","واحــد","نيروي انساني ",null,null,"رديف",{"$f":"COUNTIF($S$1:S5081,Q5081+R5081)","v":0},"130401",1E-8,""]
["",null,null,null,null,null,"ضريب",null,"بهاي واحد","مقـدار","واحــد","ماشين آلات ",null,null,"رديف",{"$f":"COUNTIF($S$1:S5084,Q5084+R5084)","v":0},"130401",9.9999999999999995E-7,""]
["",null,null,null,null,null,null,null,null,null,null,"عدد",null,null,"واحـد :",{"$f":"COUNTIF($S$1:S5088,Q5088+R5088)","v":0},"130402",9.9999999999999995E-7,""]
[130402.00000001999,null,4,1,643844,null,1,null,160961,4,"نفر ساعت","تکنسین متخصص نصب تیرهای پیش تنیده",14060401,null,2,{"$f":"COUNTIF($S$1:S5091,Q5091+R5091)","v":2},"130402",1E-8,130402.00000001]
[130402.00000299999,null,1,1,485352,null,1,null,485352,1,"دستگاه-ساعت","بولدوزر به قدرت حدود 200  اسب بخار باراننده",25010603,null,3,{"$f":"COUNTIF($S$1:S5095,Q5095+R5095)","v":3},"130402",9.9999999999999995E-7,130402.00000099999]
["",null,null,null,null,null,"ضريب",null,"بهاي واحد","مقـدار","واحــد","نيروي انساني ",null,null,"رديف",{"$f":"COUNTIF($S$1:S5098,Q5098+R5098)","v":0},"130403",1E-8,""]
["",null,null,null,null,null,"ضريب",null,"بهاي واحد","مقـدار","واحــد","ماشين آلات ",null,null,"رديف",{"$f":"COUNTIF($S$1:S5101,Q5101+R5101)","v":0},"130403",9.9999999999999995E-7,""]
[130403.00000099999,null,4,1,3035628,null,1,null,758907,4,"دستگاه ساعت","تریلی5 محور کشویی با راننده",23020306,null,1,{"$f":"COUNTIF($S$1:S5102,Q5102+R5102)","v":1},"130403",9.9999999999999995E-7,130403.00000099999]
[130403.000004,null,1,1,485352,null,1,null,485352,1,"دستگاه-ساعت","بولدوزر به قدرت حدود 200  اسب بخار باراننده",25010603,null,4,{"$f":"COUNTIF($S$1:S5105,Q5105+R5105)","v":4},"130403",9.9999999999999995E-7,130403.00000099999]
["",null,null,null,null,null,null,null,null,null,null,"عدد",null,null,"واحـد :",{"$f":"COUNTIF($S$1:S5107,Q5107+R5107)","v":0},"130404",9.9999999999999995E-7,""]
["",null,null,null,null,null,"ضريب",null,"بهاي واحد","مقـدار","واحــد","ماشين آلات ",null,null,"رديف",{"$f":"COUNTIF($S$1:S5111,Q5111+R5111)","v":0},"130404",9.9999999999999995E-7,""]
[130404.00000299999,null,1,1,575489,null,1,null,575489,1,"دستگاه ساعت","بولدوزر به قدرت حدود250 اسب بخار با راننده",25010604,null,3,{"$f":"COUNTIF($S$1:S5114,Q5114+R5114)","v":3},"130404",9.9999999999999995E-7,130404.00000099999]
[130405.00000001,null,36,1,2052468,null,1,null,57013,36,"نفر- ساعت","كارگر ساده",14010102,null,1,{"$f":"COUNTIF($S$1:S5118,Q5118+R5118)","v":1},"130405",1E-8,130405.00000001]
[130405.00000099999,null,6,1,8406246,null,1,null,1401041,6,"دستگاه ساعت","تریلی9 محور لوله بر با راننده",23020309,null,1,{"$f":"COUNTIF($S$1:S5121,Q5121+R5121)","v":1},"130405",9.9999999999999995E-7,130405.00000099999]
[130405.000004,null,6,1,942510,null,1,null,157085,6,"دستگاه ساعت","ریل و ارابه مخصوص حمل تیرهای بتنی پیش ساخته",24011301,null,4,{"$f":"COUNTIF($S$1:S5124,Q5124+R5124)","v":4},"130405",9.9999999999999995E-7,130405.00000099999]
[130405.00000499999,null,6,1,1783140,null,1,null,297190,6,"دستگاه ساعت","پوتر لانسمان تیر مشبک فولادی",24011302,null,5,{"$f":"COUNTIF($S$1:S5125,Q5125+R5125)","v":5},"130405",9.9999999999999995E-7,130405.00000099999]
["",null,null,null,null,null,null,null,null,null,null,"عدد",null,null,"واحـد :",{"$f":"COUNTIF($S$1:S5128,Q5128+R5128)","v":0},"130406",9.9999999999999995E-7,""]
["",null,null,null,null,null,"ضريب",null,"بهاي واحد","مقـدار","واحــد","ماشين آلات ",null,null,"رديف",{"$f":"COUNTIF($S$1:S5132,Q5132+R5132)","v":0},"130406",9.9999999999999995E-7,""]
[130406.000002,null,6,1,6846048,null,1,null,1141008,6,"دستگاه ساعت","جرثقيل کاميوني دو کابينه حدود 40 تن با راننده",24010205,null,2,{"$f":"COUNTIF($S$1:S5134,Q5134+R5134)","v":2},"130406",9.9999999999999995E-7,130406.00000099999]
[130406.00000499999,null,12,1,3566280,null,1.5,null,297190,8,"دستگاه ساعت","پوتر لانسمان تیر مشبک فولادی",24011302,null,5,{"$f":"COUNTIF($S$1:S5137,Q5137+R5137)","v":5},"130406",9.9999999999999995E-7,130406.00000099999]
["",null,null,null,null,null,"ضريب",null,"بهاي واحد","مقـدار","واحــد","نيروي انساني ",null,null,"رديف",{"$f":"COUNTIF($S$1:S5141,Q5141+R5141)","v":0},"130407",1E-8,""]
["",null,null,null,null,null,"ضريب",null,"بهاي واحد","مقـدار","واحــد","ماشين آلات ",null,null,"رديف",{"$f":"COUNTIF($S$1:S5144,Q5144+R5144)","v":0},"130407",9.9999999999999995E-7,""]
[130407.00000299999,null,8,1,16557760,null,1,null,2069720,8,"دستگاه ساعت","جرثقیل خودرو چرخ لاستیکی حدود 80 تن با راننده",24010308,null,3,{"$f":"COUNTIF($S$1:S5147,Q5147+R5147)","v":3},{"$f":"IF(N5147>0,N5147,Q5146)","v":"130407"},9.9999999999999995E-7,{"$f":"IF(M5147<>\"\",Q5147+R5147,\"\")","v":130407.00000099999}]
[130407.000004,null,19,1,2984615,null,2.375,null,157085,8,"دستگاه ساعت","ریل و ارابه مخصوص حمل تیرهای بتنی پیش ساخته",24011301,null,4,{"$f":"COUNTIF($S$1:S5148,Q5148+R5148)","v":4},"130407",9.9999999999999995E-7,130407.00000099999]
["",null,null,null,null,null,null,null,null,null,null,null,null,"130501",null,{"$f":"COUNTIF($S$1:S5151,Q5151+R5151)","v":0},"130501",9.9999999999999995E-7,""]
[130501.00000001999,null,1.125,1,181081.125,null,1,null,160961,1.125,"نفر ساعت","تکنسین متخصص نصب تیرهای پیش تنیده",14060401,null,2,{"$f":"COUNTIF($S$1:S5155,Q5155+R5155)","v":2},"130501",1E-8,130501.00000001]
[130501.00000099999,null,1.5,1,2189142,null,1,null,1459428,1.5,"دستگاه ساعت","جرثقيل کاميوني دو کابينه حدود 50 تن با راننده",24010206,null,1,{"$f":"COUNTIF($S$1:S5157,Q5157+R5157)","v":1},"130501",9.9999999999999995E-7,130501.00000099999]
[130501.000004,null,0.25,1,143872.25,null,1,null,575489,0.25,"دستگاه ساعت","بولدوزر به قدرت حدود250 اسب بخار با راننده",25010604,null,4,{"$f":"COUNTIF($S$1:S5160,Q5160+R5160)","v":4},"130501",9.9999999999999995E-7,130501.00000099999]
[130502.00000001,null,6.75,1,384837.75,null,1,null,57013,6.75,"نفر- ساعت","كارگر ساده",14010102,null,1,{"$f":"COUNTIF($S$1:S5164,Q5164+R5164)","v":1},"130502",1E-8,130502.00000001]
[130502.00000099999,null,2,1,3184184,null,1,null,1592092,2,"دستگاه ساعت","جرثقیل خودرو چرخ لاستیکی حدود 60 تن با راننده",24010307,null,1,{"$f":"COUNTIF($S$1:S5167,Q5167+R5167)","v":1},"130502",9.9999999999999995E-7,130502.00000099999]
[130502.000002,null,3,1,471255,null,1.5,null,157085,2,"دستگاه ساعت","ریل و ارابه مخصوص حمل تیرهای بتنی پیش ساخته",24011301,null,2,{"$f":"COUNTIF($S$1:S5168,Q5168+R5168)","v":2},"130502",9.9999999999999995E-7,130502.00000099999]
["",null,null,null,null,null,null,null,null,null,null,null,null,"130503",null,{"$f":"COUNTIF($S$1:S5171,Q5171+R5171)","v":0},"130503",9.9999999999999995E-7,""]
[130503.00000001,null,13.5,1,769675.5,null,1,null,57013,13.5,"نفر- ساعت","كارگر ساده",14010102,null,1,{"$f":"COUNTIF($S$1:S5174,Q5174+R5174)","v":1},"130503",1E-8,130503.00000001]
[130503.000002,null,4.75,1,746153.75,null,2.375,null,157085,2,"دستگاه ساعت","ریل و ارابه مخصوص حمل تیرهای بتنی پیش ساخته",24011301,null,2,{"$f":"COUNTIF($S$1:S5178,Q5178+R5178)","v":2},"130503",9.9999999999999995E-7,130503.00000099999]
["",null,null,null,null,null,null,null,null,null,null,null,null,"130601",null,{"$f":"COUNTIF($S$1:S5181,Q5181+R5181)","v":0},"130601",9.9999999999999995E-7,""]
[130601.00000001,null,3.2659200000000007E-3,1,288.47218176000001,null,1.05,null,88328,3.1104000000000006E-3,"نفر ساعت","بنای سفت کار درجه یک",14020101,null,1,{"$f":"COUNTIF($S$1:S5184,Q5184+R5184)","v":1},"130601",1E-8,130601.00000001]
["",null,null,null,null,null,null,null,null,null,null,null,null,"130602",null,{"$f":"COUNTIF($S$1:S5187,Q5187+R5187)","v":0},"130602",9.9999999999999995E-7,""]
[130602.00000099999,null,-1.84E-2,1,-7519.0864000000001,null,1.6,null,408646,-1.15E-2,"دستگاه-ساعت","تریلی دو محوره با ظرفیت 24 تن باراننده",23020302,null,1,{"$f":"COUNTIF($S$1:S5190,Q5190+R5190)","v":1},"130602",9.9999999999999995E-7,130602.00000099999]
[130602.000002,null,1.6639999999999999E-2,1,12628.212480000002,null,1.6,null,758907,1.04E-2,"دستگاه ساعت","تریلی5 محور کشویی با راننده",23020306,null,2,{"$f":"COUNTIF($S$1:S5191,Q5191+R5191)","v":2},"130602",{"$f":"IF(IF(O5191=\"رديف\",VLOOKUP(L5191,Kod,2,0),0)=0,R5190,IF(O5191=\"رديف\",VLOOKUP(L5191,Kod,2,0),0))","v":9.9999999999999995E-7},130602.00000099999]
["",null,null,null,null,null,"ضريب",null,"بهاي واحد","مقـدار","واحــد","نيروي انساني ",null,null,"رديف",{"$f":"COUNTIF($S$1:S5194,Q5194+R5194)","v":0},"130701",1E-8,""]
[130701.00000003001,null,0.77819999999999989,1,44367.516599999995,null,1,null,57013,0.77819999999999989,"نفر- ساعت","كارگر ساده",14010102,null,3,{"$f":"COUNTIF($S$1:S5197,Q5197+R5197)","v":3},"130701",1E-8,130701.00000001]
[130701.00000006999,null,5.3E-3,1,525.95080000000007,null,1,null,99236,5.3E-3,"نفر ساعت","استادکار کارهای بتنی",14060101,null,7,{"$f":"COUNTIF($S$1:S5201,Q5201+R5201)","v":7},"130701",1E-8,130701.00000001]
["",null,null,null,null,null,"ضريب",null,"بهاي واحد","مقـدار","واحــد","ماشين آلات ",null,null,"رديف",{"$f":"COUNTIF($S$1:S5204,Q5204+R5204)","v":0},"130701",9.9999999999999995E-7,""]
[130701.00000299999,null,3.2199999999999999E-2,1,3007.6087999999995,null,1,null,93404,3.2199999999999999E-2,"دستگاه ساعت","دامپر2 تن هیدرولیکی باراننده",23021102,null,3,{"$f":"COUNTIF($S$1:S5207,Q5207+R5207)","v":3},"130701",9.9999999999999995E-7,130701.00000099999]
[130701.00000499999,null,0.25,1,92872,null,1,null,371488,0.25,"دستگاه ساعت","جرثقيل کفي10 تن با کاميون 16 تن با راننده",24010106,null,5,{"$f":"COUNTIF($S$1:S5209,Q5209+R5209)","v":5},"130701",9.9999999999999995E-7,130701.00000099999]
["",null,null,null,null,null,"ضريب",null,"بهاي واحد","مقـدار","واحــد","مصالح",null,null,"رديف",{"$f":"COUNTIF($S$1:S5213,Q5213+R5213)","v":0},"130701",1E-4,""]
[130701.0001,null,8.2000000000000007E-3,1,10.2746,null,1,null,1253,8.2000000000000007E-3,"مترمكعب","آب رودخانه",31010201,null,1,{"$f":"COUNTIF($S$1:S5214,Q5214+R5214)","v":1},"130701",1E-4,130701.0001]
[130701.0004,null,4.0500000000000001E-2,1,6894.3959999999997,null,1,null,170232,4.0500000000000001E-2,"مترمكعب","شن شسته شده دانه بندی شده12.5میلیمتر تولید کارگاه",31030602,null,4,{"$f":"COUNTIF($S$1:S5217,Q5217+R5217)","v":4},"130701",1E-4,130701.0001]
[130701.0007,null,0.152,1,2654.2240000000002,null,1,null,17462,0.152,"مترمكعب","قالب فلزی جدول و دال بتنی پیش ساخته",39110401,null,7,{"$f":"COUNTIF($S$1:S5220,Q5220+R5220)","v":7},"130701",1E-4,130701.0001]
[130701.03,null,1.7999999999999999E-2,1,3.9419999999999993,null,1,null,219,1.7999999999999999E-2,"مترمربع","حمل عایق‌های رطوبتی چتایی و کنف",41200201,null,3,{"$f":"COUNTIF($S$1:S5224,Q5224+R5224)","v":3},"130701",0.01,130701.01]
["",null,null,null,null,null,"ضريب",null,"بهاي واحد","مقـدار","واحــد","نيروي انساني ",null,null,"رديف",{"$f":"COUNTIF($S$1:S5227,Q5227+R5227)","v":0},"130801",1E-8,""]
[130801.00000004,null,2.1333350000000002,1,188433.21388,null,0.5,null,88328,4.2666700000000004,"نفر ساعت","بنای سفت کار درجه یک",14020101,null,4,{"$f":"COUNTIF($S$1:S5231,Q5231+R5231)","v":4},"130801",1E-8,130801.00000001]
[130801.00000006999,null,5.3335E-2,1,5292.7520599999998,null,0.5,null,99236,0.10667,"نفر ساعت","استادکار کارهای بتنی",14060101,null,7,{"$f":"COUNTIF($S$1:S5234,Q5234+R5234)","v":7},"130801",1E-8,130801.00000001]
[130801.00000009,null,0.32257999999999998,1,18980.284619999999,null,0.5,null,58839,0.64515999999999996,"نفر - ساعت","کمک بنای بتن کار",14060202,null,9,{"$f":"COUNTIF($S$1:S5236,Q5236+R5236)","v":9},"130801",1E-8,130801.00000001]
[130801.0000001,null,2.1333350000000002,1,146519.58113500001,null,0.5,null,68681,4.2666700000000004,"نفر ساعت","بندکش",14150201,null,10,{"$f":"COUNTIF($S$1:S5237,Q5237+R5237)","v":10},"130801",1E-8,130801.00000001]
[130801.00000099999,null,0.64515999999999996,1,31273.485839999998,null,1,null,48474,0.64515999999999996,"دستگاه ساعت","بتونیر 500 لیتری",22020105,null,1,{"$f":"COUNTIF($S$1:S5240,Q5240+R5240)","v":1},"130801",9.9999999999999995E-7,130801.00000099999]
[130801.000004,null,0.64515999999999996,1,60260.524639999996,null,1,null,93404,0.64515999999999996,"دستگاه ساعت","دامپر2 تن هیدرولیکی باراننده",23021102,null,4,{"$f":"COUNTIF($S$1:S5243,Q5243+R5243)","v":4},"130801",9.9999999999999995E-7,130801.00000099999]
["",null,null,null,null,null,"ضريب",null,"بهاي واحد","مقـدار","واحــد","مصالح",null,null,"رديف",{"$f":"COUNTIF($S$1:S5247,Q5247+R5247)","v":0},"130801",1E-4,""]
[130801.0003,null,0.66,1,171600,null,1,null,260000,0.66,"مترمكعب","ماسه شسته دانه بندی شده",31030203,null,3,{"$f":"COUNTIF($S$1:S5250,Q5250+R5250)","v":3},"130801",1E-4,130801.0001]
[130801.0007,null,0.02,1,18146.86,null,1,null,907343,0.02,"مترمكعب","ملات ماسه بادی و سیمان 1:4",31140401,null,7,{"$f":"COUNTIF($S$1:S5254,Q5254+R5254)","v":7},"130801",1E-4,130801.0001]
[{"$f":"IF(M5257<>\"\",Q5257+(P5257*R5257),\"\")","v":""},null,null,null,null,null,"ضريب",null,"بهاي واحد","مقـدار","واحــد"," حمل مصالح ",null,null,"رديف",{"$f":"COUNTIF($S$1:S5257,Q5257+R5257)","v":0},"130801",0.01,""]
[130801.02,null,1.47,1,108456.6,null,1,null,73780,1.47,"مترمكعب","حمل خاک شن  ماسه و مخلوط شن و ماسه",41020101,null,2,{"$f":"COUNTIF($S$1:S5259,Q5259+R5259)","v":2},"130801",0.01,130801.01]
[130801.03,null,0.27800000000000002,1,25813.134000000005,null,1,null,92853,0.27800000000000002,"تن","حمل سیمان فله و پاکتی",41060301,null,3,{"$f":"COUNTIF($S$1:S5260,Q5260+R5260)","v":3},"130801",0.01,130801.01]
["",null,null,null,null,null,null,null,null,null,null,null,null,"130802",null,{"$f":"COUNTIF($S$1:S5263,Q5263+R5263)","v":0},"130802",0.01,""]
[130802.00000001999,null,2.4241999999999999,1,145878.65919999999,null,0.5,null,60176,4.8483999999999998,"نفر ساعت","ویبراتور چی",13041401,null,2,{"$f":"COUNTIF($S$1:S5267,Q5267+R5267)","v":2},"130802",1E-8,130802.00000001]
[130802.00000005,null,1.0526500000000001,1,67484.338850000015,null,0.5,null,64109,2.1053000000000002,"نفر ساعت","کمک بنای سفت کار",14020103,null,5,{"$f":"COUNTIF($S$1:S5270,Q5270+R5270)","v":5},"130802",1E-8,130802.00000001]
[130802.00000008001,null,2.4241999999999999,1,186760.36800000002,null,0.5,null,77040,4.8483999999999998,"نفر ساعت","بنای بتن کار",14060201,null,8,{"$f":"COUNTIF($S$1:S5273,Q5273+R5273)","v":8},"130802",1E-8,130802.00000001]
["",null,null,null,null,null,"ضريب",null,"بهاي واحد","مقـدار","واحــد","ماشين آلات ",null,null,"رديف",{"$f":"COUNTIF($S$1:S5277,Q5277+R5277)","v":0},"130802",9.9999999999999995E-7,""]
[130802.00000299999,null,0.6452,1,60264.260800000004,null,1,null,93404,0.6452,"دستگاه ساعت","دامپر2 تن هیدرولیکی باراننده",23021102,null,3,{"$f":"COUNTIF($S$1:S5280,Q5280+R5280)","v":3},"130802",9.9999999999999995E-7,130802.00000099999]
[130802.000006,null,2E-3,1,2100,null,1,null,1050000,2E-3,"دستگاه","فرگون",28070601,null,6,{"$f":"COUNTIF($S$1:S5283,Q5283+R5283)","v":6},"130802",9.9999999999999995E-7,130802.00000099999]
[130802.000007,null,4.8484999999999996,1,104228.20449999999,null,1,null,21497,4.8484999999999996,"دستگاه ساعت","ویبراتور بنزینی",28100201,null,7,{"$f":"COUNTIF($S$1:S5284,Q5284+R5284)","v":7},"130802",9.9999999999999995E-7,130802.00000099999]
[130802.0001,null,0.16400000000000003,1,205.49200000000002,null,1,null,1253,0.16400000000000003,"مترمكعب","آب رودخانه",31010201,null,1,{"$f":"COUNTIF($S$1:S5286,Q5286+R5286)","v":1},"130802",1E-4,130802.0001]
[130802.00049999999,null,0.27800000000000002,1,315307.60000000003,null,1,null,1134200,0.27800000000000002,"تن","سیمان پرتلند نوع یک (سیمان معمولی) پاکتی و فله",31080103,null,5,{"$f":"COUNTIF($S$1:S5290,Q5290+R5290)","v":5},"130802",1E-4,130802.0001]
[130802.00079999999,null,0.35,1,6319.6,null,1,null,18056,0.35,"متر مربع","گونی چتایی 7 ×0 4",31210101,null,8,{"$f":"COUNTIF($S$1:S5293,Q5293+R5293)","v":8},"130802",1E-4,130802.0001]
[130802.01,null,0.27800000000000002,1,25813.134000000005,null,1,null,92853,0.27800000000000002,"تن","حمل سیمان فله و پاکتی",41060301,null,1,{"$f":"COUNTIF($S$1:S5296,Q5296+R5296)","v":1},"130802",0.01,130802.01]
["",null,null,null,null,null,null,null,null,null,null,"مترمكعب",null,null,"واحـد :",{"$f":"COUNTIF($S$1:S5300,Q5300+R5300)","v":0},"130803",0.01,""]
[130803.00000001999,null,2.4242499999999998,1,145881.66800000001,null,0.5,null,60176,4.8484999999999996,"نفر ساعت","ویبراتور چی",13041401,null,2,{"$f":"COUNTIF($S$1:S5303,Q5303+R5303)","v":2},"130803",1E-8,130803.00000001]
[130803.00000005,null,0.91959999999999997,1,58954.636399999996,null,0.5,null,64109,1.8391999999999999,"نفر ساعت","کمک بنای سفت کار",14020103,null,5,{"$f":"COUNTIF($S$1:S5306,Q5306+R5306)","v":5},"130803",1E-8,130803.00000001]
[130803.00000006,null,1.1594,1,91425.646400000012,null,0.5,null,78856,2.3188,"نفر - ساعت","نجار قالب بند درجه دو",14030202,null,6,{"$f":"COUNTIF($S$1:S5307,Q5307+R5307)","v":6},"130803",1E-8,130803.00000001]
[130803.0000001,null,0.91959999999999997,1,63159.047599999998,null,0.5,null,68681,1.8391999999999999,"نفر ساعت","بندکش",14150201,null,10,{"$f":"COUNTIF($S$1:S5311,Q5311+R5311)","v":10},"130803",1E-8,130803.00000001]
["",null,null,null,null,null,"ضريب",null,"بهاي واحد","مقـدار","واحــد","ماشين آلات ",null,null,"رديف",{"$f":"COUNTIF($S$1:S5313,Q5313+R5313)","v":0},"130803",9.9999999999999995E-7,""]
[130803.00000299999,null,0.6452,1,60264.260800000004,null,1,null,93404,0.6452,"دستگاه ساعت","دامپر2 تن هیدرولیکی باراننده",23021102,null,3,{"$f":"COUNTIF($S$1:S5316,Q5316+R5316)","v":3},"130803",9.9999999999999995E-7,130803.00000099999]
[130803.000006,null,2E-3,1,2100,null,1,null,1050000,2E-3,"دستگاه","فرگون",28070601,null,6,{"$f":"COUNTIF($S$1:S5319,Q5319+R5319)","v":6},"130803",{"$f":"IF(IF(O5319=\"رديف\",VLOOKUP(L5319,Kod,2,0),0)=0,R5318,IF(O5319=\"رديف\",VLOOKUP(L5319,Kod,2,0),0))","v":9.9999999999999995E-7},130803.00000099999]
[130803.00019999999,null,0.16400000000000003,1,1553.2440000000001,null,1,null,9471,0.16400000000000003,"مترمكعب","آب چاه و قنات",31010301,null,2,{"$f":"COUNTIF($S$1:S5323,Q5323+R5323)","v":2},"130803",1E-4,130803.0001]
[130803.00049999999,null,0.27800000000000002,1,315307.60000000003,null,1,null,1134200,0.27800000000000002,"تن","سیمان پرتلند نوع یک (سیمان معمولی) پاکتی و فله",31080103,null,5,{"$f":"COUNTIF($S$1:S5326,Q5326+R5326)","v":5},"130803",1E-4,130803.0001]
[130803.0006,null,0.02,1,15552.34,null,1,null,777617,0.02,"مترمكعب","ملات ماسه بادی و سیمان14 با ماسه بادی تولید کارگاه",31140402,null,6,{"$f":"COUNTIF($S$1:S5327,Q5327+R5327)","v":6},"130803",1E-4,130803.0001]
[130803.0009,null,2.0699999999999998,1,36146.339999999997,null,1,null,17462,2.0699999999999998,"مترمكعب","قالب فلزی جدول و دال بتنی پیش ساخته",39110401,null,9,{"$f":"COUNTIF($S$1:S5330,Q5330+R5330)","v":9},"130803",1E-4,130803.0001]
[130803.02,null,2.0699999999999998,1,678.95999999999981,null,1,null,328,2.0699999999999998,"كیلوگرم","حمل قالب‌های فلزی بتن",41110401,null,2,{"$f":"COUNTIF($S$1:S5333,Q5333+R5333)","v":2},"130803",0.01,130803.01]
["",null,null,null,null,null,null,null,null,null,null,"مترمكعب",null,null,"واحـد :",{"$f":"COUNTIF($S$1:S5336,Q5336+R5336)","v":0},"130804",0.01,""]
[130804.00000001999,null,3.1127999999999996,1,187315.85279999996,null,1,null,60176,3.1127999999999996,"نفر ساعت","ویبراتور چی",13041401,null,2,{"$f":"COUNTIF($S$1:S5339,Q5339+R5339)","v":2},{"$f":"IF(N5339>0,N5339,Q5338)","v":"130804"},1E-8,{"$f":"IF(M5339<>\"\",Q5339+R5339,\"\")","v":130804.00000001}]
[130804.00000005,null,2.3668999999999998,1,151739.59209999998,null,1,null,64109,2.3668999999999998,"نفر ساعت","کمک بنای سفت کار",14020103,null,5,{"$f":"COUNTIF($S$1:S5342,Q5342+R5342)","v":5},"130804",1E-8,130804.00000001]
[130804.00000009,null,0.6452,1,37962.9228,null,1,null,58839,0.6452,"نفر - ساعت","کمک بنای بتن کار",14060202,null,9,{"$f":"COUNTIF($S$1:S5346,Q5346+R5346)","v":9},"130804",1E-8,130804.00000001]
[130804.000002,null,7.7999999999999988E-3,1,2185.6301999999996,null,1,null,280209,7.7999999999999988E-3,"دستگاه-ساعت","تانکراب پاش به ظرفیت حدود 15000 لیتر باراننده",23020503,null,2,{"$f":"COUNTIF($S$1:S5349,Q5349+R5349)","v":2},"130804",9.9999999999999995E-7,130804.00000099999]
[130804.00000299999,null,0.6452,1,60264.260800000004,null,1,null,93404,0.6452,"دستگاه ساعت","دامپر2 تن هیدرولیکی باراننده",23021102,null,3,{"$f":"COUNTIF($S$1:S5350,Q5350+R5350)","v":3},"130804",9.9999999999999995E-7,130804.00000099999]
[130804.000006,null,2E-3,1,2100,null,1,null,1050000,2E-3,"دستگاه","فرگون",28070601,null,6,{"$f":"COUNTIF($S$1:S5353,Q5353+R5353)","v":6},"130804",9.9999999999999995E-7,130804.00000099999]
[130804.0001,null,0.161,1,201.73300000000003,null,1,null,1253,0.161,"مترمكعب","آب رودخانه",31010201,null,1,{"$f":"COUNTIF($S$1:S5356,Q5356+R5356)","v":1},"130804",1E-4,130804.0001]
[130804.00049999999,null,0.33399999999999996,1,378822.8,null,1,null,1134200,0.33399999999999996,"تن","سیمان پرتلند نوع یک (سیمان معمولی) پاکتی و فله",31080103,null,5,{"$f":"COUNTIF($S$1:S5360,Q5360+R5360)","v":5},"130804",1E-4,130804.0001]
[130804.00079999999,null,2.48,1,43305.760000000002,null,1,null,17462,2.48,"مترمكعب","قالب فلزی جدول و دال بتنی پیش ساخته",39110401,null,8,{"$f":"COUNTIF($S$1:S5363,Q5363+R5363)","v":8},"130804",1E-4,130804.0001]
[130804.01,null,0.33399999999999996,1,31012.902000000002,null,1,null,92853,0.33399999999999996,"تن","حمل سیمان فله و پاکتی",41060301,null,1,{"$f":"COUNTIF($S$1:S5365,Q5365+R5365)","v":1},"130804",0.01,130804.01]
["",null,null,null,null,null,null,null,null,null,null,"مترمكعب",null,null,"واحـد :",{"$f":"COUNTIF($S$1:S5369,Q5369+R5369)","v":0},"130805",0.01,""]
[130805.00000001999,null,5.33324,1,320933.05024000001,null,1.1000000000000001,null,60176,4.8483999999999998,"نفر ساعت","ویبراتور چی",13041401,null,2,{"$f":"COUNTIF($S$1:S5372,Q5372+R5372)","v":2},"130805",1E-8,130805.00000001]
[130805.00000003001,null,17.1204,1,976085.36520000023,null,1.1000000000000001,null,57013,15.564,"نفر- ساعت","كارگر ساده",14010102,null,3,{"$f":"COUNTIF($S$1:S5373,Q5373+R5373)","v":3},"130805",1E-8,130805.00000001]
[130805.00000006,null,5.33324,1,410872.8096000001,null,1.1000000000000001,null,77040,4.8483999999999998,"نفر ساعت","بنای بتن کار",14060201,null,6,{"$f":"COUNTIF($S$1:S5376,Q5376+R5376)","v":6},"130805",1E-8,130805.00000001]
[130805.00000009,null,2.2000000000000002,1,129445.80000000002,null,1.1000000000000001,null,58839,2,"نفر ساعت","کمک آهنگر در و پنجره ساز",14080103,null,9,{"$f":"COUNTIF($S$1:S5379,Q5379+R5379)","v":9},"130805",1E-8,130805.00000001]
["",null,null,null,null,null,"ضريب",null,"بهاي واحد","مقـدار","واحــد","ماشين آلات ",null,null,"رديف",{"$f":"COUNTIF($S$1:S5383,Q5383+R5383)","v":0},"130805",{"$f":"IF(IF(O5383=\"رديف\",VLOOKUP(L5383,Kod,2,0),0)=0,R5382,IF(O5383=\"رديف\",VLOOKUP(L5383,Kod,2,0),0))","v":9.9999999999999995E-7},""]
[130805.00000299999,null,0.5263500000000001,1,147488.00715000002,null,1.1000000000000001,null,280209,0.47850000000000004,"دستگاه-ساعت","تانکراب پاش به ظرفیت حدود 15000 لیتر باراننده",23020503,null,3,{"$f":"COUNTIF($S$1:S5386,Q5386+R5386)","v":3},"130805",9.9999999999999995E-7,130805.00000099999]
[130805.00000499999,null,1.7821100000000003,1,463437.7055000001,null,1.1000000000000001,null,260050,1.6201000000000001,"دستگاه-ساعت","جرثقیل کفی 3 تن باکامیون 7 تن با راننده",24010103,null,5,{"$f":"COUNTIF($S$1:S5388,Q5388+R5388)","v":5},"130805",9.9999999999999995E-7,130805.00000099999]
[130805.000009,null,5.3333500000000003,1,114651.02494999999,null,1.1000000000000001,null,21497,4.8484999999999996,"دستگاه ساعت","ویبراتور بنزینی",28100201,null,9,{"$f":"COUNTIF($S$1:S5392,Q5392+R5392)","v":9},"130805",9.9999999999999995E-7,130805.00000099999]
[130805.00019999999,null,0.18040000000000006,1,1708.5684000000003,null,1.1000000000000001,null,9471,0.16400000000000003,"مترمكعب","آب چاه و قنات",31010301,null,2,{"$f":"COUNTIF($S$1:S5395,Q5395+R5395)","v":2},"130805",1E-4,130805.0001]
[130805.0003,null,0.64900000000000002,1,168740.00000000003,null,1.1000000000000001,null,260000,0.59,"مترمكعب","ماسه شسته دانه بندی شده",31030203,null,3,{"$f":"COUNTIF($S$1:S5396,Q5396+R5396)","v":3},"130805",1E-4,130805.0001]
[130805.0006,null,0.38500000000000001,1,6951.5600000000013,null,1.1000000000000001,null,18056,0.35,"متر مربع","گونی چتایی 7 ×0 4",31210101,null,6,{"$f":"COUNTIF($S$1:S5399,Q5399+R5399)","v":6},"130805",1E-4,130805.0001]
[130805.01,null,0.371,1,34448.462999999996,null,1,null,92853,0.371,"تن","حمل سیمان فله و پاکتی",41060301,null,1,{"$f":"COUNTIF($S$1:S5402,Q5402+R5402)","v":1},"130805",0.01,130805.01]
["",null,null,null,null,null,null,null,null,null,null,"مترمكعب",null,null,"واحـد :",{"$f":"COUNTIF($S$1:S5406,Q5406+R5406)","v":0},"130806",0.01,""]
[130806.00000001999,null,5.8181999999999992,1,350116.00319999998,null,1.2,null,60176,4.8484999999999996,"نفر ساعت","ویبراتور چی",13041401,null,2,{"$f":"COUNTIF($S$1:S5409,Q5409+R5409)","v":2},"130806",1E-8,130806.00000001]
[130806.00000006,null,2.7825599999999997,1,214368.42239999998,null,1.2,null,77040,2.3188,"نفر ساعت","بنای بتن کار",14060201,null,6,{"$f":"COUNTIF($S$1:S5413,Q5413+R5413)","v":6},"130806",1E-8,130806.00000001]
[130806.00000008001,null,2.2070399999999997,1,208834.53887999998,null,1.2,null,94622,1.8391999999999999,"نفر ساعت","آهنگر در و پنجره ساز درجه یک",14080101,null,8,{"$f":"COUNTIF($S$1:S5415,Q5415+R5415)","v":8},"130806",1E-8,130806.00000001]
[130806.00000011,null,1.2,1,104986.8,null,1.2,null,87489,1,"نفر ساعت","سنگ کار درجه دو",14160102,null,11,{"$f":"COUNTIF($S$1:S5418,Q5418+R5418)","v":11},"130806",1E-8,130806.00000001]
[130806.00000012,null,1.2,1,79393.2,null,1.2,null,66161,1,"نفر ساعت","سنگ شکن درجه یک",14160104,null,12,{"$f":"COUNTIF($S$1:S5419,Q5419+R5419)","v":12},"130806",1E-8,130806.00000001]
[130806.000002,null,0.56459999999999999,1,195735.52800000002,null,1.2,null,346680,0.47049999999999997,"دستگاه-ساعت","کامیون کمپرسی به ظرفیت حدود 10 تن با راننده",23020204,null,2,{"$f":"COUNTIF($S$1:S5422,Q5422+R5422)","v":2},"130806",9.9999999999999995E-7,130806.00000099999]
[130806.000006,null,1.2,1,142477.20000000001,null,1.2,null,118731,1,"دستگاه ساعت","دیگ بخار با ظرفیت 1000 پوند بخار در ساعت",26021202,null,6,{"$f":"COUNTIF($S$1:S5426,Q5426+R5426)","v":6},"130806",9.9999999999999995E-7,130806.00000099999]
[130806.000009,null,5.8181999999999992,1,125073.84539999999,null,1.2,null,21497,4.8484999999999996,"دستگاه ساعت","ویبراتور بنزینی",28100201,null,9,{"$f":"COUNTIF($S$1:S5429,Q5429+R5429)","v":9},"130806",9.9999999999999995E-7,130806.00000099999]
[130806.00019999999,null,0.19680000000000003,1,1863.8928000000003,null,1.2,null,9471,0.16400000000000003,"مترمكعب","آب چاه و قنات",31010301,null,2,{"$f":"COUNTIF($S$1:S5432,Q5432+R5432)","v":2},"130806",1E-4,130806.0001]
[130806.0006,null,0.42,1,7583.52,null,1.2,null,18056,0.35,"متر مربع","گونی چتایی 7 ×0 4",31210101,null,6,{"$f":"COUNTIF($S$1:S5436,Q5436+R5436)","v":6},"130806",1E-4,130806.0001]
[130806.01,null,0.371,1,34448.462999999996,null,1,null,92853,0.371,"تن","حمل سیمان فله و پاکتی",41060301,null,1,{"$f":"COUNTIF($S$1:S5439,Q5439+R5439)","v":1},"130806",0.01,130806.01]
[130806.02,null,3.04,1,997.12,null,1,null,328,3.04,"كیلوگرم","حمل قالب‌های فلزی بتن",41110401,null,2,{"$f":"COUNTIF($S$1:S5440,Q5440+R5440)","v":2},"130806",0.01,130806.01]
["",null,null,null,null,null,null,null,null,null,null,null,null,"130807",null,{"$f":"COUNTIF($S$1:S5442,Q5442+R5442)","v":0},"130807",0.01,""]
[130807.00000001,null,10.220000000000001,1,582672.8600000001,null,1,null,57013,10.220000000000001,"نفر- ساعت","كارگر ساده",14010102,null,1,{"$f":"COUNTIF($S$1:S5445,Q5445+R5445)","v":1},"130807",1E-8,130807.00000001]
[{"$f":"IF(M5449<>\"\",Q5449+(P5449*R5449),\"\")","v":130807.00000099999},null,0.33333299999999999,1,7318.6593480000001,null,1,null,21956,0.33333299999999999,"دستگاه -  ساعت","بتونير250 ليتري",22020102,null,1,{"$f":"COUNTIF($S$1:S5449,Q5449+R5449)","v":1},"130807",9.9999999999999995E-7,130807.00000099999]
[130807.000004,null,0.59250000000000003,1,2784.75,null,1,null,4700,0.59250000000000003,"دستگاه ساعت","فرز سنگ بری برقی دستی",28071001,null,4,{"$f":"COUNTIF($S$1:S5452,Q5452+R5452)","v":4},"130807",9.9999999999999995E-7,130807.00000099999]
[130807.0001,null,1.4999999999999999E-2,1,162,null,1,null,10800,1.4999999999999999E-2,"مترمكعب","آب لوله کشی شهری",31010101,null,1,{"$f":"COUNTIF($S$1:S5455,Q5455+R5455)","v":1},"130807",1E-4,130807.0001]
[130807.00049999999,null,1.03,1,2224800,null,1.03,null,2160000,1,"مترمكعب","جدول بتنی پیش‌ساخته ماشینی پرسی",31150611,null,5,{"$f":"COUNTIF($S$1:S5459,Q5459+R5459)","v":5},"130807",1E-4,130807.0001]
[130807.02,null,2.2999999999999998,1,103861.09999999998,null,1,null,45157,2.2999999999999998,"تن","حمل کفپوش بتني",41040102,null,2,{"$f":"COUNTIF($S$1:S5462,Q5462+R5462)","v":2},"130807",0.01,130807.01]
["",null,null,null,null,null,null,null,null,null,null,"مترمكعب",null,null,"واحـد :",{"$f":"COUNTIF($S$1:S5465,Q5465+R5465)","v":0},"130808",0.01,""]
[130808.00000001,null,9.0958000000000006,1,518578.84540000005,null,0.89,null,57013,10.220000000000001,"نفر- ساعت","كارگر ساده",14010102,null,1,{"$f":"COUNTIF($S$1:S5467,Q5467+R5467)","v":1},{"$f":"IF(N5467>0,N5467,Q5466)","v":"130808"},1E-8,{"$f":"IF(M5467<>\"\",Q5467+R5467,\"\")","v":130808.00000001}]
[130808.00000001999,null,3.0328530000000002,1,267885.83978400007,null,0.89,null,88328,3.4077000000000002,"نفر ساعت","بنای سفت کار درجه یک",14020101,null,2,{"$f":"COUNTIF($S$1:S5468,Q5468+R5468)","v":2},"130808",1E-8,130808.00000001]
[130808.000002,null,4.4500000000000003E-4,1,73.424999999999997,null,0.89,null,165000,5.0000000000000001E-4,"عدد","بیل",28070101,null,2,{"$f":"COUNTIF($S$1:S5472,Q5472+R5472)","v":2},"130808",9.9999999999999995E-7,130808.00000099999]
[130808.00000499999,null,4.45E-3,1,316.3861,null,0.89,null,71098,5.0000000000000001E-3,"عدد","سنگ برش سنگ",28071602,null,5,{"$f":"COUNTIF($S$1:S5475,Q5475+R5475)","v":5},"130808",9.9999999999999995E-7,130808.00000099999]
[130808.00019999999,null,1.3349999999999999E-2,1,126.43785,null,0.89,null,9471,1.4999999999999999E-2,"مترمكعب","آب چاه و قنات",31010301,null,2,{"$f":"COUNTIF($S$1:S5478,Q5478+R5478)","v":2},"130808",1E-4,130808.0001]
["",null,null,null,null,null,"ضريب",null,"بهاي واحد","مقـدار","واحــد"," حمل مصالح ",null,null,"رديف",{"$f":"COUNTIF($S$1:S5482,Q5482+R5482)","v":0},"130808",0.01,""]
[130808.03,null,8.0100000000000005E-2,1,7437.5253000000002,null,0.89,null,92853,0.09,"تن","حمل سیمان فله و پاکتی",41060301,null,3,{"$f":"COUNTIF($S$1:S5485,Q5485+R5485)","v":3},"130808",0.01,130808.01]
["",null,null,null,null,null,null,null,null,null,null,null,null,"130809",null,{"$f":"COUNTIF($S$1:S5486,Q5486+R5486)","v":0},"130809",0.01,""]
[130809.00000001999,null,2.7602370000000005,1,243806.21373600006,null,0.81,null,88328,3.4077000000000002,"نفر ساعت","بنای سفت کار درجه یک",14020101,null,2,{"$f":"COUNTIF($S$1:S5490,Q5490+R5490)","v":2},"130809",1E-8,130809.00000001]
[130809.00000003001,null,2.7602370000000005,1,176956.03383300002,null,0.81,null,64109,3.4077000000000002,"نفر ساعت","کمک بنای سفت کار",14020103,null,3,{"$f":"COUNTIF($S$1:S5491,Q5491+R5491)","v":3},"130809",1E-8,130809.00000001]
[130809.00000299999,null,8.999991000000001E-4,1,944.99905500000011,null,0.81,null,1050000,1.11111E-3,"دستگاه","فرگون",28070601,null,3,{"$f":"COUNTIF($S$1:S5495,Q5495+R5495)","v":3},"130809",9.9999999999999995E-7,130809.00000099999]
["",null,null,null,null,null,"ضريب",null,"بهاي واحد","مقـدار","واحــد","مصالح",null,null,"رديف",{"$f":"COUNTIF($S$1:S5498,Q5498+R5498)","v":0},"130809",1E-4,""]
[130809.0003,null,8.1000000000000016E-2,1,13365,null,0.81,null,165000,0.1,"مترمكعب","ماسه شسته",31030202,null,3,{"$f":"COUNTIF($S$1:S5501,Q5501+R5501)","v":3},"130809",1E-4,130809.0001]
[130809.01,null,8.1000000000000016E-2,1,5976.18,null,0.81,null,73780,0.1,"مترمكعب","حمل خاک شن  ماسه و مخلوط شن و ماسه",41020101,null,1,{"$f":"COUNTIF($S$1:S5505,Q5505+R5505)","v":1},"130809",0.01,130809.01]
["",null,null,null,null,null,null,null,null,null,null,null,null,"130810",null,{"$f":"COUNTIF($S$1:S5508,Q5508+R5508)","v":0},"130810",0.01,""]
["",null,null,null,null,null,null,null,null,null,null,"مترمكعب",null,null,"واحـد :",{"$f":"COUNTIF($S$1:S5509,Q5509+R5509)","v":0},"130810",0.01,""]
[130810.00000001999,null,2.6580060000000003,1,234776.35396800004,null,0.78,null,88328,3.4077000000000002,"نفر ساعت","بنای سفت کار درجه یک",14020101,null,2,{"$f":"COUNTIF($S$1:S5512,Q5512+R5512)","v":2},"130810",1E-8,130810.00000001]
[130810.00000099999,null,0.25999973999999998,1,5708.5542914400003,null,0.78,null,21956,0.33333299999999999,"دستگاه -  ساعت","بتونير250 ليتري",22020102,null,1,{"$f":"COUNTIF($S$1:S5515,Q5515+R5515)","v":1},"130810",9.9999999999999995E-7,130810.00000099999]
[130810.000004,null,0.46215000000000006,1,2172.105,null,0.78,null,4700,0.59250000000000003,"دستگاه ساعت","فرز سنگ بری برقی دستی",28071001,null,4,{"$f":"COUNTIF($S$1:S5518,Q5518+R5518)","v":4},"130810",9.9999999999999995E-7,130810.00000099999]
[130810.0001,null,1.17E-2,1,126.36,null,0.78,null,10800,1.4999999999999999E-2,"مترمكعب","آب لوله کشی شهری",31010101,null,1,{"$f":"COUNTIF($S$1:S5521,Q5521+R5521)","v":1},"130810",1E-4,130810.0001]
[130810.0004,null,7.0199999999999999E-2,1,79620.84,null,0.78,null,1134200,0.09,"تن","سیمان پرتلند نوع دو (متوسط) پاکتی وفله",31080203,null,4,{"$f":"COUNTIF($S$1:S5524,Q5524+R5524)","v":4},"130810",1E-4,130810.0001]
[130810.02,null,1.7939999999999998,1,81011.657999999996,null,0.78,null,45157,2.2999999999999998,"تن","حمل کفپوش بتني",41040102,null,2,{"$f":"COUNTIF($S$1:S5528,Q5528+R5528)","v":2},"130810",0.01,130810.01]
["",null,null,null,null,null,null,null,null,null,null,"مترمكعب",null,null,"واحـد :",{"$f":"COUNTIF($S$1:S5531,Q5531+R5531)","v":0},{"$f":"IF(N5531>0,N5531,Q5530)","v":"130811"},0.01,{"$f":"IF(M5531<>\"\",Q5531+R5531,\"\")","v":""}]
["",null,null,null,null,null,"ضريب",null,"بهاي واحد","مقـدار","واحــد","نيروي انساني ",null,null,"رديف",{"$f":"COUNTIF($S$1:S5532,Q5532+R5532)","v":0},"130811",1E-8,""]
[130811.00000003001,null,2.5557750000000001,1,163848.17947500001,null,0.75,null,64109,3.4077000000000002,"نفر ساعت","کمک بنای سفت کار",14020103,null,3,{"$f":"COUNTIF($S$1:S5535,Q5535+R5535)","v":3},"130811",1E-8,130811.00000001]
[130811.000002,null,3.7500000000000001E-4,1,61.875,null,0.75,null,165000,5.0000000000000001E-4,"عدد","بیل",28070101,null,2,{"$f":"COUNTIF($S$1:S5538,Q5538+R5538)","v":2},"130811",9.9999999999999995E-7,130811.00000099999]
["",null,null,null,null,null,"ضريب",null,"بهاي واحد","مقـدار","واحــد","مصالح",null,null,"رديف",{"$f":"COUNTIF($S$1:S5542,Q5542+R5542)","v":0},"130811",1E-4,""]
[130811.00019999999,null,1.125E-2,1,106.54875,null,0.75,null,9471,1.4999999999999999E-2,"مترمكعب","آب چاه و قنات",31010301,null,2,{"$f":"COUNTIF($S$1:S5544,Q5544+R5544)","v":2},"130811",1E-4,130811.0001]
["",null,null,null,null,null,"ضريب",null,"بهاي واحد","مقـدار","واحــد"," حمل مصالح ",null,null,"رديف",{"$f":"COUNTIF($S$1:S5548,Q5548+R5548)","v":0},"130811",0.01,""]
[130811.03,null,6.7500000000000004E-2,1,6267.5775000000003,null,0.75,null,92853,0.09,"تن","حمل سیمان فله و پاکتی",41060301,null,3,{"$f":"COUNTIF($S$1:S5551,Q5551+R5551)","v":3},"130811",0.01,130811.01]
["",null,null,null,null,null,"ضريب",null,"بهاي واحد","مقـدار","واحــد","نيروي انساني ",null,null,"رديف",{"$f":"COUNTIF($S$1:S5554,Q5554+R5554)","v":0},"130812",1E-8,""]
[130812.00000001,null,0.78600000000000003,1,44812.218000000008,null,1,null,57013,0.78600000000000003,"نفر- ساعت","كارگر ساده",14010102,null,1,{"$f":"COUNTIF($S$1:S5555,Q5555+R5555)","v":1},"130812",1E-8,130812.00000001]
["",null,null,null,null,null,null,null,null,null,null,null,null,"130813",null,{"$f":"COUNTIF($S$1:S5558,Q5558+R5558)","v":0},"130813",1E-8,""]
[130813.00000001,null,-0.35370000000000007,1,-20165.498100000004,null,1,null,57013,-0.35370000000000007,"نفر- ساعت","كارگر ساده",14010102,null,1,{"$f":"COUNTIF($S$1:S5561,Q5561+R5561)","v":1},"130813",1E-8,130813.00000001]
["",null,null,null,null,null,null,null,null,null,null,"مترمكعب",null,null,"واحـد :",{"$f":"COUNTIF($S$1:S5565,Q5565+R5565)","v":0},"130901",1E-8,""]
[130901.00000001,null,0.6452,1,49353.283599999995,null,1,null,76493,0.6452,"نفر ساعت","متصدی ماشینهای بتن ساز (بتونیرچی)",13040101,null,1,{"$f":"COUNTIF($S$1:S5567,Q5567+R5567)","v":1},"130901",1E-8,130901.00000001]
[130901.00000005,null,0.61299999999999999,1,39298.817000000003,null,1,null,64109,0.61299999999999999,"نفر ساعت","کمک بنای سفت کار",14020103,null,5,{"$f":"COUNTIF($S$1:S5571,Q5571+R5571)","v":5},"130901",1E-8,130901.00000001]
[130901.00000008001,null,2.3188,1,178640.35199999998,null,1,null,77040,2.3188,"نفر ساعت","بنای بتن کار",14060201,null,8,{"$f":"COUNTIF($S$1:S5574,Q5574+R5574)","v":8},"130901",1E-8,130901.00000001]
[{"$f":"IF(M5577<>\"\",Q5577+(P5577*R5577),\"\")","v":130901.00000099999},null,0.6452,1,31275.424800000001,null,1,null,48474,0.6452,"دستگاه ساعت","بتونیر 500 لیتری",22020105,null,1,{"$f":"COUNTIF($S$1:S5577,Q5577+R5577)","v":1},"130901",9.9999999999999995E-7,130901.00000099999]
[130901.000002,null,8.0000000000000002E-3,1,2241.672,null,1,null,280209,8.0000000000000002E-3,"دستگاه-ساعت","تانکراب پاش به ظرفیت حدود 15000 لیتر باراننده",23020503,null,2,{"$f":"COUNTIF($S$1:S5578,Q5578+R5578)","v":2},"130901",9.9999999999999995E-7,130901.00000099999]
[130901.00000499999,null,4.5999999999999999E-3,1,758.99999999999989,null,1,null,165000,4.5999999999999999E-3,"عدد","بیل",28070101,null,5,{"$f":"COUNTIF($S$1:S5581,Q5581+R5581)","v":5},"130901",9.9999999999999995E-7,130901.00000099999]
[130901.0001,null,0.16400000000000003,1,205.49200000000002,null,1,null,1253,0.16400000000000003,"مترمكعب","آب رودخانه",31010201,null,1,{"$f":"COUNTIF($S$1:S5585,Q5585+R5585)","v":1},"130901",1E-4,130901.0001]
[130901.0004,null,0.81,1,137700,null,1,null,170000,0.81,"مترمكعب","شن شسته دانه بندی شده25 میلیمتر تولید کارگاه",31030604,null,4,{"$f":"COUNTIF($S$1:S5588,Q5588+R5588)","v":4},"130901",1E-4,130901.0001]
[130901.0007,null,2.0699999999999998,1,36146.339999999997,null,1,null,17462,2.0699999999999998,"مترمكعب","قالب فلزی جدول و دال بتنی پیش ساخته",39110401,null,7,{"$f":"COUNTIF($S$1:S5591,Q5591+R5591)","v":7},"130901",1E-4,130901.0001]
[130901.02,null,2.0699999999999998,1,678.95999999999981,null,1,null,328,2.0699999999999998,"كیلوگرم","حمل قالب‌های فلزی بتن",41110401,null,2,{"$f":"COUNTIF($S$1:S5594,Q5594+R5594)","v":2},"130901",0.01,130901.01]
["",null,null,null,null,null,null,null,null,null,null,"مترمكعب",null,null,"واحـد :",{"$f":"COUNTIF($S$1:S5597,Q5597+R5597)","v":0},"131001",0.01,""]
[131001.00000001999,null,4.8484999999999996,1,291763.33600000001,null,1,null,60176,4.8484999999999996,"نفر ساعت","ویبراتور چی",13041401,null,2,{"$f":"COUNTIF($S$1:S5600,Q5600+R5600)","v":2},"131001",1E-8,131001.00000001]
[131001.00000003001,null,6.8658000000000001,1,391439.8554,null,1,null,57013,6.8658000000000001,"نفر- ساعت","كارگر ساده",14010102,null,3,{"$f":"COUNTIF($S$1:S5601,Q5601+R5601)","v":3},"131001",1E-8,131001.00000001]
[131001.00000006,null,4.6375999999999999,1,365702.58560000005,null,1,null,78856,4.6375999999999999,"نفر - ساعت","نجار قالب بند درجه دو",14030202,null,6,{"$f":"COUNTIF($S$1:S5604,Q5604+R5604)","v":6},"131001",1E-8,131001.00000001]
["",null,null,null,null,null,"ضريب",null,"بهاي واحد","مقـدار","واحــد","ماشين آلات ",null,null,"رديف",{"$f":"COUNTIF($S$1:S5608,Q5608+R5608)","v":0},"131001",9.9999999999999995E-7,""]
[131001.00000299999,null,0.6452,1,60264.260800000004,null,1,null,93404,0.6452,"دستگاه ساعت","دامپر2 تن هیدرولیکی باراننده",23021102,null,3,{"$f":"COUNTIF($S$1:S5611,Q5611+R5611)","v":3},"131001",9.9999999999999995E-7,131001.00000099999]
[131001.000006,null,2E-3,1,2100,null,1,null,1050000,2E-3,"دستگاه","فرگون",28070601,null,6,{"$f":"COUNTIF($S$1:S5614,Q5614+R5614)","v":6},"131001",9.9999999999999995E-7,131001.00000099999]
[131001.00019999999,null,0.16400000000000003,1,1553.2440000000001,null,1,null,9471,0.16400000000000003,"مترمكعب","آب چاه و قنات",31010301,null,2,{"$f":"COUNTIF($S$1:S5618,Q5618+R5618)","v":2},"131001",1E-4,131001.0001]
[131001.0003,null,0.66,1,135795,null,1,null,205750,0.66,"مترمكعب","ماسه شسته دانه بندی شده (تولید کارگاه)",31030301,null,3,{"$f":"COUNTIF($S$1:S5619,Q5619+R5619)","v":3},"131001",1E-4,131001.0001]
[131001.0007,null,1.76,1,30733.119999999999,null,1,null,17462,1.76,"مترمكعب","قالب فلزی جدول و دال بتنی پیش ساخته",39110401,null,7,{"$f":"COUNTIF($S$1:S5623,Q5623+R5623)","v":7},"131001",1E-4,131001.0001]
["",null,null,null,null,null,"ضريب",null,"بهاي واحد","مقـدار","واحــد"," حمل مصالح ",null,null,"رديف",{"$f":"COUNTIF($S$1:S5624,Q5624+R5624)","v":0},"131001",0.01,""]
[131001.03,null,0.35,1,76.650000000000006,null,1,null,219,0.35,"مترمربع","حمل عایق‌های رطوبتی چتایی و کنف",41200201,null,3,{"$f":"COUNTIF($S$1:S5627,Q5627+R5627)","v":3},"131001",0.01,131001.01]
[131101.00000001001,null,0.247,1,14082.211000000001,null,1,null,57013,0.247,"نفر- ساعت","كارگر ساده",14010102,null,1,{"$f":"COUNTIF($S$1:S5631,Q5631+R5631)","v":1},"131101",1E-8,131101.00000001001]
["",null,null,null,null,null,"ضريب",null,"بهاي واحد","مقـدار","واحــد","ماشين آلات ",null,null,"رديف",{"$f":"COUNTIF($S$1:S5634,Q5634+R5634)","v":0},"131101",9.9999999999999995E-7,""]
["",null,null,null,null,null,"ضريب",null,"بهاي واحد","مقـدار","واحــد","مصالح",null,null,"رديف",{"$f":"COUNTIF($S$1:S5637,Q5637+R5637)","v":0},"131101",1E-4,""]
[{"$f":"IF(M5641<>\"\",Q5641+(P5641*R5641),\"\")","v":131101.01},null,1.02,1,60502.32,null,1,null,59316,1.02,"متر طول","حمل لوله های سیمانی و بتنی",41130301,null,1,{"$f":"COUNTIF($S$1:S5641,Q5641+R5641)","v":1},"131101",0.01,131101.01]
["",null,null,null,null,null,"ضريب",null,"بهاي واحد","مقـدار","واحــد","نيروي انساني ",null,null,"رديف",{"$f":"COUNTIF($S$1:S5644,Q5644+R5644)","v":0},"131102",1E-8,""]
[131102.00000001999,null,0.16,1,14132.48,null,1,null,88328,0.16,"نفر ساعت","بنای سفت کار درجه یک",14020101,null,2,{"$f":"COUNTIF($S$1:S5646,Q5646+R5646)","v":2},"131102",1E-8,131102.00000001001]
[131102.00000003001,null,0.16,1,10257.44,null,1,null,64109,0.16,"نفر ساعت","کمک بنای سفت کار",14020103,null,3,{"$f":"COUNTIF($S$1:S5647,Q5647+R5647)","v":3},"131102",1E-8,131102.00000001001]
[131102.00000199999,null,3.4799999999999998E-2,1,1440.7895999999998,null,1,null,41402,3.4799999999999998E-2,"دستگاه-ساعت","تریلر کفی به ظرفیت حدود 5  تن بدون کشنده",23020901,null,2,{"$f":"COUNTIF($S$1:S5650,Q5650+R5650)","v":2},"131102",9.9999999999999995E-7,131102.00000100001]
["",null,null,null,null,null,"ضريب",null,"بهاي واحد","مقـدار","واحــد"," حمل مصالح ",null,null,"رديف",{"$f":"COUNTIF($S$1:S5654,Q5654+R5654)","v":0},"131102",0.01,""]
["",null,null,null,null,null,null,null,null,null,null,"متر طول",null,null,"واحـد :",{"$f":"COUNTIF($S$1:S5657,Q5657+R5657)","v":0},"131103",0.01,""]
[131103.00000001999,null,0.1905,1,16826.484,null,1,null,88328,0.1905,"نفر ساعت","بنای سفت کار درجه یک",14020101,null,2,{"$f":"COUNTIF($S$1:S5660,Q5660+R5660)","v":2},"131103",1E-8,131103.00000001001]
[131103.00000199999,null,5.3699999999999998E-2,1,2223.2873999999997,null,1,null,41402,5.3699999999999998E-2,"دستگاه-ساعت","تریلر کفی به ظرفیت حدود 5  تن بدون کشنده",23020901,null,2,{"$f":"COUNTIF($S$1:S5664,Q5664+R5664)","v":2},"131103",9.9999999999999995E-7,131103.00000100001]
[131103.00020000001,null,1.02,1,69030.539999999994,null,1,null,67677,1.02,"متر طول","لوله سیمانی معمولی نمره 20",31150803,null,2,{"$f":"COUNTIF($S$1:S5667,Q5667+R5667)","v":2},"131103",1E-4,131103.0001]
["",null,null,null,null,null,"ضريب",null,"بهاي واحد","مقـدار","واحــد"," حمل مصالح ",null,null,"رديف",{"$f":"COUNTIF($S$1:S5668,Q5668+R5668)","v":0},"131103",0.01,""]
["",null,null,null,null,null,null,null,null,null,null,"متر طول",null,null,"واحـد :",{"$f":"COUNTIF($S$1:S5671,Q5671+R5671)","v":0},"131104",0.01,""]
[131104.00000001001,null,0.57399999999999995,1,32725.462000000003,null,1,null,57013,0.57399999999999995,"نفر- ساعت","كارگر ساده",14010102,null,1,{"$f":"COUNTIF($S$1:S5673,Q5673+R5673)","v":1},"131104",1E-8,131104.00000001001]
[131104.00000100001,null,7.3300000000000004E-2,1,7702.8037999999997,null,1,null,105086,7.3300000000000004E-2,"دستگاه ساعت","تراکتور جفت دیفرانسیل با راننده",23020802,null,1,{"$f":"COUNTIF($S$1:S5677,Q5677+R5677)","v":1},"131104",9.9999999999999995E-7,131104.00000100001]
[131104.0001,null,2E-3,1,1708.1420000000001,null,1,null,854071,2E-3,"مترمكعب","ملات ماسه سیمان 1:5با ماسه تولید کارگاه",31141202,null,1,{"$f":"COUNTIF($S$1:S5680,Q5680+R5680)","v":1},"131104",1E-4,131104.0001]
["",null,null,null,null,null,null,null,null,null,null,null,null,"131105",null,{"$f":"COUNTIF($S$1:S5684,Q5684+R5684)","v":0},"131105",0.01,""]
[131105.00000001001,null,0.56799999999999995,1,32383.383999999998,null,1,null,57013,0.56799999999999995,"نفر- ساعت","كارگر ساده",14010102,null,1,{"$f":"COUNTIF($S$1:S5687,Q5687+R5687)","v":1},"131105",1E-8,131105.00000001001]
["",null,null,null,null,null,"ضريب",null,"بهاي واحد","مقـدار","واحــد","ماشين آلات ",null,null,"رديف",{"$f":"COUNTIF($S$1:S5690,Q5690+R5690)","v":0},"131105",9.9999999999999995E-7,""]
[131105.00000100001,null,8.3699999999999997E-2,1,21766.184999999994,null,1,null,260050,8.3699999999999997E-2,"دستگاه-ساعت","جرثقیل کفی 3 تن باکامیون 7 تن با راننده",24010103,null,1,{"$f":"COUNTIF($S$1:S5691,Q5691+R5691)","v":1},"131105",9.9999999999999995E-7,131105.00000100001]
[131105.00020000001,null,1.02,1,190215.72,null,1,null,186486,1.02,"متر طول","لوله بتنی معمولی نمره30 به ضخامت6 سانتیمتر",31150805,null,2,{"$f":"COUNTIF($S$1:S5694,Q5694+R5694)","v":2},"131105",1E-4,131105.0001]
["",null,null,null,null,null,null,null,null,null,null,"متر طول",null,null,"واحـد :",{"$f":"COUNTIF($S$1:S5698,Q5698+R5698)","v":0},"131106",0.01,""]
[131106.00000001001,null,0.875,1,49886.375,null,1,null,57013,0.875,"نفر- ساعت","كارگر ساده",14010102,null,1,{"$f":"COUNTIF($S$1:S5700,Q5700+R5700)","v":1},"131106",1E-8,131106.00000001001]
["",null,null,null,null,null,"ضريب",null,"بهاي واحد","مقـدار","واحــد","ماشين آلات ",null,null,"رديف",{"$f":"COUNTIF($S$1:S5703,Q5703+R5703)","v":0},"131106",{"$f":"IF(IF(O5703=\"رديف\",VLOOKUP(L5703,Kod,2,0),0)=0,R5702,IF(O5703=\"رديف\",VLOOKUP(L5703,Kod,2,0),0))","v":9.9999999999999995E-7},""]
[131106.00020000001,null,1.02,1,256872.72,null,1,null,251836,1.02,"متر طول","لوله بتنی معمولی نمره40 به ضخامت6 سانتیمتر",31150806,null,2,{"$f":"COUNTIF($S$1:S5707,Q5707+R5707)","v":2},"131106",1E-4,131106.0001]
["",null,null,null,null,null,null,null,null,null,null,null,null,"131107",null,{"$f":"COUNTIF($S$1:S5710,Q5710+R5710)","v":0},"131107",0.01,""]
[131107.00000001001,null,0.58830000000000005,1,33540.747900000002,null,1,null,57013,0.58830000000000005,"نفر- ساعت","كارگر ساده",14010102,null,1,{"$f":"COUNTIF($S$1:S5713,Q5713+R5713)","v":1},"131107",1E-8,131107.00000001001]
[131107.00000001999,null,0.16,1,14132.48,null,1,null,88328,0.16,"نفر ساعت","بنای سفت کار درجه یک",14020101,null,2,{"$f":"COUNTIF($S$1:S5714,Q5714+R5714)","v":2},"131107",1E-8,131107.00000001001]
[131107.00000100001,null,0.29420000000000002,1,76506.710000000006,null,1,null,260050,0.29420000000000002,"دستگاه-ساعت","جرثقیل کفی 3 تن باکامیون 7 تن با راننده",24010103,null,1,{"$f":"COUNTIF($S$1:S5717,Q5717+R5717)","v":1},"131107",9.9999999999999995E-7,131107.00000100001]
["",null,null,null,null,null,"ضريب",null,"بهاي واحد","مقـدار","واحــد"," حمل مصالح ",null,null,"رديف",{"$f":"COUNTIF($S$1:S5721,Q5721+R5721)","v":0},"131107",0.01,""]
["",null,null,null,null,null,null,null,null,null,null,null,null,"131108",null,{"$f":"COUNTIF($S$1:S5723,Q5723+R5723)","v":0},{"$f":"IF(N5723>0,N5723,Q5722)","v":"131108"},0.01,{"$f":"IF(M5723<>\"\",Q5723+R5723,\"\")","v":""}]
[131108.00000001001,null,0.155448,1,11890.683863999999,null,1.36,null,76493,0.1143,"نفر ساعت","متصدی ماشینهای بتن ساز (بتونیرچی)",13040101,null,1,{"$f":"COUNTIF($S$1:S5726,Q5726+R5726)","v":1},"131108",1E-8,131108.00000001001]
[131108.00000005,null,0.31089600000000001,1,19931.231663999999,null,1.36,null,64109,0.2286,"نفر ساعت","کمک بنای سفت کار",14020103,null,5,{"$f":"COUNTIF($S$1:S5730,Q5730+R5730)","v":5},"131108",1E-8,131108.00000001001]
[131108.00000008001,null,0.38175200000000004,1,29410.174079999993,null,1.36,null,77040,0.28070000000000001,"نفر ساعت","بنای بتن کار",14060201,null,8,{"$f":"COUNTIF($S$1:S5733,Q5733+R5733)","v":8},"131108",1E-8,131108.00000001001]
[131108.00000100001,null,0.155448,1,7535.1863519999988,null,1.36,null,48474,0.1143,"دستگاه ساعت","بتونیر 500 لیتری",22020105,null,1,{"$f":"COUNTIF($S$1:S5736,Q5736+R5736)","v":1},"131108",9.9999999999999995E-7,131108.00000100001]
[131108.00000199999,null,2.0400000000000001E-3,1,571.62635999999998,null,1.36,null,280209,1.5E-3,"دستگاه-ساعت","تانکراب پاش به ظرفیت حدود 15000 لیتر باراننده",23020503,null,2,{"$f":"COUNTIF($S$1:S5737,Q5737+R5737)","v":2},"131108",9.9999999999999995E-7,131108.00000100001]
[131108.00000500001,null,0.38175200000000004,1,8206.5227439999999,null,1.36,null,21497,0.28070000000000001,"دستگاه ساعت","ویبراتور بنزینی",28100201,null,5,{"$f":"COUNTIF($S$1:S5740,Q5740+R5740)","v":5},"131108",9.9999999999999995E-7,131108.00000100001]
[131108.00030000001,null,0.14402400000000001,1,29632.937999999998,null,1.36,null,205750,0.10589999999999999,"مترمكعب","ماسه شسته دانه بندی شده (تولید کارگاه)",31030301,null,3,{"$f":"COUNTIF($S$1:S5744,Q5744+R5744)","v":3},"131108",1E-4,131108.0001]
[131108.00049999999,null,9.3976000000000004E-2,1,106587.57919999998,null,1.36,null,1134200,6.9099999999999995E-2,"تن","سیمان پرتلند نوع یک (سیمان معمولی) پاکتی و فله",31080103,null,5,{"$f":"COUNTIF($S$1:S5746,Q5746+R5746)","v":5},"131108",1E-4,131108.0001]
[131108.00080000001,null,4.7600000000000012E-3,1,15311.672880000002,null,1.36,null,3216738,3.5000000000000005E-3,"عدد","قالب فلزی لوله بتنی به قطر 60 سانتیمتر",39110103,null,8,{"$f":"COUNTIF($S$1:S5749,Q5749+R5749)","v":8},"131108",1E-4,131108.0001]
[131108.03,null,8.0647999999999997E-2,1,17.661912000000001,null,1.36,null,219,5.9299999999999999E-2,"مترمربع","حمل عایق‌های رطوبتی چتایی و کنف",41200201,null,3,{"$f":"COUNTIF($S$1:S5753,Q5753+R5753)","v":3},"131108",0.01,131108.01]
["",null,null,null,null,null,"ضريب",null,"بهاي واحد","مقـدار","واحــد","نيروي انساني ",null,null,"رديف",{"$f":"COUNTIF($S$1:S5756,Q5756+R5756)","v":0},"131109",1E-8,""]
[131109.00000003001,null,3.0379999999999994,1,173205.49399999998,null,1,null,57013,3.0379999999999994,"نفر- ساعت","كارگر ساده",14010102,null,3,{"$f":"COUNTIF($S$1:S5759,Q5759+R5759)","v":3},"131109",1E-8,131109.00000001001]
[131109.00000003999,null,0.25,1,18520.25,null,1,null,74081,0.25,"نفر - ساعت","بنای سفت کار درجه دو",14020102,null,4,{"$f":"COUNTIF($S$1:S5760,Q5760+R5760)","v":4},"131109",1E-8,131109.00000001001]
[131109.00000006999,null,8.77E-2,1,8702.9971999999998,null,1,null,99236,8.77E-2,"نفر ساعت","استادکار کارهای بتنی",14060101,null,7,{"$f":"COUNTIF($S$1:S5763,Q5763+R5763)","v":7},"131109",1E-8,131109.00000001001]
[131109.00000100001,null,0.18909999999999999,1,9166.4333999999999,null,1,null,48474,0.18909999999999999,"دستگاه ساعت","بتونیر 500 لیتری",22020105,null,1,{"$f":"COUNTIF($S$1:S5767,Q5767+R5767)","v":1},"131109",{"$f":"IF(IF(O5767=\"رديف\",VLOOKUP(L5767,Kod,2,0),0)=0,R5766,IF(O5767=\"رديف\",VLOOKUP(L5767,Kod,2,0),0))","v":9.9999999999999995E-7},131109.00000100001]
[131109.000004,null,0.56930000000000003,1,166173.54630000002,null,1,null,291891,0.56930000000000003,"دستگاه ساعت","جرثقیل کفی5 تن با کامیون10 تن با راننده",24010104,null,4,{"$f":"COUNTIF($S$1:S5770,Q5770+R5770)","v":4},"131109",9.9999999999999995E-7,131109.00000100001]
[131109.0001,null,5.2499999999999998E-2,1,65.782499999999999,null,1,null,1253,5.2499999999999998E-2,"مترمكعب","آب رودخانه",31010201,null,1,{"$f":"COUNTIF($S$1:S5773,Q5773+R5773)","v":1},"131109",1E-4,131109.0001]
[131109.00039999999,null,0.21690000000000001,1,36923.320800000001,null,1,null,170232,0.21690000000000001,"مترمكعب","شن شسته شده دانه بندی شده12.5میلیمتر تولید کارگاه",31030602,null,4,{"$f":"COUNTIF($S$1:S5776,Q5776+R5776)","v":4},"131109",1E-4,131109.0001]
[131109.0007,null,9.8100000000000007E-2,1,1771.2936,null,1,null,18056,9.8100000000000007E-2,"متر مربع","گونی چتایی 7 ×0 4",31210101,null,7,{"$f":"COUNTIF($S$1:S5779,Q5779+R5779)","v":7},"131109",1E-4,131109.0001]
[131109.01,null,0.114,1,10585.242,null,1,null,92853,0.114,"تن","حمل سیمان فله و پاکتی",41060301,null,1,{"$f":"COUNTIF($S$1:S5782,Q5782+R5782)","v":1},"131109",0.01,131109.01]
[131109.01999999999,null,0.95,1,311.60000000000002,null,1,null,328,0.95,"كیلوگرم","حمل قالب‌های فلزی بتن",41110401,null,2,{"$f":"COUNTIF($S$1:S5783,Q5783+R5783)","v":2},"131109",0.01,131109.01]
["",null,null,null,null,null,null,null,null,null,null,"متر طول",null,null,"واحـد :",{"$f":"COUNTIF($S$1:S5786,Q5786+R5786)","v":0},"131110",0.01,""]
[131110.00000003001,null,3.7348000000000003,1,212932.15239999999,null,1,null,57013,3.7348000000000003,"نفر- ساعت","كارگر ساده",14010102,null,3,{"$f":"COUNTIF($S$1:S5790,Q5790+R5790)","v":3},"131110",1E-8,131110.00000001001]
[131110.00000006001,null,0.39739999999999998,1,31337.374399999993,null,1,null,78856,0.39739999999999998,"نفر - ساعت","نجار قالب بند درجه دو",14030202,null,6,{"$f":"COUNTIF($S$1:S5793,Q5793+R5793)","v":6},"131110",1E-8,131110.00000001001]
[131110.00000008999,null,0.26629999999999998,1,15668.825700000001,null,1,null,58839,0.26629999999999998,"نفر - ساعت","کمک بنای بتن کار",14060202,null,9,{"$f":"COUNTIF($S$1:S5796,Q5796+R5796)","v":9},"131110",1E-8,131110.00000001001]
[131110.00000100001,null,0.26629999999999998,1,12908.626200000001,null,1,null,48474,0.26629999999999998,"دستگاه ساعت","بتونیر 500 لیتری",22020105,null,1,{"$f":"COUNTIF($S$1:S5798,Q5798+R5798)","v":1},"131110",9.9999999999999995E-7,131110.00000100001]
[131110.00000500001,null,0.80710000000000004,1,17350.228700000003,null,1,null,21497,0.80710000000000004,"دستگاه ساعت","ویبراتور بنزینی",28100201,null,5,{"$f":"COUNTIF($S$1:S5802,Q5802+R5802)","v":5},"131110",9.9999999999999995E-7,131110.00000100001]
["",null,null,null,null,null,"ضريب",null,"بهاي واحد","مقـدار","واحــد","مصالح",null,null,"رديف",{"$f":"COUNTIF($S$1:S5803,Q5803+R5803)","v":0},"131110",1E-4,""]
[131110.00030000001,null,0.26140000000000002,1,53783.05,null,1,null,205750,0.26140000000000002,"مترمكعب","ماسه شسته دانه بندی شده (تولید کارگاه)",31030301,null,3,{"$f":"COUNTIF($S$1:S5806,Q5806+R5806)","v":3},"131110",1E-4,131110.0001]
[131110.0006,null,7.000000000000001E-3,1,5978.4970000000003,null,1,null,854071,7.000000000000001E-3,"مترمكعب","ملات ماسه سیمان 1:5با ماسه تولید کارگاه",31141202,null,6,{"$f":"COUNTIF($S$1:S5809,Q5809+R5809)","v":6},"131110",1E-4,131110.0001]
[131110.01,null,0.17899999999999999,1,16620.686999999998,null,1,null,92853,0.17899999999999999,"تن","حمل سیمان فله و پاکتی",41060301,null,1,{"$f":"COUNTIF($S$1:S5813,Q5813+R5813)","v":1},"131110",0.01,131110.01]
["",null,null,null,null,null,null,null,null,null,null,null,null,"131201",null,{"$f":"COUNTIF($S$1:S5816,Q5816+R5816)","v":0},"131201",0.01,""]
[131201.00000001001,null,0.2316,1,17715.7788,null,1,null,76493,0.2316,"نفر ساعت","متصدی ماشینهای بتن ساز (بتونیرچی)",13040101,null,1,{"$f":"COUNTIF($S$1:S5819,Q5819+R5819)","v":1},"131201",1E-8,131201.00000001001]
[131201.00000005,null,0.28570000000000001,1,28351.725200000001,null,1,null,99236,0.28570000000000001,"نفر ساعت","استادکار کارهای بتنی",14060101,null,5,{"$f":"COUNTIF($S$1:S5823,Q5823+R5823)","v":5},"131201",1E-8,131201.00000001001]
[131201.00000006999,null,0.2316,1,13627.1124,null,1,null,58839,0.2316,"نفر - ساعت","کمک بنای بتن کار",14060202,null,7,{"$f":"COUNTIF($S$1:S5825,Q5825+R5825)","v":7},"131201",1E-8,131201.00000001001]
[131201.00000008001,null,1.25,1,122013.75,null,1,null,97611,1.25,"نفر ساعت","مقنی چاه فاضلاب",14260701,null,8,{"$f":"COUNTIF($S$1:S5826,Q5826+R5826)","v":8},"131201",1E-8,131201.00000001001]
[131201.00000199999,null,6.3E-3,1,1765.3167000000001,null,1,null,280209,6.3E-3,"دستگاه-ساعت","تانکراب پاش به ظرفیت حدود 15000 لیتر باراننده",23020503,null,2,{"$f":"COUNTIF($S$1:S5829,Q5829+R5829)","v":2},"131201",9.9999999999999995E-7,131201.00000100001]
[131201.00000500001,null,0.2316,1,21632.366400000003,null,1,null,93404,0.2316,"دستگاه ساعت","دامپر2 تن هیدرولیکی باراننده",23021102,null,5,{"$f":"COUNTIF($S$1:S5832,Q5832+R5832)","v":5},"131201",9.9999999999999995E-7,131201.00000100001]
[131201.00020000001,null,0.13,1,1231.23,null,1,null,9471,0.13,"مترمكعب","آب چاه و قنات",31010301,null,2,{"$f":"COUNTIF($S$1:S5836,Q5836+R5836)","v":2},"131201",1E-4,131201.0001]
[131201.00049999999,null,0.19699999999999998,1,223437.4,null,1,null,1134200,0.19699999999999998,"تن","سیمان پرتلند نوع یک (سیمان معمولی) پاکتی و فله",31080103,null,5,{"$f":"COUNTIF($S$1:S5839,Q5839+R5839)","v":5},"131201",1E-4,131201.0001]
[131201.01,null,0.19699999999999998,1,18292.041000000001,null,1,null,92853,0.19699999999999998,"تن","حمل سیمان فله و پاکتی",41060301,null,1,{"$f":"COUNTIF($S$1:S5843,Q5843+R5843)","v":1},"131201",0.01,131201.01]
["",null,null,null,null,null,null,null,null,null,null,null,null,"131301",null,{"$f":"COUNTIF($S$1:S5846,Q5846+R5846)","v":0},"131301",0.01,""]
[131301.00000001001,null,0.26180999999999999,1,20026.63233,null,0.9,null,76493,0.29089999999999999,"نفر ساعت","متصدی ماشینهای بتن ساز (بتونیرچی)",13040101,null,1,{"$f":"COUNTIF($S$1:S5849,Q5849+R5849)","v":1},"131301",1E-8,131301.00000001001]
[131301.00000001999,null,2.8800000000000003E-2,1,2783.6928000000003,null,0.9,null,96656,3.2000000000000001E-2,"نفر ساعت","متصدی ایستگاههای بتن ساز یا بچینگ پلانت",13040102,null,2,{"$f":"COUNTIF($S$1:S5850,Q5850+R5850)","v":2},"131301",1E-8,131301.00000001001]
[131301.00000003999,null,2.8800000000000003E-2,1,2018.6496,null,0.9,null,70092,3.2000000000000001E-2,"نفر ساعت","کمک اپراتور ماشین آلات",13041501,null,4,{"$f":"COUNTIF($S$1:S5852,Q5852+R5852)","v":4},"131301",1E-8,131301.00000001001]
[131301.00000006999,null,0.29754000000000003,1,22922.481600000003,null,0.9,null,77040,0.3306,"نفر ساعت","بنای بتن کار",14060201,null,7,{"$f":"COUNTIF($S$1:S5855,Q5855+R5855)","v":7},"131301",1E-8,131301.00000001001]
[131301.00000199999,null,3.6000000000000004E-2,1,13728.528,null,0.9,null,381348,0.04,"دستگاه ساعت","ایستگاه بتن ساز بچینگ پلانت25 تا30 مترمکعب در ساعت",22020204,null,2,{"$f":"COUNTIF($S$1:S5859,Q5859+R5859)","v":2},"131301",9.9999999999999995E-7,131301.00000100001]
[131301.00000500001,null,1.089E-2,1,3051.4760100000003,null,0.9,null,280209,1.21E-2,"دستگاه-ساعت","تانکراب پاش به ظرفیت حدود 15000 لیتر باراننده",23020503,null,5,{"$f":"COUNTIF($S$1:S5862,Q5862+R5862)","v":5},"131301",9.9999999999999995E-7,131301.00000100001]
[131301.00000900001,null,0.30069000000000007,1,36439.71903,null,0.9,null,121187,0.33410000000000006,"دستگاه -  ساعت","دستگاه هوشمند ليزري با کشنده موتوري مانند تراکتور با راننده",25011101,null,9,{"$f":"COUNTIF($S$1:S5866,Q5866+R5866)","v":9},"131301",9.9999999999999995E-7,131301.00000100001]
[131301.0001,null,0.25,1,313.25,null,1,null,1253,0.25,"مترمكعب","آب رودخانه",31010201,null,1,{"$f":"COUNTIF($S$1:S5869,Q5869+R5869)","v":1},"131301",1E-4,131301.0001]
[131301.00039999999,null,0.78,1,132600,null,1,null,170000,0.78,"مترمكعب","شن شسته دانه بندی شده25 میلیمتر تولید کارگاه",31030604,null,4,{"$f":"COUNTIF($S$1:S5872,Q5872+R5872)","v":4},"131301",1E-4,131301.0001]
[131301.00049999999,null,0.43380000000000002,1,492015.96,null,1,null,1134200,0.43380000000000002,"تن","سیمان پرتلند نوع یک (سیمان معمولی) پاکتی و فله",31080103,null,5,{"$f":"COUNTIF($S$1:S5873,Q5873+R5873)","v":5},"131301",1E-4,131301.0001]
[131301.01999999999,null,0.78,1,170.82,null,1,null,219,0.78,"مترمربع","حمل عایق‌های رطوبتی چتایی و کنف",41200201,null,2,{"$f":"COUNTIF($S$1:S5877,Q5877+R5877)","v":2},"131301",0.01,131301.01]
["",null,null,null,null,null,null,null,null,null,null,null,null,"131401",null,{"$f":"COUNTIF($S$1:S5878,Q5878+R5878)","v":0},"131401",0.01,""]
[131401.00000001999,null,5.0900999999999996,1,326321.22090000001,null,1,null,64109,5.0900999999999996,"نفر ساعت","کارگر فنی ماهر",14010103,null,2,{"$f":"COUNTIF($S$1:S5882,Q5882+R5882)","v":2},"131401",1E-8,131401.00000001001]
[131401.00000005,null,0.74850000000000005,1,82468.981500000009,null,1,null,110179,0.74850000000000005,"نفر - ساعت","تکنسين تهيه قطعات پيش‌ساخته بتني",14060502,null,5,{"$f":"COUNTIF($S$1:S5885,Q5885+R5885)","v":5},"131401",1E-8,131401.00000001001]
[131401.00000299999,null,1.0526375E-5,1,0,null,1.25,null,0,8.4210999999999997E-6,"رينگ 8","قالب‌ها",22040103,null,3,{"$f":"COUNTIF($S$1:S5889,Q5889+R5889)","v":3},"131401",9.9999999999999995E-7,131401.00000100001]
[131401.00000599999,null,9.3624999999999986E-2,1,395661.96512499987,null,1.25,null,4226029,7.4899999999999994E-2,"دستگاه -  ساعت","قطار براي حمل سگمنت",22040202,null,6,{"$f":"COUNTIF($S$1:S5892,Q5892+R5892)","v":6},"131401",9.9999999999999995E-7,131401.00000100001]
["",null,null,null,null,null,"ضريب",null,"بهاي واحد","مقـدار","واحــد","مصالح",null,null,"رديف",{"$f":"COUNTIF($S$1:S5895,Q5895+R5895)","v":0},"131401",{"$f":"IF(IF(O5895=\"رديف\",VLOOKUP(L5895,Kod,2,0),0)=0,R5894,IF(O5895=\"رديف\",VLOOKUP(L5895,Kod,2,0),0))","v":1E-4},""]
[131401.0001,null,0.5,1,82500,null,1,null,165000,0.5,"مترمكعب","ماسه شسته",31030202,null,1,{"$f":"COUNTIF($S$1:S5896,Q5896+R5896)","v":1},"131401",1E-4,131401.0001]
[131401.00039999999,null,0.42399999999999999,1,453680,null,1,null,1070000,0.42399999999999999,"تن","سیمان پرتلند نوع یک (سیمان معمولی) فله",31080102,null,4,{"$f":"COUNTIF($S$1:S5899,Q5899+R5899)","v":4},"131401",1E-4,131401.0001]
[131401.0007,null,0.9,1,5664.6,null,1,null,6294,0.9,"عدد","چهارتراش",31330602,null,7,{"$f":"COUNTIF($S$1:S5902,Q5902+R5902)","v":7},"131401",1E-4,131401.0001]
[131401.00099999999,null,0.5,1,17303,null,1,null,34606,0.5,"عدد","اينزرت کپسولي",31705102,null,10,{"$f":"COUNTIF($S$1:S5905,Q5905+R5905)","v":10},"131401",1E-4,131401.0001]
[131401.0013,null,6.4,1,3238.4,null,1,null,506,6.4,"عدد","اسپيسر 3/5",31705105,null,13,{"$f":"COUNTIF($S$1:S5908,Q5908+R5908)","v":13},"131401",1E-4,131401.0001]
["",null,null,null,null,null,null,null,null,null,null,"مترمكعب -  كیلومتر‏",null,null,"واحـد :",{"$f":"COUNTIF($S$1:S5912,Q5912+R5912)","v":0},"131501",1E-4,""]
["",null,null,null,null,null,null,null,null,null,null,null,null,"131502",null,{"$f":"COUNTIF($S$1:S5915,Q5915+R5915)","v":0},{"$f":"IF(N5915>0,N5915,Q5914)","v":"131502"},9.9999999999999995E-7,{"$f":"IF(M5915<>\"\",Q5915+R5915,\"\")","v":""}]
[131502.00000100001,null,6.6428479999999998E-3,1,2379.7072961280005,null,1.6,null,358236,4.1517799999999999E-3,"دستگاه ساعت","کامیون کمپرسی به ظرفیت حدود 16 تن با راننده",23020205,null,1,{"$f":"COUNTIF($S$1:S5918,Q5918+R5918)","v":1},"131502",9.9999999999999995E-7,131502.00000100001]
["",null,null,null,null,null,null,null,null,null,null,null,null,"131503",null,{"$f":"COUNTIF($S$1:S5919,Q5919+R5919)","v":0},"131503",9.9999999999999995E-7,""]
[131503.00000100001,null,5.2176799999999997E-3,1,2170.6383628800004,null,2,null,416016,2.6088399999999999E-3,"دستگاه -  ساعت","کامیون کمپرسی تریلر به ظرفیت حدود 25 تن با راننده",23020206,null,1,{"$f":"COUNTIF($S$1:S5922,Q5922+R5922)","v":1},"131503",9.9999999999999995E-7,131503.00000100001]
[140101.00000100001,null,5.2380900000000001E-2,1,18159.410412000001,null,1.1000000000000001,null,346680,4.7618999999999995E-2,"دستگاه-ساعت","کامیون کمپرسی به ظرفیت حدود 10 تن با راننده",23020204,null,1,{"$f":"COUNTIF($S$1:S5926,Q5926+R5926)","v":1},"140101",9.9999999999999995E-7,140101.00000100001]
["",null,null,null,null,null,null,null,null,null,null,null,null,"140102",null,{"$f":"COUNTIF($S$1:S5929,Q5929+R5929)","v":0},"140102",1E-4,""]
["",null,null,null,null,null,"ضريب",null,"بهاي واحد","مقـدار","واحــد","ماشين آلات ",null,null,"رديف",{"$f":"COUNTIF($S$1:S5931,Q5931+R5931)","v":0},"140102",9.9999999999999995E-7,""]
["",null,null,null,null,null,null,null,null,null,null,null,null,"140103",null,{"$f":"COUNTIF($S$1:S5935,Q5935+R5935)","v":0},"140103",1E-4,""]
[140103.00000100001,null,5.2380900000000001E-2,1,18159.410412000001,null,1.1000000000000001,null,346680,4.7618999999999995E-2,"دستگاه-ساعت","کامیون کمپرسی به ظرفیت حدود 10 تن با راننده",23020204,null,1,{"$f":"COUNTIF($S$1:S5938,Q5938+R5938)","v":1},"140103",9.9999999999999995E-7,140103.00000100001]
["",null,null,null,null,null,"ضريب",null,"بهاي واحد","مقـدار","واحــد","مصالح",null,null,"رديف",{"$f":"COUNTIF($S$1:S5939,Q5939+R5939)","v":0},"140103",1E-4,""]
["",null,null,null,null,null,null,null,null,null,null,"مترمكعب",null,null,"واحـد :",{"$f":"COUNTIF($S$1:S5942,Q5942+R5942)","v":0},"140401",1E-4,""]
["",null,null,null,null,null,"ضريب",null,"بهاي واحد","مقـدار","واحــد","مصالح",null,null,"رديف",{"$f":"COUNTIF($S$1:S5945,Q5945+R5945)","v":0},"140401",1E-4,""]
["",null,null,null,null,null,"ضريب",null,"بهاي واحد","مقـدار","واحــد","ماشين آلات ",null,null,"رديف",{"$f":"COUNTIF($S$1:S5949,Q5949+R5949)","v":0},"140402",9.9999999999999995E-7,""]
[140402.0001,null,1.56,1,145293.72,null,1.3,null,93137,1.2,"مترمكعب","مصالح اساس با شکستگی 75 درصد در دو جبهه تهیه شده از مصالح رودخانه‌ای با دانه بندی صفر تا  37/5 میلیمتر  تولید کارگاه",31040402,null,1,{"$f":"COUNTIF($S$1:S5952,Q5952+R5952)","v":1},"140402",1E-4,140402.0001]
["",null,null,null,null,null,null,null,null,null,null,"مترمكعب",null,null,"واحـد :",{"$f":"COUNTIF($S$1:S5954,Q5954+R5954)","v":0},"140403",1E-4,""]
[140403.0001,null,1.56,1,146633.76,null,1.3,null,93996,1.2,"مترمكعب","مصالح اساس با شکستگی 75 درصد در دو جبهه تهیه شده از مصالح رودخانه‌ای با دانه بندی صفر تا 25 میلیمتر تولید کارگاه",31040403,null,1,{"$f":"COUNTIF($S$1:S5958,Q5958+R5958)","v":1},"140403",1E-4,140403.0001]
[{"$f":"IF(M5961<>\"\",Q5961+(P5961*R5961),\"\")","v":""},null,null,null,null,null,"ضريب",null,"بهاي واحد","مقـدار","واحــد","نيروي انساني ",null,null,"رديف",{"$f":"COUNTIF($S$1:S5961,Q5961+R5961)","v":0},"140601",1E-8,""]
[140601.00000001001,null,1.5625E-2,1,1669.5,null,1.25,null,106848,1.2500000000000001E-2,"نفر ساعت","جوشکار درجه یک",13010401,null,1,{"$f":"COUNTIF($S$1:S5962,Q5962+R5962)","v":1},"140601",1E-8,140601.00000001001]
[140601.00000003999,null,3.125E-2,1,2190.375,null,1.25,null,70092,2.5000000000000001E-2,"نفر ساعت","متصدی  موتور برق",13041201,null,4,{"$f":"COUNTIF($S$1:S5965,Q5965+R5965)","v":4},"140601",1E-8,140601.00000001001]
[140601.00000006999,null,5.2125000000000005E-2,1,3449.2154999999998,null,1.25,null,66172,4.1700000000000001E-2,"نفر ساعت","کارگر حفاری",14250204,null,7,{"$f":"COUNTIF($S$1:S5968,Q5968+R5968)","v":7},"140601",1E-8,140601.00000001001]
[140601.00000299999,null,4.65E-2,1,2818.0859999999998,null,1.55,null,60604,0.03,"دستگاه ساعت","سرند ویبره 1.5*5 متر سه طبقه",21010302,null,3,{"$f":"COUNTIF($S$1:S5972,Q5972+R5972)","v":3},"140601",9.9999999999999995E-7,140601.00000100001]
[140601.00000599999,null,2.325E-2,1,3029.5912499999999,null,1.55,null,130305,1.4999999999999999E-2,"دستگاه -  ساعت","ماسه ساز به ظرفيت 30 تا60 تن در ساعت",21010502,null,6,{"$f":"COUNTIF($S$1:S5975,Q5975+R5975)","v":6},"140601",9.9999999999999995E-7,140601.00000100001]
[140601.000008,null,7.7500000000000013E-2,1,27763.29,null,1.55,null,358236,0.05,"دستگاه ساعت","کامیون کمپرسی به ظرفیت حدود 16 تن با راننده",23020205,null,8,{"$f":"COUNTIF($S$1:S5977,Q5977+R5977)","v":8},"140601",9.9999999999999995E-7,140601.00000100001]
[140601.000012,null,6.4634999999999998E-2,1,35248.761885,null,1.55,null,545351,4.1700000000000001E-2,"دستگاه ساعت","کمپرسور با ظرفیت حدود25 متر مکعب در دقیقه با شیلنگ مربوط",25040108,null,12,{"$f":"COUNTIF($S$1:S5981,Q5981+R5981)","v":12},"140601",9.9999999999999995E-7,140601.00000100001]
["",null,null,null,null,null,"ضريب",null,"بهاي واحد","مقـدار","واحــد","مصالح",null,null,"رديف",{"$f":"COUNTIF($S$1:S5984,Q5984+R5984)","v":0},"140601",1E-4,""]
[140601.0001,null,0.21249999999999999,1,15725,null,0.85,null,74000,0.25,"كیلوگرم","امولایت کارتریجی",31420101,null,1,{"$f":"COUNTIF($S$1:S5985,Q5985+R5985)","v":1},"140601",1E-4,140601.0001]
[140601.01,null,0.21249999999999999,1,271.36250000000001,null,0.85,null,1277,0.25,"كیلوگرم","حمل مواد منفجره",41090101,null,1,{"$f":"COUNTIF($S$1:S5988,Q5988+R5988)","v":1},"140601",0.01,140601.01]
["",null,null,null,null,null,"ضريب",null,"بهاي واحد","مقـدار","واحــد","نيروي انساني ",null,null,"رديف",{"$f":"COUNTIF($S$1:S5991,Q5991+R5991)","v":0},"140602",1E-8,""]
[140602.00000003999,null,3.125E-2,1,2190.375,null,1.25,null,70092,2.5000000000000001E-2,"نفر ساعت","متصدی  موتور برق",13041201,null,4,{"$f":"COUNTIF($S$1:S5995,Q5995+R5995)","v":4},"140602",1E-8,140602.00000001001]
[140602.00000006999,null,5.2125000000000005E-2,1,3449.2154999999998,null,1.25,null,66172,4.1700000000000001E-2,"نفر ساعت","کارگر حفاری",14250204,null,7,{"$f":"COUNTIF($S$1:S5998,Q5998+R5998)","v":7},"140602",1E-8,140602.00000001001]
[140602.00000299999,null,7.7500000000000013E-2,1,4696.8100000000004,null,1.55,null,60604,0.05,"دستگاه ساعت","سرند ویبره 1.5*5 متر سه طبقه",21010302,null,3,{"$f":"COUNTIF($S$1:S6002,Q6002+R6002)","v":3},"140602",9.9999999999999995E-7,140602.00000100001]
[140602.00000500001,null,3.8750000000000007E-2,1,5045.9862499999999,null,1.55,null,130219,2.5000000000000001E-2,"دستگاه ساعت","سنگ شکن چکشی (کوبیت ) 50 تا 100 تن در ساعت",21010405,null,5,{"$f":"COUNTIF($S$1:S6004,Q6004+R6004)","v":5},"140602",9.9999999999999995E-7,140602.00000100001]
[140602.000008,null,7.7500000000000013E-2,1,27763.29,null,1.55,null,358236,0.05,"دستگاه ساعت","کامیون کمپرسی به ظرفیت حدود 16 تن با راننده",23020205,null,8,{"$f":"COUNTIF($S$1:S6007,Q6007+R6007)","v":8},"140602",9.9999999999999995E-7,140602.00000100001]
[140602.00000900001,null,3.8750000000000007E-2,1,29330.572499999998,null,1.55,null,756918,2.5000000000000001E-2,"دستگاه-ساعت","بولدوزر به قدرت حدود 300  اسب بخار باراننده",25010605,null,9,{"$f":"COUNTIF($S$1:S6008,Q6008+R6008)","v":9},"140602",9.9999999999999995E-7,140602.00000100001]
[140602.000012,null,6.4634999999999998E-2,1,35248.761885,null,1.55,null,545351,4.1700000000000001E-2,"دستگاه ساعت","کمپرسور با ظرفیت حدود25 متر مکعب در دقیقه با شیلنگ مربوط",25040108,null,12,{"$f":"COUNTIF($S$1:S6011,Q6011+R6011)","v":12},"140602",9.9999999999999995E-7,140602.00000100001]
["",null,null,null,null,null,"ضريب",null,"بهاي واحد","مقـدار","واحــد","مصالح",null,null,"رديف",{"$f":"COUNTIF($S$1:S6014,Q6014+R6014)","v":0},"140602",1E-4,""]
[140602.01,null,0.21249999999999999,1,271.36250000000001,null,0.85,null,1277,0.25,"كیلوگرم","حمل مواد منفجره",41090101,null,1,{"$f":"COUNTIF($S$1:S6018,Q6018+R6018)","v":1},"140602",0.01,140602.01]
["",null,null,null,null,null,"ضريب",null,"بهاي واحد","مقـدار","واحــد","نيروي انساني ",null,null,"رديف",{"$f":"COUNTIF($S$1:S6021,Q6021+R6021)","v":0},"140603",1E-8,""]
[{"$f":"IF(M6025<>\"\",Q6025+(P6025*R6025),\"\")","v":140603.00000003999},null,3.125E-2,1,2190.375,null,1.25,null,70092,2.5000000000000001E-2,"نفر ساعت","متصدی  موتور برق",13041201,null,4,{"$f":"COUNTIF($S$1:S6025,Q6025+R6025)","v":4},"140603",1E-8,140603.00000001001]
[140603.00000006999,null,5.2125000000000005E-2,1,3449.2154999999998,null,1.25,null,66172,4.1700000000000001E-2,"نفر ساعت","کارگر حفاری",14250204,null,7,{"$f":"COUNTIF($S$1:S6028,Q6028+R6028)","v":7},"140603",1E-8,140603.00000001001]
["",null,null,null,null,null,"ضريب",null,"بهاي واحد","مقـدار","واحــد","ماشين آلات ",null,null,"رديف",{"$f":"COUNTIF($S$1:S6029,Q6029+R6029)","v":0},"140603",9.9999999999999995E-7,""]
[140603.00000199999,null,0.69750000000000001,1,15649.11,null,0.155,null,22436,4.5,"مترطول ساعت","نوار نقاله به عرض75 تا80 سانتیمتر",21010203,null,2,{"$f":"COUNTIF($S$1:S6031,Q6031+R6031)","v":2},"140603",9.9999999999999995E-7,140603.00000100001]
[140603.00000500001,null,5.4250000000000007E-2,1,7064.3807500000021,null,1.55,null,130219,3.5000000000000003E-2,"دستگاه ساعت","سنگ شکن چکشی (کوبیت ) 50 تا 100 تن در ساعت",21010405,null,5,{"$f":"COUNTIF($S$1:S6034,Q6034+R6034)","v":5},"140603",9.9999999999999995E-7,140603.00000100001]
[140603.000008,null,7.7500000000000013E-2,1,27763.29,null,1.55,null,358236,0.05,"دستگاه ساعت","کامیون کمپرسی به ظرفیت حدود 16 تن با راننده",23020205,null,8,{"$f":"COUNTIF($S$1:S6037,Q6037+R6037)","v":8},"140603",9.9999999999999995E-7,140603.00000100001]
[140603.000012,null,6.4634999999999998E-2,1,35248.761885,null,1.55,null,545351,4.1700000000000001E-2,"دستگاه ساعت","کمپرسور با ظرفیت حدود25 متر مکعب در دقیقه با شیلنگ مربوط",25040108,null,12,{"$f":"COUNTIF($S$1:S6041,Q6041+R6041)","v":12},"140603",9.9999999999999995E-7,140603.00000100001]
["",null,null,null,null,null,"ضريب",null,"بهاي واحد","مقـدار","واحــد","مصالح",null,null,"رديف",{"$f":"COUNTIF($S$1:S6044,Q6044+R6044)","v":0},"140603",1E-4,""]
[140603.01,null,0.21249999999999999,1,271.36250000000001,null,0.85,null,1277,0.25,"كیلوگرم","حمل مواد منفجره",41090101,null,1,{"$f":"COUNTIF($S$1:S6048,Q6048+R6048)","v":1},"140603",0.01,140603.01]
["",null,null,null,null,null,"ضريب",null,"بهاي واحد","مقـدار","واحــد","نيروي انساني ",null,null,"رديف",{"$f":"COUNTIF($S$1:S6051,Q6051+R6051)","v":0},"140701",1E-8,""]
[140701.00000003001,null,8.8889999999999993E-3,1,506.78855699999991,null,1,null,57013,8.8889999999999993E-3,"نفر- ساعت","كارگر ساده",14010102,null,3,{"$f":"COUNTIF($S$1:S6054,Q6054+R6054)","v":3},"140701",1E-8,140701.00000001001]
["",null,null,null,null,null,"ضريب",null,"بهاي واحد","مقـدار","واحــد","ماشين آلات ",null,null,"رديف",{"$f":"COUNTIF($S$1:S6056,Q6056+R6056)","v":0},"140701",9.9999999999999995E-7,""]
[140701.00000100001,null,5.6899999999999997E-3,1,1660.85979,null,1,null,291891,5.6899999999999997E-3,"دستگاه-ساعت","تانکر آب پاش به ظرفيت حدود 20000 ليتر باراننده",23020504,null,1,{"$f":"COUNTIF($S$1:S6057,Q6057+R6057)","v":1},"140701",9.9999999999999995E-7,140701.00000100001]
[140701.0001,null,0.05,1,62.65,null,1,null,1253,0.05,"مترمكعب","آب رودخانه",31010201,null,1,{"$f":"COUNTIF($S$1:S6061,Q6061+R6061)","v":1},"140701",1E-4,140701.0001]
["",null,null,null,null,null,null,null,null,null,null,"مترمكعب",null,null,"واحـد :",{"$f":"COUNTIF($S$1:S6064,Q6064+R6064)","v":0},"140702",1E-4,""]
[140702.00000001999,null,2.1109000000000002E-3,1,137.86498990000001,null,1,null,65311,2.1109000000000002E-3,"نفر- ساعت","کارگر نقشه‌برداري (ميرکش)",12030104,null,2,{"$f":"COUNTIF($S$1:S6067,Q6067+R6067)","v":2},"140702",1E-8,140702.00000001001]
[140702.00000100001,null,5.6899999999999997E-3,1,1660.85979,null,1,null,291891,5.6899999999999997E-3,"دستگاه-ساعت","تانکر آب پاش به ظرفيت حدود 20000 ليتر باراننده",23020504,null,1,{"$f":"COUNTIF($S$1:S6071,Q6071+R6071)","v":1},"140702",9.9999999999999995E-7,140702.00000100001]
["",null,null,null,null,null,"ضريب",null,"بهاي واحد","مقـدار","واحــد","مصالح",null,null,"رديف",{"$f":"COUNTIF($S$1:S6074,Q6074+R6074)","v":0},"140702",1E-4,""]
["",null,null,null,null,null,null,null,null,null,null,null,null,"140703",null,{"$f":"COUNTIF($S$1:S6077,Q6077+R6077)","v":0},"140703",1E-4,""]
["",null,null,null,null,null,null,null,null,null,null,"مترمكعب",null,null,"واحـد :",{"$f":"COUNTIF($S$1:S6078,Q6078+R6078)","v":0},"140703",1E-4,""]
[140703.00000001999,null,3.0552000000000001E-3,1,199.53816719999998,null,1,null,65311,3.0552000000000001E-3,"نفر- ساعت","کارگر نقشه‌برداري (ميرکش)",12030104,null,2,{"$f":"COUNTIF($S$1:S6081,Q6081+R6081)","v":2},"140703",1E-8,140703.00000001001]
["",null,null,null,null,null,"ضريب",null,"بهاي واحد","مقـدار","واحــد","ماشين آلات ",null,null,"رديف",{"$f":"COUNTIF($S$1:S6084,Q6084+R6084)","v":0},"140703",9.9999999999999995E-7,""]
[140703.00000299999,null,7.5899999999999995E-2,1,27594.355800000001,null,1,null,363562,7.5899999999999995E-2,"دستگاه-ساعت","غلطک ویبره خودروکمرشکن چرخ اهنی لاستیکی حدود10 تن باراننده",25030501,null,3,{"$f":"COUNTIF($S$1:S6087,Q6087+R6087)","v":3},"140703",{"$f":"IF(IF(O6087=\"رديف\",VLOOKUP(L6087,Kod,2,0),0)=0,R6086,IF(O6087=\"رديف\",VLOOKUP(L6087,Kod,2,0),0))","v":9.9999999999999995E-7},140703.00000100001]
[140703.00020000001,null,0.05,1,473.55,null,1,null,9471,0.05,"مترمكعب","آب چاه و قنات",31010301,null,2,{"$f":"COUNTIF($S$1:S6090,Q6090+R6090)","v":2},"140703",1E-4,140703.0001]
[140704.00000001001,null,2.7775E-3,1,487.14850250000001,null,1,null,175391,2.7775E-3,"نفر ساعت","نقشه بردار با سابقه بیش از 10 سال",12030101,null,1,{"$f":"COUNTIF($S$1:S6094,Q6094+R6094)","v":1},"140704",1E-8,140704.00000001001]
[140704.00000003999,null,5.5554999999999997E-3,1,886.39669149999986,null,1,null,159553,5.5554999999999997E-3,"نفر- ساعت","مباشر عملیات خاکی با سابقه بیش از 10 سال",14240301,null,4,{"$f":"COUNTIF($S$1:S6097,Q6097+R6097)","v":4},"140704",1E-8,140704.00000001001]
["",null,null,null,null,null,"ضريب",null,"بهاي واحد","مقـدار","واحــد","ماشين آلات ",null,null,"رديف",{"$f":"COUNTIF($S$1:S6098,Q6098+R6098)","v":0},"140704",9.9999999999999995E-7,""]
[140704.00000299999,null,0.06,1,21813.72,null,1,null,363562,0.06,"دستگاه-ساعت","غلطک ویبره خودروکمرشکن چرخ اهنی لاستیکی حدود10 تن باراننده",25030501,null,3,{"$f":"COUNTIF($S$1:S6101,Q6101+R6101)","v":3},"140704",9.9999999999999995E-7,140704.00000100001]
[140704.00020000001,null,0.05,1,473.55,null,1,null,9471,0.05,"مترمكعب","آب چاه و قنات",31010301,null,2,{"$f":"COUNTIF($S$1:S6104,Q6104+R6104)","v":2},"140704",1E-4,140704.0001]
[140705.00000001001,null,-2.7775E-4,1,-48.714850250000012,null,-0.1,null,175391,2.7775E-3,"نفر ساعت","نقشه بردار با سابقه بیش از 10 سال",12030101,null,1,{"$f":"COUNTIF($S$1:S6108,Q6108+R6108)","v":1},"140705",1E-8,140705.00000001001]
[140705.00000003001,null,-1.1111199999999999E-3,1,-63.348284559999996,null,-0.1,null,57013,1.1111199999999998E-2,"نفر- ساعت","كارگر ساده",14010102,null,3,{"$f":"COUNTIF($S$1:S6110,Q6110+R6110)","v":3},"140705",1E-8,140705.00000001001]
[140705.00000100001,null,-5.9100000000000016E-4,1,-172.50758099999999,null,-0.1,null,291891,5.9100000000000012E-3,"دستگاه-ساعت","تانکر آب پاش به ظرفيت حدود 20000 ليتر باراننده",23020504,null,1,{"$f":"COUNTIF($S$1:S6113,Q6113+R6113)","v":1},"140705",9.9999999999999995E-7,140705.00000100001]
[140705.0001,null,-5.000000000000001E-3,1,-6.2649999999999997,null,-0.1,null,1253,0.05,"مترمكعب","آب رودخانه",31010201,null,1,{"$f":"COUNTIF($S$1:S6117,Q6117+R6117)","v":1},"140705",1E-4,140705.0001]
["",null,null,null,null,null,null,null,null,null,null,"مترمكعب",null,null,"واحـد :",{"$f":"COUNTIF($S$1:S6120,Q6120+R6120)","v":0},"140801",1E-4,""]
["",null,null,null,null,null,"ضريب",null,"بهاي واحد","مقـدار","واحــد","نيروي انساني ",null,null,"رديف",{"$f":"COUNTIF($S$1:S6121,Q6121+R6121)","v":0},"140801",1E-8,""]
[140801.00000003001,null,4.6668999999999999E-3,1,744.61789569999996,null,1,null,159553,4.6668999999999999E-3,"نفر- ساعت","مباشر عملیات خاکی با سابقه بیش از 10 سال",14240301,null,3,{"$f":"COUNTIF($S$1:S6124,Q6124+R6124)","v":3},"140801",1E-8,140801.00000001001]
[140801.00000199999,null,1.3894699999999999E-2,1,1460.1384442000001,null,1,null,105086,1.3894699999999999E-2,"دستگاه ساعت","تراکتور جفت دیفرانسیل با راننده",23020802,null,2,{"$f":"COUNTIF($S$1:S6127,Q6127+R6127)","v":2},"140801",9.9999999999999995E-7,140801.00000100001]
["",null,null,null,null,null,null,null,null,null,null,null,null,"140901",null,{"$f":"COUNTIF($S$1:S6131,Q6131+R6131)","v":0},"140901",9.9999999999999995E-7,""]
["",null,null,null,null,null,"ضريب",null,"بهاي واحد","مقـدار","واحــد","نيروي انساني ",null,null,"رديف",{"$f":"COUNTIF($S$1:S6133,Q6133+R6133)","v":0},"140901",1E-8,""]
[140901.00000003001,null,3.055E-4,1,17.417471499999998,null,1,null,57013,3.055E-4,"نفر- ساعت","كارگر ساده",14010102,null,3,{"$f":"COUNTIF($S$1:S6136,Q6136+R6136)","v":3},"140901",1E-8,140901.00000001001]
[140901.00000199999,null,4.5830000000000003E-4,1,180.50282989999999,null,1,null,393853,4.5830000000000003E-4,"دستگاه-ساعت","گریدر به قدرت حدود150 اسب بخار باراننده",25010901,null,2,{"$f":"COUNTIF($S$1:S6140,Q6140+R6140)","v":2},"140901",9.9999999999999995E-7,140901.00000100001]
[140901.0001,null,1.25E-3,1,1.5662499999999999,null,1,null,1253,1.25E-3,"مترمكعب","آب رودخانه",31010201,null,1,{"$f":"COUNTIF($S$1:S6143,Q6143+R6143)","v":1},"140901",1E-4,140901.0001]
[140901.00020000001,null,1.25E-3,1,11.838749999999999,null,1,null,9471,1.25E-3,"مترمكعب","آب چاه و قنات",31010301,null,2,{"$f":"COUNTIF($S$1:S6144,Q6144+R6144)","v":2},"140901",1E-4,140901.0001]
["",null,null,null,null,null,"ضريب",null,"بهاي واحد","مقـدار","واحــد","ماشين آلات ",null,null,"رديف",{"$f":"COUNTIF($S$1:S6147,Q6147+R6147)","v":0},"141001",9.9999999999999995E-7,""]
[141001.00000299999,null,1.6666666699999999E-2,1,6059.366678785399,null,1,null,363562,1.6666666699999999E-2,"دستگاه-ساعت","لودرچرخ لاستيکي به قدرت حدود150  اسب بخار باراننده",25010802,null,3,{"$f":"COUNTIF($S$1:S6150,Q6150+R6150)","v":3},"141001",9.9999999999999995E-7,141001.00000100001]
["",null,null,null,null,null,null,null,null,null,null,null,null,"141002",null,{"$f":"COUNTIF($S$1:S6154,Q6154+R6154)","v":0},"141002",1E-4,""]
[141002.00000100001,null,4.0476999999999999E-2,1,14032.566359999999,null,1,null,346680,4.0476999999999999E-2,"دستگاه-ساعت","کامیون کمپرسی به ظرفیت حدود 10 تن با راننده",23020204,null,1,{"$f":"COUNTIF($S$1:S6157,Q6157+R6157)","v":1},"141002",9.9999999999999995E-7,141002.00000100001]
["",null,null,null,null,null,"ضريب",null,"بهاي واحد","مقـدار","واحــد","مصالح",null,null,"رديف",{"$f":"COUNTIF($S$1:S6160,Q6160+R6160)","v":0},"141002",1E-4,""]
["",null,null,null,null,null,null,null,null,null,null,"مترمكعب",null,null,"واحـد :",{"$f":"COUNTIF($S$1:S6163,Q6163+R6163)","v":0},"141101",1E-4,""]
[141101.00000001999,null,1.0619999999999999E-2,1,693.60281999999995,null,0.9,null,65311,1.18E-2,"نفر- ساعت","کارگر نقشه‌برداري (ميرکش)",12030104,null,2,{"$f":"COUNTIF($S$1:S6166,Q6166+R6166)","v":2},"141101",1E-8,141101.00000001001]
[141101.00000003001,null,1.0619999999999999E-2,1,605.47805999999991,null,0.9,null,57013,1.18E-2,"نفر- ساعت","كارگر ساده",14010102,null,3,{"$f":"COUNTIF($S$1:S6167,Q6167+R6167)","v":3},"141101",1E-8,141101.00000001001]
[141101.00000100001,null,2.052E-2,1,5749.88868,null,0.9,null,280209,2.2800000000000001E-2,"دستگاه-ساعت","تانکراب پاش به ظرفیت حدود 15000 لیتر باراننده",23020503,null,1,{"$f":"COUNTIF($S$1:S6170,Q6170+R6170)","v":1},"141101",9.9999999999999995E-7,141101.00000100001]
[141101.000004,null,2.2500000000000003E-2,1,9543.69,null,0.9,null,424164,2.5000000000000001E-2,"دستگاه-ساعت","گریدر به قدرت حدود180 اسب بخار باراننده",25010902,null,4,{"$f":"COUNTIF($S$1:S6173,Q6173+R6173)","v":4},"141101",9.9999999999999995E-7,141101.00000100001]
[141101.00020000001,null,0.18000000000000002,1,1704.78,null,0.9,null,9471,0.2,"مترمكعب","آب چاه و قنات",31010301,null,2,{"$f":"COUNTIF($S$1:S6177,Q6177+R6177)","v":2},"141101",1E-4,141101.0001]
[141101.01,null,4.2099999999999999E-2,1,3215.3033,null,1,null,76373,4.2099999999999999E-2,"مترمكعب","حمل سنگهای ریشه دار و سنگ آهک زنده",41030101,null,1,{"$f":"COUNTIF($S$1:S6180,Q6180+R6180)","v":1},"141101",0.01,141101.01]
["",null,null,null,null,null,"ضريب",null,"بهاي واحد","مقـدار","واحــد","نيروي انساني ",null,null,"رديف",{"$f":"COUNTIF($S$1:S6183,Q6183+R6183)","v":0},"141102",1E-8,""]
[141102.00000003001,null,1.0619999999999999E-2,1,605.47805999999991,null,0.9,null,57013,1.18E-2,"نفر- ساعت","كارگر ساده",14010102,null,3,{"$f":"COUNTIF($S$1:S6186,Q6186+R6186)","v":3},"141102",1E-8,141102.00000001001]
[141102.00000100001,null,2.052E-2,1,5749.88868,null,0.9,null,280209,2.2800000000000001E-2,"دستگاه-ساعت","تانکراب پاش به ظرفیت حدود 15000 لیتر باراننده",23020503,null,1,{"$f":"COUNTIF($S$1:S6189,Q6189+R6189)","v":1},"141102",9.9999999999999995E-7,141102.00000100001]
[141102.00000199999,null,7.92E-3,1,2635.87896,null,0.9,null,332813,8.8000000000000005E-3,"ساعت","بولدوزر به قدرت حدود 150 اسب بخار با راننده",25010602,null,2,{"$f":"COUNTIF($S$1:S6190,Q6190+R6190)","v":2},"141102",9.9999999999999995E-7,141102.00000100001]
[141102.00000500001,null,1.9980000000000001E-2,1,7263.9687599999997,null,0.9,null,363562,2.2200000000000001E-2,"دستگاه-ساعت","غلطک ویبره خودروکمرشکن چرخ اهنی لاستیکی حدود10 تن باراننده",25030501,null,5,{"$f":"COUNTIF($S$1:S6193,Q6193+R6193)","v":5},"141102",9.9999999999999995E-7,141102.00000100001]
[141102.00020000001,null,0.18000000000000002,1,1704.78,null,0.9,null,9471,0.2,"مترمكعب","آب چاه و قنات",31010301,null,2,{"$f":"COUNTIF($S$1:S6196,Q6196+R6196)","v":2},"141102",1E-4,141102.0001]
["",null,null,null,null,null,null,null,null,null,null,null,null,"141103",null,{"$f":"COUNTIF($S$1:S6200,Q6200+R6200)","v":0},"141103",0.01,""]
[141103.00000001001,null,2.16E-3,1,191.48616000000001,null,0.9,null,88651,2.3999999999999998E-3,"نفر- ساعت","کمک نقشه بردار (ترازیاب)",12030103,null,1,{"$f":"COUNTIF($S$1:S6203,Q6203+R6203)","v":1},"141103",1E-8,141103.00000001001]
["",null,null,null,null,null,"ضريب",null,"بهاي واحد","مقـدار","واحــد","ماشين آلات ",null,null,"رديف",{"$f":"COUNTIF($S$1:S6207,Q6207+R6207)","v":0},"141103",9.9999999999999995E-7,""]
[141103.00000100001,null,2.052E-2,1,5749.88868,null,0.9,null,280209,2.2800000000000001E-2,"دستگاه-ساعت","تانکراب پاش به ظرفیت حدود 15000 لیتر باراننده",23020503,null,1,{"$f":"COUNTIF($S$1:S6208,Q6208+R6208)","v":1},"141103",9.9999999999999995E-7,141103.00000100001]
[141103.00000500001,null,3.465E-2,1,12597.4233,null,0.9,null,363562,3.85E-2,"دستگاه-ساعت","غلطک ویبره خودروکمرشکن چرخ اهنی لاستیکی حدود10 تن باراننده",25030501,null,5,{"$f":"COUNTIF($S$1:S6212,Q6212+R6212)","v":5},"141103",9.9999999999999995E-7,141103.00000100001]
["",null,null,null,null,null,"ضريب",null,"بهاي واحد","مقـدار","واحــد","مصالح",null,null,"رديف",{"$f":"COUNTIF($S$1:S6213,Q6213+R6213)","v":0},"141103",1E-4,""]
[141103.00030000001,null,7.1499999999999994E-2,1,53624.999999999993,null,1,null,750000,7.1499999999999994E-2,"تن","کلوخه آهک زنده سنگ آهک پخته",31090101,null,3,{"$f":"COUNTIF($S$1:S6216,Q6216+R6216)","v":3},"141103",1E-4,141103.0001]
["",null,null,null,null,null,null,null,null,null,null,"مترمكعب",null,null,"واحـد :",{"$f":"COUNTIF($S$1:S6220,Q6220+R6220)","v":0},"141104",0.01,""]
[141104.00000199999,null,1.53846E-2,1,5593.2559452000005,null,1,null,363562,1.53846E-2,"دستگاه-ساعت","لودرچرخ لاستيکي به قدرت حدود150  اسب بخار باراننده",25010802,null,2,{"$f":"COUNTIF($S$1:S6223,Q6223+R6223)","v":2},"141104",9.9999999999999995E-7,141104.00000100001]
[141104.00020000001,null,7.4999999999999997E-2,1,710.32500000000005,null,1,null,9471,7.4999999999999997E-2,"مترمكعب","آب چاه و قنات",31010301,null,2,{"$f":"COUNTIF($S$1:S6226,Q6226+R6226)","v":2},"141104",1E-4,141104.0001]
["",null,null,null,null,null,null,null,null,null,null,null,null,"141201",null,{"$f":"COUNTIF($S$1:S6230,Q6230+R6230)","v":0},"141201",0.01,""]
[141201.00000001001,null,3.5000000000000005E-3,1,310.27850000000007,null,1,null,88651,3.5000000000000005E-3,"نفر- ساعت","کمک نقشه بردار (ترازیاب)",12030103,null,1,{"$f":"COUNTIF($S$1:S6233,Q6233+R6233)","v":1},"141201",1E-8,141201.00000001001]
[141201.00000003001,null,1.7000000000000001E-2,1,969.22100000000023,null,1,null,57013,1.7000000000000001E-2,"نفر- ساعت","كارگر ساده",14010102,null,3,{"$f":"COUNTIF($S$1:S6235,Q6235+R6235)","v":3},{"$f":"IF(N6235>0,N6235,Q6234)","v":"141201"},1E-8,{"$f":"IF(M6235<>\"\",Q6235+R6235,\"\")","v":141201.00000001001}]
[141201.00000003999,null,1.7000000000000001E-2,1,2712.4010000000003,null,1,null,159553,1.7000000000000001E-2,"نفر- ساعت","مباشر عملیات خاکی با سابقه بیش از 10 سال",14240301,null,4,{"$f":"COUNTIF($S$1:S6236,Q6236+R6236)","v":4},"141201",1E-8,141201.00000001001]
[141201.00000199999,null,1.15E-2,1,3827.3495000000003,null,1,null,332813,1.15E-2,"ساعت","بولدوزر به قدرت حدود 150 اسب بخار با راننده",25010602,null,2,{"$f":"COUNTIF($S$1:S6239,Q6239+R6239)","v":2},"141201",9.9999999999999995E-7,141201.00000100001]
[141201.00000599999,null,4.2999999999999997E-2,1,15633.166000000001,null,1,null,363562,4.2999999999999997E-2,"دستگاه-ساعت","غلطک ویبره خودروکمرشکن چرخ اهنی لاستیکی حدود10 تن باراننده",25030501,null,6,{"$f":"COUNTIF($S$1:S6243,Q6243+R6243)","v":6},"141201",9.9999999999999995E-7,141201.00000100001]
[141201.00020000001,null,0.25,1,2367.75,null,1,null,9471,0.25,"مترمكعب","آب چاه و قنات",31010301,null,2,{"$f":"COUNTIF($S$1:S6246,Q6246+R6246)","v":2},"141201",1E-4,141201.0001]
[141201.01,null,0.05,1,4642.6499999999996,null,1,null,92853,0.05,"تن","حمل سیمان فله و پاکتی",41060301,null,1,{"$f":"COUNTIF($S$1:S6249,Q6249+R6249)","v":1},"141201",0.01,141201.01]
[141202.00000001001,null,0.1,1,5701.3,null,1,null,57013,0.1,"نفر- ساعت","كارگر ساده",14010102,null,1,{"$f":"COUNTIF($S$1:S6253,Q6253+R6253)","v":1},"141202",1E-8,141202.00000001001]
["",null,null,null,null,null,"ضريب",null,"بهاي واحد","مقـدار","واحــد"," حمل مصالح ",null,null,"رديف",{"$f":"COUNTIF($S$1:S6256,Q6256+R6256)","v":0},"141202",0.01,""]
[141202.01,null,5.2999999999999999E-2,1,4921.2089999999998,null,1,null,92853,5.2999999999999999E-2,"تن","حمل سیمان فله و پاکتی",41060301,null,1,{"$f":"COUNTIF($S$1:S6257,Q6257+R6257)","v":1},"141202",0.01,141202.01]
["",null,null,null,null,null,"ضريب",null,"بهاي واحد","مقـدار","واحــد","نيروي انساني ",null,null,"رديف",{"$f":"COUNTIF($S$1:S6260,Q6260+R6260)","v":0},"141301",1E-8,""]
[141301.00000001999,null,0.08,1,5224.88,null,1,null,65311,0.08,"نفر- ساعت","کارگر نقشه‌برداري (ميرکش)",12030104,null,2,{"$f":"COUNTIF($S$1:S6262,Q6262+R6262)","v":2},"141301",1E-8,141301.00000001001]
[141301.00000006001,null,0.125,1,8462.5,null,1,null,67700,0.125,"نفر ساعت","قیرگرم کن",14230301,null,6,{"$f":"COUNTIF($S$1:S6266,Q6266+R6266)","v":6},"141301",1E-8,141301.00000001001]
[141301.00000199999,null,5.7999999999999996E-3,1,1930.3154000000002,null,1,null,332813,5.7999999999999996E-3,"ساعت","بولدوزر به قدرت حدود 150 اسب بخار با راننده",25010602,null,2,{"$f":"COUNTIF($S$1:S6269,Q6269+R6269)","v":2},"141301",9.9999999999999995E-7,141301.00000100001]
[141301.00000500001,null,4.4999999999999998E-2,1,14997.105,null,1,null,333269,4.4999999999999998E-2,"دستگاه-ساعت","غلطک چرخ لاستکي آسفالت حدود 16 تا20 تن باراننده",25030301,null,5,{"$f":"COUNTIF($S$1:S6272,Q6272+R6272)","v":5},"141301",9.9999999999999995E-7,141301.00000100001]
["",null,null,null,null,null,"ضريب",null,"بهاي واحد","مقـدار","واحــد"," حمل مصالح ",null,null,"رديف",{"$f":"COUNTIF($S$1:S6276,Q6276+R6276)","v":0},"141301",0.01,""]
["",null,null,null,null,null,null,null,null,null,null,"مترمكعب",null,null,"واحـد :",{"$f":"COUNTIF($S$1:S6279,Q6279+R6279)","v":0},"141302",{"$f":"IF(IF(O6279=\"رديف\",VLOOKUP(L6279,Kod,2,0),0)=0,R6278,IF(O6279=\"رديف\",VLOOKUP(L6279,Kod,2,0),0))","v":0.01},""]
["",null,null,null,null,null,"ضريب",null,"بهاي واحد","مقـدار","واحــد","نيروي انساني ",null,null,"رديف",{"$f":"COUNTIF($S$1:S6280,Q6280+R6280)","v":0},"141302",1E-8,""]
[141302.00000100001,null,0.06,1,37947.839999999997,null,1,null,632464,0.06,"دستگاه-ساعت","قیرپاش حدود5000 لیتری باخودرو وراننده",22030301,null,1,{"$f":"COUNTIF($S$1:S6283,Q6283+R6283)","v":1},"141302",9.9999999999999995E-7,141302.00000100001]
["",null,null,null,null,null,"ضريب",null,"بهاي واحد","مقـدار","واحــد"," حمل مصالح ",null,null,"رديف",{"$f":"COUNTIF($S$1:S6287,Q6287+R6287)","v":0},"141302",0.01,""]
["",null,null,null,null,null,null,null,null,null,null,null,null,"141401",null,{"$f":"COUNTIF($S$1:S6289,Q6289+R6289)","v":0},"141401",0.01,""]
[141401.00000001001,null,2.3530000000000001E-3,1,208.59580300000002,null,1,null,88651,2.3530000000000001E-3,"نفر- ساعت","کمک نقشه بردار (ترازیاب)",12030103,null,1,{"$f":"COUNTIF($S$1:S6292,Q6292+R6292)","v":1},"141401",1E-8,141401.00000001001]
[141401.00000003999,null,1.1765E-3,1,187.71410450000002,null,1,null,159553,1.1765E-3,"نفر- ساعت","مباشر عملیات خاکی با سابقه بیش از 10 سال",14240301,null,4,{"$f":"COUNTIF($S$1:S6295,Q6295+R6295)","v":4},"141401",1E-8,141401.00000001001]
[141401.00000299999,null,2.5999999999999999E-3,1,567.15359999999998,null,1,null,218136,2.5999999999999999E-3,"دستگاه-ساعت","غلطک استاتیک چرخ اهنی حدود 12 تا14 تن باراننده",25030204,null,3,{"$f":"COUNTIF($S$1:S6299,Q6299+R6299)","v":3},{"$f":"IF(N6299>0,N6299,Q6298)","v":"141401"},9.9999999999999995E-7,{"$f":"IF(M6299<>\"\",Q6299+R6299,\"\")","v":141401.00000100001}]
["",null,null,null,null,null,"ضريب",null,"بهاي واحد","مقـدار","واحــد","نيروي انساني ",null,null,"رديف",{"$f":"COUNTIF($S$1:S6302,Q6302+R6302)","v":0},"141402",1E-8,""]
[141402.00000001001,null,-2.3530000000000001E-3,1,-208.59580300000002,null,-1,null,88651,2.3530000000000001E-3,"نفر- ساعت","کمک نقشه بردار (ترازیاب)",12030103,null,1,{"$f":"COUNTIF($S$1:S6303,Q6303+R6303)","v":1},"141402",1E-8,141402.00000001001]
[141402.00000003999,null,-1.1765E-3,1,-187.71410450000002,null,-1,null,159553,1.1765E-3,"نفر- ساعت","مباشر عملیات خاکی با سابقه بیش از 10 سال",14240301,null,4,{"$f":"COUNTIF($S$1:S6306,Q6306+R6306)","v":4},"141402",1E-8,141402.00000001001]
[141402.00000199999,null,-2.5999999999999999E-3,1,-1102.8263999999999,null,-1,null,424164,2.5999999999999999E-3,"دستگاه-ساعت","گریدر به قدرت حدود180 اسب بخار باراننده",25010902,null,2,{"$f":"COUNTIF($S$1:S6309,Q6309+R6309)","v":2},"141402",9.9999999999999995E-7,141402.00000100001]
["",null,null,null,null,null,null,null,null,null,null,"مترمكعب",null,null,"واحـد :",{"$f":"COUNTIF($S$1:S6312,Q6312+R6312)","v":0},"141501",9.9999999999999995E-7,""]
[141501.00000001999,null,1.52E-2,1,866.59759999999994,null,1,null,57013,1.52E-2,"نفر- ساعت","كارگر ساده",14010102,null,2,{"$f":"COUNTIF($S$1:S6315,Q6315+R6315)","v":2},"141501",1E-8,141501.00000001001]
[141501.00000299999,null,1.3299999999999999E-2,1,4835.3745999999992,null,1,null,363562,1.3299999999999999E-2,"دستگاه-ساعت","لودرچرخ لاستيکي به قدرت حدود150  اسب بخار باراننده",25010802,null,3,{"$f":"COUNTIF($S$1:S6319,Q6319+R6319)","v":3},"141501",9.9999999999999995E-7,141501.00000100001]
["",null,null,null,null,null,"ضريب",null,"بهاي واحد","مقـدار","واحــد","نيروي انساني ",null,null,"رديف",{"$f":"COUNTIF($S$1:S6322,Q6322+R6322)","v":0},"141601",1E-8,""]
[141601.00000100001,null,4.7618999999999995E-2,1,16508.554919999999,null,1,null,346680,4.7618999999999995E-2,"دستگاه-ساعت","کامیون کمپرسی به ظرفیت حدود 10 تن با راننده",23020204,null,1,{"$f":"COUNTIF($S$1:S6325,Q6325+R6325)","v":1},"141601",9.9999999999999995E-7,141601.00000100001]
[141601.00000199999,null,1.6667000000000001E-2,1,6059.4878539999991,null,1,null,363562,1.6667000000000001E-2,"دستگاه-ساعت","لودرچرخ لاستيکي به قدرت حدود150  اسب بخار باراننده",25010802,null,2,{"$f":"COUNTIF($S$1:S6326,Q6326+R6326)","v":2},"141601",9.9999999999999995E-7,141601.00000100001]
["",null,null,null,null,null,null,null,null,null,null,null,null,"141602",null,{"$f":"COUNTIF($S$1:S6329,Q6329+R6329)","v":0},"141602",1E-4,""]
[141602.00000001001,null,2.5000000000000001E-2,1,2216.2750000000001,null,1,null,88651,2.5000000000000001E-2,"نفر- ساعت","کمک نقشه بردار (ترازیاب)",12030103,null,1,{"$f":"COUNTIF($S$1:S6332,Q6332+R6332)","v":1},"141602",1E-8,141602.00000001001]
[141602.00000100001,null,7.7922000000000005E-2,1,27013.998960000001,null,1,null,346680,7.7922000000000005E-2,"دستگاه-ساعت","کامیون کمپرسی به ظرفیت حدود 10 تن با راننده",23020204,null,1,{"$f":"COUNTIF($S$1:S6336,Q6336+R6336)","v":1},"141602",9.9999999999999995E-7,141602.00000100001]
[141602.0001,null,0.85,1,209885.4,null,0.85,null,246924,1,"مترمكعب","بالاست تهیه شده از سنگ کوهی تولید کارگاه",31041104,null,1,{"$f":"COUNTIF($S$1:S6339,Q6339+R6339)","v":1},"141602",1E-4,141602.0001]
["",null,null,null,null,null,"ضريب",null,"بهاي واحد","مقـدار","واحــد","نيروي انساني ",null,null,"رديف",{"$f":"COUNTIF($S$1:S6342,Q6342+R6342)","v":0},"141701",1E-8,""]
[{"$f":"IF(M6345<>\"\",Q6345+(P6345*R6345),\"\")","v":141701.00000100001},null,4.7618999999999995E-2,1,16508.554919999999,null,1,null,346680,4.7618999999999995E-2,"دستگاه-ساعت","کامیون کمپرسی به ظرفیت حدود 10 تن با راننده",23020204,null,1,{"$f":"COUNTIF($S$1:S6345,Q6345+R6345)","v":1},"141701",9.9999999999999995E-7,141701.00000100001]
[141701.0001,null,0.93500000000000005,1,156600.345,null,0.93500000000000005,null,167487,1,"مترمكعب","بالاست تهیه شده از قلوه سنگ رودخانه ای  تولید کارگاه",31041102,null,1,{"$f":"COUNTIF($S$1:S6348,Q6348+R6348)","v":1},"141701",1E-4,141701.0001]
["",null,null,null,null,null,null,null,null,null,null,null,null,"141702",null,{"$f":"COUNTIF($S$1:S6349,Q6349+R6349)","v":0},"141702",1E-4,""]
[141702.00000001001,null,2.5000000000000001E-2,1,2216.2750000000001,null,1,null,88651,2.5000000000000001E-2,"نفر- ساعت","کمک نقشه بردار (ترازیاب)",12030103,null,1,{"$f":"COUNTIF($S$1:S6352,Q6352+R6352)","v":1},"141702",1E-8,141702.00000001001]
[141702.00000100001,null,7.7922000000000005E-2,1,27013.998960000001,null,1,null,346680,7.7922000000000005E-2,"دستگاه-ساعت","کامیون کمپرسی به ظرفیت حدود 10 تن با راننده",23020204,null,1,{"$f":"COUNTIF($S$1:S6356,Q6356+R6356)","v":1},"141702",9.9999999999999995E-7,141702.00000100001]
[141702.0001,null,0.85,1,142363.95000000001,null,0.85,null,167487,1,"مترمكعب","بالاست تهیه شده از قلوه سنگ رودخانه ای  تولید کارگاه",31041102,null,1,{"$f":"COUNTIF($S$1:S6359,Q6359+R6359)","v":1},"141702",1E-4,141702.0001]
["",null,null,null,null,null,"ضريب",null,"بهاي واحد","مقـدار","واحــد","ماشين آلات ",null,null,"رديف",{"$f":"COUNTIF($S$1:S6362,Q6362+R6362)","v":0},"141901",9.9999999999999995E-7,""]
["",null,null,null,null,null,null,null,null,null,null,null,null,"141902",null,{"$f":"COUNTIF($S$1:S6364,Q6364+R6364)","v":0},"141902",9.9999999999999995E-7,""]
["",null,null,null,null,null,null,null,null,null,null,null,null,"141903",null,{"$f":"COUNTIF($S$1:S6368,Q6368+R6368)","v":0},"141903",9.9999999999999995E-7,""]
[141903.00000100001,null,5.2176799999999997E-3,1,2170.6383628800004,null,2,null,416016,2.6088399999999999E-3,"دستگاه -  ساعت","کامیون کمپرسی تریلر به ظرفیت حدود 25 تن با راننده",23020206,null,1,{"$f":"COUNTIF($S$1:S6371,Q6371+R6371)","v":1},"141903",9.9999999999999995E-7,141903.00000100001]
["",null,null,null,null,null,null,null,null,null,null,null,null,"141904",null,{"$f":"COUNTIF($S$1:S6372,Q6372+R6372)","v":0},"141904",9.9999999999999995E-7,""]
[141904.00000100001,null,3.3914919999999999E-3,1,1410.9149358720001,null,1.3,null,416016,2.6088399999999999E-3,"دستگاه -  ساعت","کامیون کمپرسی تریلر به ظرفیت حدود 25 تن با راننده",23020206,null,1,{"$f":"COUNTIF($S$1:S6375,Q6375+R6375)","v":1},"141904",9.9999999999999995E-7,141904.00000100001]
[150101.00000001001,null,8.0000000000000004E-4,1,70.9208,null,1,null,88651,8.0000000000000004E-4,"نفر- ساعت","کمک نقشه بردار (ترازیاب)",12030103,null,1,{"$f":"COUNTIF($S$1:S6379,Q6379+R6379)","v":1},"150101",1E-8,150101.00000001001]
[150101.00000003999,null,2.5000000000000001E-3,1,142.5325,null,1,null,57013,2.5000000000000001E-3,"نفر- ساعت","كارگر ساده",14010102,null,4,{"$f":"COUNTIF($S$1:S6382,Q6382+R6382)","v":4},"150101",1E-8,150101.00000001001]
[150101.00000006999,null,1.25E-3,1,84.625,null,1,null,67700,1.25E-3,"نفر ساعت","قیرگرم کن",14230301,null,7,{"$f":"COUNTIF($S$1:S6385,Q6385+R6385)","v":7},"150101",1E-8,150101.00000001001]
[150101.00000299999,null,2.3999999999999998E-3,1,252.2064,null,1,null,105086,2.3999999999999998E-3,"دستگاه ساعت","تراکتور جفت دیفرانسیل با راننده",23020802,null,3,{"$f":"COUNTIF($S$1:S6389,Q6389+R6389)","v":3},"150101",9.9999999999999995E-7,150101.00000100001]
["",null,null,null,null,null,"ضريب",null,"بهاي واحد","مقـدار","واحــد","مصالح",null,null,"رديف",{"$f":"COUNTIF($S$1:S6391,Q6391+R6391)","v":0},"150101",1E-4,""]
[150101.00030000001,null,1.05,1,17203.2,null,1,null,16384,1.05,"كیلوگرم","قیر ام سی250",31200504,null,3,{"$f":"COUNTIF($S$1:S6394,Q6394+R6394)","v":3},"150101",1E-4,150101.0001]
[150101.00039999999,null,0.01,1,30,null,1,null,3000,0.01,"لیتر","گازوییل",34010301,null,4,{"$f":"COUNTIF($S$1:S6395,Q6395+R6395)","v":4},"150101",1E-4,150101.0001]
[150101.01999999999,null,0.01,1,0.72,null,1,null,72,0.01,"لیتر","حمل مواد سوختی گازوییل، نفت و بنزین",41180101,null,2,{"$f":"COUNTIF($S$1:S6398,Q6398+R6398)","v":2},"150101",0.01,150101.01]
[150102.00000001001,null,8.0000000000000004E-4,1,70.9208,null,1,null,88651,8.0000000000000004E-4,"نفر- ساعت","کمک نقشه بردار (ترازیاب)",12030103,null,1,{"$f":"COUNTIF($S$1:S6402,Q6402+R6402)","v":1},"150102",1E-8,150102.00000001001]
[150102.00000003999,null,2.5000000000000001E-3,1,142.5325,null,1,null,57013,2.5000000000000001E-3,"نفر- ساعت","كارگر ساده",14010102,null,4,{"$f":"COUNTIF($S$1:S6405,Q6405+R6405)","v":4},"150102",1E-8,150102.00000001001]
["",null,null,null,null,null,"ضريب",null,"بهاي واحد","مقـدار","واحــد","ماشين آلات ",null,null,"رديف",{"$f":"COUNTIF($S$1:S6408,Q6408+R6408)","v":0},"150102",9.9999999999999995E-7,""]
[150102.000004,null,2.3999999999999998E-3,1,237.96720000000002,null,1,null,99153,2.3999999999999998E-3,"دستگاه-ساعت","کمپرسور باظرفیت حدود 5 متر مکعب دردقیقه (180 سی اف ام) با شیلنگ مربوط",25040102,null,4,{"$f":"COUNTIF($S$1:S6412,Q6412+R6412)","v":4},"150102",9.9999999999999995E-7,150102.00000100001]
[150102.0001,null,2.5000000000000001E-3,1,3.1324999999999998,null,1,null,1253,2.5000000000000001E-3,"مترمكعب","آب رودخانه",31010201,null,1,{"$f":"COUNTIF($S$1:S6414,Q6414+R6414)","v":1},"150102",1E-4,150102.0001]
[150102.00020000001,null,2.5000000000000001E-3,1,23.677499999999998,null,1,null,9471,2.5000000000000001E-3,"مترمكعب","آب چاه و قنات",31010301,null,2,{"$f":"COUNTIF($S$1:S6415,Q6415+R6415)","v":2},"150102",1E-4,150102.0001]
[150102.01,null,1.5750000000000002,1,102.375,null,1.5,null,65,1.05,"كیلوگرم","حمل قیر به وسیله تانکر",41080101,null,1,{"$f":"COUNTIF($S$1:S6418,Q6418+R6418)","v":1},"150102",0.01,150102.01]
["",null,null,null,null,null,"ضريب",null,"بهاي واحد","مقـدار","واحــد","نيروي انساني ",null,null,"رديف",{"$f":"COUNTIF($S$1:S6421,Q6421+R6421)","v":0},"150103",1E-8,""]
[150103.00000003999,null,2.5000000000000001E-3,1,142.5325,null,1,null,57013,2.5000000000000001E-3,"نفر- ساعت","كارگر ساده",14010102,null,4,{"$f":"COUNTIF($S$1:S6425,Q6425+R6425)","v":4},"150103",1E-8,150103.00000001001]
["",null,null,null,null,null,"ضريب",null,"بهاي واحد","مقـدار","واحــد","ماشين آلات ",null,null,"رديف",{"$f":"COUNTIF($S$1:S6428,Q6428+R6428)","v":0},"150103",9.9999999999999995E-7,""]
[150103.00000299999,null,2.3999999999999998E-3,1,252.2064,null,1,null,105086,2.3999999999999998E-3,"دستگاه ساعت","تراکتور جفت دیفرانسیل با راننده",23020802,null,3,{"$f":"COUNTIF($S$1:S6431,Q6431+R6431)","v":3},"150103",9.9999999999999995E-7,150103.00000100001]
[150103.00020000001,null,2.5000000000000001E-3,1,23.677499999999998,null,1,null,9471,2.5000000000000001E-3,"مترمكعب","آب چاه و قنات",31010301,null,2,{"$f":"COUNTIF($S$1:S6435,Q6435+R6435)","v":2},"150103",1E-4,150103.0001]
[150103.01,null,1.5750000000000002,1,102.375,null,1.5,null,65,1.05,"كیلوگرم","حمل قیر به وسیله تانکر",41080101,null,1,{"$f":"COUNTIF($S$1:S6438,Q6438+R6438)","v":1},"150103",0.01,150103.01]
["",null,null,null,null,null,null,null,null,null,null,null,null,"150104",null,{"$f":"COUNTIF($S$1:S6439,Q6439+R6439)","v":0},"150104",0.01,""]
["",null,null,null,null,null,"ضريب",null,"بهاي واحد","مقـدار","واحــد","نيروي انساني ",null,null,"رديف",{"$f":"COUNTIF($S$1:S6441,Q6441+R6441)","v":0},"150104",1E-8,""]
[150104.00000003001,null,2.3999999999999998E-3,1,168.22080000000003,null,1,null,70092,2.3999999999999998E-3,"نفر - ساعت","متصدی کمپرسور",13041001,null,3,{"$f":"COUNTIF($S$1:S6444,Q6444+R6444)","v":3},"150104",1E-8,150104.00000001001]
["",null,null,null,null,null,"ضريب",null,"بهاي واحد","مقـدار","واحــد","ماشين آلات ",null,null,"رديف",{"$f":"COUNTIF($S$1:S6448,Q6448+R6448)","v":0},"150104",9.9999999999999995E-7,""]
[150104.00000299999,null,2.3999999999999998E-3,1,252.2064,null,1,null,105086,2.3999999999999998E-3,"دستگاه ساعت","تراکتور جفت دیفرانسیل با راننده",23020802,null,3,{"$f":"COUNTIF($S$1:S6451,Q6451+R6451)","v":3},"150104",9.9999999999999995E-7,150104.00000100001]
[150104.0001,null,2.5000000000000001E-3,1,3.1324999999999998,null,1,null,1253,2.5000000000000001E-3,"مترمكعب","آب رودخانه",31010201,null,1,{"$f":"COUNTIF($S$1:S6454,Q6454+R6454)","v":1},"150104",1E-4,150104.0001]
[150104.01,null,1.5750000000000002,1,102.375,null,1.5,null,65,1.05,"كیلوگرم","حمل قیر به وسیله تانکر",41080101,null,1,{"$f":"COUNTIF($S$1:S6458,Q6458+R6458)","v":1},"150104",0.01,150104.01]
["",null,null,null,null,null,"ضريب",null,"بهاي واحد","مقـدار","واحــد","نيروي انساني ",null,null,"رديف",{"$f":"COUNTIF($S$1:S6461,Q6461+R6461)","v":0},"150105",1E-8,""]
[150105.00000001001,null,8.0000000000000004E-4,1,70.9208,null,1,null,88651,8.0000000000000004E-4,"نفر- ساعت","کمک نقشه بردار (ترازیاب)",12030103,null,1,{"$f":"COUNTIF($S$1:S6462,Q6462+R6462)","v":1},"150105",1E-8,150105.00000001001]
[150105.00000005,null,5.0000000000000001E-4,1,79.776499999999999,null,1,null,159553,5.0000000000000001E-4,"نفر ساعت","مسئول فنی آسفالت",14230101,null,5,{"$f":"COUNTIF($S$1:S6466,Q6466+R6466)","v":5},"150105",1E-8,150105.00000001001]
[150105.00000006001,null,1.25E-3,1,84.625,null,1,null,67700,1.25E-3,"نفر ساعت","کارگر آسفالت",14230202,null,6,{"$f":"COUNTIF($S$1:S6467,Q6467+R6467)","v":6},"150105",1E-8,150105.00000001001]
[150105.00000299999,null,2.3999999999999998E-3,1,252.2064,null,1,null,105086,2.3999999999999998E-3,"دستگاه ساعت","تراکتور جفت دیفرانسیل با راننده",23020802,null,3,{"$f":"COUNTIF($S$1:S6471,Q6471+R6471)","v":3},"150105",{"$f":"IF(IF(O6471=\"رديف\",VLOOKUP(L6471,Kod,2,0),0)=0,R6470,IF(O6471=\"رديف\",VLOOKUP(L6471,Kod,2,0),0))","v":9.9999999999999995E-7},150105.00000100001]
[150105.0001,null,2.5000000000000001E-3,1,3.1324999999999998,null,1,null,1253,2.5000000000000001E-3,"مترمكعب","آب رودخانه",31010201,null,1,{"$f":"COUNTIF($S$1:S6474,Q6474+R6474)","v":1},"150105",1E-4,150105.0001]
[150105.01,null,1.5750000000000002,1,102.375,null,1.5,null,65,1.05,"كیلوگرم","حمل قیر به وسیله تانکر",41080101,null,1,{"$f":"COUNTIF($S$1:S6478,Q6478+R6478)","v":1},"150105",0.01,150105.01]
["",null,null,null,null,null,"ضريب",null,"بهاي واحد","مقـدار","واحــد","نيروي انساني ",null,null,"رديف",{"$f":"COUNTIF($S$1:S6481,Q6481+R6481)","v":0},"150106",1E-8,""]
[150106.00000003001,null,2.3999999999999998E-3,1,168.22080000000003,null,1,null,70092,2.3999999999999998E-3,"نفر - ساعت","متصدی کمپرسور",13041001,null,3,{"$f":"COUNTIF($S$1:S6484,Q6484+R6484)","v":3},"150106",1E-8,150106.00000001001]
[150106.00000003999,null,2.5000000000000001E-3,1,142.5325,null,1,null,57013,2.5000000000000001E-3,"نفر- ساعت","كارگر ساده",14010102,null,4,{"$f":"COUNTIF($S$1:S6485,Q6485+R6485)","v":4},"150106",1E-8,150106.00000001001]
["",null,null,null,null,null,"ضريب",null,"بهاي واحد","مقـدار","واحــد","ماشين آلات ",null,null,"رديف",{"$f":"COUNTIF($S$1:S6488,Q6488+R6488)","v":0},"150106",9.9999999999999995E-7,""]
[150106.00000299999,null,2.3999999999999998E-3,1,252.2064,null,1,null,105086,2.3999999999999998E-3,"دستگاه ساعت","تراکتور جفت دیفرانسیل با راننده",23020802,null,3,{"$f":"COUNTIF($S$1:S6491,Q6491+R6491)","v":3},{"$f":"IF(N6491>0,N6491,Q6490)","v":"150106"},9.9999999999999995E-7,{"$f":"IF(M6491<>\"\",Q6491+R6491,\"\")","v":150106.00000100001}]
[150106.0001,null,2.5000000000000001E-3,1,3.1324999999999998,null,1,null,1253,2.5000000000000001E-3,"مترمكعب","آب رودخانه",31010201,null,1,{"$f":"COUNTIF($S$1:S6494,Q6494+R6494)","v":1},"150106",1E-4,150106.0001]
["",null,null,null,null,null,"ضريب",null,"بهاي واحد","مقـدار","واحــد"," حمل مصالح ",null,null,"رديف",{"$f":"COUNTIF($S$1:S6497,Q6497+R6497)","v":0},"150106",0.01,""]
["",null,null,null,null,null,"ضريب",null,"بهاي واحد","مقـدار","واحــد","نيروي انساني ",null,null,"رديف",{"$f":"COUNTIF($S$1:S6501,Q6501+R6501)","v":0},"150107",1E-8,""]
[150107.00000003001,null,2.3999999999999998E-3,1,168.22080000000003,null,1,null,70092,2.3999999999999998E-3,"نفر - ساعت","متصدی کمپرسور",13041001,null,3,{"$f":"COUNTIF($S$1:S6504,Q6504+R6504)","v":3},"150107",1E-8,150107.00000001001]
[150107.00000006001,null,1.25E-3,1,84.625,null,1,null,67700,1.25E-3,"نفر ساعت","کارگر آسفالت",14230202,null,6,{"$f":"COUNTIF($S$1:S6507,Q6507+R6507)","v":6},"150107",1E-8,150107.00000001001]
["",null,null,null,null,null,"ضريب",null,"بهاي واحد","مقـدار","واحــد","ماشين آلات ",null,null,"رديف",{"$f":"COUNTIF($S$1:S6508,Q6508+R6508)","v":0},"150107",9.9999999999999995E-7,""]
[150107.00000299999,null,2.3999999999999998E-3,1,252.2064,null,1,null,105086,2.3999999999999998E-3,"دستگاه ساعت","تراکتور جفت دیفرانسیل با راننده",23020802,null,3,{"$f":"COUNTIF($S$1:S6511,Q6511+R6511)","v":3},"150107",9.9999999999999995E-7,150107.00000100001]
[150107.00020000001,null,2.5000000000000001E-3,1,23.677499999999998,null,1,null,9471,2.5000000000000001E-3,"مترمكعب","آب چاه و قنات",31010301,null,2,{"$f":"COUNTIF($S$1:S6515,Q6515+R6515)","v":2},"150107",1E-4,150107.0001]
[150107.01,null,1.5750000000000002,1,102.375,null,1.5,null,65,1.05,"كیلوگرم","حمل قیر به وسیله تانکر",41080101,null,1,{"$f":"COUNTIF($S$1:S6518,Q6518+R6518)","v":1},"150107",0.01,150107.01]
["",null,null,null,null,null,null,null,null,null,null,"كیلوگرم",null,null,"واحـد :",{"$f":"COUNTIF($S$1:S6520,Q6520+R6520)","v":0},"150201",0.01,""]
[150201.00000003001,null,2.3999999999999998E-3,1,168.22080000000003,null,1,null,70092,2.3999999999999998E-3,"نفر - ساعت","متصدی کمپرسور",13041001,null,3,{"$f":"COUNTIF($S$1:S6524,Q6524+R6524)","v":3},"150201",1E-8,150201.00000001001]
[150201.00000006001,null,1.25E-3,1,84.625,null,1,null,67700,1.25E-3,"نفر ساعت","کارگر آسفالت",14230202,null,6,{"$f":"COUNTIF($S$1:S6527,Q6527+R6527)","v":6},"150201",1E-8,150201.00000001001]
[150201.00000100001,null,2.5000000000000001E-3,1,1581.16,null,1,null,632464,2.5000000000000001E-3,"دستگاه-ساعت","قیرپاش حدود5000 لیتری باخودرو وراننده",22030301,null,1,{"$f":"COUNTIF($S$1:S6530,Q6530+R6530)","v":1},"150201",9.9999999999999995E-7,150201.00000100001]
[150201.00000199999,null,2.5000000000000001E-3,1,700.52250000000004,null,1,null,280209,2.5000000000000001E-3,"دستگاه-ساعت","تانکراب پاش به ظرفیت حدود 15000 لیتر باراننده",23020503,null,2,{"$f":"COUNTIF($S$1:S6531,Q6531+R6531)","v":2},"150201",9.9999999999999995E-7,150201.00000100001]
["",null,null,null,null,null,"ضريب",null,"بهاي واحد","مقـدار","واحــد","مصالح",null,null,"رديف",{"$f":"COUNTIF($S$1:S6534,Q6534+R6534)","v":0},"150201",1E-4,""]
[150201.00039999999,null,0.01,1,30,null,1,null,3000,0.01,"لیتر","گازوییل",34010301,null,4,{"$f":"COUNTIF($S$1:S6538,Q6538+R6538)","v":4},"150201",1E-4,150201.0001]
[150201.01999999999,null,0.01,1,0.72,null,1,null,72,0.01,"لیتر","حمل مواد سوختی گازوییل، نفت و بنزین",41180101,null,2,{"$f":"COUNTIF($S$1:S6541,Q6541+R6541)","v":2},"150201",0.01,150201.01]
["",null,null,null,null,null,null,null,null,null,null,"تن",null,null,"واحـد :",{"$f":"COUNTIF($S$1:S6543,Q6543+R6543)","v":0},"150401",0.01,""]
["",null,null,null,null,null,"ضريب",null,"بهاي واحد","مقـدار","واحــد","ماشين آلات ",null,null,"رديف",{"$f":"COUNTIF($S$1:S6547,Q6547+R6547)","v":0},"150401",9.9999999999999995E-7,""]
[150401.00000299999,null,0.25228499999999998,1,84078.769664999985,null,1.39,null,333269,0.18149999999999999,"دستگاه-ساعت","غلطک چرخ لاستکي آسفالت حدود 16 تا20 تن باراننده",25030301,null,3,{"$f":"COUNTIF($S$1:S6550,Q6550+R6550)","v":3},"150401",9.9999999999999995E-7,150401.00000100001]
["",null,null,null,null,null,null,null,null,null,null,null,null,"150402",null,{"$f":"COUNTIF($S$1:S6553,Q6553+R6553)","v":0},"150402",1E-4,""]
["",null,null,null,null,null,null,null,null,null,null,"تن",null,null,"واحـد :",{"$f":"COUNTIF($S$1:S6554,Q6554+R6554)","v":0},"150402",1E-4,""]
[150402.00000001999,null,0.328318,1,52384.121853999997,null,1.39,null,159553,0.23620000000000002,"نفر ساعت","مسئول فنی آسفالت",14230101,null,2,{"$f":"COUNTIF($S$1:S6557,Q6557+R6557)","v":2},"150402",1E-8,150402.00000001001]
[150402.00000299999,null,0.28689599999999998,1,95613.543023999999,null,1.39,null,333269,0.2064,"دستگاه-ساعت","غلطک چرخ لاستکي آسفالت حدود 16 تا20 تن باراننده",25030301,null,3,{"$f":"COUNTIF($S$1:S6561,Q6561+R6561)","v":3},"150402",9.9999999999999995E-7,150402.00000100001]
["",null,null,null,null,null,null,null,null,null,null,null,null,"150403",null,{"$f":"COUNTIF($S$1:S6564,Q6564+R6564)","v":0},"150403",1E-4,""]
[150403.00000001001,null,0.21517199999999997,1,12267.601235999999,null,1.39,null,57013,0.15479999999999999,"نفر- ساعت","كارگر ساده",14010102,null,1,{"$f":"COUNTIF($S$1:S6567,Q6567+R6567)","v":1},"150403",1E-8,150403.00000001001]
[150403.00000100001,null,0.16735599999999998,1,10071.48408,null,1.39,null,60180,0.12039999999999999,"دستگاه ساعت","دستگاه پخش کننده مصالح سنگی آسفالت سطحی اسپریدر",22030401,null,1,{"$f":"COUNTIF($S$1:S6570,Q6570+R6570)","v":1},"150403",9.9999999999999995E-7,150403.00000100001]
["",null,null,null,null,null,"ضريب",null,"بهاي واحد","مقـدار","واحــد","مصالح",null,null,"رديف",{"$f":"COUNTIF($S$1:S6573,Q6573+R6573)","v":0},"150403",1E-4,""]
[150403.0001,null,0.88959999999999995,1,298859.34080000001,null,1.39,null,335948,0.64,"مترمكعب","مصالح سنگی آسفالت سطحی نوع 4 با شکستگی 60 درصد تهیه شده از مصالح رودخانه‌ای با دانه بندی صفر تا 12/5 میلیمتر تولید کارگاه",31040603,null,1,{"$f":"COUNTIF($S$1:S6574,Q6574+R6574)","v":1},"150403",1E-4,150403.0001]
["",null,null,null,null,null,"ضريب",null,"بهاي واحد","مقـدار","واحــد","نيروي انساني ",null,null,"رديف",{"$f":"COUNTIF($S$1:S6577,Q6577+R6577)","v":0},"150404",1E-8,""]
["",null,null,null,null,null,"ضريب",null,"بهاي واحد","مقـدار","واحــد","ماشين آلات ",null,null,"رديف",{"$f":"COUNTIF($S$1:S6580,Q6580+R6580)","v":0},"150404",9.9999999999999995E-7,""]
["",null,null,null,null,null,"ضريب",null,"بهاي واحد","مقـدار","واحــد","مصالح",null,null,"رديف",{"$f":"COUNTIF($S$1:S6584,Q6584+R6584)","v":0},"150404",1E-4,""]
["",null,null,null,null,null,null,null,null,null,null,"متر مربع",null,null,"واحـد :",{"$f":"COUNTIF($S$1:S6587,Q6587+R6587)","v":0},"150501",1E-4,""]
[150501.00000001999,null,8.0000000000000004E-4,1,52.248800000000003,null,1,null,65311,8.0000000000000004E-4,"نفر- ساعت","کارگر نقشه‌برداري (ميرکش)",12030104,null,2,{"$f":"COUNTIF($S$1:S6590,Q6590+R6590)","v":2},"150501",1E-8,150501.00000001001]
[150501.00000006001,null,1.25E-3,1,84.625,null,1,null,67700,1.25E-3,"نفر ساعت","قیرگرم کن",14230301,null,6,{"$f":"COUNTIF($S$1:S6594,Q6594+R6594)","v":6},"150501",1E-8,150501.00000001001]
["",null,null,null,null,null,"ضريب",null,"بهاي واحد","مقـدار","واحــد","ماشين آلات ",null,null,"رديف",{"$f":"COUNTIF($S$1:S6595,Q6595+R6595)","v":0},"150501",9.9999999999999995E-7,""]
[150501.00000199999,null,4.6999999999999999E-4,1,162.93959999999998,null,1,null,346680,4.6999999999999999E-4,"دستگاه-ساعت","کامیون کمپرسی به ظرفیت حدود 10 تن با راننده",23020204,null,2,{"$f":"COUNTIF($S$1:S6597,Q6597+R6597)","v":2},"150501",9.9999999999999995E-7,150501.00000100001]
[150501.00000500001,null,8.9999999999999998E-4,1,114.51870000000001,null,1,null,127243,8.9999999999999998E-4,"دستگاه-ساعت","غلطک استاتیک چرخ اهنی حدود6 تا 8 تن باراننده",25030201,null,5,{"$f":"COUNTIF($S$1:S6600,Q6600+R6600)","v":5},"150501",9.9999999999999995E-7,150501.00000100001]
["",null,null,null,null,null,"ضريب",null,"بهاي واحد","مقـدار","واحــد","مصالح",null,null,"رديف",{"$f":"COUNTIF($S$1:S6603,Q6603+R6603)","v":0},"150501",1E-4,""]
["",null,null,null,null,null,"ضريب",null,"بهاي واحد","مقـدار","واحــد"," حمل مصالح ",null,null,"رديف",{"$f":"COUNTIF($S$1:S6607,Q6607+R6607)","v":0},"150501",0.01,""]
["",null,null,null,null,null,null,null,null,null,null,null,null,"150502",null,{"$f":"COUNTIF($S$1:S6610,Q6610+R6610)","v":0},"150502",0.01,""]
[150502.00000001001,null,7.5999999999999993E-4,1,67.374759999999995,null,1,null,88651,7.5999999999999993E-4,"نفر- ساعت","کمک نقشه بردار (ترازیاب)",12030103,null,1,{"$f":"COUNTIF($S$1:S6613,Q6613+R6613)","v":1},"150502",1E-8,150502.00000001001]
[150502.00000005,null,1.1900000000000001E-3,1,80.563000000000002,null,1,null,67700,1.1900000000000001E-3,"نفر ساعت","کارگر آسفالت",14230202,null,5,{"$f":"COUNTIF($S$1:S6617,Q6617+R6617)","v":5},"150502",1E-8,150502.00000001001]
[150502.00000100001,null,1.1000000000000001E-3,1,695.71039999999994,null,1,null,632464,1.1000000000000001E-3,"دستگاه-ساعت","قیرپاش حدود5000 لیتری باخودرو وراننده",22030301,null,1,{"$f":"COUNTIF($S$1:S6620,Q6620+R6620)","v":1},"150502",9.9999999999999995E-7,150502.00000100001]
[150502.00000299999,null,1.1000000000000001E-3,1,115.59459999999999,null,1,null,105086,1.1000000000000001E-3,"دستگاه ساعت","تراکتور جفت دیفرانسیل با راننده",23020802,null,3,{"$f":"COUNTIF($S$1:S6622,Q6622+R6622)","v":3},"150502",9.9999999999999995E-7,150502.00000100001]
[150502.000004,null,3.4000000000000002E-4,1,144.21576000000002,null,1,null,424164,3.4000000000000002E-4,"دستگاه-ساعت","گریدر به قدرت حدود180 اسب بخار باراننده",25010902,null,4,{"$f":"COUNTIF($S$1:S6623,Q6623+R6623)","v":4},"150502",9.9999999999999995E-7,150502.00000100001]
[150502.000007,null,1.1000000000000001E-3,1,109.06829999999999,null,1,null,99153,1.1000000000000001E-3,"دستگاه-ساعت","کمپرسور باظرفیت حدود 5 متر مکعب دردقیقه (180 سی اف ام) با شیلنگ مربوط",25040102,null,7,{"$f":"COUNTIF($S$1:S6626,Q6626+R6626)","v":7},"150502",9.9999999999999995E-7,150502.00000100001]
[150502.00030000001,null,0.01,1,30,null,1,null,3000,0.01,"لیتر","گازوییل",34010301,null,3,{"$f":"COUNTIF($S$1:S6630,Q6630+R6630)","v":3},"150502",1E-4,150502.0001]
[150502.01999999999,null,0.01,1,0.72,null,1,null,72,0.01,"لیتر","حمل مواد سوختی گازوییل، نفت و بنزین",41180101,null,2,{"$f":"COUNTIF($S$1:S6633,Q6633+R6633)","v":2},"150502",0.01,150502.01]
[150601.00000001001,null,4.4999999999999999E-4,1,54.449100000000001,null,1,null,120998,4.4999999999999999E-4,"نفر ساعت","متصدی کارخانه آسفالت",13040201,null,1,{"$f":"COUNTIF($S$1:S6637,Q6637+R6637)","v":1},"150601",1E-8,150601.00000001001]
[150601.00000003999,null,4.4999999999999999E-4,1,77.061149999999998,null,1,null,171247,4.4999999999999999E-4,"نفر ساعت","اپراتور ماشین راهداری یا راهسازی",13041901,null,4,{"$f":"COUNTIF($S$1:S6640,Q6640+R6640)","v":4},"150601",1E-8,150601.00000001001]
[150601.00000006999,null,4.4999999999999999E-4,1,71.798850000000002,null,1,null,159553,4.4999999999999999E-4,"نفر ساعت","مسئول فنی آسفالت",14230101,null,7,{"$f":"COUNTIF($S$1:S6643,Q6643+R6643)","v":7},"150601",1E-8,150601.00000001001]
[150601.00000008999,null,1.3500000000000001E-3,1,91.395000000000024,null,1,null,67700,1.3500000000000001E-3,"نفر ساعت","کارگر آسفالت",14230202,null,9,{"$f":"COUNTIF($S$1:S6645,Q6645+R6645)","v":9},"150601",1E-8,150601.00000001001]
[150601.0000001,null,4.4999999999999999E-4,1,30.465,null,1,null,67700,4.4999999999999999E-4,"نفر ساعت","قیرگرم کن",14230301,null,10,{"$f":"COUNTIF($S$1:S6646,Q6646+R6646)","v":10},"150601",1E-8,150601.00000001001]
[150601.00000199999,null,8.9999999999999998E-4,1,782.67690000000005,null,1,null,869641,8.9999999999999998E-4,"دستگاه ساعت","ماشین آسفالت پخش کنی فینیشر لاستیکی با راننده",22030202,null,2,{"$f":"COUNTIF($S$1:S6649,Q6649+R6649)","v":2},"150601",9.9999999999999995E-7,150601.00000100001]
[150601.00000599999,null,4.4999999999999999E-4,1,149.97104999999999,null,1,null,333269,4.4999999999999999E-4,"دستگاه-ساعت","غلطک چرخ لاستکي آسفالت حدود 16 تا20 تن باراننده",25030301,null,6,{"$f":"COUNTIF($S$1:S6653,Q6653+R6653)","v":6},"150601",9.9999999999999995E-7,150601.00000100001]
[150601.00020000001,null,0.94499999999999995,1,12400.29,null,1,null,13122,0.94499999999999995,"كیلوگرم","قیر70 - 60",31200101,null,2,{"$f":"COUNTIF($S$1:S6656,Q6656+R6656)","v":2},"150601",1E-4,150601.0001]
[150601.01999999999,null,0.35,1,25.2,null,1,null,72,0.35,"لیتر","حمل مواد سوختی گازوییل، نفت و بنزین",41180101,null,2,{"$f":"COUNTIF($S$1:S6660,Q6660+R6660)","v":2},"150601",0.01,150601.01]
["",null,null,null,null,null,"ضريب",null,"بهاي واحد","مقـدار","واحــد","نيروي انساني ",null,null,"رديف",{"$f":"COUNTIF($S$1:S6663,Q6663+R6663)","v":0},"150602",{"$f":"IF(IF(O6663=\"رديف\",VLOOKUP(L6663,Kod,2,0),0)=0,R6662,IF(O6663=\"رديف\",VLOOKUP(L6663,Kod,2,0),0))","v":1E-8},""]
[150602.00000003001,null,5.0000000000000001E-4,1,35.045999999999999,null,1,null,70092,5.0000000000000001E-4,"نفر ساعت","کمک اپراتور ماشین آلات",13041501,null,3,{"$f":"COUNTIF($S$1:S6666,Q6666+R6666)","v":3},"150602",1E-8,150602.00000001001]
[150602.00000003999,null,5.0000000000000001E-4,1,85.623500000000007,null,1,null,171247,5.0000000000000001E-4,"نفر ساعت","اپراتور ماشین راهداری یا راهسازی",13041901,null,4,{"$f":"COUNTIF($S$1:S6667,Q6667+R6667)","v":4},"150602",1E-8,150602.00000001001]
[150602.00000006999,null,5.0000000000000001E-4,1,79.776499999999999,null,1,null,159553,5.0000000000000001E-4,"نفر ساعت","مسئول فنی آسفالت",14230101,null,7,{"$f":"COUNTIF($S$1:S6670,Q6670+R6670)","v":7},"150602",1E-8,150602.00000001001]
[150602.0000001,null,4.4999999999999999E-4,1,30.465,null,1,null,67700,4.4999999999999999E-4,"نفر ساعت","قیرگرم کن",14230301,null,10,{"$f":"COUNTIF($S$1:S6673,Q6673+R6673)","v":10},"150602",1E-8,150602.00000001001]
[150602.00000199999,null,1E-3,1,869.64100000000008,null,1,null,869641,1E-3,"دستگاه ساعت","ماشین آسفالت پخش کنی فینیشر لاستیکی با راننده",22030202,null,2,{"$f":"COUNTIF($S$1:S6676,Q6676+R6676)","v":2},"150602",9.9999999999999995E-7,150602.00000100001]
[150602.00000500001,null,1E-3,1,193.899,null,1,null,193899,1E-3,"دستگاه-ساعت","غلطک استاتیک چرخ اهنی حدود 10 تا12 تن باراننده",25030203,null,5,{"$f":"COUNTIF($S$1:S6679,Q6679+R6679)","v":5},"150602",9.9999999999999995E-7,150602.00000100001]
[150602.00020000001,null,0.94499999999999995,1,12400.29,null,1,null,13122,0.94499999999999995,"كیلوگرم","قیر70 - 60",31200101,null,2,{"$f":"COUNTIF($S$1:S6683,Q6683+R6683)","v":2},{"$f":"IF(N6683>0,N6683,Q6682)","v":"150602"},1E-4,{"$f":"IF(M6683<>\"\",Q6683+R6683,\"\")","v":150602.0001}]
[150602.01,null,1.4175,1,92.137500000000003,null,1.5,null,65,0.94499999999999995,"كیلوگرم","حمل قیر به وسیله تانکر",41080101,null,1,{"$f":"COUNTIF($S$1:S6686,Q6686+R6686)","v":1},"150602",0.01,150602.01]
["",null,null,null,null,null,null,null,null,null,null,"متر مربع",null,null,"واحـد :",{"$f":"COUNTIF($S$1:S6689,Q6689+R6689)","v":0},"150603",0.01,""]
["",null,null,null,null,null,"ضريب",null,"بهاي واحد","مقـدار","واحــد","نيروي انساني ",null,null,"رديف",{"$f":"COUNTIF($S$1:S6690,Q6690+R6690)","v":0},"150603",1E-8,""]
[150603.00000003001,null,5.1999999999999995E-4,1,36.447839999999999,null,1,null,70092,5.1999999999999995E-4,"نفر ساعت","کمک اپراتور ماشین آلات",13041501,null,3,{"$f":"COUNTIF($S$1:S6693,Q6693+R6693)","v":3},"150603",1E-8,150603.00000001001]
[150603.00000006999,null,5.1999999999999995E-4,1,82.967559999999992,null,1,null,159553,5.1999999999999995E-4,"نفر ساعت","مسئول فنی آسفالت",14230101,null,7,{"$f":"COUNTIF($S$1:S6697,Q6697+R6697)","v":7},"150603",1E-8,150603.00000001001]
[150603.00000008999,null,1.5499999999999999E-3,1,104.935,null,1,null,67700,1.5499999999999999E-3,"نفر ساعت","کارگر آسفالت",14230202,null,9,{"$f":"COUNTIF($S$1:S6699,Q6699+R6699)","v":9},"150603",1E-8,150603.00000001001]
[150603.00000100001,null,5.1999999999999995E-4,1,1479.9642000000001,null,1,null,2846085,5.1999999999999995E-4,"دستگاه-ساعت","کارخانه آسفالت باظرفيت حدود 120 تن",22030103,null,1,{"$f":"COUNTIF($S$1:S6702,Q6702+R6702)","v":1},"150603",9.9999999999999995E-7,150603.00000100001]
[150603.00000500001,null,1.0399999999999999E-3,1,201.65495999999999,null,1,null,193899,1.0399999999999999E-3,"دستگاه-ساعت","غلطک استاتیک چرخ اهنی حدود 10 تا12 تن باراننده",25030203,null,5,{"$f":"COUNTIF($S$1:S6706,Q6706+R6706)","v":5},"150603",9.9999999999999995E-7,150603.00000100001]
[150603.0001,null,1.8124999999999999E-2,1,3553.6418749999998,null,1.45,null,196063,1.2500000000000001E-2,"مترمكعب","مصالح سنگی قشر آستر (بیندر) با شکستگی 80 درصد تهیه شده از مصالح رودخانه‌ای با دانه بندی صفر تا 25 میلیمتر تولید کارگاه",31040901,null,1,{"$f":"COUNTIF($S$1:S6709,Q6709+R6709)","v":1},"150603",1E-4,150603.0001]
["",null,null,null,null,null,"ضريب",null,"بهاي واحد","مقـدار","واحــد"," حمل مصالح ",null,null,"رديف",{"$f":"COUNTIF($S$1:S6712,Q6712+R6712)","v":0},"150603",0.01,""]
[150603.01,null,1.7324999999999999,1,112.6125,null,1.5,null,65,1.155,"كیلوگرم","حمل قیر به وسیله تانکر",41080101,null,1,{"$f":"COUNTIF($S$1:S6713,Q6713+R6713)","v":1},"150603",0.01,150603.01]
["",null,null,null,null,null,null,null,null,null,null,"متر مربع",null,null,"واحـد :",{"$f":"COUNTIF($S$1:S6716,Q6716+R6716)","v":0},"150604",0.01,""]
[150604.00000003001,null,5.4000000000000001E-4,1,37.849679999999999,null,1,null,70092,5.4000000000000001E-4,"نفر ساعت","کمک اپراتور ماشین آلات",13041501,null,3,{"$f":"COUNTIF($S$1:S6720,Q6720+R6720)","v":3},"150604",1E-8,150604.00000001001]
[150604.00000005,null,1.6000000000000001E-3,1,91.220799999999997,null,1,null,57013,1.6000000000000001E-3,"نفر- ساعت","كارگر ساده",14010102,null,5,{"$f":"COUNTIF($S$1:S6722,Q6722+R6722)","v":5},"150604",1E-8,150604.00000001001]
[150604.00000008001,null,5.4000000000000001E-4,1,43.57638,null,1,null,80697,5.4000000000000001E-4,"نفر ساعت","ماله کش آسفالت",14230201,null,8,{"$f":"COUNTIF($S$1:S6725,Q6725+R6725)","v":8},"150604",1E-8,150604.00000001001]
[{"$f":"IF(M6729<>\"\",Q6729+(P6729*R6729),\"\")","v":150604.00000100001},null,5.4000000000000001E-4,1,1536.8859,null,1,null,2846085,5.4000000000000001E-4,"دستگاه-ساعت","کارخانه آسفالت باظرفيت حدود 120 تن",22030103,null,1,{"$f":"COUNTIF($S$1:S6729,Q6729+R6729)","v":1},"150604",9.9999999999999995E-7,150604.00000100001]
[150604.000004,null,5.0000000000000001E-4,1,181.78099999999998,null,1,null,363562,5.0000000000000001E-4,"دستگاه-ساعت","لودرچرخ لاستيکي به قدرت حدود150  اسب بخار باراننده",25010802,null,4,{"$f":"COUNTIF($S$1:S6732,Q6732+R6732)","v":4},"150604",9.9999999999999995E-7,150604.00000100001]
[150604.00000500001,null,1.1000000000000001E-3,1,213.28889999999998,null,1,null,193899,1.1000000000000001E-3,"دستگاه-ساعت","غلطک استاتیک چرخ اهنی حدود 10 تا12 تن باراننده",25030203,null,5,{"$f":"COUNTIF($S$1:S6733,Q6733+R6733)","v":5},"150604",9.9999999999999995E-7,150604.00000100001]
[150604.0001,null,1.8124999999999999E-2,1,4068.9175,null,1.45,null,224492,1.2500000000000001E-2,"مترمكعب","مصالح سنگی قشر آستر (بیندر) با شکستگی 80 درصد تهیه شده از مصالح رودخانه‌ای با دانه بندی صفر تا  19 میلیمتر تولید کارگاه",31040902,null,1,{"$f":"COUNTIF($S$1:S6736,Q6736+R6736)","v":1},"150604",1E-4,150604.0001]
["",null,null,null,null,null,"ضريب",null,"بهاي واحد","مقـدار","واحــد"," حمل مصالح ",null,null,"رديف",{"$f":"COUNTIF($S$1:S6739,Q6739+R6739)","v":0},"150604",0.01,""]
["",null,null,null,null,null,null,null,null,null,null,"متر مربع",null,null,"واحـد :",{"$f":"COUNTIF($S$1:S6743,Q6743+R6743)","v":0},"150605",0.01,""]
[150605.00000001999,null,4.4999999999999999E-4,1,43.495200000000004,null,1,null,96656,4.4999999999999999E-4,"نفر ساعت","متصدی برق کارخانه آسفالت و سنگ شکن",13040202,null,2,{"$f":"COUNTIF($S$1:S6746,Q6746+R6746)","v":2},"150605",1E-8,150605.00000001001]
[150605.00000005,null,1.6900000000000001E-3,1,96.351969999999994,null,1,null,57013,1.6900000000000001E-3,"نفر- ساعت","كارگر ساده",14010102,null,5,{"$f":"COUNTIF($S$1:S6749,Q6749+R6749)","v":5},"150605",1E-8,150605.00000001001]
[150605.00000008001,null,5.5999999999999995E-4,1,45.190319999999993,null,1,null,80697,5.5999999999999995E-4,"نفر ساعت","ماله کش آسفالت",14230201,null,8,{"$f":"COUNTIF($S$1:S6752,Q6752+R6752)","v":8},"150605",1E-8,150605.00000001001]
["",null,null,null,null,null,"ضريب",null,"بهاي واحد","مقـدار","واحــد","ماشين آلات ",null,null,"رديف",{"$f":"COUNTIF($S$1:S6755,Q6755+R6755)","v":0},"150605",9.9999999999999995E-7,""]
[150605.00000100001,null,5.5999999999999995E-4,1,1593.8075999999999,null,1,null,2846085,5.5999999999999995E-4,"دستگاه-ساعت","کارخانه آسفالت باظرفيت حدود 120 تن",22030103,null,1,{"$f":"COUNTIF($S$1:S6756,Q6756+R6756)","v":1},"150605",9.9999999999999995E-7,150605.00000100001]
[150605.000004,null,5.0000000000000001E-4,1,181.78099999999998,null,1,null,363562,5.0000000000000001E-4,"دستگاه-ساعت","لودرچرخ لاستيکي به قدرت حدود150  اسب بخار باراننده",25010802,null,4,{"$f":"COUNTIF($S$1:S6759,Q6759+R6759)","v":4},"150605",9.9999999999999995E-7,150605.00000100001]
["",null,null,null,null,null,"ضريب",null,"بهاي واحد","مقـدار","واحــد","مصالح",null,null,"رديف",{"$f":"COUNTIF($S$1:S6762,Q6762+R6762)","v":0},"150605",1E-4,""]
["",null,null,null,null,null,"ضريب",null,"بهاي واحد","مقـدار","واحــد"," حمل مصالح ",null,null,"رديف",{"$f":"COUNTIF($S$1:S6766,Q6766+R6766)","v":0},"150605",0.01,""]
["",null,null,null,null,null,null,null,null,null,null,null,null,"150606",null,{"$f":"COUNTIF($S$1:S6769,Q6769+R6769)","v":0},"150606",0.01,""]
[150606.00000001999,null,4.4999999999999999E-4,1,43.495200000000004,null,1,null,96656,4.4999999999999999E-4,"نفر ساعت","متصدی برق کارخانه آسفالت و سنگ شکن",13040202,null,2,{"$f":"COUNTIF($S$1:S6773,Q6773+R6773)","v":2},"150606",1E-8,150606.00000001001]
[150606.00000003001,null,5.9000000000000003E-4,1,41.35428000000001,null,1,null,70092,5.9000000000000003E-4,"نفر ساعت","کمک اپراتور ماشین آلات",13041501,null,3,{"$f":"COUNTIF($S$1:S6774,Q6774+R6774)","v":3},"150606",1E-8,150606.00000001001]
[150606.00000006999,null,5.9000000000000003E-4,1,94.13627000000001,null,1,null,159553,5.9000000000000003E-4,"نفر ساعت","مسئول فنی آسفالت",14230101,null,7,{"$f":"COUNTIF($S$1:S6778,Q6778+R6778)","v":7},"150606",1E-8,150606.00000001001]
[150606.00000008001,null,5.9000000000000003E-4,1,47.611230000000006,null,1,null,80697,5.9000000000000003E-4,"نفر ساعت","ماله کش آسفالت",14230201,null,8,{"$f":"COUNTIF($S$1:S6779,Q6779+R6779)","v":8},"150606",1E-8,150606.00000001001]
["",null,null,null,null,null,"ضريب",null,"بهاي واحد","مقـدار","واحــد","ماشين آلات ",null,null,"رديف",{"$f":"COUNTIF($S$1:S6782,Q6782+R6782)","v":0},"150606",9.9999999999999995E-7,""]
[150606.00000299999,null,1.5E-3,1,520.02,null,1,null,346680,1.5E-3,"دستگاه-ساعت","کامیون کمپرسی به ظرفیت حدود 10 تن با راننده",23020204,null,3,{"$f":"COUNTIF($S$1:S6785,Q6785+R6785)","v":3},"150606",9.9999999999999995E-7,150606.00000100001]
["",null,null,null,null,null,"ضريب",null,"بهاي واحد","مقـدار","واحــد","مصالح",null,null,"رديف",{"$f":"COUNTIF($S$1:S6789,Q6789+R6789)","v":0},"150606",1E-4,""]
[150606.00030000001,null,0.35,1,1050,null,1,null,3000,0.35,"لیتر","گازوییل",34010301,null,3,{"$f":"COUNTIF($S$1:S6792,Q6792+R6792)","v":3},"150606",1E-4,150606.0001]
["",null,null,null,null,null,null,null,null,null,null,null,null,"150608",null,{"$f":"COUNTIF($S$1:S6796,Q6796+R6796)","v":0},"150608",0.01,""]
[150608.00000001001,null,5.9000000000000003E-4,1,71.38882000000001,null,1,null,120998,5.9000000000000003E-4,"نفر ساعت","متصدی کارخانه آسفالت",13040201,null,1,{"$f":"COUNTIF($S$1:S6799,Q6799+R6799)","v":1},"150608",1E-8,150608.00000001001]
[150608.00000003001,null,5.9000000000000003E-4,1,41.35428000000001,null,1,null,70092,5.9000000000000003E-4,"نفر ساعت","کمک اپراتور ماشین آلات",13041501,null,3,{"$f":"COUNTIF($S$1:S6801,Q6801+R6801)","v":3},"150608",1E-8,150608.00000001001]
[150608.00000003999,null,5.9000000000000003E-4,1,101.03573,null,1,null,171247,5.9000000000000003E-4,"نفر ساعت","اپراتور ماشین راهداری یا راهسازی",13041901,null,4,{"$f":"COUNTIF($S$1:S6802,Q6802+R6802)","v":4},"150608",1E-8,150608.00000001001]
[150608.00000006999,null,5.9000000000000003E-4,1,94.13627000000001,null,1,null,159553,5.9000000000000003E-4,"نفر ساعت","مسئول فنی آسفالت",14230101,null,7,{"$f":"COUNTIF($S$1:S6805,Q6805+R6805)","v":7},"150608",1E-8,150608.00000001001]
[150608.0000001,null,4.4999999999999999E-4,1,30.465,null,1,null,67700,4.4999999999999999E-4,"نفر ساعت","قیرگرم کن",14230301,null,10,{"$f":"COUNTIF($S$1:S6808,Q6808+R6808)","v":10},"150608",1E-8,150608.00000001001]
[150608.00000299999,null,1.5E-3,1,520.02,null,1,null,346680,1.5E-3,"دستگاه-ساعت","کامیون کمپرسی به ظرفیت حدود 10 تن با راننده",23020204,null,3,{"$f":"COUNTIF($S$1:S6812,Q6812+R6812)","v":3},"150608",9.9999999999999995E-7,150608.00000100001]
["",null,null,null,null,null,"ضريب",null,"بهاي واحد","مقـدار","واحــد","مصالح",null,null,"رديف",{"$f":"COUNTIF($S$1:S6815,Q6815+R6815)","v":0},"150608",1E-4,""]
[150608.00039999999,null,0.35,1,1050,null,1,null,3000,0.35,"لیتر","گازوییل",34010301,null,4,{"$f":"COUNTIF($S$1:S6819,Q6819+R6819)","v":4},"150608",1E-4,150608.0001]
[150608.01999999999,null,0.35,1,25.2,null,1,null,72,0.35,"لیتر","حمل مواد سوختی گازوییل، نفت و بنزین",41180101,null,2,{"$f":"COUNTIF($S$1:S6822,Q6822+R6822)","v":2},"150608",0.01,150608.01]
["",null,null,null,null,null,"ضريب",null,"بهاي واحد","مقـدار","واحــد","نيروي انساني ",null,null,"رديف",{"$f":"COUNTIF($S$1:S6825,Q6825+R6825)","v":0},"150611",1E-8,""]
[150611.00000001001,null,1.8E-3,1,102.6234,null,1,null,57013,1.8E-3,"نفر- ساعت","كارگر ساده",14010102,null,1,{"$f":"COUNTIF($S$1:S6826,Q6826+R6826)","v":1},"150611",1E-8,150611.00000001001]
[150611.00000003001,null,4.4999999999999999E-4,1,30.465,null,1,null,67700,4.4999999999999999E-4,"نفر ساعت","قیرگرم کن",14230301,null,3,{"$f":"COUNTIF($S$1:S6828,Q6828+R6828)","v":3},"150611",1E-8,150611.00000001001]
["",null,null,null,null,null,null,null,null,null,null,"مترمربع",null,null,"واحـد :",{"$f":"COUNTIF($S$1:S6832,Q6832+R6832)","v":0},"150612",1E-4,""]
[150612.00000001999,null,4.4999999999999999E-4,1,43.495200000000004,null,1,null,96656,4.4999999999999999E-4,"نفر ساعت","متصدی برق کارخانه آسفالت و سنگ شکن",13040202,null,2,{"$f":"COUNTIF($S$1:S6835,Q6835+R6835)","v":2},"150612",1E-8,150612.00000001001]
[150612.00000005,null,1.8E-3,1,102.6234,null,1,null,57013,1.8E-3,"نفر- ساعت","كارگر ساده",14010102,null,5,{"$f":"COUNTIF($S$1:S6838,Q6838+R6838)","v":5},"150612",1E-8,150612.00000001001]
[150612.00000008999,null,1.8E-3,1,121.86,null,1,null,67700,1.8E-3,"نفر ساعت","کارگر آسفالت",14230202,null,9,{"$f":"COUNTIF($S$1:S6842,Q6842+R6842)","v":9},"150612",1E-8,150612.00000001001]
[150612.00000100001,null,5.9000000000000003E-4,1,1679.1901500000001,null,1,null,2846085,5.9000000000000003E-4,"دستگاه-ساعت","کارخانه آسفالت باظرفيت حدود 120 تن",22030103,null,1,{"$f":"COUNTIF($S$1:S6845,Q6845+R6845)","v":1},"150612",9.9999999999999995E-7,150612.00000100001]
[150612.000004,null,5.0000000000000001E-4,1,181.78099999999998,null,1,null,363562,5.0000000000000001E-4,"دستگاه-ساعت","لودرچرخ لاستيکي به قدرت حدود150  اسب بخار باراننده",25010802,null,4,{"$f":"COUNTIF($S$1:S6848,Q6848+R6848)","v":4},"150612",9.9999999999999995E-7,150612.00000100001]
[150612.00000500001,null,1.1999999999999999E-3,1,232.67880000000002,null,1,null,193899,1.1999999999999999E-3,"دستگاه-ساعت","غلطک استاتیک چرخ اهنی حدود 10 تا12 تن باراننده",25030203,null,5,{"$f":"COUNTIF($S$1:S6849,Q6849+R6849)","v":5},"150612",9.9999999999999995E-7,150612.00000100001]
[150612.00020000001,null,1.35,1,17714.7,null,1,null,13122,1.35,"كیلوگرم","قیر70 - 60",31200101,null,2,{"$f":"COUNTIF($S$1:S6853,Q6853+R6853)","v":2},"150612",1E-4,150612.0001]
["",null,null,null,null,null,"ضريب",null,"بهاي واحد","مقـدار","واحــد"," حمل مصالح ",null,null,"رديف",{"$f":"COUNTIF($S$1:S6855,Q6855+R6855)","v":0},"150612",{"$f":"IF(IF(O6855=\"رديف\",VLOOKUP(L6855,Kod,2,0),0)=0,R6854,IF(O6855=\"رديف\",VLOOKUP(L6855,Kod,2,0),0))","v":0.01},""]
["",null,null,null,null,null,null,null,null,null,null,null,null,"150701",null,{"$f":"COUNTIF($S$1:S6858,Q6858+R6858)","v":0},"150701",0.01,""]
[150701.00000001001,null,6.0700389048000007E-2,1,4254.6116691524167,null,1.56,null,70092,3.8910505800000002E-2,"نفر - ساعت","متصدی کمپرسور",13041001,null,1,{"$f":"COUNTIF($S$1:S6861,Q6861+R6861)","v":1},"150701",1E-8,150701.00000001001]
[150701.00000005,null,0.24280155634799999,1,17957.360305941733,null,1.56,null,73959,0.15564202329999999,"نفر- ساعت","چکش گیر (مینور)",14240601,null,5,{"$f":"COUNTIF($S$1:S6865,Q6865+R6865)","v":5},"150701",1E-8,150701.00000001001]
[150701.00000100001,null,7.4285714256000002E-2,1,19355.73713511485,null,1.56,null,260558,4.7619047599999999E-2,"دستگاه ساعت","سنگ شکن فکی100 تا150 تن در ساعت",21010403,null,1,{"$f":"COUNTIF($S$1:S6868,Q6868+R6868)","v":1},"150701",9.9999999999999995E-7,150701.00000100001]
[150701.000004,null,6.0700389048000007E-2,1,6018.6256752763447,null,1.56,null,99153,3.8910505800000002E-2,"دستگاه-ساعت","کمپرسور باظرفیت حدود 5 متر مکعب دردقیقه (180 سی اف ام) با شیلنگ مربوط",25040102,null,4,{"$f":"COUNTIF($S$1:S6871,Q6871+R6871)","v":4},"150701",9.9999999999999995E-7,150701.00000100001]
[150701.00000500001,null,-7.4285714256000002E-2,1,-31509.325701681992,null,1.56,null,424164,-4.7619047599999999E-2,"دستگاه ساعت","مولد برق به قدرت 400 کيلو وات",26030115,null,5,{"$f":"COUNTIF($S$1:S6872,Q6872+R6872)","v":5},"150701",9.9999999999999995E-7,150701.00000100001]
[150701.0001,null,-1.554,1,-9324.0000000000018,null,1.1100000000000001,null,6000,-1.4,"مترمكعب","ارزش قبل ازاستخراج مصالح رودخانه ای",31030901,null,1,{"$f":"COUNTIF($S$1:S6876,Q6876+R6876)","v":1},"150701",1E-4,150701.0001]
[150701.00030000001,null,0.27750000000000002,1,20535.000000000004,null,1.1100000000000001,null,74000,0.25,"كیلوگرم","امولایت کارتریجی",31420101,null,3,{"$f":"COUNTIF($S$1:S6878,Q6878+R6878)","v":3},"150701",1E-4,150701.0001]
[150701.01,null,0.27750000000000002,1,354.36750000000006,null,1.1100000000000001,null,1277,0.25,"كیلوگرم","حمل مواد منفجره",41090101,null,1,{"$f":"COUNTIF($S$1:S6881,Q6881+R6881)","v":1},"150701",0.01,150701.01]
["",null,null,null,null,null,null,null,null,null,null,"متر مربع",null,null,"واحـد :",{"$f":"COUNTIF($S$1:S6884,Q6884+R6884)","v":0},"150702",0.01,""]
[150702.00000003001,null,2.3627790000000002E-3,1,134.70911912699998,null,0.03,null,57013,7.8759300000000004E-2,"نفر- ساعت","كارگر ساده",14010102,null,3,{"$f":"COUNTIF($S$1:S6888,Q6888+R6888)","v":3},"150702",1E-8,150702.00000001001]
[150702.00000006001,null,8.9999999999999998E-4,1,59.554799999999993,null,0.03,null,66172,0.03,"نفر- ساعت","کارگرد یلم دار",14240602,null,6,{"$f":"COUNTIF($S$1:S6891,Q6891+R6891)","v":6},"150702",1E-8,150702.00000001001]
["",null,null,null,null,null,"ضريب",null,"بهاي واحد","مقـدار","واحــد","ماشين آلات ",null,null,"رديف",{"$f":"COUNTIF($S$1:S6892,Q6892+R6892)","v":0},"150702",9.9999999999999995E-7,""]
[150702.00000299999,null,8.9999999999999998E-4,1,681.22619999999995,null,0.03,null,756918,0.03,"دستگاه-ساعت","بولدوزر به قدرت حدود 300  اسب بخار باراننده",25010605,null,3,{"$f":"COUNTIF($S$1:S6895,Q6895+R6895)","v":3},"150702",9.9999999999999995E-7,150702.00000100001]
[150702.00000599999,null,1.4285714279999998E-3,1,735.76999970569204,null,0.03,null,515039,4.7619047599999999E-2,"دستگاه ساعت","مولد برق به قدرت500 کیلووات",26030116,null,6,{"$f":"COUNTIF($S$1:S6898,Q6898+R6898)","v":6},"150702",9.9999999999999995E-7,150702.00000100001]
[150702.0001,null,-2.7999999999999997E-2,1,-168,null,0.02,null,6000,-1.4,"مترمكعب","ارزش قبل ازاستخراج مصالح رودخانه ای",31030901,null,1,{"$f":"COUNTIF($S$1:S6901,Q6901+R6901)","v":1},"150702",1E-4,150702.0001]
[150702.00039999999,null,6.9999999999999993E-3,1,255.5,null,0.02,null,36500,0.35,"عدد","چاشنی الکتریکی فوری",31420602,null,4,{"$f":"COUNTIF($S$1:S6904,Q6904+R6904)","v":4},"150702",1E-4,150702.0001]
[150702.01999999999,null,6.9999999999999993E-3,1,0.52500000000000002,null,0.02,null,75,0.35,"عدد","حمل چاشنی",41090301,null,2,{"$f":"COUNTIF($S$1:S6907,Q6907+R6907)","v":2},"150702",0.01,150702.01]
[150801.0001,null,8.4000000000000005E-2,1,1102.248,null,1,null,13122,8.4000000000000005E-2,"كیلوگرم","قیر70 - 60",31200101,null,1,{"$f":"COUNTIF($S$1:S6911,Q6911+R6911)","v":1},"150801",1E-4,150801.0001]
[150801.01,null,0.1575,1,10.237500000000001,null,1.5,null,65,0.105,"كیلوگرم","حمل قیر به وسیله تانکر",41080101,null,1,{"$f":"COUNTIF($S$1:S6914,Q6914+R6914)","v":1},"150801",0.01,150801.01]
["",null,null,null,null,null,null,null,null,null,null,null,null,"150802",null,{"$f":"COUNTIF($S$1:S6915,Q6915+R6915)","v":0},"150802",0.01,""]
[150802.0001,null,-8.4000000000000005E-2,1,-1102.248,null,-1,null,13122,8.4000000000000005E-2,"كیلوگرم","قیر70 - 60",31200101,null,1,{"$f":"COUNTIF($S$1:S6918,Q6918+R6918)","v":1},"150802",1E-4,150802.0001]
[{"$f":"IF(M6921<>\"\",Q6921+(P6921*R6921),\"\")","v":150802.01},null,-0.1575,1,-10.237500000000001,null,-1.5,null,65,0.105,"كیلوگرم","حمل قیر به وسیله تانکر",41080101,null,1,{"$f":"COUNTIF($S$1:S6921,Q6921+R6921)","v":1},"150802",0.01,150802.01]
[150803.00000001001,null,7.4999999999999993E-5,1,9.0748499999999996,null,0.15,null,120998,5.0000000000000001E-4,"نفر ساعت","متصدی کارخانه آسفالت",13040201,null,1,{"$f":"COUNTIF($S$1:S6925,Q6925+R6925)","v":1},"150803",1E-8,150803.00000001001]
[150803.00000003999,null,7.4999999999999993E-5,1,12.843525,null,0.15,null,171247,5.0000000000000001E-4,"نفر ساعت","اپراتور ماشین راهداری یا راهسازی",13041901,null,4,{"$f":"COUNTIF($S$1:S6928,Q6928+R6928)","v":4},"150803",1E-8,150803.00000001001]
[150803.00000006999,null,7.4999999999999993E-5,1,11.966475000000001,null,0.15,null,159553,5.0000000000000001E-4,"نفر ساعت","مسئول فنی آسفالت",14230101,null,7,{"$f":"COUNTIF($S$1:S6931,Q6931+R6931)","v":7},"150803",1E-8,150803.00000001001]
[150803.0000001,null,6.7500000000000001E-5,1,4.56975,null,0.15,null,67700,4.4999999999999999E-4,"نفر ساعت","قیرگرم کن",14230301,null,10,{"$f":"COUNTIF($S$1:S6934,Q6934+R6934)","v":10},"150803",1E-8,150803.00000001001]
[150803.00000199999,null,1.4999999999999999E-4,1,130.44614999999999,null,0.15,null,869641,1E-3,"دستگاه ساعت","ماشین آسفالت پخش کنی فینیشر لاستیکی با راننده",22030202,null,2,{"$f":"COUNTIF($S$1:S6937,Q6937+R6937)","v":2},"150803",9.9999999999999995E-7,150803.00000100001]
[150803.00000299999,null,2.2499999999999999E-4,1,78.003,null,0.15,null,346680,1.5E-3,"دستگاه-ساعت","کامیون کمپرسی به ظرفیت حدود 10 تن با راننده",23020204,null,3,{"$f":"COUNTIF($S$1:S6938,Q6938+R6938)","v":3},"150803",9.9999999999999995E-7,150803.00000100001]
[150803.00000599999,null,7.4999999999999993E-5,1,24.995175,null,0.15,null,333269,5.0000000000000001E-4,"دستگاه-ساعت","غلطک چرخ لاستکي آسفالت حدود 16 تا20 تن باراننده",25030301,null,6,{"$f":"COUNTIF($S$1:S6941,Q6941+R6941)","v":6},"150803",9.9999999999999995E-7,150803.00000100001]
[150803.00020000001,null,0.14174999999999999,1,1860.0435,null,0.15,null,13122,0.94499999999999995,"كیلوگرم","قیر70 - 60",31200101,null,2,{"$f":"COUNTIF($S$1:S6944,Q6944+R6944)","v":2},"150803",1E-4,150803.0001]
[150803.01999999999,null,5.2499999999999998E-2,1,3.78,null,0.15,null,72,0.35,"لیتر","حمل مواد سوختی گازوییل، نفت و بنزین",41180101,null,2,{"$f":"COUNTIF($S$1:S6948,Q6948+R6948)","v":2},"150803",0.01,150803.01]
["",null,null,null,null,null,"ضريب",null,"بهاي واحد","مقـدار","واحــد","نيروي انساني ",null,null,"رديف",{"$f":"COUNTIF($S$1:S6951,Q6951+R6951)","v":0},"150804",1E-8,""]
[150804.00000001999,null,-4.5000000000000003E-5,1,-4.3495200000000009,null,-0.1,null,96656,4.4999999999999999E-4,"نفر ساعت","متصدی برق کارخانه آسفالت و سنگ شکن",13040202,null,2,{"$f":"COUNTIF($S$1:S6953,Q6953+R6953)","v":2},"150804",1E-8,150804.00000001001]
[150804.00000006001,null,-5.1999999999999997E-5,1,-3.3336679999999994,null,-0.1,null,64109,5.1999999999999995E-4,"نفر ساعت","کارگر فنی ماهر",14010103,null,6,{"$f":"COUNTIF($S$1:S6957,Q6957+R6957)","v":6},"150804",1E-8,150804.00000001001]
[150804.00000008999,null,-1.55E-4,1,-10.493499999999999,null,-0.1,null,67700,1.5499999999999999E-3,"نفر ساعت","کارگر آسفالت",14230202,null,9,{"$f":"COUNTIF($S$1:S6960,Q6960+R6960)","v":9},"150804",1E-8,150804.00000001001]
[150804.0000001,null,-4.5000000000000003E-5,1,-3.0465,null,-0.1,null,67700,4.4999999999999999E-4,"نفر ساعت","قیرگرم کن",14230301,null,10,{"$f":"COUNTIF($S$1:S6961,Q6961+R6961)","v":10},"150804",1E-8,150804.00000001001]
[150804.00000199999,null,-1.0399999999999999E-4,1,-90.442664000000008,null,-0.1,null,869641,1.0399999999999999E-3,"دستگاه ساعت","ماشین آسفالت پخش کنی فینیشر لاستیکی با راننده",22030202,null,2,{"$f":"COUNTIF($S$1:S6964,Q6964+R6964)","v":2},"150804",9.9999999999999995E-7,150804.00000100001]
[150804.00000500001,null,-1.0399999999999999E-4,1,-20.165495999999997,null,-0.1,null,193899,1.0399999999999999E-3,"دستگاه-ساعت","غلطک استاتیک چرخ اهنی حدود 10 تا12 تن باراننده",25030203,null,5,{"$f":"COUNTIF($S$1:S6967,Q6967+R6967)","v":5},"150804",9.9999999999999995E-7,150804.00000100001]
[150804.00020000001,null,-0.11550000000000001,1,-1547.7,null,-0.1,null,13400,1.155,"کیلوگرم","قیر رده عملکردی pg 64-22",31200105,null,2,{"$f":"COUNTIF($S$1:S6971,Q6971+R6971)","v":2},"150804",1E-4,150804.0001]
[150804.01,null,-0.17324999999999999,1,-11.26125,null,-0.15,null,65,1.155,"كیلوگرم","حمل قیر به وسیله تانکر",41080101,null,1,{"$f":"COUNTIF($S$1:S6974,Q6974+R6974)","v":1},"150804",0.01,150804.01]
["",null,null,null,null,null,"ضريب",null,"بهاي واحد","مقـدار","واحــد","نيروي انساني ",null,null,"رديف",{"$f":"COUNTIF($S$1:S6978,Q6978+R6978)","v":0},"150805",1E-8,""]
[150805.00000001999,null,3.375E-5,1,3.26214,null,7.4999999999999997E-2,null,96656,4.4999999999999999E-4,"نفر ساعت","متصدی برق کارخانه آسفالت و سنگ شکن",13040202,null,2,{"$f":"COUNTIF($S$1:S6980,Q6980+R6980)","v":2},"150805",1E-8,150805.00000001001]
[150805.00000005,null,1.1174999999999999E-4,1,6.3712027500000001,null,7.4999999999999997E-2,null,57013,1.49E-3,"نفر- ساعت","كارگر ساده",14010102,null,5,{"$f":"COUNTIF($S$1:S6983,Q6983+R6983)","v":5},"150805",{"$f":"IF(IF(O6983=\"رديف\",VLOOKUP(L6983,Kod,2,0),0)=0,R6982,IF(O6983=\"رديف\",VLOOKUP(L6983,Kod,2,0),0))","v":1E-8},150805.00000001001]
[150805.00000006001,null,3.7499999999999997E-5,1,2.4040875000000002,null,7.4999999999999997E-2,null,64109,5.0000000000000001E-4,"نفر ساعت","کارگر فنی ماهر",14010103,null,6,{"$f":"COUNTIF($S$1:S6984,Q6984+R6984)","v":6},"150805",1E-8,150805.00000001001]
[150805.00000008999,null,1.1174999999999999E-4,1,7.5654750000000002,null,7.4999999999999997E-2,null,67700,1.49E-3,"نفر ساعت","کارگر آسفالت",14230202,null,9,{"$f":"COUNTIF($S$1:S6987,Q6987+R6987)","v":9},"150805",1E-8,150805.00000001001]
[150805.00000199999,null,7.4999999999999993E-5,1,65.223074999999994,null,7.4999999999999997E-2,null,869641,1E-3,"دستگاه ساعت","ماشین آسفالت پخش کنی فینیشر لاستیکی با راننده",22030202,null,2,{"$f":"COUNTIF($S$1:S6991,Q6991+R6991)","v":2},"150805",9.9999999999999995E-7,150805.00000100001]
[150805.00000500001,null,7.4999999999999993E-5,1,14.542425000000001,null,7.4999999999999997E-2,null,193899,1E-3,"دستگاه-ساعت","غلطک استاتیک چرخ اهنی حدود 10 تا12 تن باراننده",25030203,null,5,{"$f":"COUNTIF($S$1:S6994,Q6994+R6994)","v":5},"150805",9.9999999999999995E-7,150805.00000100001]
[150805.0001,null,9.3749999999999997E-4,1,110.42625,null,7.4999999999999997E-2,null,117788,1.2500000000000001E-2,"مترمكعب","مصالح سنگی اساس قیری با شکستگی 50 درصد تهیه شده از مصالح رودخانه‌ای با دانه بندی صفر تا 25  میلیمتر تولید کارگاه",31040802,null,1,{"$f":"COUNTIF($S$1:S6997,Q6997+R6997)","v":1},"150805",1E-4,150805.0001]
[150805.01,null,0.10631249999999999,1,6.9103124999999999,null,0.1125,null,65,0.94499999999999995,"كیلوگرم","حمل قیر به وسیله تانکر",41080101,null,1,{"$f":"COUNTIF($S$1:S7001,Q7001+R7001)","v":1},"150805",0.01,150805.01]
["",null,null,null,null,null,null,null,null,null,null,"مترمربع",null,null,"واحـد :",{"$f":"COUNTIF($S$1:S7004,Q7004+R7004)","v":0},"150806",0.01,""]
["",null,null,null,null,null,"ضريب",null,"بهاي واحد","مقـدار","واحــد","نيروي انساني ",null,null,"رديف",{"$f":"COUNTIF($S$1:S7005,Q7005+R7005)","v":0},"150806",1E-8,""]
[150806.00000001999,null,6.7499999999999997E-6,1,0.65242800000000001,null,1.4999999999999999E-2,null,96656,4.4999999999999999E-4,"نفر ساعت","متصدی برق کارخانه آسفالت و سنگ شکن",13040202,null,2,{"$f":"COUNTIF($S$1:S7007,Q7007+R7007)","v":2},"150806",1E-8,150806.00000001001]
[150806.00000005,null,2.2349999999999998E-5,1,1.27424055,null,1.4999999999999999E-2,null,57013,1.49E-3,"نفر- ساعت","كارگر ساده",14010102,null,5,{"$f":"COUNTIF($S$1:S7010,Q7010+R7010)","v":5},"150806",1E-8,150806.00000001001]
[150806.00000008999,null,2.2349999999999998E-5,1,1.5130949999999999,null,1.4999999999999999E-2,null,67700,1.49E-3,"نفر ساعت","کارگر آسفالت",14230202,null,9,{"$f":"COUNTIF($S$1:S7014,Q7014+R7014)","v":9},"150806",1E-8,150806.00000001001]
[150806.00000100001,null,7.5000000000000002E-6,1,21.345637499999999,null,1.4999999999999999E-2,null,2846085,5.0000000000000001E-4,"دستگاه-ساعت","کارخانه آسفالت باظرفيت حدود 120 تن",22030103,null,1,{"$f":"COUNTIF($S$1:S7017,Q7017+R7017)","v":1},"150806",9.9999999999999995E-7,150806.00000100001]
[150806.000004,null,7.5000000000000002E-6,1,2.726715,null,1.4999999999999999E-2,null,363562,5.0000000000000001E-4,"دستگاه-ساعت","لودرچرخ لاستيکي به قدرت حدود150  اسب بخار باراننده",25010802,null,4,{"$f":"COUNTIF($S$1:S7020,Q7020+R7020)","v":4},"150806",9.9999999999999995E-7,150806.00000100001]
[150806.0001,null,1.875E-4,1,22.085250000000002,null,1.4999999999999999E-2,null,117788,1.2500000000000001E-2,"مترمكعب","مصالح سنگی اساس قیری با شکستگی 50 درصد تهیه شده از مصالح رودخانه‌ای با دانه بندی صفر تا 25  میلیمتر تولید کارگاه",31040802,null,1,{"$f":"COUNTIF($S$1:S7024,Q7024+R7024)","v":1},"150806",1E-4,150806.0001]
["",null,null,null,null,null,"ضريب",null,"بهاي واحد","مقـدار","واحــد"," حمل مصالح ",null,null,"رديف",{"$f":"COUNTIF($S$1:S7027,Q7027+R7027)","v":0},"150806",0.01,""]
[150806.01,null,2.1262499999999997E-2,1,1.3820625000000002,null,2.2499999999999999E-2,null,65,0.94499999999999995,"كیلوگرم","حمل قیر به وسیله تانکر",41080101,null,1,{"$f":"COUNTIF($S$1:S7028,Q7028+R7028)","v":1},"150806",0.01,150806.01]
["",null,null,null,null,null,"ضريب",null,"بهاي واحد","مقـدار","واحــد","مصالح",null,null,"رديف",{"$f":"COUNTIF($S$1:S7032,Q7032+R7032)","v":0},"150901",1E-4,""]
[150901.0001,null,1.0709999999999999E-3,1,1145.97,null,1.02,null,1070000,1.0499999999999999E-3,"تن","سیمان پرتلند نوع یک (سیمان معمولی) فله",31080102,null,1,{"$f":"COUNTIF($S$1:S7033,Q7033+R7033)","v":1},"150901",1E-4,150901.0001]
["",null,null,null,null,null,null,null,null,null,null,"كیلوگرم",null,null,"واحـد :",{"$f":"COUNTIF($S$1:S7037,Q7037+R7037)","v":0},"150902",0.01,""]
[150902.00020000001,null,5.3039999999999999E-4,1,530.4,null,1.02,null,1000000,5.1999999999999995E-4,"تن","پودر آهک (هیدراته ) فله",31090104,null,2,{"$f":"COUNTIF($S$1:S7040,Q7040+R7040)","v":2},"150902",1E-4,150902.0001]
["",null,null,null,null,null,null,null,null,null,null,null,null,"151001",null,{"$f":"COUNTIF($S$1:S7043,Q7043+R7043)","v":0},"151001",0.01,""]
[151001.00000001999,null,5.1999999999999995E-4,1,33.336679999999994,null,1,null,64109,5.1999999999999995E-4,"نفر ساعت","کارگر فنی ماهر",14010103,null,2,{"$f":"COUNTIF($S$1:S7047,Q7047+R7047)","v":2},"151001",{"$f":"IF(IF(O7047=\"رديف\",VLOOKUP(L7047,Kod,2,0),0)=0,R7046,IF(O7047=\"رديف\",VLOOKUP(L7047,Kod,2,0),0))","v":1E-8},151001.00000001001]
[151001.00000005,null,1.5499999999999999E-3,1,104.935,null,1,null,67700,1.5499999999999999E-3,"نفر ساعت","کارگر آسفالت",14230202,null,5,{"$f":"COUNTIF($S$1:S7050,Q7050+R7050)","v":5},"151001",1E-8,151001.00000001001]
["",null,null,null,null,null,"ضريب",null,"بهاي واحد","مقـدار","واحــد","ماشين آلات ",null,null,"رديف",{"$f":"COUNTIF($S$1:S7051,Q7051+R7051)","v":0},"151001",9.9999999999999995E-7,""]
[151001.00000299999,null,1.0399999999999999E-3,1,201.65495999999999,null,1,null,193899,1.0399999999999999E-3,"دستگاه-ساعت","غلطک استاتیک چرخ اهنی حدود 10 تا12 تن باراننده",25030203,null,3,{"$f":"COUNTIF($S$1:S7054,Q7054+R7054)","v":3},"151001",9.9999999999999995E-7,151001.00000100001]
["",null,null,null,null,null,null,null,null,null,null,"متر مربع",null,null,"واحـد :",{"$f":"COUNTIF($S$1:S7057,Q7057+R7057)","v":0},"151002",9.9999999999999995E-7,""]
[151002.00000001999,null,5.1999999999999995E-4,1,33.336679999999994,null,1,null,64109,5.1999999999999995E-4,"نفر ساعت","کارگر فنی ماهر",14010103,null,2,{"$f":"COUNTIF($S$1:S7060,Q7060+R7060)","v":2},"151002",1E-8,151002.00000001001]
[151002.00000005,null,1.5499999999999999E-3,1,104.935,null,1,null,67700,1.5499999999999999E-3,"نفر ساعت","کارگر آسفالت",14230202,null,5,{"$f":"COUNTIF($S$1:S7063,Q7063+R7063)","v":5},"151002",1E-8,151002.00000001001]
[151002.00000199999,null,2.0999999999999999E-3,1,890.74440000000004,null,1,null,424164,2.0999999999999999E-3,"دستگاه-ساعت","گریدر به قدرت حدود180 اسب بخار باراننده",25010902,null,2,{"$f":"COUNTIF($S$1:S7066,Q7066+R7066)","v":2},"151002",9.9999999999999995E-7,151002.00000100001]
["",null,null,null,null,null,null,null,null,null,null,"متر مربع",null,null,"واحـد :",{"$f":"COUNTIF($S$1:S7070,Q7070+R7070)","v":0},"151003",9.9999999999999995E-7,""]
[151003.00000001999,null,5.1999999999999995E-4,1,33.336679999999994,null,1,null,64109,5.1999999999999995E-4,"نفر ساعت","کارگر فنی ماهر",14010103,null,2,{"$f":"COUNTIF($S$1:S7073,Q7073+R7073)","v":2},"151003",1E-8,151003.00000001001]
[151003.00000003001,null,5.1999999999999995E-4,1,82.967559999999992,null,1,null,159553,5.1999999999999995E-4,"نفر ساعت","مسئول فنی آسفالت",14230101,null,3,{"$f":"COUNTIF($S$1:S7074,Q7074+R7074)","v":3},"151003",1E-8,151003.00000001001]
["",null,null,null,null,null,"ضريب",null,"بهاي واحد","مقـدار","واحــد","ماشين آلات ",null,null,"رديف",{"$f":"COUNTIF($S$1:S7077,Q7077+R7077)","v":0},"151003",9.9999999999999995E-7,""]
[151003.00000299999,null,1.0399999999999999E-3,1,201.65495999999999,null,1,null,193899,1.0399999999999999E-3,"دستگاه-ساعت","غلطک استاتیک چرخ اهنی حدود 10 تا12 تن باراننده",25030203,null,3,{"$f":"COUNTIF($S$1:S7080,Q7080+R7080)","v":3},"151003",9.9999999999999995E-7,151003.00000100001]
["",null,null,null,null,null,"ضريب",null,"بهاي واحد","مقـدار","واحــد"," حمل مصالح ",null,null,"رديف",{"$f":"COUNTIF($S$1:S7084,Q7084+R7084)","v":0},"151003",0.01,""]
["",null,null,null,null,null,null,null,null,null,null,null,null,"151004",null,{"$f":"COUNTIF($S$1:S7086,Q7086+R7086)","v":0},"151004",0.01,""]
["",null,null,null,null,null,"ضريب",null,"بهاي واحد","مقـدار","واحــد","مصالح",null,null,"رديف",{"$f":"COUNTIF($S$1:S7090,Q7090+R7090)","v":0},"151004",1E-4,""]
[151004.01,null,1.06E-3,1,98.424179999999993,null,1,null,92853,1.06E-3,"تن","حمل سیمان فله و پاکتی",41060301,null,1,{"$f":"COUNTIF($S$1:S7093,Q7093+R7093)","v":1},"151004",0.01,151004.01]
["",null,null,null,null,null,"ضريب",null,"بهاي واحد","مقـدار","واحــد","نيروي انساني ",null,null,"رديف",{"$f":"COUNTIF($S$1:S7096,Q7096+R7096)","v":0},"151005",1E-8,""]
[151005.00000001001,null,1E-3,1,67.7,null,1,null,67700,1E-3,"نفر ساعت","کارگر آسفالت",14230202,null,1,{"$f":"COUNTIF($S$1:S7097,Q7097+R7097)","v":1},"151005",1E-8,151005.00000001001]
["",null,null,null,null,null,"ضريب",null,"بهاي واحد","مقـدار","واحــد"," حمل مصالح ",null,null,"رديف",{"$f":"COUNTIF($S$1:S7100,Q7100+R7100)","v":0},"151005",0.01,""]
["",null,null,null,null,null,null,null,null,null,null,"كیلوگرم",null,null,"واحـد :",{"$f":"COUNTIF($S$1:S7103,Q7103+R7103)","v":0},"151007",0.01,""]
[151007.0001,null,2.5000000000000001E-4,1,57.77375,null,5.0000000000000001E-4,null,231095,0.5,"مترمكعب","مصالح سنگی قشر رویه (توپکا) با شکستگی 90 درصد تهیه شده از مصالح رودخانه‌ای با دانه بندی صفر تا 19 میلیمتر تولید کارگاه",31041001,null,1,{"$f":"COUNTIF($S$1:S7107,Q7107+R7107)","v":1},"151007",1E-4,151007.0001]
["",null,null,null,null,null,null,null,null,null,null,null,null,"151008",null,{"$f":"COUNTIF($S$1:S7109,Q7109+R7109)","v":0},"151008",1E-4,""]
[{"$f":"IF(M7113<>\"\",Q7113+(P7113*R7113),\"\")","v":""},null,null,null,null,null,"ضريب",null,"بهاي واحد","مقـدار","واحــد","مصالح",null,null,"رديف",{"$f":"COUNTIF($S$1:S7113,Q7113+R7113)","v":0},"151008",1E-4,""]
[151008.01,null,1.5750000000000002,1,102.375,null,1.5,null,65,1.05,"كیلوگرم","حمل قیر به وسیله تانکر",41080101,null,1,{"$f":"COUNTIF($S$1:S7116,Q7116+R7116)","v":1},"151008",0.01,151008.01]
["",null,null,null,null,null,"ضريب",null,"بهاي واحد","مقـدار","واحــد","نيروي انساني ",null,null,"رديف",{"$f":"COUNTIF($S$1:S7119,Q7119+R7119)","v":0},"151009",1E-8,""]
[151009.00000001001,null,2E-3,1,135.4,null,1,null,67700,2E-3,"نفر ساعت","کارگر آسفالت",14230202,null,1,{"$f":"COUNTIF($S$1:S7120,Q7120+R7120)","v":1},"151009",1E-8,151009.00000001001]
[151009.00020000001,null,1.1550000000000002,1,15155.910000000002,null,1.1000000000000001,null,13122,1.05,"كیلوگرم","قیر70 - 60",31200101,null,2,{"$f":"COUNTIF($S$1:S7123,Q7123+R7123)","v":2},"151009",1E-4,151009.0001]
["",null,null,null,null,null,null,null,null,null,null,null,null,"151010",null,{"$f":"COUNTIF($S$1:S7126,Q7126+R7126)","v":0},"151010",0.01,""]
["",null,null,null,null,null,"ضريب",null,"بهاي واحد","مقـدار","واحــد","مصالح",null,null,"رديف",{"$f":"COUNTIF($S$1:S7130,Q7130+R7130)","v":0},"151010",1E-4,""]
[151010.00020000001,null,0.11550000000000001,1,1515.5910000000001,null,1.1000000000000001,null,13122,0.105,"كیلوگرم","قیر70 - 60",31200101,null,2,{"$f":"COUNTIF($S$1:S7132,Q7132+R7132)","v":2},"151010",1E-4,151010.0001]
["",null,null,null,null,null,null,null,null,null,null,"متر مربع",null,null,"واحـد :",{"$f":"COUNTIF($S$1:S7136,Q7136+R7136)","v":0},"151011",0.01,""]
["",null,null,null,null,null,"ضريب",null,"بهاي واحد","مقـدار","واحــد","مصالح",null,null,"رديف",{"$f":"COUNTIF($S$1:S7139,Q7139+R7139)","v":0},"151011",1E-4,""]
["",null,null,null,null,null,"ضريب",null,"بهاي واحد","مقـدار","واحــد"," حمل مصالح ",null,null,"رديف",{"$f":"COUNTIF($S$1:S7142,Q7142+R7142)","v":0},"151011",0.01,""]
[151011.01,null,-0.1575,1,-10.237500000000001,null,-1.5,null,65,0.105,"كیلوگرم","حمل قیر به وسیله تانکر",41080101,null,1,{"$f":"COUNTIF($S$1:S7143,Q7143+R7143)","v":1},"151011",0.01,151011.01]
["",null,null,null,null,null,"ضريب",null,"بهاي واحد","مقـدار","واحــد","نيروي انساني ",null,null,"رديف",{"$f":"COUNTIF($S$1:S7146,Q7146+R7146)","v":0},"151101",1E-8,""]
[151101.00000003999,null,5.3600000000000002E-4,1,35.006696000000005,null,1,null,65311,5.3600000000000002E-4,"نفر- ساعت","کارگر نقشه‌برداري (ميرکش)",12030104,null,4,{"$f":"COUNTIF($S$1:S7150,Q7150+R7150)","v":4},"151101",1E-8,151101.00000001001]
[151101.00000006999,null,1.072E-3,1,75.138623999999993,null,1,null,70092,1.072E-3,"نفر- ساعت","سرویس کار",13010701,null,7,{"$f":"COUNTIF($S$1:S7153,Q7153+R7153)","v":7},"151101",1E-8,151101.00000001001]
[151101.0000001,null,5.3600000000000002E-4,1,85.520408000000003,null,1,null,159553,5.3600000000000002E-4,"نفر ساعت","مسئول فنی آسفالت",14230101,null,10,{"$f":"COUNTIF($S$1:S7156,Q7156+R7156)","v":10},"151101",1E-8,151101.00000001001]
[151101.00000013001,null,5.3600000000000002E-4,1,132.715744,null,1,null,247604,5.3600000000000002E-4,"نفر- ساعت","كارشناس عمليات صحرايي ژئوتكنيك",14270102,null,13,{"$f":"COUNTIF($S$1:S7159,Q7159+R7159)","v":13},"151101",1E-8,151101.00000001001]
[151101.00000016001,null,5.3600000000000002E-4,1,117.579104,null,1,null,219364,5.3600000000000002E-4,"نفر ساعت","تکنسین برق",18090301,null,16,{"$f":"COUNTIF($S$1:S7162,Q7162+R7162)","v":16},"151101",1E-8,151101.00000001001]
[151101.00000199999,null,2.5000000000000001E-2,1,7943.65,null,1,null,317746,2.5000000000000001E-2,"عدد","ناخن ماشین شیار زن",22030802,null,2,{"$f":"COUNTIF($S$1:S7165,Q7165+R7165)","v":2},"151101",9.9999999999999995E-7,151101.00000100001]
[151101.00000299999,null,1.072E-3,1,3555.8240000000001,null,1,null,3317000,1.072E-3,"دستگاه -  ساعت","ماشين پيش‌گرم‌کن آسفالت با هواي گرم",22031001,null,3,{"$f":"COUNTIF($S$1:S7166,Q7166+R7166)","v":3},"151101",9.9999999999999995E-7,151101.00000100001]
[151101.00000599999,null,5.3600000000000002E-4,1,198.77506400000001,null,1,null,370849,5.3600000000000002E-4,"دستگاه -  ساعت","غلتک ويبره چرخ آهني 10 تا 12 تن براي تراکم آسفالت",22031004,null,6,{"$f":"COUNTIF($S$1:S7169,Q7169+R7169)","v":6},"151101",9.9999999999999995E-7,151101.00000100001]
[151101.00000999999,null,5.3600000000000002E-4,1,90.738368000000008,null,1,null,169288,5.3600000000000002E-4,"دستگاه-ساعت","تانکر آب پاش به ظرفيت حدود 5000 ليتر باراننده",23020501,null,10,{"$f":"COUNTIF($S$1:S7173,Q7173+R7173)","v":10},"151101",9.9999999999999995E-7,151101.00000100001]
[151101.00001300001,null,1.072E-3,1,357.26436800000005,null,1,null,333269,1.072E-3,"دستگاه-ساعت","غلطک چرخ لاستکي آسفالت حدود 16 تا20 تن باراننده",25030301,null,13,{"$f":"COUNTIF($S$1:S7176,Q7176+R7176)","v":13},"151101",9.9999999999999995E-7,151101.00000100001]
["",null,null,null,null,null,"ضريب",null,"بهاي واحد","مقـدار","واحــد","مصالح",null,null,"رديف",{"$f":"COUNTIF($S$1:S7179,Q7179+R7179)","v":0},"151101",1E-4,""]
[151101.01,null,0.1,1,6.5,null,1,null,65,0.1,"كیلوگرم","حمل قیر به وسیله تانکر",41080101,null,1,{"$f":"COUNTIF($S$1:S7183,Q7183+R7183)","v":1},"151101",0.01,151101.01]
[151101.01999999999,null,0.44298000000000004,1,31.894560000000002,null,1,null,72,0.44298000000000004,"لیتر","حمل مواد سوختی گازوییل، نفت و بنزین",41180101,null,2,{"$f":"COUNTIF($S$1:S7184,Q7184+R7184)","v":2},"151101",0.01,151101.01]
["",null,null,null,null,null,null,null,null,null,null,"مترمكعب -  كیلومتر‏",null,null,"واحـد :",{"$f":"COUNTIF($S$1:S7186,Q7186+R7186)","v":0},"151201",0.01,""]
["",null,null,null,null,null,null,null,null,null,null,null,null,"151202",null,{"$f":"COUNTIF($S$1:S7189,Q7189+R7189)","v":0},"151202",9.9999999999999995E-7,""]
[151202.00000100001,null,6.6428479999999998E-3,1,2379.7072961280005,null,1.6,null,358236,4.1517799999999999E-3,"دستگاه ساعت","کامیون کمپرسی به ظرفیت حدود 16 تن با راننده",23020205,null,1,{"$f":"COUNTIF($S$1:S7192,Q7192+R7192)","v":1},"151202",9.9999999999999995E-7,151202.00000100001]
[151203.00000100001,null,5.2176799999999997E-3,1,2170.6383628800004,null,2,null,416016,2.6088399999999999E-3,"دستگاه -  ساعت","کامیون کمپرسی تریلر به ظرفیت حدود 25 تن با راننده",23020206,null,1,{"$f":"COUNTIF($S$1:S7196,Q7196+R7196)","v":1},"151203",9.9999999999999995E-7,151203.00000100001]
["",null,null,null,null,null,"ضريب",null,"بهاي واحد","مقـدار","واحــد","نيروي انساني ",null,null,"رديف",{"$f":"COUNTIF($S$1:S7199,Q7199+R7199)","v":0},"160101",1E-8,""]
["",null,null,null,null,null,"ضريب",null,"بهاي واحد","مقـدار","واحــد","ماشين آلات ",null,null,"رديف",{"$f":"COUNTIF($S$1:S7202,Q7202+R7202)","v":0},"160101",9.9999999999999995E-7,""]
[160101.00020000001,null,0.5,1,7720,null,1,null,15440,0.5,"کیلو گرم","قیر 25-85 مظروف",31200201,null,2,{"$f":"COUNTIF($S$1:S7206,Q7206+R7206)","v":2},"160101",1E-4,160101.0001]
[160101.01,null,2,1,508,null,1,null,254,2,"كیلوگرم","حمل قیر مظروف",41080201,null,1,{"$f":"COUNTIF($S$1:S7209,Q7209+R7209)","v":1},"160101",0.01,160101.01]
["",null,null,null,null,null,null,null,null,null,null,null,null,"160102",null,{"$f":"COUNTIF($S$1:S7211,Q7211+R7211)","v":0},"160102",0.01,""]
["",null,null,null,null,null,null,null,null,null,null,"متر مربع",null,null,"واحـد :",{"$f":"COUNTIF($S$1:S7212,Q7212+R7212)","v":0},"160102",0.01,""]
[160102.00000001999,null,0.22400000000000003,1,17899.392000000003,null,1,null,79908,0.22400000000000003,"نفر ساعت","عایقکار و آسفالت کاردرجه یک",14130101,null,2,{"$f":"COUNTIF($S$1:S7215,Q7215+R7215)","v":2},"160102",1E-8,160102.00000001001]
["",null,null,null,null,null,"ضريب",null,"بهاي واحد","مقـدار","واحــد","مصالح",null,null,"رديف",{"$f":"COUNTIF($S$1:S7219,Q7219+R7219)","v":0},"160102",1E-4,""]
[160102.00030000001,null,1.2767999999999999,1,40432.425600000002,null,0.96,null,31667,1.33,"متر مربع","گونی چتایی11*45",31210104,null,3,{"$f":"COUNTIF($S$1:S7222,Q7222+R7222)","v":3},"160102",1E-4,160102.0001]
[160102.01,null,3.25,1,825.5,null,1,null,254,3.25,"كیلوگرم","حمل قیر مظروف",41080201,null,1,{"$f":"COUNTIF($S$1:S7225,Q7225+R7225)","v":1},"160102",0.01,160102.01]
["",null,null,null,null,null,null,null,null,null,null,"متر مربع",null,null,"واحـد :",{"$f":"COUNTIF($S$1:S7229,Q7229+R7229)","v":0},"160103",0.01,""]
[160103.00000001999,null,0.36665999999999999,1,29299.067279999996,null,1,null,79908,0.36665999999999999,"نفر ساعت","عایقکار و آسفالت کاردرجه یک",14130101,null,2,{"$f":"COUNTIF($S$1:S7232,Q7232+R7232)","v":2},"160103",1E-8,160103.00000001001]
[160103.00000003001,null,0.36665999999999999,1,25917.728759999998,null,1,null,70686,0.36665999999999999,"نفر ساعت","عایقکار و آسفالت کار درجه دو",14130102,null,3,{"$f":"COUNTIF($S$1:S7233,Q7233+R7233)","v":3},"160103",1E-8,160103.00000001001]
["",null,null,null,null,null,"ضريب",null,"بهاي واحد","مقـدار","واحــد","مصالح",null,null,"رديف",{"$f":"COUNTIF($S$1:S7236,Q7236+R7236)","v":0},"160103",1E-4,""]
[160103.00020000001,null,1,1,15440,null,1,null,15440,1,"کیلو گرم","قیر 25-85 مظروف",31200201,null,2,{"$f":"COUNTIF($S$1:S7238,Q7238+R7238)","v":2},"160103",1E-4,160103.0001]
[160103.01,null,4.5,1,1143,null,1,null,254,4.5,"كیلوگرم","حمل قیر مظروف",41080201,null,1,{"$f":"COUNTIF($S$1:S7242,Q7242+R7242)","v":1},"160103",0.01,160103.01]
["",null,null,null,null,null,null,null,null,null,null,null,null,"170101",null,{"$f":"COUNTIF($S$1:S7245,Q7245+R7245)","v":0},"170101",0.01,""]
[170101.00000001999,null,8.2763999999999997E-3,1,530.59172760000013,null,2.2989999999999999,null,64109,3.5999999999999999E-3,"نفر ساعت","کارگر فنی ماهر",14010103,null,2,{"$f":"COUNTIF($S$1:S7249,Q7249+R7249)","v":2},"170101",1E-8,170101.00000001001]
["",null,null,null,null,null,"ضريب",null,"بهاي واحد","مقـدار","واحــد","ماشين آلات ",null,null,"رديف",{"$f":"COUNTIF($S$1:S7252,Q7252+R7252)","v":0},"170101",9.9999999999999995E-7,""]
[170101.00000299999,null,6.0000000000000002E-5,1,15731.090340000001,null,1,null,262184839,6.0000000000000002E-5,"دستگاه ساعت","جت فن با قطر 120 سانتیمتر و قدرت 55 کیلووات و هوادهی 15-30 متر مکعب در ثانیه و فشار استاتیکی 2500-2000 پاسکال",26011521,null,3,{"$f":"COUNTIF($S$1:S7255,Q7255+R7255)","v":3},"170101",9.9999999999999995E-7,170101.00000100001]
[170101.000004,null,1.43E-2,1,5232.5844999999999,null,1,null,365915,1.43E-2,"دستگاه ساعت","ژنراتور 120KAVA",26030123,null,4,{"$f":"COUNTIF($S$1:S7256,Q7256+R7256)","v":4},"170101",9.9999999999999995E-7,170101.00000100001]
[170101.0001,null,1.6400000000000001E-2,1,5060.22,null,1,null,308550,1.6400000000000001E-2,"متر طول","کیسه فن به قطر 120 سانتیمتر کره ای",39200111,null,1,{"$f":"COUNTIF($S$1:S7259,Q7259+R7259)","v":1},{"$f":"IF(N7259>0,N7259,Q7258)","v":"170101"},1E-4,{"$f":"IF(M7259<>\"\",Q7259+R7259,\"\")","v":170101.0001}]
[170201.00000001001,null,0.21590000000000001,1,28325.000499999998,null,1.27,null,131195,0.17,"نفر ساعت","کابل کش درجه یک فشار ضعیف",16020201,null,1,{"$f":"COUNTIF($S$1:S7263,Q7263+R7263)","v":1},"170201",1E-8,170201.00000001001]
[170201.00000003001,null,0.17,1,37291.879999999997,null,1,null,219364,0.17,"نفر ساعت","تکنسین برق",18090301,null,3,{"$f":"COUNTIF($S$1:S7265,Q7265+R7265)","v":3},"170201",1E-8,170201.00000001001]
[170201.00000199999,null,0.65799999999999992,1,240772.07,null,0.94,null,365915,0.7,"دستگاه ساعت","ژنراتور 125",26030124,null,2,{"$f":"COUNTIF($S$1:S7268,Q7268+R7268)","v":2},"170201",9.9999999999999995E-7,170201.00000100001]
["",null,null,null,null,null,null,null,null,null,null,null,null,"170202",null,{"$f":"COUNTIF($S$1:S7272,Q7272+R7272)","v":0},"170202",1E-4,""]
[170202.00000001001,null,-30,1,0,null,-1,null,0,30,"درصد","درصد",19020199,null,1,{"$f":"COUNTIF($S$1:S7275,Q7275+R7275)","v":1},"170202",1E-8,170202.00000001001]
["",null,null,null,null,null,"ضريب",null,"بهاي واحد","مقـدار","واحــد","نيروي انساني ",null,null,"رديف",{"$f":"COUNTIF($S$1:S7278,Q7278+R7278)","v":0},"170301",1E-8,""]
[170301.00000001001,null,7,1,0,null,1,null,0,7,"درصد","درصد",19020199,null,1,{"$f":"COUNTIF($S$1:S7279,Q7279+R7279)","v":1},"170301",1E-8,170301.00000001001]
["",null,null,null,null,null,"ضريب",null,"بهاي واحد","مقـدار","واحــد","نيروي انساني ",null,null,"رديف",{"$f":"COUNTIF($S$1:S7282,Q7282+R7282)","v":0},"180201",1E-8,""]
["",null,null,null,null,null,"ضريب",null,"بهاي واحد","مقـدار","واحــد","ماشين آلات ",null,null,"رديف",{"$f":"COUNTIF($S$1:S7285,Q7285+R7285)","v":0},"180201",9.9999999999999995E-7,""]
[180201.0001,null,1.1729999999999998,1,323478.20999999996,null,1.02,null,275770,1.1499999999999999,"متر مربع","نوار شبرنگ",31391601,null,1,{"$f":"COUNTIF($S$1:S7288,Q7288+R7288)","v":1},"180201",1E-4,180201.0001]
["",null,null,null,null,null,"ضريب",null,"بهاي واحد","مقـدار","واحــد","نيروي انساني ",null,null,"رديف",{"$f":"COUNTIF($S$1:S7291,Q7291+R7291)","v":0},"180202",1E-8,""]
[180202.00000100001,null,2.02,1,238824.6,null,1.01,null,118230,2,"دستگاه-ساعت","وانت نیم تن باراننده",23010501,null,1,{"$f":"COUNTIF($S$1:S7295,Q7295+R7295)","v":1},"180202",9.9999999999999995E-7,180202.00000100001]
[180202.00020000001,null,3.0300000000000001E-2,1,924.15,null,1.01,null,30500,0.03,"كیلوگرم","تینر رنگ شبرنگ",31411706,null,2,{"$f":"COUNTIF($S$1:S7298,Q7298+R7298)","v":2},"180202",1E-4,180202.0001]
["",null,null,null,null,null,null,null,null,null,null,null,null,"180301",null,{"$f":"COUNTIF($S$1:S7301,Q7301+R7301)","v":0},"180301",0.01,""]
["",null,null,null,null,null,null,null,null,null,null,"متر طول",null,null,"واحـد :",{"$f":"COUNTIF($S$1:S7302,Q7302+R7302)","v":0},"180301",0.01,""]
[{"$f":"IF(M7305<>\"\",Q7305+(P7305*R7305),\"\")","v":180301.00000001999},null,2.346E-3,1,197.61296399999995,null,1.02,null,84234,2.3E-3,"نفر ساعت","مکانیسین خط کشی",14200302,null,2,{"$f":"COUNTIF($S$1:S7305,Q7305+R7305)","v":2},"180301",1E-8,180301.00000001001]
[180301.00000199999,null,2.3E-3,1,271.92900000000003,null,1,null,118230,2.3E-3,"دستگاه-ساعت","وانت نیم تن باراننده",23010501,null,2,{"$f":"COUNTIF($S$1:S7309,Q7309+R7309)","v":2},"180301",9.9999999999999995E-7,180301.00000100001]
[180301.00020000001,null,8.6399999999999991E-2,1,9434.8799999999992,null,0.72,null,109200,0.12,"كیلوگرم","گلاسبید",31412701,null,2,{"$f":"COUNTIF($S$1:S7312,Q7312+R7312)","v":2},"180301",1E-4,180301.0001]
["",null,null,null,null,null,null,null,null,null,null,null,null,"180302",null,{"$f":"COUNTIF($S$1:S7315,Q7315+R7315)","v":0},"180302",0.01,""]
[180302.00000001001,null,9.1799999999999998E-4,1,85.548420000000007,null,1.02,null,93190,8.9999999999999998E-4,"نفر ساعت","نقاش خط کشی",14200301,null,1,{"$f":"COUNTIF($S$1:S7318,Q7318+R7318)","v":1},"180302",1E-8,180302.00000001001]
["",null,null,null,null,null,"ضريب",null,"بهاي واحد","مقـدار","واحــد","ماشين آلات ",null,null,"رديف",{"$f":"COUNTIF($S$1:S7321,Q7321+R7321)","v":0},"180302",9.9999999999999995E-7,""]
["",null,null,null,null,null,"ضريب",null,"بهاي واحد","مقـدار","واحــد","مصالح",null,null,"رديف",{"$f":"COUNTIF($S$1:S7324,Q7324+R7324)","v":0},"180302",1E-4,""]
[180302.0001,null,0.27,1,17415,null,0.75,null,64500,0.36,"كیلوگرم","رنگ اسپری پلاستیک ترافیک",31411001,null,1,{"$f":"COUNTIF($S$1:S7325,Q7325+R7325)","v":1},"180302",1E-4,180302.0001]
[180302.01,null,0.48,1,181.92,null,1,null,379,0.48,"كیلوگرم","حمل مواد مصرفی در نقاشی و چسبها",41170201,null,1,{"$f":"COUNTIF($S$1:S7328,Q7328+R7328)","v":1},"180302",0.01,180302.01]
[180303.00000001001,null,1.5299999999999998E-4,1,14.258069999999998,null,1.02,null,93190,1.4999999999999999E-4,"نفر ساعت","نقاش خط کشی",14200301,null,1,{"$f":"COUNTIF($S$1:S7332,Q7332+R7332)","v":1},"180303",1E-8,180303.00000001001]
["",null,null,null,null,null,"ضريب",null,"بهاي واحد","مقـدار","واحــد","ماشين آلات ",null,null,"رديف",{"$f":"COUNTIF($S$1:S7335,Q7335+R7335)","v":0},"180303",9.9999999999999995E-7,""]
["",null,null,null,null,null,"ضريب",null,"بهاي واحد","مقـدار","واحــد","مصالح",null,null,"رديف",{"$f":"COUNTIF($S$1:S7338,Q7338+R7338)","v":0},"180303",1E-4,""]
["",null,null,null,null,null,"ضريب",null,"بهاي واحد","مقـدار","واحــد"," حمل مصالح ",null,null,"رديف",{"$f":"COUNTIF($S$1:S7341,Q7341+R7341)","v":0},"180303",0.01,""]
["",null,null,null,null,null,null,null,null,null,null,"متر طول",null,null,"واحـد :",{"$f":"COUNTIF($S$1:S7344,Q7344+R7344)","v":0},"180304",0.01,""]
["",null,null,null,null,null,"ضريب",null,"بهاي واحد","مقـدار","واحــد","نيروي انساني ",null,null,"رديف",{"$f":"COUNTIF($S$1:S7345,Q7345+R7345)","v":0},"180304",1E-8,""]
[180304.00000003001,null,9.1800000000000009E-5,1,5.4014202000000004,null,1.02,null,58839,9.0000000000000006E-5,"نفر ساعت","کارگر پیاده کننده مسیر خط کشی",14200303,null,3,{"$f":"COUNTIF($S$1:S7348,Q7348+R7348)","v":3},"180304",1E-8,180304.00000001001]
[180304.00000199999,null,6.0000000000000002E-5,1,7.0937999999999999,null,1,null,118230,6.0000000000000002E-5,"دستگاه-ساعت","وانت نیم تن باراننده",23010501,null,2,{"$f":"COUNTIF($S$1:S7351,Q7351+R7351)","v":2},"180304",9.9999999999999995E-7,180304.00000100001]
["",null,null,null,null,null,"ضريب",null,"بهاي واحد","مقـدار","واحــد"," حمل مصالح ",null,null,"رديف",{"$f":"COUNTIF($S$1:S7355,Q7355+R7355)","v":0},"180304",0.01,""]
["",null,null,null,null,null,null,null,null,null,null,"متر مربع",null,null,"واحـد :",{"$f":"COUNTIF($S$1:S7358,Q7358+R7358)","v":0},"180305",0.01,""]
[180305.00000001999,null,1.6320000000000001E-2,1,1374.6988799999997,null,1.02,null,84234,1.6E-2,"نفر ساعت","مکانیسین خط کشی",14200302,null,2,{"$f":"COUNTIF($S$1:S7361,Q7361+R7361)","v":2},"180305",1E-8,180305.00000001001]
["",null,null,null,null,null,"ضريب",null,"بهاي واحد","مقـدار","واحــد","ماشين آلات ",null,null,"رديف",{"$f":"COUNTIF($S$1:S7363,Q7363+R7363)","v":0},"180305",9.9999999999999995E-7,""]
[180305.0001,null,2.25,1,145125,null,0.75,null,64500,3,"كیلوگرم","رنگ اسپری پلاستیک ترافیک",31411001,null,1,{"$f":"COUNTIF($S$1:S7367,Q7367+R7367)","v":1},"180305",{"$f":"IF(IF(O7367=\"رديف\",VLOOKUP(L7367,Kod,2,0),0)=0,R7366,IF(O7367=\"رديف\",VLOOKUP(L7367,Kod,2,0),0))","v":1E-4},180305.0001]
[180305.00020000001,null,0.72,1,78624,null,0.72,null,109200,1,"كیلوگرم","گلاسبید",31412701,null,2,{"$f":"COUNTIF($S$1:S7368,Q7368+R7368)","v":2},"180305",1E-4,180305.0001]
["",null,null,null,null,null,null,null,null,null,null,null,null,"180306",null,{"$f":"COUNTIF($S$1:S7371,Q7371+R7371)","v":0},"180306",0.01,""]
[180306.00000001001,null,6.1200000000000004E-3,1,570.32280000000003,null,1.02,null,93190,6.0000000000000001E-3,"نفر ساعت","نقاش خط کشی",14200301,null,1,{"$f":"COUNTIF($S$1:S7374,Q7374+R7374)","v":1},"180306",1E-8,180306.00000001001]
[180306.00000100001,null,6.3E-3,1,12154.293899999999,null,1.05,null,1929253,6.0000000000000001E-3,"دستگاه ساعت","ماشین خط کشی آسفالت اچ 75 با راننده",22030603,null,1,{"$f":"COUNTIF($S$1:S7378,Q7378+R7378)","v":1},"180306",9.9999999999999995E-7,180306.00000100001]
[180306.0001,null,2.25,1,145125,null,0.75,null,64500,3,"كیلوگرم","رنگ اسپری پلاستیک ترافیک",31411001,null,1,{"$f":"COUNTIF($S$1:S7381,Q7381+R7381)","v":1},"180306",1E-4,180306.0001]
[180306.01,null,4,1,1516,null,1,null,379,4,"كیلوگرم","حمل مواد مصرفی در نقاشی و چسبها",41170201,null,1,{"$f":"COUNTIF($S$1:S7384,Q7384+R7384)","v":1},"180306",0.01,180306.01]
[180401.00000001001,null,4.0800000000000003E-2,1,3802.152,null,1.02,null,93190,0.04,"نفر ساعت","نقاش درجه یک ساختمان",14200101,null,1,{"$f":"COUNTIF($S$1:S7388,Q7388+R7388)","v":1},"180401",1E-8,180401.00000001001]
[180401.00000003001,null,2.8559999999999996E-3,1,240.57230399999997,null,1.02,null,84234,2.7999999999999995E-3,"نفر ساعت","مکانیسین خط کشی",14200302,null,3,{"$f":"COUNTIF($S$1:S7390,Q7390+R7390)","v":3},"180401",1E-8,180401.00000001001]
[180401.00000003999,null,4.0800000000000003E-3,1,240.06311999999997,null,1.02,null,58839,4.0000000000000001E-3,"نفر ساعت","کارگر پیاده کننده مسیر خط کشی",14200303,null,4,{"$f":"COUNTIF($S$1:S7391,Q7391+R7391)","v":4},"180401",1E-8,180401.00000001001]
[180401.00000199999,null,2.7999999999999995E-3,1,331.04399999999993,null,1,null,118230,2.7999999999999995E-3,"دستگاه-ساعت","وانت نیم تن باراننده",23010501,null,2,{"$f":"COUNTIF($S$1:S7394,Q7394+R7394)","v":2},"180401",9.9999999999999995E-7,180401.00000100001]
["",null,null,null,null,null,"ضريب",null,"بهاي واحد","مقـدار","واحــد","مصالح",null,null,"رديف",{"$f":"COUNTIF($S$1:S7397,Q7397+R7397)","v":0},"180401",1E-4,""]
["",null,null,null,null,null,"ضريب",null,"بهاي واحد","مقـدار","واحــد"," حمل مصالح ",null,null,"رديف",{"$f":"COUNTIF($S$1:S7401,Q7401+R7401)","v":0},"180401",0.01,""]
["",null,null,null,null,null,null,null,null,null,null,null,null,"180402",null,{"$f":"COUNTIF($S$1:S7404,Q7404+R7404)","v":0},"180402",0.01,""]
[180402.00000001999,null,1.4279999999999998E-3,1,133.07532,null,1.02,null,93190,1.3999999999999998E-3,"نفر ساعت","نقاش خط کشی",14200301,null,2,{"$f":"COUNTIF($S$1:S7408,Q7408+R7408)","v":2},"180402",1E-8,180402.00000001001]
["",null,null,null,null,null,"ضريب",null,"بهاي واحد","مقـدار","واحــد","ماشين آلات ",null,null,"رديف",{"$f":"COUNTIF($S$1:S7411,Q7411+R7411)","v":0},"180402",9.9999999999999995E-7,""]
[180402.00000299999,null,1.5E-3,1,420.31349999999998,null,1,null,280209,1.5E-3,"دستگاه-ساعت","تانکراب پاش به ظرفیت حدود 15000 لیتر باراننده",23020503,null,3,{"$f":"COUNTIF($S$1:S7414,Q7414+R7414)","v":3},"180402",9.9999999999999995E-7,180402.00000100001]
[180402.000004,null,1.5E-3,1,18.173999999999999,null,1,null,12116,1.5E-3,"دستگاه ساعت","واتر جت",26011501,null,4,{"$f":"COUNTIF($S$1:S7415,Q7415+R7415)","v":4},"180402",9.9999999999999995E-7,180402.00000100001]
[180402.0001,null,0.54,1,34830,null,0.75,null,64500,0.72,"كیلوگرم","رنگ اسپری پلاستیک ترافیک",31411001,null,1,{"$f":"COUNTIF($S$1:S7417,Q7417+R7417)","v":1},"180402",1E-4,180402.0001]
["",null,null,null,null,null,"ضريب",null,"بهاي واحد","مقـدار","واحــد"," حمل مصالح ",null,null,"رديف",{"$f":"COUNTIF($S$1:S7420,Q7420+R7420)","v":0},"180402",0.01,""]
["",null,null,null,null,null,null,null,null,null,null,"متر طول",null,null,"واحـد :",{"$f":"COUNTIF($S$1:S7424,Q7424+R7424)","v":0},"180403",0.01,""]
[180403.00000001999,null,2.0400000000000003E-4,1,19.010760000000001,null,1.02,null,93190,2.0000000000000001E-4,"نفر ساعت","نقاش خط کشی",14200301,null,2,{"$f":"COUNTIF($S$1:S7427,Q7427+R7427)","v":2},"180403",1E-8,180403.00000001001]
[180403.00000100001,null,1.8999999999999998E-4,1,366.55806999999999,null,1,null,1929253,1.8999999999999998E-4,"دستگاه ساعت","ماشین خط کشی آسفالت اچ 75 با راننده",22030603,null,1,{"$f":"COUNTIF($S$1:S7431,Q7431+R7431)","v":1},"180403",{"$f":"IF(IF(O7431=\"رديف\",VLOOKUP(L7431,Kod,2,0),0)=0,R7430,IF(O7431=\"رديف\",VLOOKUP(L7431,Kod,2,0),0))","v":9.9999999999999995E-7},180403.00000100001]
[180403.0001,null,4.4999999999999998E-2,1,2902.5,null,0.75,null,64500,0.06,"كیلوگرم","رنگ اسپری پلاستیک ترافیک",31411001,null,1,{"$f":"COUNTIF($S$1:S7434,Q7434+R7434)","v":1},"180403",1E-4,180403.0001]
["",null,null,null,null,null,"ضريب",null,"بهاي واحد","مقـدار","واحــد"," حمل مصالح ",null,null,"رديف",{"$f":"COUNTIF($S$1:S7437,Q7437+R7437)","v":0},"180403",0.01,""]
[180403.01,null,8.3000000000000004E-2,1,31.456999999999997,null,1,null,379,8.3000000000000004E-2,"كیلوگرم","حمل مواد مصرفی در نقاشی و چسبها",41170201,null,1,{"$f":"COUNTIF($S$1:S7438,Q7438+R7438)","v":1},"180403",0.01,180403.01]
[180404.00000001001,null,3.5700000000000007E-3,1,332.68830000000003,null,1.02,null,93190,3.5000000000000005E-3,"نفر ساعت","نقاش درجه یک ساختمان",14200101,null,1,{"$f":"COUNTIF($S$1:S7442,Q7442+R7442)","v":1},"180404",1E-8,180404.00000001001]
[180404.00000003001,null,1.0200000000000001E-4,1,8.5918679999999998,null,1.02,null,84234,1E-4,"نفر ساعت","مکانیسین خط کشی",14200302,null,3,{"$f":"COUNTIF($S$1:S7444,Q7444+R7444)","v":3},"180404",1E-8,180404.00000001001]
[180404.00000100001,null,1E-4,1,192.92529999999999,null,1,null,1929253,1E-4,"دستگاه ساعت","ماشین خط کشی آسفالت اچ 75 با راننده",22030603,null,1,{"$f":"COUNTIF($S$1:S7447,Q7447+R7447)","v":1},"180404",9.9999999999999995E-7,180404.00000100001]
[180404.0001,null,4.4999999999999998E-2,1,2902.5,null,0.75,null,64500,0.06,"كیلوگرم","رنگ اسپری پلاستیک ترافیک",31411001,null,1,{"$f":"COUNTIF($S$1:S7450,Q7450+R7450)","v":1},"180404",1E-4,180404.0001]
[180404.01,null,8.3000000000000004E-2,1,31.456999999999997,null,1,null,379,8.3000000000000004E-2,"كیلوگرم","حمل مواد مصرفی در نقاشی و چسبها",41170201,null,1,{"$f":"COUNTIF($S$1:S7454,Q7454+R7454)","v":1},"180404",0.01,180404.01]
["",null,null,null,null,null,"ضريب",null,"بهاي واحد","مقـدار","واحــد","نيروي انساني ",null,null,"رديف",{"$f":"COUNTIF($S$1:S7457,Q7457+R7457)","v":0},"180501",1E-8,""]
[180501.00000003001,null,2.346E-3,1,197.61296399999995,null,1.02,null,84234,2.3E-3,"نفر ساعت","مکانیسین خط کشی",14200302,null,3,{"$f":"COUNTIF($S$1:S7460,Q7460+R7460)","v":3},"180501",1E-8,180501.00000001001]
[180501.00000003999,null,3.3660000000000001E-3,1,198.052074,null,1.02,null,58839,3.3E-3,"نفر ساعت","کارگر پیاده کننده مسیر خط کشی",14200303,null,4,{"$f":"COUNTIF($S$1:S7461,Q7461+R7461)","v":4},"180501",1E-8,180501.00000001001]
[180501.00000199999,null,2.3E-3,1,271.92900000000003,null,1,null,118230,2.3E-3,"دستگاه-ساعت","وانت نیم تن باراننده",23010501,null,2,{"$f":"COUNTIF($S$1:S7464,Q7464+R7464)","v":2},"180501",9.9999999999999995E-7,180501.00000100001]
["",null,null,null,null,null,"ضريب",null,"بهاي واحد","مقـدار","واحــد","مصالح",null,null,"رديف",{"$f":"COUNTIF($S$1:S7467,Q7467+R7467)","v":0},"180501",1E-4,""]
[180501.00030000001,null,0.24479999999999999,1,26732.16,null,1.02,null,109200,0.24,"كیلوگرم","گلاسبید",31412701,null,3,{"$f":"COUNTIF($S$1:S7470,Q7470+R7470)","v":3},"180501",1E-4,180501.0001]
[180501.02,null,1.21,1,458.59,null,1,null,379,1.21,"كیلوگرم","حمل مواد مصرفی در نقاشی و چسبها",41170201,null,2,{"$f":"COUNTIF($S$1:S7473,Q7473+R7473)","v":2},"180501",0.01,180501.01]
[180502.00000001001,null,3.3660000000000001E-3,1,313.67754000000002,null,1.02,null,93190,3.3E-3,"نفر ساعت","نقاش درجه یک ساختمان",14200101,null,1,{"$f":"COUNTIF($S$1:S7477,Q7477+R7477)","v":1},"180502",1E-8,180502.00000001001]
[180502.00000003999,null,2.0400000000000001E-3,1,120.03155999999998,null,1.02,null,58839,2E-3,"نفر ساعت","کارگر پیاده کننده مسیر خط کشی",14200303,null,4,{"$f":"COUNTIF($S$1:S7480,Q7480+R7480)","v":4},"180502",1E-8,180502.00000001001]
[180502.00000199999,null,1.2E-4,1,14.1876,null,1,null,118230,1.2E-4,"دستگاه-ساعت","وانت نیم تن باراننده",23010501,null,2,{"$f":"COUNTIF($S$1:S7483,Q7483+R7483)","v":2},"180502",9.9999999999999995E-7,180502.00000100001]
["",null,null,null,null,null,"ضريب",null,"بهاي واحد","مقـدار","واحــد","مصالح",null,null,"رديف",{"$f":"COUNTIF($S$1:S7484,Q7484+R7484)","v":0},"180502",1E-4,""]
[180502.00030000001,null,1.6320000000000001E-2,1,1782.144,null,1.02,null,109200,1.6E-2,"كیلوگرم","گلاسبید",31412701,null,3,{"$f":"COUNTIF($S$1:S7487,Q7487+R7487)","v":3},"180502",1E-4,180502.0001]
["",null,null,null,null,null,null,null,null,null,null,"متر طول",null,null,"واحـد :",{"$f":"COUNTIF($S$1:S7491,Q7491+R7491)","v":0},"180601",0.01,""]
[180601.00000001999,null,2.8559999999999996E-3,1,266.15064000000001,null,1.02,null,93190,2.7999999999999995E-3,"نفر ساعت","نقاش خط کشی",14200301,null,2,{"$f":"COUNTIF($S$1:S7494,Q7494+R7494)","v":2},"180601",1E-8,180601.00000001001]
[180601.00000003999,null,4.1820000000000008E-3,1,246.06469799999999,null,1.02,null,58839,4.1000000000000003E-3,"نفر ساعت","کارگر پیاده کننده مسیر خط کشی",14200303,null,4,{"$f":"COUNTIF($S$1:S7496,Q7496+R7496)","v":4},"180601",1E-8,180601.00000001001]
[180601.00000299999,null,1.5E-3,1,420.31349999999998,null,1,null,280209,1.5E-3,"دستگاه-ساعت","تانکراب پاش به ظرفیت حدود 15000 لیتر باراننده",23020503,null,3,{"$f":"COUNTIF($S$1:S7500,Q7500+R7500)","v":3},"180601",9.9999999999999995E-7,180601.00000100001]
[180601.0001,null,2.0474999999999999,1,132063.75,null,1.05,null,64500,1.95,"كیلوگرم","رنگ اسپری پلاستیک ترافیک",31411001,null,1,{"$f":"COUNTIF($S$1:S7503,Q7503+R7503)","v":1},"180601",1E-4,180601.0001]
[180601.00020000001,null,7.9799999999999996E-2,1,4965.9540000000006,null,1.05,null,62230,7.5999999999999998E-2,"كیلوگرم","پرایمر برای خط کشی با رنگ گرم",31412510,null,2,{"$f":"COUNTIF($S$1:S7504,Q7504+R7504)","v":2},"180601",1E-4,180601.0001]
[180601.01,null,6.0000000000000001E-3,1,199.27799999999999,null,1,null,33213,6.0000000000000001E-3,"مترمكعب","حمل آب چاه قنات و رودخانه",41010101,null,1,{"$f":"COUNTIF($S$1:S7507,Q7507+R7507)","v":1},"180601",0.01,180601.01]
["",null,null,null,null,null,null,null,null,null,null,"متر طول",null,null,"واحـد :",{"$f":"COUNTIF($S$1:S7510,Q7510+R7510)","v":0},"180602",0.01,""]
[180602.00000003001,null,1.5299999999999998E-4,1,12.887802000000001,null,1.02,null,84234,1.4999999999999999E-4,"نفر ساعت","مکانیسین خط کشی",14200302,null,3,{"$f":"COUNTIF($S$1:S7514,Q7514+R7514)","v":3},"180602",1E-8,180602.00000001001]
[180602.00000100001,null,1.4999999999999999E-4,1,289.38794999999999,null,1,null,1929253,1.4999999999999999E-4,"دستگاه ساعت","ماشین خط کشی آسفالت اچ 75 با راننده",22030603,null,1,{"$f":"COUNTIF($S$1:S7517,Q7517+R7517)","v":1},"180602",9.9999999999999995E-7,180602.00000100001]
["",null,null,null,null,null,"ضريب",null,"بهاي واحد","مقـدار","واحــد","مصالح",null,null,"رديف",{"$f":"COUNTIF($S$1:S7519,Q7519+R7519)","v":0},"180602",1E-4,""]
["",null,null,null,null,null,"ضريب",null,"بهاي واحد","مقـدار","واحــد"," حمل مصالح ",null,null,"رديف",{"$f":"COUNTIF($S$1:S7523,Q7523+R7523)","v":0},"180602",0.01,""]
["",null,null,null,null,null,null,null,null,null,null,"مترطول",null,null,"واحـد :",{"$f":"COUNTIF($S$1:S7526,Q7526+R7526)","v":0},"180603",0.01,""]
["",null,null,null,null,null,"ضريب",null,"بهاي واحد","مقـدار","واحــد","نيروي انساني ",null,null,"رديف",{"$f":"COUNTIF($S$1:S7527,Q7527+R7527)","v":0},"180603",1E-8,""]
[180603.00000003001,null,2.8559999999999996E-3,1,240.57230399999997,null,1.02,null,84234,2.7999999999999995E-3,"نفر ساعت","مکانیسین خط کشی",14200302,null,3,{"$f":"COUNTIF($S$1:S7530,Q7530+R7530)","v":3},"180603",1E-8,180603.00000001001]
[180603.00000100001,null,2.7999999999999995E-3,1,5401.9083999999993,null,1,null,1929253,2.7999999999999995E-3,"دستگاه ساعت","ماشین خط کشی آسفالت اچ 75 با راننده",22030603,null,1,{"$f":"COUNTIF($S$1:S7533,Q7533+R7533)","v":1},"180603",9.9999999999999995E-7,180603.00000100001]
["",null,null,null,null,null,"ضريب",null,"بهاي واحد","مقـدار","واحــد","مصالح",null,null,"رديف",{"$f":"COUNTIF($S$1:S7537,Q7537+R7537)","v":0},"180603",1E-4,""]
[180603.00030000001,null,0.30599999999999999,1,33415.199999999997,null,1.02,null,109200,0.3,"كیلوگرم","گلاسبید",31412701,null,3,{"$f":"COUNTIF($S$1:S7540,Q7540+R7540)","v":3},"180603",1E-4,180603.0001]
[180603.02,null,2.476,1,938.404,null,1,null,379,2.476,"كیلوگرم","حمل مواد مصرفی در نقاشی و چسبها",41170201,null,2,{"$f":"COUNTIF($S$1:S7543,Q7543+R7543)","v":2},"180603",0.01,180603.01]
["",null,null,null,null,null,"ضريب",null,"بهاي واحد","مقـدار","واحــد","نيروي انساني ",null,null,"رديف",{"$f":"COUNTIF($S$1:S7546,Q7546+R7546)","v":0},"180604",1E-8,""]
[180604.00000003001,null,1.5299999999999998E-4,1,12.887802000000001,null,1.02,null,84234,1.4999999999999999E-4,"نفر ساعت","مکانیسین خط کشی",14200302,null,3,{"$f":"COUNTIF($S$1:S7549,Q7549+R7549)","v":3},"180604",1E-8,180604.00000001001]
[180604.00000003999,null,2.2440000000000003E-4,1,13.203471600000002,null,1.02,null,58839,2.2000000000000003E-4,"نفر ساعت","کارگر پیاده کننده مسیر خط کشی",14200303,null,4,{"$f":"COUNTIF($S$1:S7550,Q7550+R7550)","v":4},"180604",1E-8,180604.00000001001]
[180604.00000199999,null,1.4999999999999999E-4,1,17.734500000000001,null,1,null,118230,1.4999999999999999E-4,"دستگاه-ساعت","وانت نیم تن باراننده",23010501,null,2,{"$f":"COUNTIF($S$1:S7553,Q7553+R7553)","v":2},"180604",9.9999999999999995E-7,180604.00000100001]
[180604.00020000001,null,5.2500000000000003E-3,1,326.70749999999998,null,1.05,null,62230,5.0000000000000001E-3,"كیلوگرم","پرایمر برای خط کشی با رنگ گرم",31412510,null,2,{"$f":"COUNTIF($S$1:S7556,Q7556+R7556)","v":2},"180604",1E-4,180604.0001]
["",null,null,null,null,null,null,null,null,null,null,null,null,"180701",null,{"$f":"COUNTIF($S$1:S7560,Q7560+R7560)","v":0},"180701",0.01,""]
[180701.00000001001,null,1.0608E-3,1,98.855952000000002,null,1.02,null,93190,1.0399999999999999E-3,"نفر ساعت","نقاش خط کشی",14200301,null,1,{"$f":"COUNTIF($S$1:S7563,Q7563+R7563)","v":1},"180701",1E-8,180701.00000001001]
[180701.00000100001,null,1.0399999999999999E-3,1,534.18039999999996,null,1,null,513635,1.0399999999999999E-3,"دستگاه ساعت","ماشین خط کشی آسفالت اچ 33 با راننده",22030602,null,1,{"$f":"COUNTIF($S$1:S7567,Q7567+R7567)","v":1},"180701",9.9999999999999995E-7,180701.00000100001]
["",null,null,null,null,null,"ضريب",null,"بهاي واحد","مقـدار","واحــد","مصالح",null,null,"رديف",{"$f":"COUNTIF($S$1:S7569,Q7569+R7569)","v":0},"180701",1E-4,""]
[180701.00030000001,null,4.9000000000000007E-3,1,271.03370000000007,null,0.7,null,55313,7.000000000000001E-3,"كیلوگرم","تینر مخصوص رنگ ترافیک",31411704,null,3,{"$f":"COUNTIF($S$1:S7572,Q7572+R7572)","v":3},"180701",1E-4,180701.0001]
[180701.00039999999,null,3.5999999999999997E-2,1,3931.2,null,0.72,null,109200,0.05,"كیلوگرم","گلاسبید",31412701,null,4,{"$f":"COUNTIF($S$1:S7573,Q7573+R7573)","v":4},"180701",1E-4,180701.0001]
["",null,null,null,null,null,null,null,null,null,null,null,null,"180702",null,{"$f":"COUNTIF($S$1:S7576,Q7576+R7576)","v":0},"180702",0.01,""]
[180702.00000001001,null,4.0800000000000005E-4,1,38.021520000000002,null,1.02,null,93190,4.0000000000000002E-4,"نفر ساعت","نقاش خط کشی",14200301,null,1,{"$f":"COUNTIF($S$1:S7579,Q7579+R7579)","v":1},{"$f":"IF(N7579>0,N7579,Q7578)","v":"180702"},1E-8,{"$f":"IF(M7579<>\"\",Q7579+R7579,\"\")","v":180702.00000001001}]
[180702.00000100001,null,4.0000000000000002E-4,1,205.45400000000001,null,1,null,513635,4.0000000000000002E-4,"دستگاه ساعت","ماشین خط کشی آسفالت اچ 33 با راننده",22030602,null,1,{"$f":"COUNTIF($S$1:S7583,Q7583+R7583)","v":1},"180702",9.9999999999999995E-7,180702.00000100001]
[180702.0001,null,4.9000000000000002E-2,1,3871.0000000000005,null,0.7,null,79000,7.0000000000000007E-2,"كیلوگرم","رنگ ترافیک سرد با زرین اکریلیک",31410802,null,1,{"$f":"COUNTIF($S$1:S7586,Q7586+R7586)","v":1},"180702",1E-4,180702.0001]
["",null,null,null,null,null,"ضريب",null,"بهاي واحد","مقـدار","واحــد"," حمل مصالح ",null,null,"رديف",{"$f":"COUNTIF($S$1:S7590,Q7590+R7590)","v":0},"180702",0.01,""]
["",null,null,null,null,null,null,null,null,null,null,"متر طول",null,null,"واحـد :",{"$f":"COUNTIF($S$1:S7593,Q7593+R7593)","v":0},"180703",0.01,""]
["",null,null,null,null,null,"ضريب",null,"بهاي واحد","مقـدار","واحــد","نيروي انساني ",null,null,"رديف",{"$f":"COUNTIF($S$1:S7594,Q7594+R7594)","v":0},"180703",1E-8,""]
[180703.00000001999,null,7.1400000000000001E-5,1,6.0143075999999995,null,1.02,null,84234,6.9999999999999994E-5,"نفر ساعت","مکانیسین خط کشی",14200302,null,2,{"$f":"COUNTIF($S$1:S7596,Q7596+R7596)","v":2},"180703",1E-8,180703.00000001001]
[180703.00000100001,null,6.9999999999999994E-5,1,35.954449999999994,null,1,null,513635,6.9999999999999994E-5,"دستگاه ساعت","ماشین خط کشی آسفالت اچ 33 با راننده",22030602,null,1,{"$f":"COUNTIF($S$1:S7599,Q7599+R7599)","v":1},"180703",9.9999999999999995E-7,180703.00000100001]
[180703.00020000001,null,1.4E-3,1,150.48179999999999,null,0.7,null,107487,2E-3,"كیلوگرم","رنگ ترافیک سرد با لاستیک کلردار شده",31410803,null,2,{"$f":"COUNTIF($S$1:S7603,Q7603+R7603)","v":2},"180703",1E-4,180703.0001]
["",null,null,null,null,null,"ضريب",null,"بهاي واحد","مقـدار","واحــد"," حمل مصالح ",null,null,"رديف",{"$f":"COUNTIF($S$1:S7606,Q7606+R7606)","v":0},"180703",0.01,""]
["",null,null,null,null,null,null,null,null,null,null,"متر طول",null,null,"واحـد :",{"$f":"COUNTIF($S$1:S7609,Q7609+R7609)","v":0},"180704",0.01,""]
[180704.00000003001,null,4.0800000000000002E-5,1,2.4006312000000003,null,1.02,null,58839,4.0000000000000003E-5,"نفر ساعت","کارگر پیاده کننده مسیر خط کشی",14200303,null,3,{"$f":"COUNTIF($S$1:S7613,Q7613+R7613)","v":3},"180704",1E-8,180704.00000001001]
[180704.00000199999,null,2.6999999999999996E-5,1,3.1922099999999993,null,1,null,118230,2.6999999999999996E-5,"دستگاه-ساعت","وانت نیم تن باراننده",23010501,null,2,{"$f":"COUNTIF($S$1:S7616,Q7616+R7616)","v":2},"180704",9.9999999999999995E-7,180704.00000100001]
[180704.00020000001,null,1.4E-3,1,150.48179999999999,null,0.7,null,107487,2E-3,"كیلوگرم","رنگ ترافیک سرد با لاستیک کلردار شده",31410803,null,2,{"$f":"COUNTIF($S$1:S7619,Q7619+R7619)","v":2},"180704",1E-4,180704.0001]
[180704.00039999999,null,3.0239999999999998E-3,1,330.2208,null,0.72,null,109200,4.1999999999999997E-3,"كیلوگرم","گلاسبید",31412701,null,4,{"$f":"COUNTIF($S$1:S7621,Q7621+R7621)","v":4},"180704",1E-4,180704.0001]
["",null,null,null,null,null,"ضريب",null,"بهاي واحد","مقـدار","واحــد"," حمل مصالح ",null,null,"رديف",{"$f":"COUNTIF($S$1:S7622,Q7622+R7622)","v":0},"180704",0.01,""]
["",null,null,null,null,null,"ضريب",null,"بهاي واحد","مقـدار","واحــد","نيروي انساني ",null,null,"رديف",{"$f":"COUNTIF($S$1:S7626,Q7626+R7626)","v":0},"180705",1E-8,""]
[180705.00000003001,null,1.0607999999999999E-2,1,624.16411200000005,null,1.02,null,58839,1.04E-2,"نفر ساعت","کارگر پیاده کننده مسیر خط کشی",14200303,null,3,{"$f":"COUNTIF($S$1:S7629,Q7629+R7629)","v":3},"180705",1E-8,180705.00000001001]
[180705.00000199999,null,7.000000000000001E-3,1,827.61000000000013,null,1,null,118230,7.000000000000001E-3,"دستگاه-ساعت","وانت نیم تن باراننده",23010501,null,2,{"$f":"COUNTIF($S$1:S7632,Q7632+R7632)","v":2},"180705",9.9999999999999995E-7,180705.00000100001]
[180705.00030000001,null,4.0600000000000004E-2,1,2245.7078000000001,null,0.7,null,55313,5.800000000000001E-2,"كیلوگرم","تینر مخصوص رنگ ترافیک",31411704,null,3,{"$f":"COUNTIF($S$1:S7636,Q7636+R7636)","v":3},"180705",1E-4,180705.0001]
[180705.01,null,1.2330000000000001,1,467.30699999999996,null,1,null,379,1.2330000000000001,"كیلوگرم","حمل مواد مصرفی در نقاشی و چسبها",41170201,null,1,{"$f":"COUNTIF($S$1:S7639,Q7639+R7639)","v":1},"180705",0.01,180705.01]
["",null,null,null,null,null,"ضريب",null,"بهاي واحد","مقـدار","واحــد","نيروي انساني ",null,null,"رديف",{"$f":"COUNTIF($S$1:S7642,Q7642+R7642)","v":0},"180706",1E-8,""]
[180706.00000001001,null,2.7540000000000004E-3,1,256.64526000000001,null,1.02,null,93190,2.7000000000000001E-3,"نفر ساعت","نقاش خط کشی",14200301,null,1,{"$f":"COUNTIF($S$1:S7643,Q7643+R7643)","v":1},{"$f":"IF(N7643>0,N7643,Q7642)","v":"180706"},1E-8,{"$f":"IF(M7643<>\"\",Q7643+R7643,\"\")","v":180706.00000001001}]
["",null,null,null,null,null,"ضريب",null,"بهاي واحد","مقـدار","واحــد","ماشين آلات ",null,null,"رديف",{"$f":"COUNTIF($S$1:S7646,Q7646+R7646)","v":0},"180706",9.9999999999999995E-7,""]
["",null,null,null,null,null,"ضريب",null,"بهاي واحد","مقـدار","واحــد","مصالح",null,null,"رديف",{"$f":"COUNTIF($S$1:S7649,Q7649+R7649)","v":0},"180706",1E-4,""]
[180706.00030000001,null,4.0600000000000004E-2,1,2245.7078000000001,null,0.7,null,55313,5.800000000000001E-2,"كیلوگرم","تینر مخصوص رنگ ترافیک",31411704,null,3,{"$f":"COUNTIF($S$1:S7652,Q7652+R7652)","v":3},"180706",1E-4,180706.0001]
[180706.01,null,1.2330000000000001,1,467.30699999999996,null,1,null,379,1.2330000000000001,"كیلوگرم","حمل مواد مصرفی در نقاشی و چسبها",41170201,null,1,{"$f":"COUNTIF($S$1:S7655,Q7655+R7655)","v":1},"180706",0.01,180706.01]
[180707.00000001001,null,9.2820000000000003E-3,1,864.98958000000016,null,1.3259999999999998,null,93190,7.000000000000001E-3,"نفر ساعت","نقاش خط کشی",14200301,null,1,{"$f":"COUNTIF($S$1:S7659,Q7659+R7659)","v":1},"180707",1E-8,180707.00000001001]
["",null,null,null,null,null,"ضريب",null,"بهاي واحد","مقـدار","واحــد","ماشين آلات ",null,null,"رديف",{"$f":"COUNTIF($S$1:S7662,Q7662+R7662)","v":0},"180707",9.9999999999999995E-7,""]
[180707.00000100001,null,9.1000000000000022E-3,1,4674.0784999999996,null,1.3,null,513635,7.000000000000001E-3,"دستگاه ساعت","ماشین خط کشی آسفالت اچ 33 با راننده",22030602,null,1,{"$f":"COUNTIF($S$1:S7663,Q7663+R7663)","v":1},"180707",9.9999999999999995E-7,180707.00000100001]
[180707.0001,null,0.52469999999999994,1,41451.300000000003,null,0.9,null,79000,0.58299999999999996,"كیلوگرم","رنگ ترافیک سرد با زرین اکریلیک",31410802,null,1,{"$f":"COUNTIF($S$1:S7666,Q7666+R7666)","v":1},"180707",1E-4,180707.0001]
[180707.00039999999,null,0.36000000000000004,1,39312,null,0.9,null,109200,0.4,"كیلوگرم","گلاسبید",31412701,null,4,{"$f":"COUNTIF($S$1:S7669,Q7669+R7669)","v":4},"180707",1E-4,180707.0001]
["",null,null,null,null,null,null,null,null,null,null,"متر مربع",null,null,"واحـد :",{"$f":"COUNTIF($S$1:S7673,Q7673+R7673)","v":0},"180708",0.01,""]
[180708.00000001001,null,-1.7339999999999999E-3,1,-161.59145999999998,null,-1.02,null,93190,1.6999999999999999E-3,"نفر ساعت","نقاش خط کشی",14200301,null,1,{"$f":"COUNTIF($S$1:S7675,Q7675+R7675)","v":1},"180708",1E-8,180708.00000001001]
["",null,null,null,null,null,"ضريب",null,"بهاي واحد","مقـدار","واحــد"," حمل مصالح ",null,null,"رديف",{"$f":"COUNTIF($S$1:S7678,Q7678+R7678)","v":0},"180708",0.01,""]
["",null,null,null,null,null,"ضريب",null,"بهاي واحد","مقـدار","واحــد","نيروي انساني ",null,null,"رديف",{"$f":"COUNTIF($S$1:S7682,Q7682+R7682)","v":0},"180801",1E-8,""]
[180801.00000003001,null,1.4040000000000002E-2,1,826.09955999999988,null,1.08,null,58839,1.3000000000000001E-2,"نفر ساعت","کارگر پیاده کننده مسیر خط کشی",14200303,null,3,{"$f":"COUNTIF($S$1:S7685,Q7685+R7685)","v":3},"180801",1E-8,180801.00000001001]
["",null,null,null,null,null,"ضريب",null,"بهاي واحد","مقـدار","واحــد","ماشين آلات ",null,null,"رديف",{"$f":"COUNTIF($S$1:S7686,Q7686+R7686)","v":0},"180801",9.9999999999999995E-7,""]
[{"$f":"IF(M7689<>\"\",Q7689+(P7689*R7689),\"\")","v":""},null,null,null,null,null,"ضريب",null,"بهاي واحد","مقـدار","واحــد","مصالح",null,null,"رديف",{"$f":"COUNTIF($S$1:S7689,Q7689+R7689)","v":0},"180801",1E-4,""]
["",null,null,null,null,null,"ضريب",null,"بهاي واحد","مقـدار","واحــد"," حمل مصالح ",null,null,"رديف",{"$f":"COUNTIF($S$1:S7692,Q7692+R7692)","v":0},"180801",0.01,""]
["",null,null,null,null,null,"ضريب",null,"بهاي واحد","مقـدار","واحــد","نيروي انساني ",null,null,"رديف",{"$f":"COUNTIF($S$1:S7696,Q7696+R7696)","v":0},"180901",1E-8,""]
[180901.00000001999,null,5.4365999999999998E-2,1,4579.4656439999999,null,1.02,null,84234,5.33E-2,"نفر ساعت","مکانیسین خط کشی",14200302,null,2,{"$f":"COUNTIF($S$1:S7698,Q7698+R7698)","v":2},"180901",1E-8,180901.00000001001]
[180901.00000199999,null,5.33E-2,1,6301.6590000000006,null,1,null,118230,5.33E-2,"دستگاه-ساعت","وانت نیم تن باراننده",23010501,null,2,{"$f":"COUNTIF($S$1:S7702,Q7702+R7702)","v":2},"180901",9.9999999999999995E-7,180901.00000100001]
["",null,null,null,null,null,"ضريب",null,"بهاي واحد","مقـدار","واحــد"," حمل مصالح ",null,null,"رديف",{"$f":"COUNTIF($S$1:S7705,Q7705+R7705)","v":0},"180901",0.01,""]
["",null,null,null,null,null,null,null,null,null,null,"دسیمترمکعب",null,null,"واحـد :",{"$f":"COUNTIF($S$1:S7708,Q7708+R7708)","v":0},"190101",0.01,""]
["",null,null,null,null,null,"ضريب",null,"بهاي واحد","مقـدار","واحــد","نيروي انساني ",null,null,"رديف",{"$f":"COUNTIF($S$1:S7709,Q7709+R7709)","v":0},"190101",1E-8,""]
["",null,null,null,null,null,"ضريب",null,"بهاي واحد","مقـدار","واحــد","ماشين آلات ",null,null,"رديف",{"$f":"COUNTIF($S$1:S7712,Q7712+R7712)","v":0},"190101",9.9999999999999995E-7,""]
["",null,null,null,null,null,null,null,null,null,null,"دسیمترمکعب",null,null,"واحـد :",{"$f":"COUNTIF($S$1:S7715,Q7715+R7715)","v":0},"190102",9.9999999999999995E-7,""]
["",null,null,null,null,null,"ضريب",null,"بهاي واحد","مقـدار","واحــد","مصالح",null,null,"رديف",{"$f":"COUNTIF($S$1:S7719,Q7719+R7719)","v":0},"190102",1E-4,""]
[190102.01,null,1.1000000000000001E-3,1,91.332999999999998,null,1,null,83030,1.1000000000000001E-3,"تن","حمل آسفالت",41160101,null,1,{"$f":"COUNTIF($S$1:S7722,Q7722+R7722)","v":1},"190102",0.01,190102.01]
["",null,null,null,null,null,"ضريب",null,"بهاي واحد","مقـدار","واحــد","نيروي انساني ",null,null,"رديف",{"$f":"COUNTIF($S$1:S7725,Q7725+R7725)","v":0},"190103",1E-8,""]
[190103.00000003001,null,0.18523200000000001,1,10898.865648000001,null,1.02,null,58839,0.18160000000000001,"نفر- ساعت","کمک عایقکار و  آسفالت کار",14130103,null,3,{"$f":"COUNTIF($S$1:S7728,Q7728+R7728)","v":3},"190103",1E-8,190103.00000001001]
["",null,null,null,null,null,"ضريب",null,"بهاي واحد","مقـدار","واحــد","مصالح",null,null,"رديف",{"$f":"COUNTIF($S$1:S7731,Q7731+R7731)","v":0},"190103",1E-4,""]
[190103.0001,null,0.49980000000000002,1,40793.675999999999,null,1.02,null,81620,0.49,"دسیمترمربع","طناب لاستیکی برای پر کردن درزهای بتنی",31390901,null,1,{"$f":"COUNTIF($S$1:S7732,Q7732+R7732)","v":1},"190103",1E-4,190103.0001]
[190103.01,null,1.0399999999999999E-3,1,87.903919999999999,null,1,null,84523,1.0399999999999999E-3,"مترمكعب","حمل پلاستوفوم",41200401,null,1,{"$f":"COUNTIF($S$1:S7735,Q7735+R7735)","v":1},"190103",0.01,190103.01]
["",null,null,null,null,null,"ضريب",null,"بهاي واحد","مقـدار","واحــد","نيروي انساني ",null,null,"رديف",{"$f":"COUNTIF($S$1:S7738,Q7738+R7738)","v":0},"190104",1E-8,""]
["",null,null,null,null,null,"ضريب",null,"بهاي واحد","مقـدار","واحــد","ماشين آلات ",null,null,"رديف",{"$f":"COUNTIF($S$1:S7742,Q7742+R7742)","v":0},"190104",9.9999999999999995E-7,""]
[190104.0001,null,9.384E-3,1,153.747456,null,1.02,null,16384,9.1999999999999998E-3,"كیلوگرم","قیرام سی 2",31200501,null,1,{"$f":"COUNTIF($S$1:S7745,Q7745+R7745)","v":1},"190104",1E-4,190104.0001]
[190104.01,null,9.1999999999999998E-3,1,2.3368000000000002,null,1,null,254,9.1999999999999998E-3,"كیلوگرم","حمل قیر مظروف",41080201,null,1,{"$f":"COUNTIF($S$1:S7749,Q7749+R7749)","v":1},"190104",0.01,190104.01]
[190104.02,null,1.126E-3,1,95.172898000000004,null,1,null,84523,1.126E-3,"مترمكعب","حمل پلاستوفوم",41200401,null,2,{"$f":"COUNTIF($S$1:S7750,Q7750+R7750)","v":2},"190104",0.01,190104.01]
[190301.00000001001,null,0.12239999999999999,1,9780.7392,null,1.02,null,79908,0.12,"نفر ساعت","عایقکار و آسفالت کاردرجه یک",14130101,null,1,{"$f":"COUNTIF($S$1:S7754,Q7754+R7754)","v":1},"190301",1E-8,190301.00000001001]
[190301.00000001999,null,0.12239999999999999,1,7201.8935999999994,null,1.02,null,58839,0.12,"نفر- ساعت","کمک عایقکار و  آسفالت کار",14130103,null,2,{"$f":"COUNTIF($S$1:S7755,Q7755+R7755)","v":2},"190301",1E-8,190301.00000001001]
["",null,null,null,null,null,"ضريب",null,"بهاي واحد","مقـدار","واحــد"," حمل مصالح ",null,null,"رديف",{"$f":"COUNTIF($S$1:S7758,Q7758+R7758)","v":0},"190301",0.01,""]
["",null,null,null,null,null,"ضريب",null,"بهاي واحد","مقـدار","واحــد","نيروي انساني ",null,null,"رديف",{"$f":"COUNTIF($S$1:S7762,Q7762+R7762)","v":0},"190401",1E-8,""]
["",null,null,null,null,null,"ضريب",null,"بهاي واحد","مقـدار","واحــد","ماشين آلات ",null,null,"رديف",{"$f":"COUNTIF($S$1:S7765,Q7765+R7765)","v":0},"190401",9.9999999999999995E-7,""]
["",null,null,null,null,null,null,null,null,null,null,null,null,"190402",null,{"$f":"COUNTIF($S$1:S7768,Q7768+R7768)","v":0},"190402",9.9999999999999995E-7,""]
[190402.00000001999,null,3.3660000000000001E-3,1,352.26536400000003,null,1.1000000000000001,null,104654,3.0599999999999998E-3,"نفر ساعت","تکنسین سندبلاست",17020302,null,2,{"$f":"COUNTIF($S$1:S7772,Q7772+R7772)","v":2},"190402",1E-8,190402.00000001001]
[190402.00000100001,null,3.3660000000000001E-3,1,778.7476620000001,null,1.1000000000000001,null,231357,3.0599999999999998E-3,"دستگاه ساعت","کمپرسور با ظرفيت حدود11 متر در دقيقه (390 سي اف ام) با شيلنگ مربوط",25040104,null,1,{"$f":"COUNTIF($S$1:S7775,Q7775+R7775)","v":1},"190402",9.9999999999999995E-7,190402.00000100001]
[190402.00000199999,null,8.2500000000000006E-6,1,67.782643500000006,null,1.1000000000000001,null,8216078,7.5000000000000002E-6,"عدد","نازل سند بلاست",27020401,null,2,{"$f":"COUNTIF($S$1:S7776,Q7776+R7776)","v":2},"190402",9.9999999999999995E-7,190402.00000100001]
["",null,null,null,null,null,"ضريب",null,"بهاي واحد","مقـدار","واحــد","مصالح",null,null,"رديف",{"$f":"COUNTIF($S$1:S7777,Q7777+R7777)","v":0},"190402",1E-4,""]
[190402.0001,null,0.48631000000000002,1,188.20196999999999,null,1.1000000000000001,null,387,0.44209999999999999,"كیلوگرم","ماسه سند بلاست",39100102,null,1,{"$f":"COUNTIF($S$1:S7778,Q7778+R7778)","v":1},"190402",1E-4,190402.0001]
["",null,null,null,null,null,"ضريب",null,"بهاي واحد","مقـدار","واحــد"," حمل مصالح ",null,null,"رديف",{"$f":"COUNTIF($S$1:S7779,Q7779+R7779)","v":0},"190402",0.01,""]
[190402.01,null,4.4210000000000001E-4,1,54.640907400000003,null,1,null,123594,4.4210000000000001E-4,"تن","حمل خاک سنگ، پودر سنگ و ماسه سندبلاست",41060501,null,1,{"$f":"COUNTIF($S$1:S7780,Q7780+R7780)","v":1},"190402",0.01,190402.01]
["",null,null,null,null,null,null,null,null,null,null,null,null,"190403",null,{"$f":"COUNTIF($S$1:S7781,Q7781+R7781)","v":0},"190403",0.01,""]
["",null,null,null,null,null,null,null,null,null,null,"كیلوگرم",null,null,"واحـد :",{"$f":"COUNTIF($S$1:S7782,Q7782+R7782)","v":0},"190403",0.01,""]
["",null,null,null,null,null,"ضريب",null,"بهاي واحد","مقـدار","واحــد","نيروي انساني ",null,null,"رديف",{"$f":"COUNTIF($S$1:S7783,Q7783+R7783)","v":0},"190403",1E-8,""]
[190403.00000001001,null,9.1405000000000011E-3,1,551.14472849999993,null,1.01,null,60297,9.0500000000000008E-3,"نفر ساعت","کمک نقاش",14200103,null,1,{"$f":"COUNTIF($S$1:S7784,Q7784+R7784)","v":1},"190403",1E-8,190403.00000001001]
["",null,null,null,null,null,"ضريب",null,"بهاي واحد","مقـدار","واحــد","ماشين آلات ",null,null,"رديف",{"$f":"COUNTIF($S$1:S7785,Q7785+R7785)","v":0},"190403",9.9999999999999995E-7,""]
[190403.00000100001,null,6.868E-3,1,161.96117599999997,null,1.01,null,23582,6.7999999999999996E-3,"ورق","سمباده زبر15*25",28080201,null,1,{"$f":"COUNTIF($S$1:S7786,Q7786+R7786)","v":1},"190403",9.9999999999999995E-7,190403.00000100001]
["",null,null,null,null,null,"ضريب",null,"بهاي واحد","مقـدار","واحــد","مصالح",null,null,"رديف",{"$f":"COUNTIF($S$1:S7787,Q7787+R7787)","v":0},"190403",1E-4,""]
[190403.0001,null,2.4643999999999998E-3,1,133.07759999999999,null,1.01,null,54000,2.4399999999999999E-3,"كیلوگرم","ضد زنگ معمولی",31410101,null,1,{"$f":"COUNTIF($S$1:S7788,Q7788+R7788)","v":1},"190403",1E-4,190403.0001]
[190403.00020000001,null,2.4643999999999995E-4,1,8.2370105599999999,null,1.01,null,33424,2.4399999999999997E-4,"كیلوگرم","تینر روغنی",31411701,null,2,{"$f":"COUNTIF($S$1:S7789,Q7789+R7789)","v":2},"190403",1E-4,190403.0001]
["",null,null,null,null,null,null,null,null,null,null,null,null,"190404",null,{"$f":"COUNTIF($S$1:S7790,Q7790+R7790)","v":0},"190404",1E-4,""]
["",null,null,null,null,null,null,null,null,null,null,"كیلوگرم",null,null,"واحـد :",{"$f":"COUNTIF($S$1:S7791,Q7791+R7791)","v":0},"190404",1E-4,""]
["",null,null,null,null,null,"ضريب",null,"بهاي واحد","مقـدار","واحــد","نيروي انساني ",null,null,"رديف",{"$f":"COUNTIF($S$1:S7792,Q7792+R7792)","v":0},"190404",1E-8,""]
[190404.00000001001,null,5.0499999999999998E-3,1,470.60949999999997,null,1.01,null,93190,5.0000000000000001E-3,"نفر ساعت","نقاش درجه یک ساختمان",14200101,null,1,{"$f":"COUNTIF($S$1:S7793,Q7793+R7793)","v":1},"190404",1E-8,190404.00000001001]
[190404.00000001999,null,3.6359999999999999E-3,1,280.11744000000004,null,1.01,null,77040,3.5999999999999999E-3,"نفر ساعت","نقاش درجه دو ساختمان",14200102,null,2,{"$f":"COUNTIF($S$1:S7794,Q7794+R7794)","v":2},"190404",1E-8,190404.00000001001]
[190404.00000003001,null,9.1405000000000011E-3,1,551.14472849999993,null,1.01,null,60297,9.0500000000000008E-3,"نفر ساعت","کمک نقاش",14200103,null,3,{"$f":"COUNTIF($S$1:S7795,Q7795+R7795)","v":3},"190404",1E-8,190404.00000001001]
["",null,null,null,null,null,"ضريب",null,"بهاي واحد","مقـدار","واحــد","ماشين آلات ",null,null,"رديف",{"$f":"COUNTIF($S$1:S7796,Q7796+R7796)","v":0},"190404",9.9999999999999995E-7,""]
[190404.00000100001,null,6.868E-3,1,161.96117599999997,null,1.01,null,23582,6.7999999999999996E-3,"ورق","سمباده زبر15*25",28080201,null,1,{"$f":"COUNTIF($S$1:S7797,Q7797+R7797)","v":1},"190404",9.9999999999999995E-7,190404.00000100001]
["",null,null,null,null,null,"ضريب",null,"بهاي واحد","مقـدار","واحــد","مصالح",null,null,"رديف",{"$f":"COUNTIF($S$1:S7798,Q7798+R7798)","v":0},"190404",1E-4,""]
[190404.0001,null,2.4643999999999998E-3,1,133.07759999999999,null,1.01,null,54000,2.4399999999999999E-3,"كیلوگرم","ضد زنگ معمولی",31410101,null,1,{"$f":"COUNTIF($S$1:S7799,Q7799+R7799)","v":1},"190404",1E-4,190404.0001]
[190404.00020000001,null,3.5350000000000004E-3,1,448.57736,null,1.01,null,126896,3.5000000000000005E-3,"كیلوگرم","رنگ اکلیل آلومینیومی",31410701,null,2,{"$f":"COUNTIF($S$1:S7800,Q7800+R7800)","v":2},"190404",1E-4,190404.0001]
[190404.00030000001,null,1.01E-3,1,33.758240000000001,null,1.01,null,33424,1E-3,"كیلوگرم","تینر روغنی",31411701,null,3,{"$f":"COUNTIF($S$1:S7801,Q7801+R7801)","v":3},"190404",1E-4,190404.0001]
["",null,null,null,null,null,null,null,null,null,null,null,null,"190405",null,{"$f":"COUNTIF($S$1:S7802,Q7802+R7802)","v":0},"190405",1E-4,""]
["",null,null,null,null,null,null,null,null,null,null,"كیلوگرم",null,null,"واحـد :",{"$f":"COUNTIF($S$1:S7803,Q7803+R7803)","v":0},"190405",1E-4,""]
["",null,null,null,null,null,"ضريب",null,"بهاي واحد","مقـدار","واحــد","نيروي انساني ",null,null,"رديف",{"$f":"COUNTIF($S$1:S7804,Q7804+R7804)","v":0},"190405",1E-8,""]
[190405.00000001001,null,5.0499999999999998E-3,1,470.60949999999997,null,1.01,null,93190,5.0000000000000001E-3,"نفر ساعت","نقاش درجه یک ساختمان",14200101,null,1,{"$f":"COUNTIF($S$1:S7805,Q7805+R7805)","v":1},"190405",1E-8,190405.00000001001]
[190405.00000001999,null,3.6359999999999999E-3,1,280.11744000000004,null,1.01,null,77040,3.5999999999999999E-3,"نفر ساعت","نقاش درجه دو ساختمان",14200102,null,2,{"$f":"COUNTIF($S$1:S7806,Q7806+R7806)","v":2},"190405",1E-8,190405.00000001001]
[190405.00000003001,null,9.1405000000000011E-3,1,551.14472849999993,null,1.01,null,60297,9.0500000000000008E-3,"نفر ساعت","کمک نقاش",14200103,null,3,{"$f":"COUNTIF($S$1:S7807,Q7807+R7807)","v":3},"190405",1E-8,190405.00000001001]
["",null,null,null,null,null,"ضريب",null,"بهاي واحد","مقـدار","واحــد","ماشين آلات ",null,null,"رديف",{"$f":"COUNTIF($S$1:S7808,Q7808+R7808)","v":0},"190405",9.9999999999999995E-7,""]
[190405.00000100001,null,6.868E-3,1,161.96117599999997,null,1.01,null,23582,6.7999999999999996E-3,"ورق","سمباده زبر15*25",28080201,null,1,{"$f":"COUNTIF($S$1:S7809,Q7809+R7809)","v":1},"190405",9.9999999999999995E-7,190405.00000100001]
["",null,null,null,null,null,"ضريب",null,"بهاي واحد","مقـدار","واحــد","مصالح",null,null,"رديف",{"$f":"COUNTIF($S$1:S7810,Q7810+R7810)","v":0},"190405",1E-4,""]
[190405.0001,null,2.4643999999999998E-3,1,133.07759999999999,null,1.01,null,54000,2.4399999999999999E-3,"كیلوگرم","ضد زنگ معمولی",31410101,null,1,{"$f":"COUNTIF($S$1:S7811,Q7811+R7811)","v":1},"190405",1E-4,190405.0001]
[190405.00020000001,null,3.5350000000000004E-3,1,365.87250000000006,null,1.01,null,103500,3.5000000000000005E-3,"كیلوگرم","رنگ روغنی",31410401,null,2,{"$f":"COUNTIF($S$1:S7812,Q7812+R7812)","v":2},"190405",1E-4,190405.0001]
[190405.00030000001,null,1.01E-3,1,33.758240000000001,null,1.01,null,33424,1E-3,"كیلوگرم","تینر روغنی",31411701,null,3,{"$f":"COUNTIF($S$1:S7813,Q7813+R7813)","v":3},"190405",1E-4,190405.0001]
["",null,null,null,null,null,null,null,null,null,null,null,null,"190406",null,{"$f":"COUNTIF($S$1:S7814,Q7814+R7814)","v":0},"190406",1E-4,""]
["",null,null,null,null,null,null,null,null,null,null,"كیلوگرم",null,null,"واحـد :",{"$f":"COUNTIF($S$1:S7815,Q7815+R7815)","v":0},"190406",{"$f":"IF(IF(O7815=\"رديف\",VLOOKUP(L7815,Kod,2,0),0)=0,R7814,IF(O7815=\"رديف\",VLOOKUP(L7815,Kod,2,0),0))","v":1E-4},""]
["",null,null,null,null,null,"ضريب",null,"بهاي واحد","مقـدار","واحــد","نيروي انساني ",null,null,"رديف",{"$f":"COUNTIF($S$1:S7816,Q7816+R7816)","v":0},"190406",1E-8,""]
[{"$f":"IF(M7817<>\"\",Q7817+(P7817*R7817),\"\")","v":190406.00000001001},null,1.1615E-2,1,1082.40185,null,1.01,null,93190,1.15E-2,"نفر ساعت","نقاش درجه یک ساختمان",14200101,null,1,{"$f":"COUNTIF($S$1:S7817,Q7817+R7817)","v":1},"190406",1E-8,190406.00000001001]
[190406.00000001999,null,1.6361999999999998E-2,1,1260.5284800000002,null,1.01,null,77040,1.6199999999999999E-2,"نفر ساعت","نقاش درجه دو ساختمان",14200102,null,2,{"$f":"COUNTIF($S$1:S7818,Q7818+R7818)","v":2},"190406",1E-8,190406.00000001001]
[190406.00000003001,null,3.6865000000000001E-3,1,222.28489049999996,null,1.01,null,60297,3.65E-3,"نفر ساعت","کمک نقاش",14200103,null,3,{"$f":"COUNTIF($S$1:S7819,Q7819+R7819)","v":3},"190406",1E-8,190406.00000001001]
["",null,null,null,null,null,"ضريب",null,"بهاي واحد","مقـدار","واحــد","ماشين آلات ",null,null,"رديف",{"$f":"COUNTIF($S$1:S7820,Q7820+R7820)","v":0},"190406",9.9999999999999995E-7,""]
[190406.00000100001,null,6.868E-3,1,161.96117599999997,null,1.01,null,23582,6.7999999999999996E-3,"ورق","سمباده زبر15*25",28080201,null,1,{"$f":"COUNTIF($S$1:S7821,Q7821+R7821)","v":1},"190406",9.9999999999999995E-7,190406.00000100001]
["",null,null,null,null,null,"ضريب",null,"بهاي واحد","مقـدار","واحــد","مصالح",null,null,"رديف",{"$f":"COUNTIF($S$1:S7822,Q7822+R7822)","v":0},"190406",1E-4,""]
[190406.0001,null,3.1310000000000001E-3,1,283.35550000000001,null,1.01,null,90500,3.0999999999999999E-3,"كیلوگرم","ضد زنگ برای رنگ اپوکسی",31410102,null,1,{"$f":"COUNTIF($S$1:S7823,Q7823+R7823)","v":1},"190406",1E-4,190406.0001]
[190406.00020000001,null,5.0499999999999998E-3,1,631.25,null,1.01,null,125000,5.0000000000000001E-3,"كیلوگرم","رنگ اپوکسی",31410601,null,2,{"$f":"COUNTIF($S$1:S7824,Q7824+R7824)","v":2},"190406",1E-4,190406.0001]
[190406.00030000001,null,3.1310000000000002E-4,1,19.697120999999999,null,1.01,null,62910,3.1E-4,"كیلوگرم","تینر برای ضد زنگ اپوکسی",31411702,null,3,{"$f":"COUNTIF($S$1:S7825,Q7825+R7825)","v":3},"190406",1E-4,190406.0001]
[190406.00039999999,null,1.01E-3,1,66.155000000000001,null,1.01,null,65500,1E-3,"كیلوگرم","تینر رنگ اپوکسی",31411705,null,4,{"$f":"COUNTIF($S$1:S7826,Q7826+R7826)","v":4},"190406",1E-4,190406.0001]
[190406.00049999999,null,1.01E-3,1,117.26100000000001,null,1.01,null,116100,1E-3,"كیلوگرم","هاردنر اپوکسی",31411901,null,5,{"$f":"COUNTIF($S$1:S7827,Q7827+R7827)","v":5},"190406",1E-4,190406.0001]
["",null,null,null,null,null,null,null,null,null,null,null,null,"190501",null,{"$f":"COUNTIF($S$1:S7828,Q7828+R7828)","v":0},"190501",1E-4,""]
["",null,null,null,null,null,null,null,null,null,null,"كیلوگرم",null,null,"واحـد :",{"$f":"COUNTIF($S$1:S7829,Q7829+R7829)","v":0},"190501",1E-4,""]
["",null,null,null,null,null,"ضريب",null,"بهاي واحد","مقـدار","واحــد","نيروي انساني ",null,null,"رديف",{"$f":"COUNTIF($S$1:S7830,Q7830+R7830)","v":0},"190501",1E-8,""]
[190501.00000001001,null,1.5225,1,148061.60249999998,null,1.0149999999999999,null,97249,1.5,"نفر ساعت","نجار قالب بند درجه یک",14030201,null,1,{"$f":"COUNTIF($S$1:S7831,Q7831+R7831)","v":1},"190501",1E-8,190501.00000001001]
[190501.00000001999,null,1.5225,1,89582.377499999988,null,1.0149999999999999,null,58839,1.5,"نفر - ساعت","کمک بنای بتن کار",14060202,null,2,{"$f":"COUNTIF($S$1:S7832,Q7832+R7832)","v":2},"190501",1E-8,190501.00000001001]
["",null,null,null,null,null,"ضريب",null,"بهاي واحد","مقـدار","واحــد","مصالح",null,null,"رديف",{"$f":"COUNTIF($S$1:S7833,Q7833+R7833)","v":0},"190501",1E-4,""]
[190501.0001,null,1.05,1,57750,null,1.05,null,55000,1,"كیلوگرم","لوله پی وی سی سخت با فشار کار 16 بار به قطر خارجی 20 میلیمتر",32030101,null,1,{"$f":"COUNTIF($S$1:S7834,Q7834+R7834)","v":1},"190501",1E-4,190501.0001]
[190501.00020000001,null,1.1999999999999999E-3,1,15600,null,1,null,13000000,1.1999999999999999E-3,"مترمكعب","تخته نراد خارجی",39010102,null,2,{"$f":"COUNTIF($S$1:S7835,Q7835+R7835)","v":2},{"$f":"IF(N7835>0,N7835,Q7834)","v":"190501"},1E-4,{"$f":"IF(M7835<>\"\",Q7835+R7835,\"\")","v":190501.0001}]
["",null,null,null,null,null,"ضريب",null,"بهاي واحد","مقـدار","واحــد"," حمل مصالح ",null,null,"رديف",{"$f":"COUNTIF($S$1:S7836,Q7836+R7836)","v":0},"190501",0.01,""]
[190501.01,null,1.1999999999999999E-3,1,142.35479999999998,null,1,null,118629,1.1999999999999999E-3,"مترمكعب","حمل تخته ، الوار و MDF",41190101,null,1,{"$f":"COUNTIF($S$1:S7837,Q7837+R7837)","v":1},"190501",0.01,190501.01]
[190501.02,null,1.05,1,537.6,null,1.05,null,512,1,"كیلوگرم","حمل لوله ها و اتصالات پی وی سی",42040101,null,2,{"$f":"COUNTIF($S$1:S7838,Q7838+R7838)","v":2},"190501",0.01,190501.01]
["",null,null,null,null,null,null,null,null,null,null,null,null,"190502",null,{"$f":"COUNTIF($S$1:S7839,Q7839+R7839)","v":0},"190502",0.01,""]
["",null,null,null,null,null,null,null,null,null,null,"متر طول",null,null,"واحـد :",{"$f":"COUNTIF($S$1:S7840,Q7840+R7840)","v":0},"190502",0.01,""]
["",null,null,null,null,null,"ضريب",null,"بهاي واحد","مقـدار","واحــد","نيروي انساني ",null,null,"رديف",{"$f":"COUNTIF($S$1:S7841,Q7841+R7841)","v":0},"190502",1E-8,""]
[190502.00000001001,null,0.1056,1,10269.4944,null,1,null,97249,0.1056,"نفر ساعت","نجار قالب بند درجه یک",14030201,null,1,{"$f":"COUNTIF($S$1:S7842,Q7842+R7842)","v":1},"190502",1E-8,190502.00000001001]
[190502.00000001999,null,0.44440000000000007,1,35043.606400000004,null,1,null,78856,0.44440000000000007,"نفر - ساعت","نجار قالب بند درجه دو",14030202,null,2,{"$f":"COUNTIF($S$1:S7843,Q7843+R7843)","v":2},"190502",1E-8,190502.00000001001]
[190502.00000003001,null,0.44440000000000007,1,26742.214400000004,null,1,null,60176,0.44440000000000007,"نفر- ساعت","کمک نجار قالب بند",14030203,null,3,{"$f":"COUNTIF($S$1:S7844,Q7844+R7844)","v":3},"190502",1E-8,190502.00000001001]
["",null,null,null,null,null,"ضريب",null,"بهاي واحد","مقـدار","واحــد","ماشين آلات ",null,null,"رديف",{"$f":"COUNTIF($S$1:S7845,Q7845+R7845)","v":0},"190502",9.9999999999999995E-7,""]
[190502.00000100001,null,0.05,1,433.95,null,1,null,8679,0.05,"دستگاه ساعت","هویه جوشکاری",26021301,null,1,{"$f":"COUNTIF($S$1:S7846,Q7846+R7846)","v":1},"190502",9.9999999999999995E-7,190502.00000100001]
["",null,null,null,null,null,"ضريب",null,"بهاي واحد","مقـدار","واحــد","مصالح",null,null,"رديف",{"$f":"COUNTIF($S$1:S7847,Q7847+R7847)","v":0},"190502",1E-4,""]
[190502.0001,null,1.1000000000000001,1,60264.600000000006,null,1,null,54786,1.1000000000000001,"متر طول","نوار آب بند از نوع پی وی سی به عرض 15 سانتیمتر",31390101,null,1,{"$f":"COUNTIF($S$1:S7848,Q7848+R7848)","v":1},"190502",1E-4,190502.0001]
[190502.00020000001,null,2.2000000000000001E-3,1,143,null,1,null,65000,2.2000000000000001E-3,"كیلوگرم","میخ جور",31430101,null,2,{"$f":"COUNTIF($S$1:S7849,Q7849+R7849)","v":2},"190502",1E-4,190502.0001]
[190502.00030000001,null,8.0000000000000004E-4,1,10400,null,1,null,13000000,8.0000000000000004E-4,"مترمكعب","تخته نراد خارجی",39010102,null,3,{"$f":"COUNTIF($S$1:S7850,Q7850+R7850)","v":3},"190502",1E-4,190502.0001]
["",null,null,null,null,null,"ضريب",null,"بهاي واحد","مقـدار","واحــد"," حمل مصالح ",null,null,"رديف",{"$f":"COUNTIF($S$1:S7851,Q7851+R7851)","v":0},"190502",0.01,""]
[190502.01,null,8.0000000000000004E-4,1,94.903199999999998,null,1,null,118629,8.0000000000000004E-4,"مترمكعب","حمل تخته ، الوار و MDF",41190101,null,1,{"$f":"COUNTIF($S$1:S7852,Q7852+R7852)","v":1},"190502",0.01,190502.01]
[190502.02,null,1.1000000000000001,1,671.00000000000011,null,1,null,610,1.1000000000000001,"متر طول","حمل نوار آب بند",41210301,null,2,{"$f":"COUNTIF($S$1:S7853,Q7853+R7853)","v":2},"190502",0.01,190502.01]
["",null,null,null,null,null,null,null,null,null,null,null,null,"190503",null,{"$f":"COUNTIF($S$1:S7854,Q7854+R7854)","v":0},"190503",0.01,""]
["",null,null,null,null,null,null,null,null,null,null,"متر طول",null,null,"واحـد :",{"$f":"COUNTIF($S$1:S7855,Q7855+R7855)","v":0},"190503",0.01,""]
["",null,null,null,null,null,"ضريب",null,"بهاي واحد","مقـدار","واحــد","مصالح",null,null,"رديف",{"$f":"COUNTIF($S$1:S7856,Q7856+R7856)","v":0},"190503",1E-4,""]
[190503.0001,null,-0.22,1,-12052.92,null,1,null,54786,-0.22,"متر طول","نوار آب بند از نوع پی وی سی به عرض 15 سانتیمتر",31390101,null,1,{"$f":"COUNTIF($S$1:S7857,Q7857+R7857)","v":1},"190503",1E-4,190503.0001]
[190503.00020000001,null,0.22,1,16308.82,null,1,null,74131,0.22,"متر طول","نوار آب بند از نوع پی وی سی به عرض 20 سانتیمتر",31390102,null,2,{"$f":"COUNTIF($S$1:S7858,Q7858+R7858)","v":2},"190503",1E-4,190503.0001]
[190503.00030000001,null,1.2E-4,1,7.8,null,1,null,65000,1.2E-4,"كیلوگرم","میخ جور",31430101,null,3,{"$f":"COUNTIF($S$1:S7859,Q7859+R7859)","v":3},"190503",1E-4,190503.0001]
[190503.00039999999,null,6.0000000000000002E-5,1,780,null,1,null,13000000,6.0000000000000002E-5,"مترمكعب","تخته نراد خارجی",39010102,null,4,{"$f":"COUNTIF($S$1:S7860,Q7860+R7860)","v":4},"190503",1E-4,190503.0001]
["",null,null,null,null,null,"ضريب",null,"بهاي واحد","مقـدار","واحــد"," حمل مصالح ",null,null,"رديف",{"$f":"COUNTIF($S$1:S7861,Q7861+R7861)","v":0},"190503",0.01,""]
[190503.01,null,6.0000000000000002E-5,1,7.1177400000000013,null,1,null,118629,6.0000000000000002E-5,"مترمكعب","حمل تخته ، الوار و MDF",41190101,null,1,{"$f":"COUNTIF($S$1:S7862,Q7862+R7862)","v":1},"190503",0.01,190503.01]
["",null,null,null,null,null,null,null,null,null,null,null,null,"190504",null,{"$f":"COUNTIF($S$1:S7863,Q7863+R7863)","v":0},"190504",0.01,""]
["",null,null,null,null,null,null,null,null,null,null,"متر طول",null,null,"واحـد :",{"$f":"COUNTIF($S$1:S7864,Q7864+R7864)","v":0},"190504",0.01,""]
["",null,null,null,null,null,"ضريب",null,"بهاي واحد","مقـدار","واحــد","نيروي انساني ",null,null,"رديف",{"$f":"COUNTIF($S$1:S7865,Q7865+R7865)","v":0},"190504",1E-8,""]
[190504.00000001001,null,0.1,1,9724.9,null,1,null,97249,0.1,"نفر ساعت","نجار قالب بند درجه یک",14030201,null,1,{"$f":"COUNTIF($S$1:S7866,Q7866+R7866)","v":1},"190504",1E-8,190504.00000001001]
[190504.00000001999,null,0.4,1,31542.400000000001,null,1,null,78856,0.4,"نفر - ساعت","نجار قالب بند درجه دو",14030202,null,2,{"$f":"COUNTIF($S$1:S7867,Q7867+R7867)","v":2},"190504",1E-8,190504.00000001001]
[190504.00000003001,null,0.24,1,14442.24,null,1,null,60176,0.24,"نفر- ساعت","کمک نجار قالب بند",14030203,null,3,{"$f":"COUNTIF($S$1:S7868,Q7868+R7868)","v":3},"190504",1E-8,190504.00000001001]
["",null,null,null,null,null,"ضريب",null,"بهاي واحد","مقـدار","واحــد","ماشين آلات ",null,null,"رديف",{"$f":"COUNTIF($S$1:S7869,Q7869+R7869)","v":0},"190504",9.9999999999999995E-7,""]
[190504.00000100001,null,0.05,1,433.95,null,1,null,8679,0.05,"دستگاه ساعت","هویه جوشکاری",26021301,null,1,{"$f":"COUNTIF($S$1:S7870,Q7870+R7870)","v":1},"190504",9.9999999999999995E-7,190504.00000100001]
["",null,null,null,null,null,"ضريب",null,"بهاي واحد","مقـدار","واحــد","مصالح",null,null,"رديف",{"$f":"COUNTIF($S$1:S7871,Q7871+R7871)","v":0},"190504",1E-4,""]
[190504.0001,null,1.1000000000000001,1,80784.000000000015,null,1,null,73440,1.1000000000000001,"متر طول","نوار آب بند از نوع لاستیک به عرض 15 سانتیمتر",31390201,null,1,{"$f":"COUNTIF($S$1:S7872,Q7872+R7872)","v":1},"190504",1E-4,190504.0001]
[190504.00020000001,null,2.2000000000000001E-3,1,143,null,1,null,65000,2.2000000000000001E-3,"كیلوگرم","میخ جور",31430101,null,2,{"$f":"COUNTIF($S$1:S7873,Q7873+R7873)","v":2},"190504",1E-4,190504.0001]
[190504.00030000001,null,8.0000000000000004E-4,1,10400,null,1,null,13000000,8.0000000000000004E-4,"مترمكعب","تخته نراد خارجی",39010102,null,3,{"$f":"COUNTIF($S$1:S7874,Q7874+R7874)","v":3},"190504",1E-4,190504.0001]
["",null,null,null,null,null,"ضريب",null,"بهاي واحد","مقـدار","واحــد"," حمل مصالح ",null,null,"رديف",{"$f":"COUNTIF($S$1:S7875,Q7875+R7875)","v":0},"190504",0.01,""]
[190504.01,null,8.0000000000000004E-4,1,94.903199999999998,null,1,null,118629,8.0000000000000004E-4,"مترمكعب","حمل تخته ، الوار و MDF",41190101,null,1,{"$f":"COUNTIF($S$1:S7876,Q7876+R7876)","v":1},"190504",0.01,190504.01]
[190504.02,null,1.1000000000000001,1,671.00000000000011,null,1,null,610,1.1000000000000001,"متر طول","حمل نوار آب بند",41210301,null,2,{"$f":"COUNTIF($S$1:S7877,Q7877+R7877)","v":2},"190504",0.01,190504.01]
["",null,null,null,null,null,null,null,null,null,null,null,null,"190505",null,{"$f":"COUNTIF($S$1:S7878,Q7878+R7878)","v":0},"190505",0.01,""]
["",null,null,null,null,null,null,null,null,null,null,"متر طول",null,null,"واحـد :",{"$f":"COUNTIF($S$1:S7879,Q7879+R7879)","v":0},"190505",{"$f":"IF(IF(O7879=\"رديف\",VLOOKUP(L7879,Kod,2,0),0)=0,R7878,IF(O7879=\"رديف\",VLOOKUP(L7879,Kod,2,0),0))","v":0.01},""]
["",null,null,null,null,null,"ضريب",null,"بهاي واحد","مقـدار","واحــد","مصالح",null,null,"رديف",{"$f":"COUNTIF($S$1:S7880,Q7880+R7880)","v":0},"190505",1E-4,""]
[{"$f":"IF(M7881<>\"\",Q7881+(P7881*R7881),\"\")","v":190505.0001},null,-0.22,1,-16156.8,null,1,null,73440,-0.22,"متر طول","نوار آب بند از نوع لاستیک به عرض 15 سانتیمتر",31390201,null,1,{"$f":"COUNTIF($S$1:S7881,Q7881+R7881)","v":1},"190505",1E-4,190505.0001]
[190505.00020000001,null,0.22,1,18700,null,1,null,85000,0.22,"متر مربع","نوار آب بند از نوع لاستیک به عرض20 سانتیمتر",31390202,null,2,{"$f":"COUNTIF($S$1:S7882,Q7882+R7882)","v":2},"190505",1E-4,190505.0001]
[190505.00030000001,null,1.2E-4,1,7.8,null,1,null,65000,1.2E-4,"كیلوگرم","میخ جور",31430101,null,3,{"$f":"COUNTIF($S$1:S7883,Q7883+R7883)","v":3},"190505",1E-4,190505.0001]
[190505.00039999999,null,6.0000000000000002E-5,1,780,null,1,null,13000000,6.0000000000000002E-5,"مترمكعب","تخته نراد خارجی",39010102,null,4,{"$f":"COUNTIF($S$1:S7884,Q7884+R7884)","v":4},"190505",1E-4,190505.0001]
["",null,null,null,null,null,"ضريب",null,"بهاي واحد","مقـدار","واحــد"," حمل مصالح ",null,null,"رديف",{"$f":"COUNTIF($S$1:S7885,Q7885+R7885)","v":0},"190505",0.01,""]
[190505.01,null,6.0000000000000002E-5,1,7.1177400000000013,null,1,null,118629,6.0000000000000002E-5,"مترمكعب","حمل تخته ، الوار و MDF",41190101,null,1,{"$f":"COUNTIF($S$1:S7886,Q7886+R7886)","v":1},"190505",0.01,190505.01]
["",null,null,null,null,null,null,null,null,null,null,null,null,"190506",null,{"$f":"COUNTIF($S$1:S7887,Q7887+R7887)","v":0},"190506",0.01,""]
["",null,null,null,null,null,null,null,null,null,null,"عدد",null,null,"واحـد :",{"$f":"COUNTIF($S$1:S7888,Q7888+R7888)","v":0},"190506",0.01,""]
["",null,null,null,null,null,"ضريب",null,"بهاي واحد","مقـدار","واحــد","نيروي انساني ",null,null,"رديف",{"$f":"COUNTIF($S$1:S7889,Q7889+R7889)","v":0},"190506",1E-8,""]
[190506.00000001001,null,6.3E-2,1,4038.8670000000002,null,1,null,64109,6.3E-2,"نفر ساعت","کمک بنای سفت کار",14020103,null,1,{"$f":"COUNTIF($S$1:S7890,Q7890+R7890)","v":1},"190506",1E-8,190506.00000001001]
["",null,null,null,null,null,"ضريب",null,"بهاي واحد","مقـدار","واحــد","مصالح",null,null,"رديف",{"$f":"COUNTIF($S$1:S7891,Q7891+R7891)","v":0},"190506",1E-4,""]
[190506.0001,null,1,1,22061,null,1,null,22061,1,"عدد","بالشتکهای تکیه‌گاهی از جنس کائوچو به‌ابعاد تقریبی 2×8/5×10 سانتیمتر",31391801,null,1,{"$f":"COUNTIF($S$1:S7892,Q7892+R7892)","v":1},"190506",1E-4,190506.0001]
["",null,null,null,null,null,"ضريب",null,"بهاي واحد","مقـدار","واحــد"," حمل مصالح ",null,null,"رديف",{"$f":"COUNTIF($S$1:S7893,Q7893+R7893)","v":0},"190506",0.01,""]
[190506.01,null,0.1,1,61,null,1,null,610,0.1,"متر طول","حمل نوار آب بند",41210301,null,1,{"$f":"COUNTIF($S$1:S7894,Q7894+R7894)","v":1},"190506",0.01,190506.01]
["",null,null,null,null,null,null,null,null,null,null,null,null,"190507",null,{"$f":"COUNTIF($S$1:S7895,Q7895+R7895)","v":0},"190507",0.01,""]
["",null,null,null,null,null,null,null,null,null,null,"متر طول",null,null,"واحـد :",{"$f":"COUNTIF($S$1:S7896,Q7896+R7896)","v":0},"190507",0.01,""]
["",null,null,null,null,null,"ضريب",null,"بهاي واحد","مقـدار","واحــد","نيروي انساني ",null,null,"رديف",{"$f":"COUNTIF($S$1:S7897,Q7897+R7897)","v":0},"190507",1E-8,""]
[190507.00000001001,null,8.5000000000000006E-2,1,5449.2650000000003,null,1,null,64109,8.5000000000000006E-2,"نفر ساعت","کمک بنای سفت کار",14020103,null,1,{"$f":"COUNTIF($S$1:S7898,Q7898+R7898)","v":1},"190507",1E-8,190507.00000001001]
["",null,null,null,null,null,"ضريب",null,"بهاي واحد","مقـدار","واحــد","مصالح",null,null,"رديف",{"$f":"COUNTIF($S$1:S7899,Q7899+R7899)","v":0},{"$f":"IF(N7899>0,N7899,Q7898)","v":"190507"},1E-4,{"$f":"IF(M7899<>\"\",Q7899+R7899,\"\")","v":""}]
[190507.0001,null,1.05,1,6514.2,null,1,null,6204,1.05,"مترطول","فوم پلی‌یورتان دارای سلول باز به‌مقطع 40×40 میلیمتر",31391901,null,1,{"$f":"COUNTIF($S$1:S7900,Q7900+R7900)","v":1},"190507",1E-4,190507.0001]
["",null,null,null,null,null,"ضريب",null,"بهاي واحد","مقـدار","واحــد"," حمل مصالح ",null,null,"رديف",{"$f":"COUNTIF($S$1:S7901,Q7901+R7901)","v":0},"190507",0.01,""]
[190507.01,null,1.6000000000000001E-3,1,135.23680000000002,null,1,null,84523,1.6000000000000001E-3,"مترمكعب","حمل پلاستوفوم",41200401,null,1,{"$f":"COUNTIF($S$1:S7902,Q7902+R7902)","v":1},"190507",0.01,190507.01]
["",null,null,null,null,null,null,null,null,null,null,null,null,"190508",null,{"$f":"COUNTIF($S$1:S7903,Q7903+R7903)","v":0},"190508",0.01,""]
["",null,null,null,null,null,null,null,null,null,null,"كیلوگرم",null,null,"واحـد :",{"$f":"COUNTIF($S$1:S7904,Q7904+R7904)","v":0},"190508",0.01,""]
["",null,null,null,null,null,"ضريب",null,"بهاي واحد","مقـدار","واحــد","نيروي انساني ",null,null,"رديف",{"$f":"COUNTIF($S$1:S7905,Q7905+R7905)","v":0},"190508",1E-8,""]
[190508.00000001001,null,2,1,117678,null,1,null,58839,2,"نفر - ساعت","کمک بنای بتن کار",14060202,null,1,{"$f":"COUNTIF($S$1:S7906,Q7906+R7906)","v":1},"190508",1E-8,190508.00000001001]
["",null,null,null,null,null,"ضريب",null,"بهاي واحد","مقـدار","واحــد","مصالح",null,null,"رديف",{"$f":"COUNTIF($S$1:S7907,Q7907+R7907)","v":0},"190508",1E-4,""]
[190508.0001,null,1.05,1,57750,null,1.05,null,55000,1,"كیلوگرم","لوله پی وی سی سخت با فشار کار 16 بار به قطر خارجی 20 میلیمتر",32030101,null,1,{"$f":"COUNTIF($S$1:S7908,Q7908+R7908)","v":1},"190508",1E-4,190508.0001]
["",null,null,null,null,null,"ضريب",null,"بهاي واحد","مقـدار","واحــد"," حمل مصالح ",null,null,"رديف",{"$f":"COUNTIF($S$1:S7909,Q7909+R7909)","v":0},"190508",0.01,""]
[190508.01,null,1.05,1,537.6,null,1.05,null,512,1,"كیلوگرم","حمل لوله ها و اتصالات پی وی سی",42040101,null,1,{"$f":"COUNTIF($S$1:S7910,Q7910+R7910)","v":1},"190508",0.01,190508.01]
["",null,null,null,null,null,null,null,null,null,null,null,null,"191101",null,{"$f":"COUNTIF($S$1:S7911,Q7911+R7911)","v":0},"191101",0.01,""]
["",null,null,null,null,null,null,null,null,null,null,"متر مکعب",null,null,"واحـد :",{"$f":"COUNTIF($S$1:S7912,Q7912+R7912)","v":0},"191101",0.01,""]
["",null,null,null,null,null,"ضريب",null,"بهاي واحد","مقـدار","واحــد","نيروي انساني ",null,null,"رديف",{"$f":"COUNTIF($S$1:S7913,Q7913+R7913)","v":0},"191101",1E-8,""]
[191101.00000001001,null,8.1200000000000005E-3,1,569.14704000000006,null,2.3199999999999998,null,70092,3.5000000000000005E-3,"نفر- ساعت","متصدی پمپ اب",13041101,null,1,{"$f":"COUNTIF($S$1:S7914,Q7914+R7914)","v":1},"191101",1E-8,191101.00000001001]
[191101.00000001999,null,5.9799999999999992E-3,1,383.37182000000001,null,2.2999999999999998,null,64109,2.5999999999999999E-3,"نفر ساعت","کارگر فنی ماهر",14010103,null,2,{"$f":"COUNTIF($S$1:S7915,Q7915+R7915)","v":2},"191101",1E-8,191101.00000001001]
["",null,null,null,null,null,"ضريب",null,"بهاي واحد","مقـدار","واحــد","ماشين آلات ",null,null,"رديف",{"$f":"COUNTIF($S$1:S7916,Q7916+R7916)","v":0},"191101",9.9999999999999995E-7,""]
[191101.00000100001,null,7.08E-5,1,86.643624000000003,null,1.18,null,1223780,6.0000000000000002E-5,"دستگاه ساعت","بیل مکانیکی 200 اسب بخار چرخ زنجیری و مجهز به چکش هیدرولیکی با فشار 160 تا180 کیلوگرم بر سانتی متر مربع",25010211,null,1,{"$f":"COUNTIF($S$1:S7917,Q7917+R7917)","v":1},"191101",9.9999999999999995E-7,191101.00000100001]
[191101.00000199999,null,3.213E-4,1,155.74953240000002,null,1.89,null,484748,1.7000000000000001E-4,"دستگاه-ساعت","لودر چرخ لاستيکي به قدرت حدود200  اسب بخار باراننده",25010803,null,2,{"$f":"COUNTIF($S$1:S7918,Q7918+R7918)","v":2},"191101",9.9999999999999995E-7,191101.00000100001]
[191101.00000299999,null,3.4699999999999996E-3,1,829.20160999999996,null,1,null,238963,3.4699999999999996E-3,"دستگاه ساعت","پمپ لجن کش 6 اینچ با دبی 360 مترمکعب در ساعت و 75KW و توان 1500",29130311,null,3,{"$f":"COUNTIF($S$1:S7919,Q7919+R7919)","v":3},"191101",9.9999999999999995E-7,191101.00000100001]
["",null,null,null,null,null,null,null,null,null,null,null,null,"191102",null,{"$f":"COUNTIF($S$1:S7920,Q7920+R7920)","v":0},"191102",9.9999999999999995E-7,""]
["",null,null,null,null,null,null,null,null,null,null,"مترطول",null,null,"واحـد :",{"$f":"COUNTIF($S$1:S7921,Q7921+R7921)","v":0},"191102",9.9999999999999995E-7,""]
["",null,null,null,null,null,"ضريب",null,"بهاي واحد","مقـدار","واحــد","نيروي انساني ",null,null,"رديف",{"$f":"COUNTIF($S$1:S7922,Q7922+R7922)","v":0},"191102",1E-8,""]
[191102.00000001001,null,0.47249999999999998,1,26938.642500000002,null,1.89,null,57013,0.25,"نفر- ساعت","كارگر ساده",14010102,null,1,{"$f":"COUNTIF($S$1:S7923,Q7923+R7923)","v":1},"191102",1E-8,191102.00000001001]
[191102.00000001999,null,0.57499999999999996,1,36862.674999999996,null,2.2999999999999998,null,64109,0.25,"نفر ساعت","کارگر فنی ماهر",14010103,null,2,{"$f":"COUNTIF($S$1:S7924,Q7924+R7924)","v":2},"191102",1E-8,191102.00000001001]
["",null,null,null,null,null,"ضريب",null,"بهاي واحد","مقـدار","واحــد","مصالح",null,null,"رديف",{"$f":"COUNTIF($S$1:S7925,Q7925+R7925)","v":0},"191102",1E-4,""]
[191102.0001,null,0.5,1,59096.5,null,1,null,118193,0.5,"مترطول","شيلنگ آب 6 اينچ فشار قوي",31705005,null,1,{"$f":"COUNTIF($S$1:S7926,Q7926+R7926)","v":1},"191102",1E-4,191102.0001]
["",null,null,null,null,null,null,null,null,null,null,null,null,"200101",null,{"$f":"COUNTIF($S$1:S7927,Q7927+R7927)","v":0},"200101",1E-4,""]
["",null,null,null,null,null,null,null,null,null,null,"تن -  کیلومتر‏",null,null,"واحـد :",{"$f":"COUNTIF($S$1:S7928,Q7928+R7928)","v":0},"200101",1E-4,""]
["",null,null,null,null,null,"ضريب",null,"بهاي واحد","مقـدار","واحــد"," حمل مصالح ",null,null,"رديف",{"$f":"COUNTIF($S$1:S7929,Q7929+R7929)","v":0},"200101",0.01,""]
[200101.01,null,2,1,1260,null,2,null,630,1,"تن -  کیلومتر‏","حمل مازاد آهن‌آلات و سيمان پاکتي براي مسافت 300 کيلومتر",41500101,null,1,{"$f":"COUNTIF($S$1:S7930,Q7930+R7930)","v":1},"200101",0.01,200101.01]
["",null,null,null,null,null,null,null,null,null,null,null,null,"200102",null,{"$f":"COUNTIF($S$1:S7931,Q7931+R7931)","v":0},"200102",0.01,""]
["",null,null,null,null,null,null,null,null,null,null,"تن -  کیلومتر‏",null,null,"واحـد :",{"$f":"COUNTIF($S$1:S7932,Q7932+R7932)","v":0},"200102",0.01,""]
["",null,null,null,null,null,"ضريب",null,"بهاي واحد","مقـدار","واحــد"," حمل مصالح ",null,null,"رديف",{"$f":"COUNTIF($S$1:S7933,Q7933+R7933)","v":0},"200102",0.01,""]
[200102.01,null,1.35,1,850.5,null,1.35,null,630,1,"تن -  کیلومتر‏","حمل مازاد آهن‌آلات و سيمان پاکتي براي مسافت 300 کيلومتر",41500101,null,1,{"$f":"COUNTIF($S$1:S7934,Q7934+R7934)","v":1},"200102",0.01,200102.01]
["",null,null,null,null,null,null,null,null,null,null,null,null,"200103",null,{"$f":"COUNTIF($S$1:S7935,Q7935+R7935)","v":0},"200103",0.01,""]
["",null,null,null,null,null,null,null,null,null,null,"تن -  کیلومتر‏",null,null,"واحـد :",{"$f":"COUNTIF($S$1:S7936,Q7936+R7936)","v":0},"200103",0.01,""]
["",null,null,null,null,null,"ضريب",null,"بهاي واحد","مقـدار","واحــد"," حمل مصالح ",null,null,"رديف",{"$f":"COUNTIF($S$1:S7937,Q7937+R7937)","v":0},"200103",0.01,""]
[200103.01,null,0.85,1,535.5,null,0.85,null,630,1,"تن -  کیلومتر‏","حمل مازاد آهن‌آلات و سيمان پاکتي براي مسافت 300 کيلومتر",41500101,null,1,{"$f":"COUNTIF($S$1:S7938,Q7938+R7938)","v":1},"200103",0.01,200103.01]
["",null,null,null,null,null,null,null,null,null,null,null,null,"200104",null,{"$f":"COUNTIF($S$1:S7939,Q7939+R7939)","v":0},"200104",0.01,""]
["",null,null,null,null,null,null,null,null,null,null,"تن -  کیلومتر‏",null,null,"واحـد :",{"$f":"COUNTIF($S$1:S7940,Q7940+R7940)","v":0},"200104",0.01,""]
["",null,null,null,null,null,"ضريب",null,"بهاي واحد","مقـدار","واحــد"," حمل مصالح ",null,null,"رديف",{"$f":"COUNTIF($S$1:S7941,Q7941+R7941)","v":0},"200104",0.01,""]
[200104.01,null,0.7,1,441,null,0.7,null,630,1,"تن -  کیلومتر‏","حمل مازاد آهن‌آلات و سيمان پاکتي براي مسافت 300 کيلومتر",41500101,null,1,{"$f":"COUNTIF($S$1:S7942,Q7942+R7942)","v":1},"200104",0.01,200104.01]
["",null,null,null,null,null,null,null,null,null,null,null,null,"200105",null,{"$f":"COUNTIF($S$1:S7943,Q7943+R7943)","v":0},"200105",{"$f":"IF(IF(O7943=\"رديف\",VLOOKUP(L7943,Kod,2,0),0)=0,R7942,IF(O7943=\"رديف\",VLOOKUP(L7943,Kod,2,0),0))","v":0.01},""]
["",null,null,null,null,null,null,null,null,null,null,"تن -  کیلومتر‏",null,null,"واحـد :",{"$f":"COUNTIF($S$1:S7944,Q7944+R7944)","v":0},"200105",0.01,""]
[{"$f":"IF(M7945<>\"\",Q7945+(P7945*R7945),\"\")","v":""},null,null,null,null,null,"ضريب",null,"بهاي واحد","مقـدار","واحــد"," حمل مصالح ",null,null,"رديف",{"$f":"COUNTIF($S$1:S7945,Q7945+R7945)","v":0},"200105",0.01,""]
[200105.01,null,0.6,1,378,null,0.6,null,630,1,"تن -  کیلومتر‏","حمل مازاد آهن‌آلات و سيمان پاکتي براي مسافت 300 کيلومتر",41500101,null,1,{"$f":"COUNTIF($S$1:S7946,Q7946+R7946)","v":1},"200105",0.01,200105.01]
["",null,null,null,null,null,null,null,null,null,null,null,null,"200106",null,{"$f":"COUNTIF($S$1:S7947,Q7947+R7947)","v":0},"200106",0.01,""]
["",null,null,null,null,null,null,null,null,null,null,"تن -  کیلومتر‏",null,null,"واحـد :",{"$f":"COUNTIF($S$1:S7948,Q7948+R7948)","v":0},"200106",0.01,""]
["",null,null,null,null,null,"ضريب",null,"بهاي واحد","مقـدار","واحــد"," حمل مصالح ",null,null,"رديف",{"$f":"COUNTIF($S$1:S7949,Q7949+R7949)","v":0},"200106",0.01,""]
[200106.01,null,0.5,1,315,null,0.5,null,630,1,"تن -  کیلومتر‏","حمل مازاد آهن‌آلات و سيمان پاکتي براي مسافت 300 کيلومتر",41500101,null,1,{"$f":"COUNTIF($S$1:S7950,Q7950+R7950)","v":1},"200106",0.01,200106.01]
["",null,null,null,null,null,null,null,null,null,null,null,null,"200201",null,{"$f":"COUNTIF($S$1:S7951,Q7951+R7951)","v":0},"200201",0.01,""]
["",null,null,null,null,null,null,null,null,null,null,"تن -  کیلومتر‏",null,null,"واحـد :",{"$f":"COUNTIF($S$1:S7952,Q7952+R7952)","v":0},"200201",0.01,""]
["",null,null,null,null,null,"ضريب",null,"بهاي واحد","مقـدار","واحــد"," حمل مصالح ",null,null,"رديف",{"$f":"COUNTIF($S$1:S7953,Q7953+R7953)","v":0},"200201",0.01,""]
[200201.01,null,3.5625,1,2141.0625,null,3.5625,null,601,1,"تن -  کیلومتر‏","حمل مازاد قیر فله برای مسافت300 کیلومتر",41500301,null,1,{"$f":"COUNTIF($S$1:S7954,Q7954+R7954)","v":1},"200201",0.01,200201.01]
["",null,null,null,null,null,null,null,null,null,null,null,null,"200202",null,{"$f":"COUNTIF($S$1:S7955,Q7955+R7955)","v":0},"200202",0.01,""]
["",null,null,null,null,null,null,null,null,null,null,"تن -  کیلومتر‏",null,null,"واحـد :",{"$f":"COUNTIF($S$1:S7956,Q7956+R7956)","v":0},"200202",0.01,""]
["",null,null,null,null,null,"ضريب",null,"بهاي واحد","مقـدار","واحــد"," حمل مصالح ",null,null,"رديف",{"$f":"COUNTIF($S$1:S7957,Q7957+R7957)","v":0},"200202",0.01,""]
[200202.01,null,2.5,1,1502.5,null,2.5,null,601,1,"تن -  کیلومتر‏","حمل مازاد قیر فله برای مسافت300 کیلومتر",41500301,null,1,{"$f":"COUNTIF($S$1:S7958,Q7958+R7958)","v":1},"200202",0.01,200202.01]
["",null,null,null,null,null,null,null,null,null,null,null,null,"200203",null,{"$f":"COUNTIF($S$1:S7959,Q7959+R7959)","v":0},"200203",0.01,""]
["",null,null,null,null,null,null,null,null,null,null,"تن -  کیلومتر‏",null,null,"واحـد :",{"$f":"COUNTIF($S$1:S7960,Q7960+R7960)","v":0},"200203",0.01,""]
["",null,null,null,null,null,"ضريب",null,"بهاي واحد","مقـدار","واحــد"," حمل مصالح ",null,null,"رديف",{"$f":"COUNTIF($S$1:S7961,Q7961+R7961)","v":0},"200203",0.01,""]
[200203.01,null,1.625,1,976.625,null,1.625,null,601,1,"تن -  کیلومتر‏","حمل مازاد قیر فله برای مسافت300 کیلومتر",41500301,null,1,{"$f":"COUNTIF($S$1:S7962,Q7962+R7962)","v":1},"200203",0.01,200203.01]
["",null,null,null,null,null,null,null,null,null,null,null,null,"200204",null,{"$f":"COUNTIF($S$1:S7963,Q7963+R7963)","v":0},{"$f":"IF(N7963>0,N7963,Q7962)","v":"200204"},0.01,{"$f":"IF(M7963<>\"\",Q7963+R7963,\"\")","v":""}]
["",null,null,null,null,null,null,null,null,null,null,"تن -  کیلومتر‏",null,null,"واحـد :",{"$f":"COUNTIF($S$1:S7964,Q7964+R7964)","v":0},"200204",0.01,""]
["",null,null,null,null,null,"ضريب",null,"بهاي واحد","مقـدار","واحــد"," حمل مصالح ",null,null,"رديف",{"$f":"COUNTIF($S$1:S7965,Q7965+R7965)","v":0},"200204",0.01,""]
[200204.01,null,1.3125,1,788.8125,null,1.3125,null,601,1,"تن -  کیلومتر‏","حمل مازاد قیر فله برای مسافت300 کیلومتر",41500301,null,1,{"$f":"COUNTIF($S$1:S7966,Q7966+R7966)","v":1},"200204",0.01,200204.01]
["",null,null,null,null,null,null,null,null,null,null,null,null,"200205",null,{"$f":"COUNTIF($S$1:S7967,Q7967+R7967)","v":0},"200205",0.01,""]
["",null,null,null,null,null,null,null,null,null,null,"تن -  کیلومتر‏",null,null,"واحـد :",{"$f":"COUNTIF($S$1:S7968,Q7968+R7968)","v":0},"200205",0.01,""]
["",null,null,null,null,null,"ضريب",null,"بهاي واحد","مقـدار","واحــد"," حمل مصالح ",null,null,"رديف",{"$f":"COUNTIF($S$1:S7969,Q7969+R7969)","v":0},"200205",0.01,""]
[200205.01,null,1.125,1,676.125,null,1.125,null,601,1,"تن -  کیلومتر‏","حمل مازاد قیر فله برای مسافت300 کیلومتر",41500301,null,1,{"$f":"COUNTIF($S$1:S7970,Q7970+R7970)","v":1},"200205",0.01,200205.01]
["",null,null,null,null,null,null,null,null,null,null,null,null,"200206",null,{"$f":"COUNTIF($S$1:S7971,Q7971+R7971)","v":0},"200206",0.01,""]
["",null,null,null,null,null,null,null,null,null,null,"تن -  کیلومتر‏",null,null,"واحـد :",{"$f":"COUNTIF($S$1:S7972,Q7972+R7972)","v":0},"200206",0.01,""]
["",null,null,null,null,null,"ضريب",null,"بهاي واحد","مقـدار","واحــد"," حمل مصالح ",null,null,"رديف",{"$f":"COUNTIF($S$1:S7973,Q7973+R7973)","v":0},"200206",0.01,""]
[200206.01,null,0.9375,1,563.4375,null,0.9375,null,601,1,"تن -  کیلومتر‏","حمل مازاد قیر فله برای مسافت300 کیلومتر",41500301,null,1,{"$f":"COUNTIF($S$1:S7974,Q7974+R7974)","v":1},"200206",0.01,200206.01]
["",null,null,null,null,null,null,null,null,null,null,null,null,"210202",null,{"$f":"COUNTIF($S$1:S7975,Q7975+R7975)","v":0},"210202",0.01,""]
["",null,null,null,null,null,null,null,null,null,null,"درصد",null,null,"واحـد :",{"$f":"COUNTIF($S$1:S7976,Q7976+R7976)","v":0},"210202",0.01,""]
["",null,null,null,null,null,"ضريب",null,"بهاي واحد","مقـدار","واحــد","نيروي انساني ",null,null,"رديف",{"$f":"COUNTIF($S$1:S7977,Q7977+R7977)","v":0},"210202",1E-8,""]
[210202.00000001001,null,30,1,0,null,1,null,0,30,"درصد","درصد",19020199,null,1,{"$f":"COUNTIF($S$1:S7978,Q7978+R7978)","v":1},"210202",1E-8,210202.00000001001]
["",null,null,null,null,null,null,null,null,null,null,null,null,"210203",null,{"$f":"COUNTIF($S$1:S7979,Q7979+R7979)","v":0},"210203",1E-8,""]
["",null,null,null,null,null,null,null,null,null,null,"درصد",null,null,"واحـد :",{"$f":"COUNTIF($S$1:S7980,Q7980+R7980)","v":0},"210203",1E-8,""]
["",null,null,null,null,null,"ضريب",null,"بهاي واحد","مقـدار","واحــد","نيروي انساني ",null,null,"رديف",{"$f":"COUNTIF($S$1:S7981,Q7981+R7981)","v":0},"210203",1E-8,""]
[210203.00000001001,null,50,1,0,null,1,null,0,50,"درصد","درصد",19020199,null,1,{"$f":"COUNTIF($S$1:S7982,Q7982+R7982)","v":1},"210203",1E-8,210203.00000001001]
["",null,null,null,null,null,null,null,null,null,null,null,null,"410101",null,{"$f":"COUNTIF($S$1:S7983,Q7983+R7983)","v":0},"410101",1E-8,""]
["",null,null,null,null,null,null,null,null,null,null,"مترمكعب",null,null,"واحـد :",{"$f":"COUNTIF($S$1:S7984,Q7984+R7984)","v":0},"410101",1E-8,""]
["",null,null,null,null,null,"ضريب",null,"بهاي واحد","مقـدار","واحــد","ماشين آلات ",null,null,"رديف",{"$f":"COUNTIF($S$1:S7985,Q7985+R7985)","v":0},"410101",9.9999999999999995E-7,""]
[410101.00000100001,null,4.7618999999999995E-2,1,16508.554919999999,null,1,null,346680,4.7618999999999995E-2,"دستگاه-ساعت","کامیون کمپرسی به ظرفیت حدود 10 تن با راننده",23020204,null,1,{"$f":"COUNTIF($S$1:S7986,Q7986+R7986)","v":1},"410101",9.9999999999999995E-7,410101.00000100001]
["",null,null,null,null,null,"ضريب",null,"بهاي واحد","مقـدار","واحــد","مصالح",null,null,"رديف",{"$f":"COUNTIF($S$1:S7987,Q7987+R7987)","v":0},"410101",1E-4,""]
[410101.0001,null,1,1,205750,null,1,null,205750,1,"مترمكعب","ماسه شسته دانه بندی شده (تولید کارگاه)",31030301,null,1,{"$f":"COUNTIF($S$1:S7988,Q7988+R7988)","v":1},"410101",1E-4,410101.0001]
["",null,null,null,null,null,null,null,null,null,null,null,null,"410102",null,{"$f":"COUNTIF($S$1:S7989,Q7989+R7989)","v":0},"410102",1E-4,""]
["",null,null,null,null,null,null,null,null,null,null,"مترمكعب",null,null,"واحـد :",{"$f":"COUNTIF($S$1:S7990,Q7990+R7990)","v":0},"410102",1E-4,""]
["",null,null,null,null,null,"ضريب",null,"بهاي واحد","مقـدار","واحــد","ماشين آلات ",null,null,"رديف",{"$f":"COUNTIF($S$1:S7991,Q7991+R7991)","v":0},"410102",9.9999999999999995E-7,""]
[410102.00000100001,null,4.7618999999999995E-2,1,16508.554919999999,null,1,null,346680,4.7618999999999995E-2,"دستگاه-ساعت","کامیون کمپرسی به ظرفیت حدود 10 تن با راننده",23020204,null,1,{"$f":"COUNTIF($S$1:S7992,Q7992+R7992)","v":1},"410102",9.9999999999999995E-7,410102.00000100001]
["",null,null,null,null,null,"ضريب",null,"بهاي واحد","مقـدار","واحــد","مصالح",null,null,"رديف",{"$f":"COUNTIF($S$1:S7993,Q7993+R7993)","v":0},"410102",1E-4,""]
[410102.0001,null,1,1,170000,null,1,null,170000,1,"مترمكعب","شن شسته دانه بندی شده25 میلیمتر تولید کارگاه",31030604,null,1,{"$f":"COUNTIF($S$1:S7994,Q7994+R7994)","v":1},"410102",1E-4,410102.0001]
["",null,null,null,null,null,null,null,null,null,null,null,null,"410201",null,{"$f":"COUNTIF($S$1:S7995,Q7995+R7995)","v":0},"410201",1E-4,""]
["",null,null,null,null,null,null,null,null,null,null,"مترمكعب",null,null,"واحـد :",{"$f":"COUNTIF($S$1:S7996,Q7996+R7996)","v":0},"410201",1E-4,""]
["",null,null,null,null,null,"ضريب",null,"بهاي واحد","مقـدار","واحــد","ماشين آلات ",null,null,"رديف",{"$f":"COUNTIF($S$1:S7997,Q7997+R7997)","v":0},"410201",9.9999999999999995E-7,""]
[410201.00000100001,null,4.7618999999999995E-2,1,16508.554919999999,null,1,null,346680,4.7618999999999995E-2,"دستگاه-ساعت","کامیون کمپرسی به ظرفیت حدود 10 تن با راننده",23020204,null,1,{"$f":"COUNTIF($S$1:S7998,Q7998+R7998)","v":1},"410201",9.9999999999999995E-7,410201.00000100001]
["",null,null,null,null,null,"ضريب",null,"بهاي واحد","مقـدار","واحــد","مصالح",null,null,"رديف",{"$f":"COUNTIF($S$1:S7999,Q7999+R7999)","v":0},"410201",1E-4,""]
[410201.0001,null,1,1,167487,null,1,null,167487,1,"مترمكعب","بالاست تهیه شده از قلوه سنگ رودخانه ای  تولید کارگاه",31041102,null,1,{"$f":"COUNTIF($S$1:S8000,Q8000+R8000)","v":1},"410201",1E-4,410201.0001]
["",null,null,null,null,null,null,null,null,null,null,null,null,"410202",null,{"$f":"COUNTIF($S$1:S8001,Q8001+R8001)","v":0},"410202",1E-4,""]
["",null,null,null,null,null,null,null,null,null,null,"مترمكعب",null,null,"واحـد :",{"$f":"COUNTIF($S$1:S8002,Q8002+R8002)","v":0},"410202",1E-4,""]
["",null,null,null,null,null,"ضريب",null,"بهاي واحد","مقـدار","واحــد","ماشين آلات ",null,null,"رديف",{"$f":"COUNTIF($S$1:S8003,Q8003+R8003)","v":0},"410202",9.9999999999999995E-7,""]
[410202.00000100001,null,4.7618999999999995E-2,1,16508.554919999999,null,1,null,346680,4.7618999999999995E-2,"دستگاه-ساعت","کامیون کمپرسی به ظرفیت حدود 10 تن با راننده",23020204,null,1,{"$f":"COUNTIF($S$1:S8004,Q8004+R8004)","v":1},"410202",9.9999999999999995E-7,410202.00000100001]
["",null,null,null,null,null,"ضريب",null,"بهاي واحد","مقـدار","واحــد","مصالح",null,null,"رديف",{"$f":"COUNTIF($S$1:S8005,Q8005+R8005)","v":0},"410202",1E-4,""]
[410202.0001,null,1,1,246924,null,1,null,246924,1,"مترمكعب","بالاست تهیه شده از سنگ کوهی تولید کارگاه",31041104,null,1,{"$f":"COUNTIF($S$1:S8006,Q8006+R8006)","v":1},"410202",1E-4,410202.0001]
["",null,null,null,null,null,null,null,null,null,null,null,null,"410301",null,{"$f":"COUNTIF($S$1:S8007,Q8007+R8007)","v":0},"410301",{"$f":"IF(IF(O8007=\"رديف\",VLOOKUP(L8007,Kod,2,0),0)=0,R8006,IF(O8007=\"رديف\",VLOOKUP(L8007,Kod,2,0),0))","v":1E-4},""]
["",null,null,null,null,null,null,null,null,null,null,"مترمكعب",null,null,"واحـد :",{"$f":"COUNTIF($S$1:S8008,Q8008+R8008)","v":0},"410301",1E-4,""]
[{"$f":"IF(M8009<>\"\",Q8009+(P8009*R8009),\"\")","v":""},null,null,null,null,null,"ضريب",null,"بهاي واحد","مقـدار","واحــد","ماشين آلات ",null,null,"رديف",{"$f":"COUNTIF($S$1:S8009,Q8009+R8009)","v":0},"410301",9.9999999999999995E-7,""]
[410301.00000100001,null,4.7618999999999995E-2,1,16508.554919999999,null,1,null,346680,4.7618999999999995E-2,"دستگاه-ساعت","کامیون کمپرسی به ظرفیت حدود 10 تن با راننده",23020204,null,1,{"$f":"COUNTIF($S$1:S8010,Q8010+R8010)","v":1},"410301",9.9999999999999995E-7,410301.00000100001]
["",null,null,null,null,null,"ضريب",null,"بهاي واحد","مقـدار","واحــد","مصالح",null,null,"رديف",{"$f":"COUNTIF($S$1:S8011,Q8011+R8011)","v":0},"410301",1E-4,""]
[410301.0001,null,0.4,1,22528.400000000001,null,1,null,56321,0.4,"مترمكعب","مصالح زیراساس تهیه شده ازمصالح رودخانه ای بادانه بندی صفرتا   50 میلیمتر تولیدکارگاه",31040301,null,1,{"$f":"COUNTIF($S$1:S8012,Q8012+R8012)","v":1},"410301",1E-4,410301.0001]
[410301.00020000001,null,0.3,1,17398.2,null,1,null,57994,0.3,"مترمكعب","مصالح زیراساس تهیه شده ازمصالح رودخانه ای بادانه بندی صفرتا    37/5  میلیمتر تولیدکارگاه",31040302,null,2,{"$f":"COUNTIF($S$1:S8013,Q8013+R8013)","v":2},"410301",1E-4,410301.0001]
[410301.00030000001,null,0.3,1,18970.2,null,1,null,63234,0.3,"مترمكعب","مصالح زیراساس تهیه شده ازمصالح رودخانه ای بادانه بندی صفرتا 25  میلیمتر تولیدکارگاه",31040303,null,3,{"$f":"COUNTIF($S$1:S8014,Q8014+R8014)","v":3},"410301",1E-4,410301.0001]
["",null,null,null,null,null,null,null,null,null,null,null,null,"410302",null,{"$f":"COUNTIF($S$1:S8015,Q8015+R8015)","v":0},"410302",1E-4,""]
["",null,null,null,null,null,null,null,null,null,null,"مترمكعب",null,null,"واحـد :",{"$f":"COUNTIF($S$1:S8016,Q8016+R8016)","v":0},"410302",1E-4,""]
["",null,null,null,null,null,"ضريب",null,"بهاي واحد","مقـدار","واحــد","ماشين آلات ",null,null,"رديف",{"$f":"COUNTIF($S$1:S8017,Q8017+R8017)","v":0},"410302",9.9999999999999995E-7,""]
[410302.00000100001,null,4.7618999999999995E-2,1,16508.554919999999,null,1,null,346680,4.7618999999999995E-2,"دستگاه-ساعت","کامیون کمپرسی به ظرفیت حدود 10 تن با راننده",23020204,null,1,{"$f":"COUNTIF($S$1:S8018,Q8018+R8018)","v":1},"410302",9.9999999999999995E-7,410302.00000100001]
["",null,null,null,null,null,"ضريب",null,"بهاي واحد","مقـدار","واحــد","مصالح",null,null,"رديف",{"$f":"COUNTIF($S$1:S8019,Q8019+R8019)","v":0},"410302",1E-4,""]
[410302.0001,null,0.3,1,26600.1,null,1,null,88667,0.3,"مترمكعب","مصالح اساس با شکستگی75 درصد و در دو جبهه تهیه شده از مصالح رودخانه ای با دانه بندی0 تا50 میلیمتر تولید کارگاه",31040401,null,1,{"$f":"COUNTIF($S$1:S8020,Q8020+R8020)","v":1},"410302",1E-4,410302.0001]
[410302.00020000001,null,0.4,1,37254.800000000003,null,1,null,93137,0.4,"مترمكعب","مصالح اساس با شکستگی 75 درصد در دو جبهه تهیه شده از مصالح رودخانه‌ای با دانه بندی صفر تا  37/5 میلیمتر  تولید کارگاه",31040402,null,2,{"$f":"COUNTIF($S$1:S8021,Q8021+R8021)","v":2},"410302",1E-4,410302.0001]
[410302.00030000001,null,0.3,1,28198.799999999999,null,1,null,93996,0.3,"مترمكعب","مصالح اساس با شکستگی 75 درصد در دو جبهه تهیه شده از مصالح رودخانه‌ای با دانه بندی صفر تا 25 میلیمتر تولید کارگاه",31040403,null,3,{"$f":"COUNTIF($S$1:S8022,Q8022+R8022)","v":3},"410302",1E-4,410302.0001]
["",null,null,null,null,null,null,null,null,null,null,null,null,"410303",null,{"$f":"COUNTIF($S$1:S8023,Q8023+R8023)","v":0},"410303",1E-4,""]
["",null,null,null,null,null,null,null,null,null,null,"مترمكعب",null,null,"واحـد :",{"$f":"COUNTIF($S$1:S8024,Q8024+R8024)","v":0},"410303",1E-4,""]
["",null,null,null,null,null,"ضريب",null,"بهاي واحد","مقـدار","واحــد","ماشين آلات ",null,null,"رديف",{"$f":"COUNTIF($S$1:S8025,Q8025+R8025)","v":0},"410303",9.9999999999999995E-7,""]
[410303.00000100001,null,4.7618999999999995E-2,1,16508.554919999999,null,1,null,346680,4.7618999999999995E-2,"دستگاه-ساعت","کامیون کمپرسی به ظرفیت حدود 10 تن با راننده",23020204,null,1,{"$f":"COUNTIF($S$1:S8026,Q8026+R8026)","v":1},"410303",9.9999999999999995E-7,410303.00000100001]
["",null,null,null,null,null,"ضريب",null,"بهاي واحد","مقـدار","واحــد","مصالح",null,null,"رديف",{"$f":"COUNTIF($S$1:S8027,Q8027+R8027)","v":0},{"$f":"IF(N8027>0,N8027,Q8026)","v":"410303"},1E-4,{"$f":"IF(M8027<>\"\",Q8027+R8027,\"\")","v":""}]
[410303.0001,null,0.5433333332789998,1,82535.593325079768,null,1.63,null,151906,0.33333333329999992,"مترمكعب","مصالح اساس با شکستگی 100 درصد در دو جبهه تهیه شده از سنگ کوهی با دانه بندی صفر تا 50 میلیمتر تولید کارگاه",31040501,null,1,{"$f":"COUNTIF($S$1:S8028,Q8028+R8028)","v":1},"410303",1E-4,410303.0001]
[410303.00020000001,null,0.5433333332789998,1,87530.456657913601,null,1.63,null,161099,0.33333333329999992,"مترمكعب","مصالح اساس با شکستگی 100 درصد در دو جبهه تهیه شده از سنگ کوهی با دانه بندی صفر تا  37/5 میلیمتر تولید کارگاه",31040502,null,2,{"$f":"COUNTIF($S$1:S8029,Q8029+R8029)","v":2},"410303",1E-4,410303.0001]
[410303.00030000001,null,0.5433333332789998,1,89748.343324358488,null,1.63,null,165181,0.33333333329999992,"مترمكعب","مصالح اساس با شکستگی 100 درصد در دو جبهه تهیه شده از سنگ کوهی با دانه بندی صفر تا 25 میلیمتر تولید کارگاه",31040503,null,3,{"$f":"COUNTIF($S$1:S8030,Q8030+R8030)","v":3},"410303",1E-4,410303.0001]
["",null,null,null,null,null,null,null,null,null,null,null,null,"410304",null,{"$f":"COUNTIF($S$1:S8031,Q8031+R8031)","v":0},"410304",1E-4,""]
["",null,null,null,null,null,null,null,null,null,null,"مترمكعب",null,null,"واحـد :",{"$f":"COUNTIF($S$1:S8032,Q8032+R8032)","v":0},"410304",1E-4,""]
["",null,null,null,null,null,"ضريب",null,"بهاي واحد","مقـدار","واحــد","ماشين آلات ",null,null,"رديف",{"$f":"COUNTIF($S$1:S8033,Q8033+R8033)","v":0},"410304",9.9999999999999995E-7,""]
[410304.00000100001,null,4.7618999999999995E-2,1,16508.554919999999,null,1,null,346680,4.7618999999999995E-2,"دستگاه-ساعت","کامیون کمپرسی به ظرفیت حدود 10 تن با راننده",23020204,null,1,{"$f":"COUNTIF($S$1:S8034,Q8034+R8034)","v":1},"410304",9.9999999999999995E-7,410304.00000100001]
["",null,null,null,null,null,"ضريب",null,"بهاي واحد","مقـدار","واحــد","مصالح",null,null,"رديف",{"$f":"COUNTIF($S$1:S8035,Q8035+R8035)","v":0},"410304",1E-4,""]
[410304.0001,null,1.6,1,409580.79999999999,null,1.6,null,255988,1,"مترمكعب","مصالح سنگی آسفالت سطحی نوع 2و4با شکستگی 60 درصد تهیه شده از مصالح رودخانه ای با دانه بندی صفر تا12.5میلیمتر و صفر تا 25 میلیمتر تولید کارگاه",31040601,null,1,{"$f":"COUNTIF($S$1:S8036,Q8036+R8036)","v":1},"410304",1E-4,410304.0001]
["",null,null,null,null,null,null,null,null,null,null,null,null,"410305",null,{"$f":"COUNTIF($S$1:S8037,Q8037+R8037)","v":0},"410305",1E-4,""]
["",null,null,null,null,null,null,null,null,null,null,"مترمكعب",null,null,"واحـد :",{"$f":"COUNTIF($S$1:S8038,Q8038+R8038)","v":0},"410305",1E-4,""]
["",null,null,null,null,null,"ضريب",null,"بهاي واحد","مقـدار","واحــد","ماشين آلات ",null,null,"رديف",{"$f":"COUNTIF($S$1:S8039,Q8039+R8039)","v":0},"410305",9.9999999999999995E-7,""]
[410305.00000100001,null,4.7618999999999995E-2,1,16508.554919999999,null,1,null,346680,4.7618999999999995E-2,"دستگاه-ساعت","کامیون کمپرسی به ظرفیت حدود 10 تن با راننده",23020204,null,1,{"$f":"COUNTIF($S$1:S8040,Q8040+R8040)","v":1},"410305",9.9999999999999995E-7,410305.00000100001]
["",null,null,null,null,null,"ضريب",null,"بهاي واحد","مقـدار","واحــد","مصالح",null,null,"رديف",{"$f":"COUNTIF($S$1:S8041,Q8041+R8041)","v":0},"410305",1E-4,""]
[410305.0001,null,1.6,1,493132.79999999999,null,1.6,null,308208,1,"مترمكعب","مصالح سنگی آسفالت سطحی نوع 1و3با شکستگی 60 درصد تهیه شده از مصالح رودخانه ای با دانه بندی صفر تا9.5میلیمتر و صفر تا 19 میلیمتر تولید کارگاه",31040602,null,1,{"$f":"COUNTIF($S$1:S8042,Q8042+R8042)","v":1},"410305",1E-4,410305.0001]
["",null,null,null,null,null,null,null,null,null,null,null,null,"410306",null,{"$f":"COUNTIF($S$1:S8043,Q8043+R8043)","v":0},"410306",1E-4,""]
["",null,null,null,null,null,null,null,null,null,null,"مترمكعب",null,null,"واحـد :",{"$f":"COUNTIF($S$1:S8044,Q8044+R8044)","v":0},"410306",1E-4,""]
["",null,null,null,null,null,"ضريب",null,"بهاي واحد","مقـدار","واحــد","ماشين آلات ",null,null,"رديف",{"$f":"COUNTIF($S$1:S8045,Q8045+R8045)","v":0},"410306",9.9999999999999995E-7,""]
[410306.00000100001,null,4.7618999999999995E-2,1,16508.554919999999,null,1,null,346680,4.7618999999999995E-2,"دستگاه-ساعت","کامیون کمپرسی به ظرفیت حدود 10 تن با راننده",23020204,null,1,{"$f":"COUNTIF($S$1:S8046,Q8046+R8046)","v":1},"410306",9.9999999999999995E-7,410306.00000100001]
["",null,null,null,null,null,"ضريب",null,"بهاي واحد","مقـدار","واحــد","مصالح",null,null,"رديف",{"$f":"COUNTIF($S$1:S8047,Q8047+R8047)","v":0},"410306",1E-4,""]
[410306.0001,null,1.6,1,537516.80000000005,null,1.6,null,335948,1,"مترمكعب","مصالح سنگی آسفالت سطحی نوع 4 با شکستگی 60 درصد تهیه شده از مصالح رودخانه‌ای با دانه بندی صفر تا 12/5 میلیمتر تولید کارگاه",31040603,null,1,{"$f":"COUNTIF($S$1:S8048,Q8048+R8048)","v":1},"410306",1E-4,410306.0001]
["",null,null,null,null,null,null,null,null,null,null,null,null,"410307",null,{"$f":"COUNTIF($S$1:S8049,Q8049+R8049)","v":0},"410307",1E-4,""]
["",null,null,null,null,null,null,null,null,null,null,"مترمكعب",null,null,"واحـد :",{"$f":"COUNTIF($S$1:S8050,Q8050+R8050)","v":0},"410307",1E-4,""]
["",null,null,null,null,null,"ضريب",null,"بهاي واحد","مقـدار","واحــد","ماشين آلات ",null,null,"رديف",{"$f":"COUNTIF($S$1:S8051,Q8051+R8051)","v":0},"410307",9.9999999999999995E-7,""]
[410307.00000100001,null,4.7618999999999995E-2,1,16508.554919999999,null,1,null,346680,4.7618999999999995E-2,"دستگاه-ساعت","کامیون کمپرسی به ظرفیت حدود 10 تن با راننده",23020204,null,1,{"$f":"COUNTIF($S$1:S8052,Q8052+R8052)","v":1},"410307",9.9999999999999995E-7,410307.00000100001]
["",null,null,null,null,null,"ضريب",null,"بهاي واحد","مقـدار","واحــد","مصالح",null,null,"رديف",{"$f":"COUNTIF($S$1:S8053,Q8053+R8053)","v":0},"410307",1E-4,""]
[410307.0001,null,1.6,1,562248,null,1.6,null,351405,1,"مترمكعب","مصالح سنگی آسفالت سطحی نوع 5 با شکستگی 60 درصد تهیه شده از مصالح رودخانه‌ای با دانه بندی صفر تا 9/5 میلیمتر تولید کارگاه",31040604,null,1,{"$f":"COUNTIF($S$1:S8054,Q8054+R8054)","v":1},"410307",1E-4,410307.0001]
["",null,null,null,null,null,null,null,null,null,null,null,null,"410308",null,{"$f":"COUNTIF($S$1:S8055,Q8055+R8055)","v":0},"410308",1E-4,""]
["",null,null,null,null,null,null,null,null,null,null,"مترمكعب",null,null,"واحـد :",{"$f":"COUNTIF($S$1:S8056,Q8056+R8056)","v":0},"410308",1E-4,""]
["",null,null,null,null,null,"ضريب",null,"بهاي واحد","مقـدار","واحــد","ماشين آلات ",null,null,"رديف",{"$f":"COUNTIF($S$1:S8057,Q8057+R8057)","v":0},"410308",9.9999999999999995E-7,""]
[410308.00000100001,null,4.7618999999999995E-2,1,16508.554919999999,null,1,null,346680,4.7618999999999995E-2,"دستگاه-ساعت","کامیون کمپرسی به ظرفیت حدود 10 تن با راننده",23020204,null,1,{"$f":"COUNTIF($S$1:S8058,Q8058+R8058)","v":1},"410308",9.9999999999999995E-7,410308.00000100001]
["",null,null,null,null,null,"ضريب",null,"بهاي واحد","مقـدار","واحــد","مصالح",null,null,"رديف",{"$f":"COUNTIF($S$1:S8059,Q8059+R8059)","v":0},"410308",1E-4,""]
[410308.0001,null,0.5,1,53793.5,null,1,null,107587,0.5,"مترمكعب","مصالح سنگی آسفالت سرد مخلوط در محل (ردمیکس) رودخانه ای با دانه بندی پیوسته 0 تا 25میلیمتر تولید کارگاه",31040701,null,1,{"$f":"COUNTIF($S$1:S8060,Q8060+R8060)","v":1},"410308",1E-4,410308.0001]
[410308.00020000001,null,0.5,1,61392.5,null,1,null,122785,0.5,"مترمكعب","مصالح سنگی آسفالت سرد مخلوط در محل (ردمیکس) رودخانه ای با دانه بندی پیوسته 0 تا 19 میلیمتر تولید کارگاه",31040702,null,2,{"$f":"COUNTIF($S$1:S8061,Q8061+R8061)","v":2},"410308",1E-4,410308.0001]
["",null,null,null,null,null,null,null,null,null,null,null,null,"410309",null,{"$f":"COUNTIF($S$1:S8062,Q8062+R8062)","v":0},"410309",1E-4,""]
["",null,null,null,null,null,null,null,null,null,null,"مترمكعب",null,null,"واحـد :",{"$f":"COUNTIF($S$1:S8063,Q8063+R8063)","v":0},"410309",1E-4,""]
["",null,null,null,null,null,"ضريب",null,"بهاي واحد","مقـدار","واحــد","ماشين آلات ",null,null,"رديف",{"$f":"COUNTIF($S$1:S8064,Q8064+R8064)","v":0},"410309",9.9999999999999995E-7,""]
[410309.00000100001,null,4.7618999999999995E-2,1,16508.554919999999,null,1,null,346680,4.7618999999999995E-2,"دستگاه-ساعت","کامیون کمپرسی به ظرفیت حدود 10 تن با راننده",23020204,null,1,{"$f":"COUNTIF($S$1:S8065,Q8065+R8065)","v":1},"410309",9.9999999999999995E-7,410309.00000100001]
["",null,null,null,null,null,"ضريب",null,"بهاي واحد","مقـدار","واحــد","مصالح",null,null,"رديف",{"$f":"COUNTIF($S$1:S8066,Q8066+R8066)","v":0},"410309",1E-4,""]
[410309.0001,null,0.5,1,59653,null,1,null,119306,0.5,"مترمكعب","مصالح سنگی اساس قیری با شکستگی 50 درصد تهیه شده از مصالح رودخانه‌ای با دانه بندی صفر تا  37/5 میلیمتر تولید کارگاه",31040801,null,1,{"$f":"COUNTIF($S$1:S8067,Q8067+R8067)","v":1},"410309",1E-4,410309.0001]
[410309.00020000001,null,0.5,1,58894,null,1,null,117788,0.5,"مترمكعب","مصالح سنگی اساس قیری با شکستگی 50 درصد تهیه شده از مصالح رودخانه‌ای با دانه بندی صفر تا 25  میلیمتر تولید کارگاه",31040802,null,2,{"$f":"COUNTIF($S$1:S8068,Q8068+R8068)","v":2},"410309",1E-4,410309.0001]
["",null,null,null,null,null,null,null,null,null,null,null,null,"410310",null,{"$f":"COUNTIF($S$1:S8069,Q8069+R8069)","v":0},"410310",1E-4,""]
["",null,null,null,null,null,null,null,null,null,null,"مترمكعب",null,null,"واحـد :",{"$f":"COUNTIF($S$1:S8070,Q8070+R8070)","v":0},"410310",1E-4,""]
["",null,null,null,null,null,"ضريب",null,"بهاي واحد","مقـدار","واحــد","ماشين آلات ",null,null,"رديف",{"$f":"COUNTIF($S$1:S8071,Q8071+R8071)","v":0},"410310",{"$f":"IF(IF(O8071=\"رديف\",VLOOKUP(L8071,Kod,2,0),0)=0,R8070,IF(O8071=\"رديف\",VLOOKUP(L8071,Kod,2,0),0))","v":9.9999999999999995E-7},""]
[410310.00000100001,null,4.7618999999999995E-2,1,16508.554919999999,null,1,null,346680,4.7618999999999995E-2,"دستگاه-ساعت","کامیون کمپرسی به ظرفیت حدود 10 تن با راننده",23020204,null,1,{"$f":"COUNTIF($S$1:S8072,Q8072+R8072)","v":1},"410310",9.9999999999999995E-7,410310.00000100001]
[{"$f":"IF(M8073<>\"\",Q8073+(P8073*R8073),\"\")","v":""},null,null,null,null,null,"ضريب",null,"بهاي واحد","مقـدار","واحــد","مصالح",null,null,"رديف",{"$f":"COUNTIF($S$1:S8073,Q8073+R8073)","v":0},"410310",1E-4,""]
[410310.0001,null,0.5,1,98031.5,null,1,null,196063,0.5,"مترمكعب","مصالح سنگی قشر آستر (بیندر) با شکستگی 80 درصد تهیه شده از مصالح رودخانه‌ای با دانه بندی صفر تا 25 میلیمتر تولید کارگاه",31040901,null,1,{"$f":"COUNTIF($S$1:S8074,Q8074+R8074)","v":1},"410310",1E-4,410310.0001]
[410310.00020000001,null,0.5,1,112246,null,1,null,224492,0.5,"مترمكعب","مصالح سنگی قشر آستر (بیندر) با شکستگی 80 درصد تهیه شده از مصالح رودخانه‌ای با دانه بندی صفر تا  19 میلیمتر تولید کارگاه",31040902,null,2,{"$f":"COUNTIF($S$1:S8075,Q8075+R8075)","v":2},"410310",1E-4,410310.0001]
["",null,null,null,null,null,null,null,null,null,null,null,null,"410311",null,{"$f":"COUNTIF($S$1:S8076,Q8076+R8076)","v":0},"410311",1E-4,""]
["",null,null,null,null,null,null,null,null,null,null,"مترمكعب",null,null,"واحـد :",{"$f":"COUNTIF($S$1:S8077,Q8077+R8077)","v":0},"410311",1E-4,""]
["",null,null,null,null,null,"ضريب",null,"بهاي واحد","مقـدار","واحــد","ماشين آلات ",null,null,"رديف",{"$f":"COUNTIF($S$1:S8078,Q8078+R8078)","v":0},"410311",9.9999999999999995E-7,""]
[410311.00000100001,null,4.7618999999999995E-2,1,16508.554919999999,null,1,null,346680,4.7618999999999995E-2,"دستگاه-ساعت","کامیون کمپرسی به ظرفیت حدود 10 تن با راننده",23020204,null,1,{"$f":"COUNTIF($S$1:S8079,Q8079+R8079)","v":1},"410311",9.9999999999999995E-7,410311.00000100001]
["",null,null,null,null,null,"ضريب",null,"بهاي واحد","مقـدار","واحــد","مصالح",null,null,"رديف",{"$f":"COUNTIF($S$1:S8080,Q8080+R8080)","v":0},"410311",1E-4,""]
[410311.0001,null,0.5,1,115547.5,null,1,null,231095,0.5,"مترمكعب","مصالح سنگی قشر رویه (توپکا) با شکستگی 90 درصد تهیه شده از مصالح رودخانه‌ای با دانه بندی صفر تا 19 میلیمتر تولید کارگاه",31041001,null,1,{"$f":"COUNTIF($S$1:S8081,Q8081+R8081)","v":1},"410311",1E-4,410311.0001]
[410311.00020000001,null,0.5,1,114513.5,null,1,null,229027,0.5,"مترمكعب","مصالح سنگی قشر رویه (توپکا) با شکستگی 90 درصد تهیه شده از مصالح رودخانه‌ای با دانه بندی صفر 12/5 میلیمتر تولید کارگاه",31041002,null,2,{"$f":"COUNTIF($S$1:S8082,Q8082+R8082)","v":2},"410311",1E-4,410311.0001]
["",null,null,null,null,null,null,null,null,null,null,null,null,"410401",null,{"$f":"COUNTIF($S$1:S8083,Q8083+R8083)","v":0},"410401",1E-4,""]
["",null,null,null,null,null,null,null,null,null,null,"مترمكعب",null,null,"واحـد :",{"$f":"COUNTIF($S$1:S8084,Q8084+R8084)","v":0},"410401",1E-4,""]
["",null,null,null,null,null,"ضريب",null,"بهاي واحد","مقـدار","واحــد","ماشين آلات ",null,null,"رديف",{"$f":"COUNTIF($S$1:S8085,Q8085+R8085)","v":0},"410401",9.9999999999999995E-7,""]
[410401.00000100001,null,5.7473400000000001E-2,1,19924.878312000001,null,1,null,346680,5.7473400000000001E-2,"دستگاه-ساعت","کامیون کمپرسی به ظرفیت حدود 10 تن با راننده",23020204,null,1,{"$f":"COUNTIF($S$1:S8086,Q8086+R8086)","v":1},"410401",9.9999999999999995E-7,410401.00000100001]
["",null,null,null,null,null,"ضريب",null,"بهاي واحد","مقـدار","واحــد","مصالح",null,null,"رديف",{"$f":"COUNTIF($S$1:S8087,Q8087+R8087)","v":0},"410401",1E-4,""]
[410401.0001,null,1,1,237406,null,1,null,237406,1,"مترمكعب","سنگ لاشه بنایی  تولیدکارگاه",31050202,null,1,{"$f":"COUNTIF($S$1:S8088,Q8088+R8088)","v":1},"410401",1E-4,410401.0001]
["",null,null,null,null,null,null,null,null,null,null,null,null,"410404",null,{"$f":"COUNTIF($S$1:S8089,Q8089+R8089)","v":0},"410404",1E-4,""]
["",null,null,null,null,null,null,null,null,null,null,"مترمكعب",null,null,"واحـد :",{"$f":"COUNTIF($S$1:S8090,Q8090+R8090)","v":0},"410404",1E-4,""]
["",null,null,null,null,null,"ضريب",null,"بهاي واحد","مقـدار","واحــد","ماشين آلات ",null,null,"رديف",{"$f":"COUNTIF($S$1:S8091,Q8091+R8091)","v":0},{"$f":"IF(N8091>0,N8091,Q8090)","v":"410404"},9.9999999999999995E-7,{"$f":"IF(M8091<>\"\",Q8091+R8091,\"\")","v":""}]
[410404.00000100001,null,5.7473400000000001E-2,1,19924.878312000001,null,1,null,346680,5.7473400000000001E-2,"دستگاه-ساعت","کامیون کمپرسی به ظرفیت حدود 10 تن با راننده",23020204,null,1,{"$f":"COUNTIF($S$1:S8092,Q8092+R8092)","v":1},"410404",9.9999999999999995E-7,410404.00000100001]
["",null,null,null,null,null,"ضريب",null,"بهاي واحد","مقـدار","واحــد","مصالح",null,null,"رديف",{"$f":"COUNTIF($S$1:S8093,Q8093+R8093)","v":0},"410404",1E-4,""]
[410404.0001,null,1,1,681453,null,1,null,681453,1,"مترمكعب","سنگ بادبر تولید کارگاه",31050502,null,1,{"$f":"COUNTIF($S$1:S8094,Q8094+R8094)","v":1},"410404",1E-4,410404.0001]
["",null,null,null,null,null,null,null,null,null,null,null,null,"410405",null,{"$f":"COUNTIF($S$1:S8095,Q8095+R8095)","v":0},"410405",1E-4,""]
["",null,null,null,null,null,null,null,null,null,null,"مترمكعب",null,null,"واحـد :",{"$f":"COUNTIF($S$1:S8096,Q8096+R8096)","v":0},"410405",1E-4,""]
["",null,null,null,null,null,"ضريب",null,"بهاي واحد","مقـدار","واحــد","ماشين آلات ",null,null,"رديف",{"$f":"COUNTIF($S$1:S8097,Q8097+R8097)","v":0},"410405",9.9999999999999995E-7,""]
[410405.00000100001,null,5.7473400000000001E-2,1,19924.878312000001,null,1,null,346680,5.7473400000000001E-2,"دستگاه-ساعت","کامیون کمپرسی به ظرفیت حدود 10 تن با راننده",23020204,null,1,{"$f":"COUNTIF($S$1:S8098,Q8098+R8098)","v":1},"410405",9.9999999999999995E-7,410405.00000100001]
["",null,null,null,null,null,"ضريب",null,"بهاي واحد","مقـدار","واحــد","مصالح",null,null,"رديف",{"$f":"COUNTIF($S$1:S8099,Q8099+R8099)","v":0},"410405",1E-4,""]
[410405.0001,null,1,1,1187118,null,1,null,1187118,1,"مترمكعب","سنگ سرتراش یارگه کلنگی تولید کارگاه",31050601,null,1,{"$f":"COUNTIF($S$1:S8100,Q8100+R8100)","v":1},"410405",1E-4,410405.0001]
["",null,null,null,null,null,null,null,null,null,null,null,null,"410406",null,{"$f":"COUNTIF($S$1:S8101,Q8101+R8101)","v":0},"410406",1E-4,""]
["",null,null,null,null,null,null,null,null,null,null,"مترمكعب",null,null,"واحـد :",{"$f":"COUNTIF($S$1:S8102,Q8102+R8102)","v":0},"410406",1E-4,""]
["",null,null,null,null,null,"ضريب",null,"بهاي واحد","مقـدار","واحــد","ماشين آلات ",null,null,"رديف",{"$f":"COUNTIF($S$1:S8103,Q8103+R8103)","v":0},"410406",9.9999999999999995E-7,""]
[410406.00000100001,null,5.7473400000000001E-2,1,19924.878312000001,null,1,null,346680,5.7473400000000001E-2,"دستگاه-ساعت","کامیون کمپرسی به ظرفیت حدود 10 تن با راننده",23020204,null,1,{"$f":"COUNTIF($S$1:S8104,Q8104+R8104)","v":1},"410406",9.9999999999999995E-7,410406.00000100001]
["",null,null,null,null,null,"ضريب",null,"بهاي واحد","مقـدار","واحــد","مصالح",null,null,"رديف",{"$f":"COUNTIF($S$1:S8105,Q8105+R8105)","v":0},"410406",1E-4,""]
[410406.0001,null,1,1,1358041,null,1,null,1358041,1,"مترمكعب","سنگ نیم تراش  تولیدکارگاه",31050801,null,1,{"$f":"COUNTIF($S$1:S8106,Q8106+R8106)","v":1},"410406",1E-4,410406.0001]
["",null,null,null,null,null,null,null,null,null,null,null,null,"410407",null,{"$f":"COUNTIF($S$1:S8107,Q8107+R8107)","v":0},"410407",1E-4,""]
["",null,null,null,null,null,null,null,null,null,null,"مترمكعب",null,null,"واحـد :",{"$f":"COUNTIF($S$1:S8108,Q8108+R8108)","v":0},"410407",1E-4,""]
["",null,null,null,null,null,"ضريب",null,"بهاي واحد","مقـدار","واحــد","ماشين آلات ",null,null,"رديف",{"$f":"COUNTIF($S$1:S8109,Q8109+R8109)","v":0},"410407",9.9999999999999995E-7,""]
[410407.00000100001,null,5.7473400000000001E-2,1,19924.878312000001,null,1,null,346680,5.7473400000000001E-2,"دستگاه-ساعت","کامیون کمپرسی به ظرفیت حدود 10 تن با راننده",23020204,null,1,{"$f":"COUNTIF($S$1:S8110,Q8110+R8110)","v":1},"410407",9.9999999999999995E-7,410407.00000100001]
["",null,null,null,null,null,"ضريب",null,"بهاي واحد","مقـدار","واحــد","مصالح",null,null,"رديف",{"$f":"COUNTIF($S$1:S8111,Q8111+R8111)","v":0},"410407",1E-4,""]
[410407.0001,null,1,1,1989235,null,1,null,1989235,1,"مترمكعب","سنگ تمام تراش تولید کارگاه",31050901,null,1,{"$f":"COUNTIF($S$1:S8112,Q8112+R8112)","v":1},"410407",1E-4,410407.0001]
["",null,null,null,null,null,null,null,null,null,null,null,null,"410501",null,{"$f":"COUNTIF($S$1:S8113,Q8113+R8113)","v":0},"410501",1E-4,""]
["",null,null,null,null,null,null,null,null,null,null,"تن",null,null,"واحـد :",{"$f":"COUNTIF($S$1:S8114,Q8114+R8114)","v":0},"410501",1E-4,""]
["",null,null,null,null,null,"ضريب",null,"بهاي واحد","مقـدار","واحــد","مصالح",null,null,"رديف",{"$f":"COUNTIF($S$1:S8115,Q8115+R8115)","v":0},"410501",1E-4,""]
[410501.0001,null,1,1,1230500,null,1,null,1230500,1,"تن","سیمان پرتلند نوع یک (سیمان معمولی)  پاکتی",31080101,null,1,{"$f":"COUNTIF($S$1:S8116,Q8116+R8116)","v":1},"410501",1E-4,410501.0001]
["",null,null,null,null,null,"ضريب",null,"بهاي واحد","مقـدار","واحــد"," حمل مصالح ",null,null,"رديف",{"$f":"COUNTIF($S$1:S8117,Q8117+R8117)","v":0},"410501",0.01,""]
[410501.01,null,1,1,94204,null,1,null,94204,1,"تن","حمل سیمان گچ و آهک پاکتی",41060201,null,1,{"$f":"COUNTIF($S$1:S8118,Q8118+R8118)","v":1},"410501",0.01,410501.01]
["",null,null,null,null,null,null,null,null,null,null,null,null,"410502",null,{"$f":"COUNTIF($S$1:S8119,Q8119+R8119)","v":0},"410502",0.01,""]
["",null,null,null,null,null,null,null,null,null,null,"تن",null,null,"واحـد :",{"$f":"COUNTIF($S$1:S8120,Q8120+R8120)","v":0},"410502",0.01,""]
["",null,null,null,null,null,"ضريب",null,"بهاي واحد","مقـدار","واحــد","مصالح",null,null,"رديف",{"$f":"COUNTIF($S$1:S8121,Q8121+R8121)","v":0},"410502",1E-4,""]
[410502.0001,null,1,1,1070000,null,1,null,1070000,1,"تن","سیمان پرتلند نوع یک (سیمان معمولی) فله",31080102,null,1,{"$f":"COUNTIF($S$1:S8122,Q8122+R8122)","v":1},"410502",1E-4,410502.0001]
["",null,null,null,null,null,"ضريب",null,"بهاي واحد","مقـدار","واحــد"," حمل مصالح ",null,null,"رديف",{"$f":"COUNTIF($S$1:S8123,Q8123+R8123)","v":0},"410502",0.01,""]
[410502.01,null,1,1,89541,null,1,null,89541,1,"تن","حمل سیمان فله",41060101,null,1,{"$f":"COUNTIF($S$1:S8124,Q8124+R8124)","v":1},"410502",0.01,410502.01]
["",null,null,null,null,null,null,null,null,null,null,null,null,"410503",null,{"$f":"COUNTIF($S$1:S8125,Q8125+R8125)","v":0},"410503",0.01,""]
["",null,null,null,null,null,null,null,null,null,null,"تن",null,null,"واحـد :",{"$f":"COUNTIF($S$1:S8126,Q8126+R8126)","v":0},"410503",0.01,""]
["",null,null,null,null,null,"ضريب",null,"بهاي واحد","مقـدار","واحــد","مصالح",null,null,"رديف",{"$f":"COUNTIF($S$1:S8127,Q8127+R8127)","v":0},"410503",1E-4,""]
[410503.0001,null,1,1,1230500,null,1,null,1230500,1,"تن","سیمان پرتلند نوع دو (متوسط پاکتی)",31080201,null,1,{"$f":"COUNTIF($S$1:S8128,Q8128+R8128)","v":1},"410503",1E-4,410503.0001]
["",null,null,null,null,null,"ضريب",null,"بهاي واحد","مقـدار","واحــد"," حمل مصالح ",null,null,"رديف",{"$f":"COUNTIF($S$1:S8129,Q8129+R8129)","v":0},"410503",0.01,""]
[410503.01,null,1,1,94204,null,1,null,94204,1,"تن","حمل سیمان گچ و آهک پاکتی",41060201,null,1,{"$f":"COUNTIF($S$1:S8130,Q8130+R8130)","v":1},"410503",0.01,410503.01]
["",null,null,null,null,null,null,null,null,null,null,null,null,"410504",null,{"$f":"COUNTIF($S$1:S8131,Q8131+R8131)","v":0},"410504",0.01,""]
["",null,null,null,null,null,null,null,null,null,null,"تن",null,null,"واحـد :",{"$f":"COUNTIF($S$1:S8132,Q8132+R8132)","v":0},"410504",0.01,""]
["",null,null,null,null,null,"ضريب",null,"بهاي واحد","مقـدار","واحــد","مصالح",null,null,"رديف",{"$f":"COUNTIF($S$1:S8133,Q8133+R8133)","v":0},"410504",1E-4,""]
[410504.0001,null,1,1,1070000,null,1,null,1070000,1,"تن","سیمان پرتلند نوع دو (متوسط فله)",31080202,null,1,{"$f":"COUNTIF($S$1:S8134,Q8134+R8134)","v":1},"410504",1E-4,410504.0001]
["",null,null,null,null,null,"ضريب",null,"بهاي واحد","مقـدار","واحــد"," حمل مصالح ",null,null,"رديف",{"$f":"COUNTIF($S$1:S8135,Q8135+R8135)","v":0},"410504",{"$f":"IF(IF(O8135=\"رديف\",VLOOKUP(L8135,Kod,2,0),0)=0,R8134,IF(O8135=\"رديف\",VLOOKUP(L8135,Kod,2,0),0))","v":0.01},""]
[410504.01,null,1,1,89541,null,1,null,89541,1,"تن","حمل سیمان فله",41060101,null,1,{"$f":"COUNTIF($S$1:S8136,Q8136+R8136)","v":1},"410504",0.01,410504.01]
[{"$f":"IF(M8137<>\"\",Q8137+(P8137*R8137),\"\")","v":""},null,null,null,null,null,null,null,null,null,null,null,null,"410505",null,{"$f":"COUNTIF($S$1:S8137,Q8137+R8137)","v":0},"410505",0.01,""]
["",null,null,null,null,null,null,null,null,null,null,"تن",null,null,"واحـد :",{"$f":"COUNTIF($S$1:S8138,Q8138+R8138)","v":0},"410505",0.01,""]
["",null,null,null,null,null,"ضريب",null,"بهاي واحد","مقـدار","واحــد","مصالح",null,null,"رديف",{"$f":"COUNTIF($S$1:S8139,Q8139+R8139)","v":0},"410505",1E-4,""]
[410505.0001,null,1,1,1257250,null,1,null,1257250,1,"تن","سیمان پرتلند نوع پنج (ضدسولفات) پاکتی",31080501,null,1,{"$f":"COUNTIF($S$1:S8140,Q8140+R8140)","v":1},"410505",1E-4,410505.0001]
["",null,null,null,null,null,"ضريب",null,"بهاي واحد","مقـدار","واحــد"," حمل مصالح ",null,null,"رديف",{"$f":"COUNTIF($S$1:S8141,Q8141+R8141)","v":0},"410505",0.01,""]
[410505.01,null,1,1,94204,null,1,null,94204,1,"تن","حمل سیمان گچ و آهک پاکتی",41060201,null,1,{"$f":"COUNTIF($S$1:S8142,Q8142+R8142)","v":1},"410505",0.01,410505.01]
["",null,null,null,null,null,null,null,null,null,null,null,null,"410506",null,{"$f":"COUNTIF($S$1:S8143,Q8143+R8143)","v":0},"410506",0.01,""]
["",null,null,null,null,null,null,null,null,null,null,"تن",null,null,"واحـد :",{"$f":"COUNTIF($S$1:S8144,Q8144+R8144)","v":0},"410506",0.01,""]
["",null,null,null,null,null,"ضريب",null,"بهاي واحد","مقـدار","واحــد","مصالح",null,null,"رديف",{"$f":"COUNTIF($S$1:S8145,Q8145+R8145)","v":0},"410506",1E-4,""]
[410506.0001,null,1,1,1096750,null,1,null,1096750,1,"تن","سیمان پرتلند نوع پنج (ضدسولفات) فله",31080502,null,1,{"$f":"COUNTIF($S$1:S8146,Q8146+R8146)","v":1},"410506",1E-4,410506.0001]
["",null,null,null,null,null,"ضريب",null,"بهاي واحد","مقـدار","واحــد"," حمل مصالح ",null,null,"رديف",{"$f":"COUNTIF($S$1:S8147,Q8147+R8147)","v":0},"410506",0.01,""]
[410506.01,null,1,1,89541,null,1,null,89541,1,"تن","حمل سیمان فله",41060101,null,1,{"$f":"COUNTIF($S$1:S8148,Q8148+R8148)","v":1},"410506",0.01,410506.01]
["",null,null,null,null,null,null,null,null,null,null,null,null,"410601",null,{"$f":"COUNTIF($S$1:S8149,Q8149+R8149)","v":0},"410601",0.01,""]
["",null,null,null,null,null,null,null,null,null,null,"كیلوگرم",null,null,"واحـد :",{"$f":"COUNTIF($S$1:S8150,Q8150+R8150)","v":0},"410601",0.01,""]
["",null,null,null,null,null,"ضريب",null,"بهاي واحد","مقـدار","واحــد","مصالح",null,null,"رديف",{"$f":"COUNTIF($S$1:S8151,Q8151+R8151)","v":0},"410601",1E-4,""]
[410601.0001,null,1,1,74000,null,1,null,74000,1,"كیلوگرم","امولایت کارتریجی",31420101,null,1,{"$f":"COUNTIF($S$1:S8152,Q8152+R8152)","v":1},"410601",1E-4,410601.0001]
["",null,null,null,null,null,"ضريب",null,"بهاي واحد","مقـدار","واحــد"," حمل مصالح ",null,null,"رديف",{"$f":"COUNTIF($S$1:S8153,Q8153+R8153)","v":0},"410601",0.01,""]
[410601.01,null,1,1,1277,null,1,null,1277,1,"كیلوگرم","حمل مواد منفجره",41090101,null,1,{"$f":"COUNTIF($S$1:S8154,Q8154+R8154)","v":1},"410601",0.01,410601.01]
["",null,null,null,null,null,null,null,null,null,null,null,null,"410602",null,{"$f":"COUNTIF($S$1:S8155,Q8155+R8155)","v":0},{"$f":"IF(N8155>0,N8155,Q8154)","v":"410602"},0.01,{"$f":"IF(M8155<>\"\",Q8155+R8155,\"\")","v":""}]
["",null,null,null,null,null,null,null,null,null,null,"متر طول",null,null,"واحـد :",{"$f":"COUNTIF($S$1:S8156,Q8156+R8156)","v":0},"410602",0.01,""]
["",null,null,null,null,null,"ضريب",null,"بهاي واحد","مقـدار","واحــد","مصالح",null,null,"رديف",{"$f":"COUNTIF($S$1:S8157,Q8157+R8157)","v":0},"410602",1E-4,""]
[410602.0001,null,0.5,1,3150,null,0.5,null,6300,1,"متر طول","فتیله باروتی خارجی (کورتکس)",31420501,null,1,{"$f":"COUNTIF($S$1:S8158,Q8158+R8158)","v":1},"410602",1E-4,410602.0001]
[410602.00020000001,null,0.5,1,3150,null,0.5,null,6300,1,"متر طول","فتیله باروتی ایرانی",31420503,null,2,{"$f":"COUNTIF($S$1:S8159,Q8159+R8159)","v":2},"410602",1E-4,410602.0001]
["",null,null,null,null,null,"ضريب",null,"بهاي واحد","مقـدار","واحــد"," حمل مصالح ",null,null,"رديف",{"$f":"COUNTIF($S$1:S8160,Q8160+R8160)","v":0},"410602",0.01,""]
[410602.01,null,1,1,152,null,1,null,152,1,"متر طول","حمل فتیله",41090201,null,1,{"$f":"COUNTIF($S$1:S8161,Q8161+R8161)","v":1},"410602",0.01,410602.01]
["",null,null,null,null,null,null,null,null,null,null,null,null,"410603",null,{"$f":"COUNTIF($S$1:S8162,Q8162+R8162)","v":0},"410603",0.01,""]
["",null,null,null,null,null,null,null,null,null,null,"عدد",null,null,"واحـد :",{"$f":"COUNTIF($S$1:S8163,Q8163+R8163)","v":0},"410603",0.01,""]
["",null,null,null,null,null,"ضريب",null,"بهاي واحد","مقـدار","واحــد","مصالح",null,null,"رديف",{"$f":"COUNTIF($S$1:S8164,Q8164+R8164)","v":0},"410603",1E-4,""]
[410603.0001,null,0.5,1,5500,null,0.5,null,11000,1,"عدد","چاشنی معمولی",31420601,null,1,{"$f":"COUNTIF($S$1:S8165,Q8165+R8165)","v":1},"410603",1E-4,410603.0001]
[410603.00020000001,null,0.5,1,18250,null,0.5,null,36500,1,"عدد","چاشنی الکتریکی فوری",31420602,null,2,{"$f":"COUNTIF($S$1:S8166,Q8166+R8166)","v":2},"410603",1E-4,410603.0001]
["",null,null,null,null,null,"ضريب",null,"بهاي واحد","مقـدار","واحــد"," حمل مصالح ",null,null,"رديف",{"$f":"COUNTIF($S$1:S8167,Q8167+R8167)","v":0},"410603",0.01,""]
[410603.01,null,1,1,75,null,1,null,75,1,"عدد","حمل چاشنی",41090301,null,1,{"$f":"COUNTIF($S$1:S8168,Q8168+R8168)","v":1},"410603",0.01,410603.01]
["",null,null,null,null,null,null,null,null,null,null,null,null,"410701",null,{"$f":"COUNTIF($S$1:S8169,Q8169+R8169)","v":0},"410701",0.01,""]
["",null,null,null,null,null,null,null,null,null,null,"كیلوگرم",null,null,"واحـد :",{"$f":"COUNTIF($S$1:S8170,Q8170+R8170)","v":0},"410701",0.01,""]
["",null,null,null,null,null,"ضريب",null,"بهاي واحد","مقـدار","واحــد","مصالح",null,null,"رديف",{"$f":"COUNTIF($S$1:S8171,Q8171+R8171)","v":0},"410701",1E-4,""]
[410701.0001,null,1,1,26381,null,1,null,26381,1,"كیلوگرم","انواع تیرآهن",31240101,null,1,{"$f":"COUNTIF($S$1:S8172,Q8172+R8172)","v":1},"410701",1E-4,410701.0001]
["",null,null,null,null,null,"ضريب",null,"بهاي واحد","مقـدار","واحــد"," حمل مصالح ",null,null,"رديف",{"$f":"COUNTIF($S$1:S8173,Q8173+R8173)","v":0},"410701",0.01,""]
[410701.01,null,1,1,164,null,1,null,164,1,"كیلوگرم","حمل مصالح فلزی مورد مصرف در سازه",41110101,null,1,{"$f":"COUNTIF($S$1:S8174,Q8174+R8174)","v":1},"410701",0.01,410701.01]
["",null,null,null,null,null,null,null,null,null,null,null,null,"410702",null,{"$f":"COUNTIF($S$1:S8175,Q8175+R8175)","v":0},"410702",0.01,""]
["",null,null,null,null,null,null,null,null,null,null,"كیلوگرم",null,null,"واحـد :",{"$f":"COUNTIF($S$1:S8176,Q8176+R8176)","v":0},"410702",0.01,""]
["",null,null,null,null,null,"ضريب",null,"بهاي واحد","مقـدار","واحــد","مصالح",null,null,"رديف",{"$f":"COUNTIF($S$1:S8177,Q8177+R8177)","v":0},"410702",1E-4,""]
[410702.0001,null,1,1,36890,null,1,null,36890,1,"كیلوگرم","تیراهن بال پهن",31240201,null,1,{"$f":"COUNTIF($S$1:S8178,Q8178+R8178)","v":1},"410702",1E-4,410702.0001]
["",null,null,null,null,null,"ضريب",null,"بهاي واحد","مقـدار","واحــد"," حمل مصالح ",null,null,"رديف",{"$f":"COUNTIF($S$1:S8179,Q8179+R8179)","v":0},"410702",0.01,""]
[410702.01,null,1,1,164,null,1,null,164,1,"كیلوگرم","حمل مصالح فلزی مورد مصرف در سازه",41110101,null,1,{"$f":"COUNTIF($S$1:S8180,Q8180+R8180)","v":1},"410702",0.01,410702.01]
["",null,null,null,null,null,null,null,null,null,null,null,null,"410703",null,{"$f":"COUNTIF($S$1:S8181,Q8181+R8181)","v":0},"410703",0.01,""]
["",null,null,null,null,null,null,null,null,null,null,"كیلوگرم",null,null,"واحـد :",{"$f":"COUNTIF($S$1:S8182,Q8182+R8182)","v":0},"410703",0.01,""]
["",null,null,null,null,null,"ضريب",null,"بهاي واحد","مقـدار","واحــد","مصالح",null,null,"رديف",{"$f":"COUNTIF($S$1:S8183,Q8183+R8183)","v":0},"410703",1E-4,""]
[410703.0001,null,1,1,26800,null,1,null,26800,1,"كیلوگرم","انواع ناودانی",31240301,null,1,{"$f":"COUNTIF($S$1:S8184,Q8184+R8184)","v":1},"410703",1E-4,410703.0001]
["",null,null,null,null,null,"ضريب",null,"بهاي واحد","مقـدار","واحــد"," حمل مصالح ",null,null,"رديف",{"$f":"COUNTIF($S$1:S8185,Q8185+R8185)","v":0},"410703",0.01,""]
[410703.01,null,1,1,164,null,1,null,164,1,"كیلوگرم","حمل مصالح فلزی مورد مصرف در سازه",41110101,null,1,{"$f":"COUNTIF($S$1:S8186,Q8186+R8186)","v":1},"410703",0.01,410703.01]
["",null,null,null,null,null,null,null,null,null,null,null,null,"410704",null,{"$f":"COUNTIF($S$1:S8187,Q8187+R8187)","v":0},"410704",0.01,""]
["",null,null,null,null,null,null,null,null,null,null,"كیلوگرم",null,null,"واحـد :",{"$f":"COUNTIF($S$1:S8188,Q8188+R8188)","v":0},"410704",0.01,""]
["",null,null,null,null,null,"ضريب",null,"بهاي واحد","مقـدار","واحــد","مصالح",null,null,"رديف",{"$f":"COUNTIF($S$1:S8189,Q8189+R8189)","v":0},"410704",1E-4,""]
[410704.0001,null,1,1,20782,null,1,null,20782,1,"کیلو گرم","انواع نبشی",31240401,null,1,{"$f":"COUNTIF($S$1:S8190,Q8190+R8190)","v":1},"410704",1E-4,410704.0001]
["",null,null,null,null,null,"ضريب",null,"بهاي واحد","مقـدار","واحــد"," حمل مصالح ",null,null,"رديف",{"$f":"COUNTIF($S$1:S8191,Q8191+R8191)","v":0},"410704",0.01,""]
[410704.01,null,1,1,164,null,1,null,164,1,"كیلوگرم","حمل مصالح فلزی مورد مصرف در سازه",41110101,null,1,{"$f":"COUNTIF($S$1:S8192,Q8192+R8192)","v":1},"410704",0.01,410704.01]
["",null,null,null,null,null,null,null,null,null,null,null,null,"410705",null,{"$f":"COUNTIF($S$1:S8193,Q8193+R8193)","v":0},"410705",0.01,""]
["",null,null,null,null,null,null,null,null,null,null,"كیلوگرم",null,null,"واحـد :",{"$f":"COUNTIF($S$1:S8194,Q8194+R8194)","v":0},"410705",0.01,""]
["",null,null,null,null,null,"ضريب",null,"بهاي واحد","مقـدار","واحــد","مصالح",null,null,"رديف",{"$f":"COUNTIF($S$1:S8195,Q8195+R8195)","v":0},"410705",1E-4,""]
[410705.0001,null,1,1,26800,null,1,null,26800,1,"كیلوگرم","سپری",31240501,null,1,{"$f":"COUNTIF($S$1:S8196,Q8196+R8196)","v":1},"410705",1E-4,410705.0001]
["",null,null,null,null,null,"ضريب",null,"بهاي واحد","مقـدار","واحــد"," حمل مصالح ",null,null,"رديف",{"$f":"COUNTIF($S$1:S8197,Q8197+R8197)","v":0},"410705",0.01,""]
[410705.01,null,1,1,164,null,1,null,164,1,"كیلوگرم","حمل مصالح فلزی مورد مصرف در سازه",41110101,null,1,{"$f":"COUNTIF($S$1:S8198,Q8198+R8198)","v":1},"410705",0.01,410705.01]
["",null,null,null,null,null,null,null,null,null,null,null,null,"410706",null,{"$f":"COUNTIF($S$1:S8199,Q8199+R8199)","v":0},"410706",{"$f":"IF(IF(O8199=\"رديف\",VLOOKUP(L8199,Kod,2,0),0)=0,R8198,IF(O8199=\"رديف\",VLOOKUP(L8199,Kod,2,0),0))","v":0.01},""]
["",null,null,null,null,null,null,null,null,null,null,"كیلوگرم",null,null,"واحـد :",{"$f":"COUNTIF($S$1:S8200,Q8200+R8200)","v":0},"410706",0.01,""]
[{"$f":"IF(M8201<>\"\",Q8201+(P8201*R8201),\"\")","v":""},null,null,null,null,null,"ضريب",null,"بهاي واحد","مقـدار","واحــد","مصالح",null,null,"رديف",{"$f":"COUNTIF($S$1:S8201,Q8201+R8201)","v":0},"410706",1E-4,""]
[410706.0001,null,1,1,25000,null,1,null,25000,1,"كیلوگرم","31240701 - تسمه تخت (بریده شده)",31240701,null,1,{"$f":"COUNTIF($S$1:S8202,Q8202+R8202)","v":1},"410706",1E-4,410706.0001]
["",null,null,null,null,null,"ضريب",null,"بهاي واحد","مقـدار","واحــد"," حمل مصالح ",null,null,"رديف",{"$f":"COUNTIF($S$1:S8203,Q8203+R8203)","v":0},"410706",0.01,""]
[410706.01,null,1,1,164,null,1,null,164,1,"كیلوگرم","حمل مصالح فلزی مورد مصرف در سازه",41110101,null,1,{"$f":"COUNTIF($S$1:S8204,Q8204+R8204)","v":1},"410706",0.01,410706.01]
["",null,null,null,null,null,null,null,null,null,null,null,null,"410707",null,{"$f":"COUNTIF($S$1:S8205,Q8205+R8205)","v":0},"410707",0.01,""]
["",null,null,null,null,null,null,null,null,null,null,"كیلوگرم",null,null,"واحـد :",{"$f":"COUNTIF($S$1:S8206,Q8206+R8206)","v":0},"410707",0.01,""]
["",null,null,null,null,null,"ضريب",null,"بهاي واحد","مقـدار","واحــد","مصالح",null,null,"رديف",{"$f":"COUNTIF($S$1:S8207,Q8207+R8207)","v":0},"410707",1E-4,""]
[410707.0001,null,0.5,1,13314,null,0.5,null,26628,1,"كیلوگرم","ورق سیاه به ضخامت 3  میلیمتر و کمتر",31260101,null,1,{"$f":"COUNTIF($S$1:S8208,Q8208+R8208)","v":1},"410707",1E-4,410707.0001]
[410707.00020000001,null,0.5,1,11778,null,0.5,null,23556,1,"كیلوگرم","ورق سياه به ضخامت بيش از 3 ميلي متر",31260102,null,2,{"$f":"COUNTIF($S$1:S8209,Q8209+R8209)","v":2},"410707",1E-4,410707.0001]
["",null,null,null,null,null,"ضريب",null,"بهاي واحد","مقـدار","واحــد"," حمل مصالح ",null,null,"رديف",{"$f":"COUNTIF($S$1:S8210,Q8210+R8210)","v":0},"410707",0.01,""]
[410707.01,null,1,1,164,null,1,null,164,1,"كیلوگرم","حمل مصالح فلزی مورد مصرف در سازه",41110101,null,1,{"$f":"COUNTIF($S$1:S8211,Q8211+R8211)","v":1},"410707",0.01,410707.01]
["",null,null,null,null,null,null,null,null,null,null,null,null,"410708",null,{"$f":"COUNTIF($S$1:S8212,Q8212+R8212)","v":0},"410708",0.01,""]
["",null,null,null,null,null,null,null,null,null,null,"كیلوگرم",null,null,"واحـد :",{"$f":"COUNTIF($S$1:S8213,Q8213+R8213)","v":0},"410708",0.01,""]
["",null,null,null,null,null,"ضريب",null,"بهاي واحد","مقـدار","واحــد","مصالح",null,null,"رديف",{"$f":"COUNTIF($S$1:S8214,Q8214+R8214)","v":0},"410708",1E-4,""]
[410708.0001,null,1,1,21000,null,1,null,21000,1,"كیلوگرم","سپر فلزی",31240901,null,1,{"$f":"COUNTIF($S$1:S8215,Q8215+R8215)","v":1},"410708",1E-4,410708.0001]
["",null,null,null,null,null,"ضريب",null,"بهاي واحد","مقـدار","واحــد"," حمل مصالح ",null,null,"رديف",{"$f":"COUNTIF($S$1:S8216,Q8216+R8216)","v":0},"410708",0.01,""]
[410708.01,null,1,1,164,null,1,null,164,1,"كیلوگرم","حمل مصالح فلزی مورد مصرف در سازه",41110101,null,1,{"$f":"COUNTIF($S$1:S8217,Q8217+R8217)","v":1},"410708",0.01,410708.01]
["",null,null,null,null,null,null,null,null,null,null,null,null,"410801",null,{"$f":"COUNTIF($S$1:S8218,Q8218+R8218)","v":0},"410801",0.01,""]
["",null,null,null,null,null,null,null,null,null,null,"كیلوگرم",null,null,"واحـد :",{"$f":"COUNTIF($S$1:S8219,Q8219+R8219)","v":0},{"$f":"IF(N8219>0,N8219,Q8218)","v":"410801"},0.01,{"$f":"IF(M8219<>\"\",Q8219+R8219,\"\")","v":""}]
["",null,null,null,null,null,"ضريب",null,"بهاي واحد","مقـدار","واحــد","مصالح",null,null,"رديف",{"$f":"COUNTIF($S$1:S8220,Q8220+R8220)","v":0},"410801",1E-4,""]
[410801.0001,null,0.33300000000000002,1,7592.4000000000015,null,0.33300000000000002,null,22800,1,"كیلوگرم","31250101 - میلگرد ساده نمره 10 و کمتر",31250101,null,1,{"$f":"COUNTIF($S$1:S8221,Q8221+R8221)","v":1},"410801",1E-4,410801.0001]
[410801.00020000001,null,0.33399999999999996,1,8483.6,null,0.33399999999999996,null,25400,1,"كیلوگرم","31250102 - میلگرد ساده نمره 12 تا 18",31250102,null,2,{"$f":"COUNTIF($S$1:S8222,Q8222+R8222)","v":2},"410801",1E-4,410801.0001]
[410801.00030000001,null,0.33300000000000002,1,8458.2000000000007,null,0.33300000000000002,null,25400,1,"كیلوگرم","ميلگرد ساده نمره 20 به بالا",31250103,null,3,{"$f":"COUNTIF($S$1:S8223,Q8223+R8223)","v":3},"410801",1E-4,410801.0001]
["",null,null,null,null,null,"ضريب",null,"بهاي واحد","مقـدار","واحــد"," حمل مصالح ",null,null,"رديف",{"$f":"COUNTIF($S$1:S8224,Q8224+R8224)","v":0},"410801",0.01,""]
[410801.01,null,1,1,164,null,1,null,164,1,"كیلوگرم","حمل مصالح فلزی مورد مصرف در سازه",41110101,null,1,{"$f":"COUNTIF($S$1:S8225,Q8225+R8225)","v":1},"410801",0.01,410801.01]
["",null,null,null,null,null,null,null,null,null,null,null,null,"410802",null,{"$f":"COUNTIF($S$1:S8226,Q8226+R8226)","v":0},"410802",0.01,""]
["",null,null,null,null,null,null,null,null,null,null,"كیلوگرم",null,null,"واحـد :",{"$f":"COUNTIF($S$1:S8227,Q8227+R8227)","v":0},"410802",0.01,""]
["",null,null,null,null,null,"ضريب",null,"بهاي واحد","مقـدار","واحــد","مصالح",null,null,"رديف",{"$f":"COUNTIF($S$1:S8228,Q8228+R8228)","v":0},"410802",1E-4,""]
[410802.0001,null,0.33300000000000002,1,6759.9000000000015,null,0.33300000000000002,null,20300,1,"كیلوگرم","میلگرد آجدار AII نمره 10 و کمتر",31250201,null,1,{"$f":"COUNTIF($S$1:S8229,Q8229+R8229)","v":1},"410802",1E-4,410802.0001]
[410802.00020000001,null,0.33399999999999996,1,6813.6,null,0.33399999999999996,null,20400,1,"كیلوگرم","میلگرد آجدار AII نمره 12 تا 18",31250202,null,2,{"$f":"COUNTIF($S$1:S8230,Q8230+R8230)","v":2},"410802",1E-4,410802.0001]
[410802.00030000001,null,0.33300000000000002,1,6926.4000000000015,null,0.33300000000000002,null,20800,1,"كیلوگرم","میلگرد آجدار AII نمره 20 به بالا",31250203,null,3,{"$f":"COUNTIF($S$1:S8231,Q8231+R8231)","v":3},"410802",1E-4,410802.0001]
["",null,null,null,null,null,"ضريب",null,"بهاي واحد","مقـدار","واحــد"," حمل مصالح ",null,null,"رديف",{"$f":"COUNTIF($S$1:S8232,Q8232+R8232)","v":0},"410802",0.01,""]
[410802.01,null,1,1,164,null,1,null,164,1,"كیلوگرم","حمل مصالح فلزی مورد مصرف در سازه",41110101,null,1,{"$f":"COUNTIF($S$1:S8233,Q8233+R8233)","v":1},"410802",0.01,410802.01]
["",null,null,null,null,null,null,null,null,null,null,null,null,"410901",null,{"$f":"COUNTIF($S$1:S8234,Q8234+R8234)","v":0},"410901",0.01,""]
["",null,null,null,null,null,null,null,null,null,null,"كیلوگرم",null,null,"واحـد :",{"$f":"COUNTIF($S$1:S8235,Q8235+R8235)","v":0},"410901",0.01,""]
["",null,null,null,null,null,"ضريب",null,"بهاي واحد","مقـدار","واحــد","مصالح",null,null,"رديف",{"$f":"COUNTIF($S$1:S8236,Q8236+R8236)","v":0},"410901",1E-4,""]
[410901.0001,null,0.5,1,8192,null,0.5,null,16384,1,"كیلوگرم","قیرام سی 2",31200501,null,1,{"$f":"COUNTIF($S$1:S8237,Q8237+R8237)","v":1},"410901",1E-4,410901.0001]
[410901.00020000001,null,0.5,1,8192,null,0.5,null,16384,1,"كیلوگرم","قیر ام سی250",31200504,null,2,{"$f":"COUNTIF($S$1:S8238,Q8238+R8238)","v":2},"410901",1E-4,410901.0001]
["",null,null,null,null,null,"ضريب",null,"بهاي واحد","مقـدار","واحــد"," حمل مصالح ",null,null,"رديف",{"$f":"COUNTIF($S$1:S8239,Q8239+R8239)","v":0},"410901",0.01,""]
[410901.01,null,1,1,65,null,1,null,65,1,"كیلوگرم","حمل قیر به وسیله تانکر",41080101,null,1,{"$f":"COUNTIF($S$1:S8240,Q8240+R8240)","v":1},"410901",0.01,410901.01]
["",null,null,null,null,null,null,null,null,null,null,null,null,"410902",null,{"$f":"COUNTIF($S$1:S8241,Q8241+R8241)","v":0},"410902",0.01,""]
["",null,null,null,null,null,null,null,null,null,null,"كیلوگرم",null,null,"واحـد :",{"$f":"COUNTIF($S$1:S8242,Q8242+R8242)","v":0},"410902",0.01,""]
["",null,null,null,null,null,"ضريب",null,"بهاي واحد","مقـدار","واحــد","مصالح",null,null,"رديف",{"$f":"COUNTIF($S$1:S8243,Q8243+R8243)","v":0},"410902",1E-4,""]
[410902.0001,null,0.5,1,6561,null,0.5,null,13122,1,"كیلوگرم","قیر70 - 60",31200101,null,1,{"$f":"COUNTIF($S$1:S8244,Q8244+R8244)","v":1},"410902",1E-4,410902.0001]
[410902.00020000001,null,0.5,1,6561,null,0.5,null,13122,1,"كیلوگرم","قیر 15 - 9",31200401,null,2,{"$f":"COUNTIF($S$1:S8245,Q8245+R8245)","v":2},"410902",1E-4,410902.0001]
["",null,null,null,null,null,"ضريب",null,"بهاي واحد","مقـدار","واحــد"," حمل مصالح ",null,null,"رديف",{"$f":"COUNTIF($S$1:S8246,Q8246+R8246)","v":0},"410902",0.01,""]
[410902.01,null,1,1,65,null,1,null,65,1,"كیلوگرم","حمل قیر به وسیله تانکر",41080101,null,1,{"$f":"COUNTIF($S$1:S8247,Q8247+R8247)","v":1},"410902",0.01,410902.01]
["",null,null,null,null,null,null,null,null,null,null,null,null,"411101",null,{"$f":"COUNTIF($S$1:S8248,Q8248+R8248)","v":0},"411101",0.01,""]
["",null,null,null,null,null,null,null,null,null,null,"مترمكعب",null,null,"واحـد :",{"$f":"COUNTIF($S$1:S8249,Q8249+R8249)","v":0},"411101",0.01,""]
["",null,null,null,null,null,"ضريب",null,"بهاي واحد","مقـدار","واحــد","نيروي انساني ",null,null,"رديف",{"$f":"COUNTIF($S$1:S8250,Q8250+R8250)","v":0},"411101",1E-8,""]
[411101.00000001001,null,0.20957999999999999,1,11948.784539999999,null,0.7,null,57013,0.2994,"نفر- ساعت","كارگر ساده",14010102,null,1,{"$f":"COUNTIF($S$1:S8251,Q8251+R8251)","v":1},"411101",1E-8,411101.00000001001]
[411101.00000002002,null,3.5630699999999993,1,228424.85463000005,null,0.7,null,64109,5.0900999999999996,"نفر ساعت","کارگر فنی ماهر",14010103,null,2,{"$f":"COUNTIF($S$1:S8252,Q8252+R8252)","v":2},"411101",1E-8,411101.00000001001]
[411101.00000002998,null,1.57192,1,94055.833200000008,null,0.7,null,59835,2.2456,"نفر - ساعت","کارگر فني نيمه ماهر",14010105,null,3,{"$f":"COUNTIF($S$1:S8253,Q8253+R8253)","v":3},"411101",1E-8,411101.00000001001]
[411101.00000003999,null,0.10478999999999999,1,14525.151479999999,null,0.7,null,138612,0.1497,"نفر - ساعت","کارشناس تهيه قطعات پيش‌ساخته بتني",14060501,null,4,{"$f":"COUNTIF($S$1:S8254,Q8254+R8254)","v":4},"411101",1E-8,411101.00000001001]
[411101.00000005,null,0.52395000000000003,1,57728.287050000014,null,0.7,null,110179,0.74850000000000005,"نفر - ساعت","تکنسين تهيه قطعات پيش‌ساخته بتني",14060502,null,5,{"$f":"COUNTIF($S$1:S8255,Q8255+R8255)","v":5},"411101",1E-8,411101.00000001001]
["",null,null,null,null,null,"ضريب",null,"بهاي واحد","مقـدار","واحــد","ماشين آلات ",null,null,"رديف",{"$f":"COUNTIF($S$1:S8256,Q8256+R8256)","v":0},"411101",9.9999999999999995E-7,""]
[411101.00000100001,null,8.4211999999999999E-6,1,0,null,1,null,0,8.4211999999999999E-6,"مترمربع","استهلاک ساختمان",22040101,null,1,{"$f":"COUNTIF($S$1:S8257,Q8257+R8257)","v":1},"411101",9.9999999999999995E-7,411101.00000100001]
[411101.00000200002,null,1.3473999999999998E-5,1,94902.529068000003,null,1,null,7043382000,1.3473999999999998E-5,"ست","تجهيزات توليد بتن",22040102,null,2,{"$f":"COUNTIF($S$1:S8258,Q8258+R8258)","v":2},"411101",9.9999999999999995E-7,411101.00000100001]
[411101.00000300002,null,8.4210999999999997E-6,1,0,null,1,null,0,8.4210999999999997E-6,"رينگ 8","قالب‌ها",22040103,null,3,{"$f":"COUNTIF($S$1:S8259,Q8259+R8259)","v":3},"411101",9.9999999999999995E-7,411101.00000100001]
[411101.00000399997,null,1.3473999999999998E-5,1,85412.276161199989,null,1,null,6339043800,1.3473999999999998E-5,"مجموعه","تاسيسات توليد بخار",22040104,null,4,{"$f":"COUNTIF($S$1:S8260,Q8260+R8260)","v":4},"411101",9.9999999999999995E-7,411101.00000100001]
[411101.00000499998,null,1.34739E-5,1,0,null,1,null,0,1.34739E-5,"مجموعه","ماشين‌آلات حمل بتن",22040105,null,5,{"$f":"COUNTIF($S$1:S8261,Q8261+R8261)","v":5},"411101",9.9999999999999995E-7,411101.00000100001]
[411101.00000599999,null,0.13,1,1300,null,1,null,10000,0.13,"لیتر","روغن قالب بندی",28991401,null,6,{"$f":"COUNTIF($S$1:S8262,Q8262+R8262)","v":6},"411101",9.9999999999999995E-7,411101.00000100001]
["",null,null,null,null,null,"ضريب",null,"بهاي واحد","مقـدار","واحــد","مصالح",null,null,"رديف",{"$f":"COUNTIF($S$1:S8263,Q8263+R8263)","v":0},"411101",{"$f":"IF(IF(O8263=\"رديف\",VLOOKUP(L8263,Kod,2,0),0)=0,R8262,IF(O8263=\"رديف\",VLOOKUP(L8263,Kod,2,0),0))","v":1E-4},""]
[411101.0001,null,0.5,1,82500,null,1,null,165000,0.5,"مترمكعب","ماسه شسته",31030202,null,1,{"$f":"COUNTIF($S$1:S8264,Q8264+R8264)","v":1},"411101",1E-4,411101.0001]
[{"$f":"IF(M8265<>\"\",Q8265+(P8265*R8265),\"\")","v":411101.00020000001},null,0.14000000000000001,1,22400.000000000004,null,1,null,160000,0.14000000000000001,"مترمكعب","شن شسته دانه بندی شده47.5 میلیمتر",31030501,null,2,{"$f":"COUNTIF($S$1:S8265,Q8265+R8265)","v":2},"411101",1E-4,411101.0001]
[411101.00030000001,null,0.28000000000000003,1,44800.000000000007,null,1,null,160000,0.28000000000000003,"مترمكعب","شن شسته دانه بندی شده 19 میلیمتر",31030504,null,3,{"$f":"COUNTIF($S$1:S8266,Q8266+R8266)","v":3},"411101",1E-4,411101.0001]
[411101.00040000002,null,0.42399999999999999,1,453680,null,1,null,1070000,0.42399999999999999,"تن","سیمان پرتلند نوع یک (سیمان معمولی) فله",31080102,null,4,{"$f":"COUNTIF($S$1:S8267,Q8267+R8267)","v":4},"411101",1E-4,411101.0001]
[411101.00050000002,null,2.5,1,89750,null,1,null,35900,2.5,"كیلوگرم","روان کننده بتن",31131101,null,5,{"$f":"COUNTIF($S$1:S8268,Q8268+R8268)","v":5},"411101",1E-4,411101.0001]
[411101.00060000003,null,0.79,1,781194.66,null,1,null,988854,0.79,"مترمكعب","ملات ماسه سیمان 1:5",31140102,null,6,{"$f":"COUNTIF($S$1:S8269,Q8269+R8269)","v":6},"411101",1E-4,411101.0001]
[411101.00069999998,null,0.9,1,5664.6,null,1,null,6294,0.9,"عدد","چهارتراش",31330602,null,7,{"$f":"COUNTIF($S$1:S8270,Q8270+R8270)","v":7},"411101",1E-4,411101.0001]
[411101.00079999998,null,0.9,1,8145.9,null,1,null,9051,0.9,"عدد","اينزرت کانکشن",31705101,null,8,{"$f":"COUNTIF($S$1:S8271,Q8271+R8271)","v":8},"411101",1E-4,411101.0001]
[411101.00089999998,null,0.5,1,17303,null,1,null,34606,0.5,"عدد","اينزرت کپسولي",31705102,null,9,{"$f":"COUNTIF($S$1:S8272,Q8272+R8272)","v":9},"411101",1E-4,411101.0001]
[411101.00099999999,null,1.3,1,4776.2,null,1,null,3674,1.3,"عدد","اسپيرال",31705103,null,10,{"$f":"COUNTIF($S$1:S8273,Q8273+R8273)","v":10},"411101",1E-4,411101.0001]
[411101.00109999999,null,0.08,1,2961.2,null,1,null,37015,0.08,"عدد","اسپيسر 3",31705104,null,11,{"$f":"COUNTIF($S$1:S8274,Q8274+R8274)","v":11},"411101",1E-4,411101.0001]
[411101.0012,null,6.4,1,3238.4,null,1,null,506,6.4,"عدد","اسپيسر 3/5",31705105,null,12,{"$f":"COUNTIF($S$1:S8275,Q8275+R8275)","v":12},"411101",1E-4,411101.0001]

{"sheet":"Manabeh","index":4,"n_rows":2778,"n_cols":13,"rows_kept":2778,"cut":false,"hidden":false,"merged":[]}
["رديف","کد عامل","شرح لیست:","واحد","بهای واحد نت","بهای واحد آمار","بهای واحد روز","مقدار مورد نیاز","بهای کل مبنا قیمت","درصد وزنی",1,"نت","نت"]
[1,11010202,"مدیر پروژه (مهندس با سابقه 10  تا 15 سال)","نفر ساعت",453944.5,null,null,{"$f":"SUMIF(Report!C:C,B2,Report!J:J)","v":0},{"$f":"IF($M$1=$L$1,H2*E2,+IF($M$1=$L$2,H2*F2,H2*G2))","v":0},{"$f":"IFERROR(I2/SUM($I$2:$I$2499),0)","v":0},{"$f":"COUNTIF(Report!C:C,B2)","v":0},"آمار",{"$f":"SUM(K2:K3000)","v":30}]
[2,12010101,"رئيس کارگاه (مهندس باسابقه بيش از 15 سال)","نفر - ساعت",370652.1,null,null,{"$f":"SUMIF(Report!C:C,B3,Report!J:J)","v":0},{"$f":"IF($M$1=$L$1,H3*E3,+IF($M$1=$L$2,H3*F3,H3*G3))","v":0},{"$f":"IFERROR(I3/SUM($I$2:$I$2499),0)","v":0},{"$f":"COUNTIF(Report!C:C,B3)","v":0},"روز"]
[3,12010201,"مهندس کارگاه با سابقه 5 تا 10 سال","نفر ساعت",293628.59999999998,null,null,{"$f":"SUMIF(Report!C:C,B4,Report!J:J)","v":0},0,0,{"$f":"COUNTIF(Report!C:C,B4)","v":0}," کل منابع"]
[4,12010301,"تکنیسین عمومی کارگاه باسابقه بیش از 15 سال","نفر ساعت",227621.5,null,null,{"$f":"SUMIF(Report!C:C,B5,Report!J:J)","v":0},0,0,{"$f":"COUNTIF(Report!C:C,B5)","v":0},"منابع پروژه"]
[5,12010302,"تکنیسین عمومی کارگاه با سابقه 10 تا 15 سال","نفر ساعت",197938.1,null,null,{"$f":"SUMIF(Report!C:C,B6,Report!J:J)","v":0},0,0,{"$f":"COUNTIF(Report!C:C,B6)","v":0}]
[6,12010304,"تکنیسین عمومی کارگاه با سابقه تا 5 سال","نفر ساعت",148827.20000000001,null,null,{"$f":"SUMIF(Report!C:C,B7,Report!J:J)","v":0},0,0,{"$f":"COUNTIF(Report!C:C,B7)","v":0}]
[7,12030101,"نقشه بردار با سابقه بیش از 10 سال","نفر ساعت",215730.7,null,null,{"$f":"SUMIF(Report!C:C,B8,Report!J:J)","v":0},0,0,{"$f":"COUNTIF(Report!C:C,B8)","v":0}]
[8,12030103,"کمک نقشه بردار (ترازیاب)","نفر- ساعت",109041.1,null,null,{"$f":"SUMIF(Report!C:C,B9,Report!J:J)","v":0},0,0,{"$f":"COUNTIF(Report!C:C,B9)","v":0}]
[9,12030104,"کارگر نقشه‌برداري (ميرکش)","نفر- ساعت",80332.899999999994,null,null,{"$f":"SUMIF(Report!C:C,B10,Report!J:J)","v":0},0,0,{"$f":"COUNTIF(Report!C:C,B10)","v":0}]
[10,12050102,"مسئول ماشين آلات ( رئيس حمل و نقل با سابقه کمتر از 10 سال)","نفر ساعت",151799.79999999999,null,null,{"$f":"SUMIF(Report!C:C,B11,Report!J:J)","v":0},0,0,{"$f":"COUNTIF(Report!C:C,B11)","v":0}]
[11,12100101,"تکنيسين کنترل و ايمني","نفر - ساعت",139481,null,null,{"$f":"SUMIF(Report!C:C,B12,Report!J:J)","v":0},0,0,{"$f":"COUNTIF(Report!C:C,B12)","v":0}]
[12,13010102,"استادکار تعميرات و نگهداري ماشين‌آلات (سرمکانيک)","نفر - ساعت",222357.9,null,null,{"$f":"SUMIF(Report!C:C,B13,Report!J:J)","v":0},0,0,{"$f":"COUNTIF(Report!C:C,B13)","v":0}]
[13,13010201,"مکانیک درجه یک ماشین آلات سنگین","نفر ساعت",182266,null,null,{"$f":"SUMIF(Report!C:C,B14,Report!J:J)","v":0},0,0,{"$f":"COUNTIF(Report!C:C,B14)","v":0}]
[14,13010205,"کمک مکانیک","نفر ساعت",86212.5,null,null,{"$f":"SUMIF(Report!C:C,B15,Report!J:J)","v":0},0,0,{"$f":"COUNTIF(Report!C:C,B15)","v":0}]
[15,13010401,"جوشکار درجه یک","نفر ساعت",131423,null,null,{"$f":"SUMIF(Report!C:C,B16,Report!J:J)","v":0},0,0,{"$f":"COUNTIF(Report!C:C,B16)","v":0}]
[16,13010402,"جوشکار درجه دو","نفر ساعت",109041.1,null,null,{"$f":"SUMIF(Report!C:C,B17,Report!J:J)","v":{"$error":"#N/A"}},{"$error":"#N/A"},0,{"$f":"COUNTIF(Report!C:C,B17)","v":2}]
[17,13010602,"آهنگر درجه دو","نفر ساعت",118886.39999999999,null,null,{"$f":"SUMIF(Report!C:C,B18,Report!J:J)","v":0},0,0,{"$f":"COUNTIF(Report!C:C,B18)","v":0}]
[18,13010603,"کمک آهنگر","نفر ساعت",89950.5,null,null,{"$f":"SUMIF(Report!C:C,B19,Report!J:J)","v":0},0,0,{"$f":"COUNTIF(Report!C:C,B19)","v":0}]
[19,13010701,"سرویس کار","نفر- ساعت",86212.5,null,null,{"$f":"SUMIF(Report!C:C,B20,Report!J:J)","v":0},0,0,{"$f":"COUNTIF(Report!C:C,B20)","v":0}]
[20,13031201,"متصدی دستگاه شمع کوبی","نفر ساعت",135428.5,null,null,{"$f":"SUMIF(Report!C:C,B21,Report!J:J)","v":0},0,0,{"$f":"COUNTIF(Report!C:C,B21)","v":0}]
[21,13040101,"متصدی ماشینهای بتن ساز (بتونیرچی)","نفر ساعت",94085.9,null,null,{"$f":"SUMIF(Report!C:C,B22,Report!J:J)","v":0},0,0,{"$f":"COUNTIF(Report!C:C,B22)","v":0}]
[22,13040102,"متصدی ایستگاههای بتن ساز یا بچینگ پلانت","نفر ساعت",118886.39999999999,null,null,{"$f":"SUMIF(Report!C:C,B23,Report!J:J)","v":0},0,0,{"$f":"COUNTIF(Report!C:C,B23)","v":0}]
[23,13040201,"متصدی کارخانه آسفالت","نفر ساعت",148827.20000000001,null,null,{"$f":"SUMIF(Report!C:C,B24,Report!J:J)","v":0},0,0,{"$f":"COUNTIF(Report!C:C,B24)","v":0}]
[24,13040202,"متصدی برق کارخانه آسفالت و سنگ شکن","نفر ساعت",118886.39999999999,null,null,{"$f":"SUMIF(Report!C:C,B25,Report!J:J)","v":0},0,0,{"$f":"COUNTIF(Report!C:C,B25)","v":0}]
[25,13040301,"متصدی سرند و سنگ شکن","نفر ساعت",127139.6,null,null,{"$f":"SUMIF(Report!C:C,B26,Report!J:J)","v":0},0,0,{"$f":"COUNTIF(Report!C:C,B26)","v":0}]
[26,13040901,"متصدی غلطکهای دستی","نفر ساعت",86212.5,null,null,{"$f":"SUMIF(Report!C:C,B27,Report!J:J)","v":0},0,0,{"$f":"COUNTIF(Report!C:C,B27)","v":0}]
[27,13041001,"متصدی کمپرسور","نفر - ساعت",86212.5,null,null,{"$f":"SUMIF(Report!C:C,B28,Report!J:J)","v":0},0,0,{"$f":"COUNTIF(Report!C:C,B28)","v":1}]
[28,13041101,"متصدی پمپ اب","نفر- ساعت",86212.5,null,null,{"$f":"SUMIF(Report!C:C,B29,Report!J:J)","v":0},0,0,{"$f":"COUNTIF(Report!C:C,B29)","v":0}]
[29,13041201,"متصدی  موتور برق","نفر ساعت",86212.5,null,null,{"$f":"SUMIF(Report!C:C,B30,Report!J:J)","v":0},0,0,{"$f":"COUNTIF(Report!C:C,B30)","v":0}]
[30,13041401,"ویبراتور چی","نفر ساعت",74015.899999999994,null,null,{"$f":"SUMIF(Report!C:C,B31,Report!J:J)","v":0},0,0,{"$f":"COUNTIF(Report!C:C,B31)","v":0}]
[31,13041501,"کمک اپراتور ماشین آلات","نفر ساعت",86212.5,null,null,{"$f":"SUMIF(Report!C:C,B32,Report!J:J)","v":0},0,0,{"$f":"COUNTIF(Report!C:C,B32)","v":0}]
[32,13041801,"اپراتور دستگاه برش آسفالت ( کاتر )","نفر ساعت",113006.5,null,null,{"$f":"SUMIF(Report!C:C,B33,Report!J:J)","v":0},0,0,{"$f":"COUNTIF(Report!C:C,B33)","v":0}]
[33,13041803,"متصدی ماشین آسفالت تراش","نفر ساعت",112997.5,null,null,{"$f":"SUMIF(Report!C:C,B34,Report!J:J)","v":0},0,0,{"$f":"COUNTIF(Report!C:C,B34)","v":0}]
[34,13041901,"اپراتور ماشین راهداری یا راهسازی","نفر ساعت",210633.3,null,null,{"$f":"SUMIF(Report!C:C,B35,Report!J:J)","v":0},0,0,{"$f":"COUNTIF(Report!C:C,B35)","v":0}]
[35,14010101,"سر کارگر","نفر ساعت",81272.600000000006,138143,null,{"$f":"SUMIF(Report!C:C,B36,Report!J:J)","v":1.8599999999999998E-2},1511.6703600000001,0,{"$f":"COUNTIF(Report!C:C,B36)","v":1}]
[36,14010102,"كارگر ساده","نفر- ساعت",70696,98943,null,{"$f":"SUMIF(Report!C:C,B37,Report!J:J)","v":{"$error":"#N/A"}},{"$error":"#N/A"},0,{"$f":"COUNTIF(Report!C:C,B37)","v":4}]
[37,14010103,"کارگر فنی ماهر","نفر ساعت",78853.8,null,null,{"$f":"SUMIF(Report!C:C,B38,Report!J:J)","v":0},0,0,{"$f":"COUNTIF(Report!C:C,B38)","v":0}]
[38,14010105,"کارگر فني نيمه ماهر","نفر - ساعت",73596.899999999994,null,null,{"$f":"SUMIF(Report!C:C,B39,Report!J:J)","v":0},0,0,{"$f":"COUNTIF(Report!C:C,B39)","v":0}]
[39,14020101,"بنای سفت کار درجه یک","نفر ساعت",108643.1,183157,null,{"$f":"SUMIF(Report!C:C,B40,Report!J:J)","v":0},0,0,{"$f":"COUNTIF(Report!C:C,B40)","v":0}]
[40,14020102,"بنای سفت کار درجه دو","نفر - ساعت",91120,141960,null,{"$f":"SUMIF(Report!C:C,B41,Report!J:J)","v":0},0,0,{"$f":"COUNTIF(Report!C:C,B41)","v":0}]
[41,14020103,"کمک بنای سفت کار","نفر ساعت",78853.8,113017,null,{"$f":"SUMIF(Report!C:C,B42,Report!J:J)","v":0},0,0,{"$f":"COUNTIF(Report!C:C,B42)","v":0}]
[42,14030201,"نجار قالب بند درجه یک","نفر ساعت",119616.1,196910,null,{"$f":"SUMIF(Report!C:C,B43,Report!J:J)","v":0},0,0,{"$f":"COUNTIF(Report!C:C,B43)","v":0}]
[43,14030202,"نجار قالب بند درجه دو","نفر - ساعت",96993.1,164728,null,{"$f":"SUMIF(Report!C:C,B44,Report!J:J)","v":0},0,0,{"$f":"COUNTIF(Report!C:C,B44)","v":0}]
[44,14030203,"کمک نجار قالب بند","نفر- ساعت",74015.899999999994,121766,null,{"$f":"SUMIF(Report!C:C,B45,Report!J:J)","v":0},0,0,{"$f":"COUNTIF(Report!C:C,B45)","v":0}]
[45,14040101,"قالب بند فلزی درجه یک","نفر ساعت",116241.3,176708,null,{"$f":"SUMIF(Report!C:C,B46,Report!J:J)","v":0},0,0,{"$f":"COUNTIF(Report!C:C,B46)","v":0}]
[46,14040102,"قالب بند فلزی درجه دو","نفر ساعت",93613.6,150438,null,{"$f":"SUMIF(Report!C:C,B47,Report!J:J)","v":0},0,0,{"$f":"COUNTIF(Report!C:C,B47)","v":0}]
[47,14040103,"کمک قالب بند","نفر ساعت",74015.899999999994,null,null,{"$f":"SUMIF(Report!C:C,B48,Report!J:J)","v":0},0,0,{"$f":"COUNTIF(Report!C:C,B48)","v":0}]
[48,14040201,"قالب ساز درجه یک قالب فلزی","نفر ساعت",109159.2,186588,null,{"$f":"SUMIF(Report!C:C,B49,Report!J:J)","v":0},0,0,{"$f":"COUNTIF(Report!C:C,B49)","v":0}]
[49,14040202,"قالب ساز درجه دو قالب فلزی","نفر ساعت",91908.7,160563,null,{"$f":"SUMIF(Report!C:C,B50,Report!J:J)","v":0},0,0,{"$f":"COUNTIF(Report!C:C,B50)","v":0}]
[50,14040203,"کمک قالب ساز قالب فلزی","نفر ساعت",74015.899999999994,null,null,{"$f":"SUMIF(Report!C:C,B51,Report!J:J)","v":0},0,0,{"$f":"COUNTIF(Report!C:C,B51)","v":0}]
[51,14050101,"سر آرماتور بند","نفر ساعت",131459.1,204677,null,{"$f":"SUMIF(Report!C:C,B52,Report!J:J)","v":0},0,0,{"$f":"COUNTIF(Report!C:C,B52)","v":0}]
[52,14050201,"آرماتور بند درجه یک","نفر ساعت",98667.3,173944,null,{"$f":"SUMIF(Report!C:C,B53,Report!J:J)","v":0},0,0,{"$f":"COUNTIF(Report!C:C,B53)","v":0}]
[53,14050202,"آرماتور بند درجه دو","نفر ساعت",84477,145960,null,{"$f":"SUMIF(Report!C:C,B54,Report!J:J)","v":0},0,0,{"$f":"COUNTIF(Report!C:C,B54)","v":0}]
[54,14050203,"کمک آرماتور بند","نفر ساعت",70822.399999999994,108369,null,{"$f":"SUMIF(Report!C:C,B55,Report!J:J)","v":0},0,0,{"$f":"COUNTIF(Report!C:C,B55)","v":0}]
[55,14060101,"استادکار کارهای بتنی","نفر ساعت",122059.7,195379,null,{"$f":"SUMIF(Report!C:C,B56,Report!J:J)","v":0},0,0,{"$f":"COUNTIF(Report!C:C,B56)","v":0}]
[56,14060201,"بنای بتن کار","نفر ساعت",94759.4,162046,null,{"$f":"SUMIF(Report!C:C,B57,Report!J:J)","v":0},0,0,{"$f":"COUNTIF(Report!C:C,B57)","v":0}]
[57,14060202,"کمک بنای بتن کار","نفر - ساعت",72372.3,126068,null,{"$f":"SUMIF(Report!C:C,B58,Report!J:J)","v":0},0,0,{"$f":"COUNTIF(Report!C:C,B58)","v":0}]
[58,14060401,"تکنسین متخصص نصب تیرهای پیش تنیده","نفر ساعت",197981.9,null,null,{"$f":"SUMIF(Report!C:C,B59,Report!J:J)","v":0},0,0,{"$f":"COUNTIF(Report!C:C,B59)","v":0}]
[59,14060501,"کارشناس تهيه قطعات پيش‌ساخته بتني","نفر - ساعت",170493.1,null,null,{"$f":"SUMIF(Report!C:C,B60,Report!J:J)","v":0},0,0,{"$f":"COUNTIF(Report!C:C,B60)","v":0}]
[60,14060502,"تکنسين تهيه قطعات پيش‌ساخته بتني","نفر - ساعت",135520,null,null,{"$f":"SUMIF(Report!C:C,B61,Report!J:J)","v":0},0,0,{"$f":"COUNTIF(Report!C:C,B61)","v":0}]
[61,14070201,"اسکلت ساز درجه یک","نفر ساعت",157727.79999999999,218328,null,{"$f":"SUMIF(Report!C:C,B62,Report!J:J)","v":0},0,0,{"$f":"COUNTIF(Report!C:C,B62)","v":0}]
[62,14070202,"اسکلت ساز درجه دو","نفر ساعت",122471.2,185412,null,{"$f":"SUMIF(Report!C:C,B63,Report!J:J)","v":0},0,0,{"$f":"COUNTIF(Report!C:C,B63)","v":0}]
[63,14070203,"کمک اسکلت ساز","نفر ساعت",90824.8,136563,null,{"$f":"SUMIF(Report!C:C,B64,Report!J:J)","v":0},0,0,{"$f":"COUNTIF(Report!C:C,B64)","v":0}]
[64,14070301,"جوشکار اسکلت","نفر ساعت",122471.2,196194,null,{"$f":"SUMIF(Report!C:C,B65,Report!J:J)","v":0},0,0,{"$f":"COUNTIF(Report!C:C,B65)","v":0}]
[65,14070302,"کمک جوشکار اسکلت","نفر ساعت",90824.8,133331,null,{"$f":"SUMIF(Report!C:C,B66,Report!J:J)","v":0},0,0,{"$f":"COUNTIF(Report!C:C,B66)","v":0}]
[66,14070401,"برشکار","نفر ساعت",110304.4,167159,null,{"$f":"SUMIF(Report!C:C,B67,Report!J:J)","v":0},{"$f":"IF($M$1=$L$1,H67*E67,+IF($M$1=$L$2,H67*F67,H67*G67))","v":0},{"$f":"IFERROR(I67/SUM($I$2:$I$2499),0)","v":0},{"$f":"COUNTIF(Report!C:C,B67)","v":0}]
[67,14080101,"آهنگر در و پنجره ساز درجه یک","نفر ساعت",116385.3,188745,null,{"$f":"SUMIF(Report!C:C,B68,Report!J:J)","v":0},0,0,{"$f":"COUNTIF(Report!C:C,B68)","v":0}]
[68,14080102,"آهنگر در و پنجره ساز درجه دو","نفر ساعت",96494.6,155382,null,{"$f":"SUMIF(Report!C:C,B69,Report!J:J)","v":0},0,0,{"$f":"COUNTIF(Report!C:C,B69)","v":0}]
[69,14080103,"کمک آهنگر در و پنجره ساز","نفر ساعت",72372.3,null,null,{"$f":"SUMIF(Report!C:C,B70,Report!J:J)","v":0},0,0,{"$f":"COUNTIF(Report!C:C,B70)","v":0}]
[70,14120101,"نجار در و پنجره ساز درجه یک","نفر ساعت",122059.7,null,null,{"$f":"SUMIF(Report!C:C,B71,Report!J:J)","v":0},0,0,{"$f":"COUNTIF(Report!C:C,B71)","v":0}]
[71,14120401,"کمک نجار","نفر - ساعت",74164.7,null,null,{"$f":"SUMIF(Report!C:C,B72,Report!J:J)","v":0},0,0,{"$f":"COUNTIF(Report!C:C,B72)","v":0}]
[72,14130101,"عایقکار و آسفالت کاردرجه یک","نفر ساعت",98287,178348,null,{"$f":"SUMIF(Report!C:C,B73,Report!J:J)","v":0},0,0,{"$f":"COUNTIF(Report!C:C,B73)","v":0}]
[73,14130102,"عایقکار و آسفالت کار درجه دو","نفر ساعت",86943.2,150382,null,{"$f":"SUMIF(Report!C:C,B74,Report!J:J)","v":0},0,0,{"$f":"COUNTIF(Report!C:C,B74)","v":0}]
[74,14130103,"کمک عایقکار و  آسفالت کار","نفر- ساعت",72372.3,117808,null,{"$f":"SUMIF(Report!C:C,B75,Report!J:J)","v":0},0,0,{"$f":"COUNTIF(Report!C:C,B75)","v":0}]
[75,14150102,"سیمانکار درجه دو","نفر ساعت",86181.9,156450,null,{"$f":"SUMIF(Report!C:C,B76,Report!J:J)","v":0},0,0,{"$f":"COUNTIF(Report!C:C,B76)","v":0}]
[76,14150103,"کمک سیمانکار","نفر ساعت",74015.899999999994,null,null,{"$f":"SUMIF(Report!C:C,B77,Report!J:J)","v":0},0,0,{"$f":"COUNTIF(Report!C:C,B77)","v":0}]
[77,14150112,"تزریقکار","نفر ساعت",128232.7,null,null,{"$f":"SUMIF(Report!C:C,B78,Report!J:J)","v":0},0,0,{"$f":"COUNTIF(Report!C:C,B78)","v":0}]
[78,14150201,"بندکش","نفر ساعت",84477,160091,null,{"$f":"SUMIF(Report!C:C,B79,Report!J:J)","v":0},0,0,{"$f":"COUNTIF(Report!C:C,B79)","v":0}]
[79,14150202,"کمک بندکش","نفر ساعت",70822.399999999994,123248,null,{"$f":"SUMIF(Report!C:C,B80,Report!J:J)","v":0},0,0,{"$f":"COUNTIF(Report!C:C,B80)","v":0}]
[80,14160101,"سنگ کار درجه یک","نفر ساعت",133657.70000000001,210407,null,{"$f":"SUMIF(Report!C:C,B81,Report!J:J)","v":0},0,0,{"$f":"COUNTIF(Report!C:C,B81)","v":0}]
[81,14160102,"سنگ کار درجه دو","نفر ساعت",107611.8,175592,null,{"$f":"SUMIF(Report!C:C,B82,Report!J:J)","v":0},0,0,{"$f":"COUNTIF(Report!C:C,B82)","v":0}]
[82,14160104,"سنگ شکن درجه یک","نفر ساعت",81378,null,null,{"$f":"SUMIF(Report!C:C,B83,Report!J:J)","v":0},0,0,{"$f":"COUNTIF(Report!C:C,B83)","v":0}]
[83,14200101,"نقاش درجه یک ساختمان","نفر ساعت",114623.8,203461,null,{"$f":"SUMIF(Report!C:C,B84,Report!J:J)","v":0},0,0,{"$f":"COUNTIF(Report!C:C,B84)","v":0}]
[84,14200102,"نقاش درجه دو ساختمان","نفر ساعت",94759.4,178763,null,{"$f":"SUMIF(Report!C:C,B85,Report!J:J)","v":0},0,0,{"$f":"COUNTIF(Report!C:C,B85)","v":0}]
[85,14200103,"کمک نقاش","نفر ساعت",74164.7,null,null,{"$f":"SUMIF(Report!C:C,B86,Report!J:J)","v":0},0,0,{"$f":"COUNTIF(Report!C:C,B86)","v":0}]
[86,14200301,"نقاش خط کشی","نفر ساعت",114623.8,null,null,{"$f":"SUMIF(Report!C:C,B87,Report!J:J)","v":0},0,0,{"$f":"COUNTIF(Report!C:C,B87)","v":0}]
[87,14200302,"مکانیسین خط کشی","نفر ساعت",103607.2,null,null,{"$f":"SUMIF(Report!C:C,B88,Report!J:J)","v":0},0,0,{"$f":"COUNTIF(Report!C:C,B88)","v":0}]
[88,14200303,"کارگر پیاده کننده مسیر خط کشی","نفر ساعت",72372.3,null,null,{"$f":"SUMIF(Report!C:C,B89,Report!J:J)","v":0},0,0,{"$f":"COUNTIF(Report!C:C,B89)","v":0}]
[89,14220202,"سنگ تراش درجه دو","نفر ساعت",98287,161874,null,{"$f":"SUMIF(Report!C:C,B90,Report!J:J)","v":0},0,0,{"$f":"COUNTIF(Report!C:C,B90)","v":0}]
[90,14220301,"بنای سنگ چین درجه یک","نفر ساعت",114623.8,195707,null,{"$f":"SUMIF(Report!C:C,B91,Report!J:J)","v":0},0,0,{"$f":"COUNTIF(Report!C:C,B91)","v":0}]
[91,14220302,"بنای سنگ چین درجه دو","نفر ساعت",94759.4,159650,null,{"$f":"SUMIF(Report!C:C,B92,Report!J:J)","v":0},0,0,{"$f":"COUNTIF(Report!C:C,B92)","v":0}]
[92,14220303,"کمک بنای سنگ چین","نفر ساعت",77718.7,null,null,{"$f":"SUMIF(Report!C:C,B93,Report!J:J)","v":0},0,0,{"$f":"COUNTIF(Report!C:C,B93)","v":0}]
[93,14230101,"مسئول فنی آسفالت","نفر ساعت",196250.6,252564,null,{"$f":"SUMIF(Report!C:C,B94,Report!J:J)","v":0},0,0,{"$f":"COUNTIF(Report!C:C,B94)","v":0}]
[94,14230201,"ماله کش آسفالت","نفر ساعت",99257.7,160731,null,{"$f":"SUMIF(Report!C:C,B95,Report!J:J)","v":0},0,0,{"$f":"COUNTIF(Report!C:C,B95)","v":0}]
[95,14230202,"کارگر آسفالت","نفر ساعت",83270.600000000006,121135,null,{"$f":"SUMIF(Report!C:C,B96,Report!J:J)","v":0},0,0,{"$f":"COUNTIF(Report!C:C,B96)","v":0}]
[96,14230301,"قیرگرم کن","نفر ساعت",83270.600000000006,null,null,{"$f":"SUMIF(Report!C:C,B97,Report!J:J)","v":0},0,0,{"$f":"COUNTIF(Report!C:C,B97)","v":0}]
[97,14240101,"تکنسین متخصص تونل","نفر ساعت",196250.6,null,null,{"$f":"SUMIF(Report!C:C,B98,Report!J:J)","v":0},0,0,{"$f":"COUNTIF(Report!C:C,B98)","v":0}]
[98,14240301,"مباشر عملیات خاکی با سابقه بیش از 10 سال","نفر- ساعت",196250.6,null,null,{"$f":"SUMIF(Report!C:C,B99,Report!J:J)","v":9.1999999999999998E-3},1805.5055199999999,0,{"$f":"COUNTIF(Report!C:C,B99)","v":1}]
[99,14240501,"آتشبار","نفر ساعت",120053.4,null,null,{"$f":"SUMIF(Report!C:C,B100,Report!J:J)","v":0},0,0,{"$f":"COUNTIF(Report!C:C,B100)","v":0}]
[100,14240502,"کمک آتشبار","نفر ساعت",81390.899999999994,null,null,{"$f":"SUMIF(Report!C:C,B101,Report!J:J)","v":0},0,0,{"$f":"COUNTIF(Report!C:C,B101)","v":0}]
[101,14240601,"چکش گیر (مینور)","نفر- ساعت",90969.1,null,null,{"$f":"SUMIF(Report!C:C,B102,Report!J:J)","v":0},0,0,{"$f":"COUNTIF(Report!C:C,B102)","v":1}]
[102,14240602,"کارگرد یلم دار","نفر- ساعت",81390.899999999994,null,null,{"$f":"SUMIF(Report!C:C,B103,Report!J:J)","v":0},0,0,{"$f":"COUNTIF(Report!C:C,B103)","v":0}]
[103,14250101,"تکنیسین عملیات حفاری و شمعکوبی","نفر- ساعت",207415.9,null,null,{"$f":"SUMIF(Report!C:C,B104,Report!J:J)","v":{"$error":"#N/A"}},{"$error":"#N/A"},0,{"$f":"COUNTIF(Report!C:C,B104)","v":2}]
[104,14250201,"حفار درجه یک شمع های درجا","نفر ساعت",163546.5,null,null,{"$f":"SUMIF(Report!C:C,B105,Report!J:J)","v":{"$error":"#N/A"}},{"$error":"#N/A"},0,{"$f":"COUNTIF(Report!C:C,B105)","v":2}]
[105,14250203,"کمک حفار شمع های درجا","نفر ساعت",92940.6,null,null,{"$f":"SUMIF(Report!C:C,B106,Report!J:J)","v":{"$error":"#N/A"}},{"$error":"#N/A"},0,{"$f":"COUNTIF(Report!C:C,B106)","v":2}]
[106,14250204,"کارگر حفاری","نفر ساعت",81390.899999999994,null,null,{"$f":"SUMIF(Report!C:C,B107,Report!J:J)","v":{"$error":"#N/A"}},{"$error":"#N/A"},0,{"$f":"COUNTIF(Report!C:C,B107)","v":2}]
[107,14250301,"کارگر شمع کوبی","نفر ساعت",81390.899999999994,null,null,{"$f":"SUMIF(Report!C:C,B108,Report!J:J)","v":0},0,0,{"$f":"COUNTIF(Report!C:C,B108)","v":0}]
[108,14260701,"مقنی چاه فاضلاب","نفر ساعت",120062,null,null,{"$f":"SUMIF(Report!C:C,B109,Report!J:J)","v":0},0,0,{"$f":"COUNTIF(Report!C:C,B109)","v":0}]
[109,14270101,"کارشناس ژئوتکنیک","نفر ساعت",243247.9,null,null,{"$f":"SUMIF(Report!C:C,B110,Report!J:J)","v":0},0,0,{"$f":"COUNTIF(Report!C:C,B110)","v":0}]
[110,14270102,"كارشناس عمليات صحرايي ژئوتكنيك","نفر- ساعت",306557.33,null,null,{"$f":"SUMIF(Report!C:C,B111,Report!J:J)","v":0},0,0,{"$f":"COUNTIF(Report!C:C,B111)","v":0}]
[111,14270201,"تکنسین ژئوتکنیک","نفر ساعت",163756.56,null,null,{"$f":"SUMIF(Report!C:C,B112,Report!J:J)","v":0},0,0,{"$f":"COUNTIF(Report!C:C,B112)","v":0}]
[112,14270104,"کمک تکنسین ژئوتکنیک","نفر - ساعت",95994,null,null,{"$f":"SUMIF(Report!C:C,B113,Report!J:J)","v":0},0,0,{"$f":"COUNTIF(Report!C:C,B113)","v":0}]
[113,14270301,"حفار كارهاي ژئوتكنيك","نفر- ساعت",267001.49,null,null,{"$f":"SUMIF(Report!C:C,B114,Report!J:J)","v":0},0,0,{"$f":"COUNTIF(Report!C:C,B114)","v":0}]
[114,14280301,"هزینه دنده ای کردن ( رزوه کردن ) میلگرد","یکسر",18089.900000000001,null,null,{"$f":"SUMIF(Report!C:C,B115,Report!J:J)","v":0},0,0,{"$f":"COUNTIF(Report!C:C,B115)","v":0}]
[115,14280302,"هزينه دنده اي کردن جک سقفي","عدد",214808.2,null,null,{"$f":"SUMIF(Report!C:C,B116,Report!J:J)","v":0},0,0,{"$f":"COUNTIF(Report!C:C,B116)","v":0}]
[116,14280303,"هزینه دنده ای کردن پیچ تنظیم داربست","عدد",214808.2,null,null,{"$f":"SUMIF(Report!C:C,B117,Report!J:J)","v":0},0,0,{"$f":"COUNTIF(Report!C:C,B117)","v":0}]
[117,14280403,"هزینه گالوانیزه کردن پیچ و مهره یا قطعات گوی","کیلو گرم",35703.1,null,null,{"$f":"SUMIF(Report!C:C,B118,Report!J:J)","v":0},0,0,{"$f":"COUNTIF(Report!C:C,B118)","v":0}]
[118,14280501,"هزینه نورد کردن ورق و پروفیل آهن","كیلوگرم",49744.6,null,null,{"$f":"SUMIF(Report!C:C,B119,Report!J:J)","v":0},0,0,{"$f":"COUNTIF(Report!C:C,B119)","v":0}]
[119,14280502,"آجدار کردن ، برش و سوراخ کردن تسمه به ابعاد حدود 50*5 میلیمتر","كیلوگرم",35703.1,null,null,{"$f":"SUMIF(Report!C:C,B120,Report!J:J)","v":0},0,0,{"$f":"COUNTIF(Report!C:C,B120)","v":0}]
[120,15010101,"استاد کار تاسیسات","نفر ساعت",169500.79999999999,232752,null,{"$f":"SUMIF(Report!C:C,B121,Report!J:J)","v":0},0,0,{"$f":"COUNTIF(Report!C:C,B121)","v":0}]
[121,15010401,"چدنکار درجه یک","نفر ساعت",132554.29999999999,199257,null,{"$f":"SUMIF(Report!C:C,B122,Report!J:J)","v":0},0,0,{"$f":"COUNTIF(Report!C:C,B122)","v":0}]
[122,15010402,"چدنکار درجه دو","نفر ساعت",111234.1,171024,null,{"$f":"SUMIF(Report!C:C,B123,Report!J:J)","v":0},0,0,{"$f":"COUNTIF(Report!C:C,B123)","v":0}]
[123,15010801,"کمک لوله کش","نفر ساعت",83408.600000000006,null,null,{"$f":"SUMIF(Report!C:C,B124,Report!J:J)","v":0},0,0,{"$f":"COUNTIF(Report!C:C,B124)","v":0}]
[124,16020201,"کابل کش درجه یک فشار ضعیف","نفر ساعت",161369.60000000001,195694,null,{"$f":"SUMIF(Report!C:C,B125,Report!J:J)","v":0},0,0,{"$f":"COUNTIF(Report!C:C,B125)","v":0}]
[125,16020203,"کمک کابل کش فشار ضعیف","نفر ساعت",92471.6,null,null,{"$f":"SUMIF(Report!C:C,B126,Report!J:J)","v":0},0,0,{"$f":"COUNTIF(Report!C:C,B126)","v":0}]
[126,17020301,"استاد کار زنگ زدایی","نفر ساعت",161822,null,null,{"$f":"SUMIF(Report!C:C,B127,Report!J:J)","v":0},0,0,{"$f":"COUNTIF(Report!C:C,B127)","v":0}]
[127,17020302,"تکنسین سندبلاست","نفر ساعت",128723.9,null,null,{"$f":"SUMIF(Report!C:C,B128,Report!J:J)","v":0},0,0,{"$f":"COUNTIF(Report!C:C,B128)","v":0}]
[128,17020304,"کارگرسندبلاست","نفر ساعت",79645.2,null,null,{"$f":"SUMIF(Report!C:C,B129,Report!J:J)","v":0},0,0,{"$f":"COUNTIF(Report!C:C,B129)","v":0}]
[129,18090301,"تکنسین برق","نفر -  ساعت",269817.5,null,null,{"$f":"SUMIF(Report!C:C,B130,Report!J:J)","v":0},0,0,{"$f":"COUNTIF(Report!C:C,B130)","v":0}]
[130,18090301,"تکنسین برق","نفر ساعت",269817.5,null,null,{"$f":"SUMIF(Report!C:C,B131,Report!J:J)","v":0},{"$f":"IF($M$1=$L$1,H131*E131,+IF($M$1=$L$2,H131*F131,H131*G131))","v":0},{"$f":"IFERROR(I131/SUM($I$2:$I$2499),0)","v":0},{"$f":"COUNTIF(Report!C:C,B131)","v":0}]
[131,19020199,"درصد","درصد",null,null,null,{"$f":"SUMIF(Report!C:C,B132,Report!J:J)","v":0},0,0,{"$f":"COUNTIF(Report!C:C,B132)","v":0}]
[132,21010102,"فیدر زنجیری یا شاتونی 50تا 100 تن در ساعت","دستگاه ساعت",42213.4,null,null,{"$f":"SUMIF(Report!C:C,B133,Report!J:J)","v":0},0,0,{"$f":"COUNTIF(Report!C:C,B133)","v":0}]
[133,21010203,"نوار نقاله به عرض75 تا80 سانتیمتر","مترطول ساعت",34102.9,null,null,{"$f":"SUMIF(Report!C:C,B134,Report!J:J)","v":0},0,0,{"$f":"COUNTIF(Report!C:C,B134)","v":0}]
[134,21010302,"سرند ویبره 1.5*5 متر سه طبقه","دستگاه ساعت",92118.7,null,null,{"$f":"SUMIF(Report!C:C,B135,Report!J:J)","v":0},0,0,{"$f":"COUNTIF(Report!C:C,B135)","v":0}]
[135,21010403,"سنگ شکن فکی100 تا150 تن در ساعت","دستگاه ساعت",396047.7,null,null,{"$f":"SUMIF(Report!C:C,B136,Report!J:J)","v":0},0,0,{"$f":"COUNTIF(Report!C:C,B136)","v":0}]
[136,21010405,"سنگ شکن چکشی (کوبیت ) 50 تا 100 تن در ساعت","دستگاه ساعت",197932.9,null,null,{"$f":"SUMIF(Report!C:C,B137,Report!J:J)","v":0},0,0,{"$f":"COUNTIF(Report!C:C,B137)","v":0}]
[137,21010502,"ماسه ساز به ظرفيت 30 تا60 تن در ساعت","دستگاه -  ساعت",198063.8,null,null,{"$f":"SUMIF(Report!C:C,B138,Report!J:J)","v":0},0,0,{"$f":"COUNTIF(Report!C:C,B138)","v":0}]
[138,22020102,"بتونير250 ليتري","دستگاه -  ساعت",29202,null,null,{"$f":"SUMIF(Report!C:C,B139,Report!J:J)","v":0},0,0,{"$f":"COUNTIF(Report!C:C,B139)","v":0}]
[139,22020103,"بتونیر300 لیتری","دستگاه ساعت",33838.699999999997,null,null,{"$f":"SUMIF(Report!C:C,B140,Report!J:J)","v":0},0,0,{"$f":"COUNTIF(Report!C:C,B140)","v":0}]
[140,22020105,"بتونیر 500 لیتری","دستگاه ساعت",64470.3,null,null,{"$f":"SUMIF(Report!C:C,B141,Report!J:J)","v":0},0,0,{"$f":"COUNTIF(Report!C:C,B141)","v":0}]
[141,22020107,"بتونیر750 لیتری","دستگاه ساعت",92682,null,null,{"$f":"SUMIF(Report!C:C,B142,Report!J:J)","v":0},0,0,{"$f":"COUNTIF(Report!C:C,B142)","v":0}]
[142,22020204,"ایستگاه بتن ساز بچینگ پلانت25 تا30 مترمکعب در ساعت","دستگاه ساعت",507192.8,null,null,{"$f":"SUMIF(Report!C:C,B143,Report!J:J)","v":0},0,0,{"$f":"COUNTIF(Report!C:C,B143)","v":0}]
[143,22020212,"ایستگاه بتن‌ساز (بچینگ پلانت) خارجی به ظرفیت 120 متر مکعب بر ساعت","دستگاه ساعت",8277720.2000000002,null,null,{"$f":"SUMIF(Report!C:C,B144,Report!J:J)","v":0},0,0,{"$f":"COUNTIF(Report!C:C,B144)","v":0}]
[144,22020302,"مخزن متحرک بتن تراک میکسر6 متر مکعبی با راننده","دستگاه ساعت",669833.6,799087,null,{"$f":"SUMIF(Report!C:C,B145,Report!J:J)","v":0},0,0,{"$f":"COUNTIF(Report!C:C,B145)","v":0}]
[145,22020303,"مخزن متحرک بتن تراک میکسر 7 متر مکعبی با راننده","دستگاه ساعت",702604.80000000005,null,null,{"$f":"SUMIF(Report!C:C,B146,Report!J:J)","v":0},0,0,{"$f":"COUNTIF(Report!C:C,B146)","v":0}]
[146,22020503,"پمپ انتقال بتن45 تا60 مترمکعب درساعت","دستگاه ساعت",2195640,null,null,{"$f":"SUMIF(Report!C:C,B147,Report!J:J)","v":0},0,0,{"$f":"COUNTIF(Report!C:C,B147)","v":0}]
[147,22020703,"پمپ تزریق سیمان به قدرت10 اسب بخار","دستگاه ساعت",644729.59999999998,null,null,{"$f":"SUMIF(Report!C:C,B148,Report!J:J)","v":0},0,0,{"$f":"COUNTIF(Report!C:C,B148)","v":0}]
[148,22020707,"پمپ شاتکریت ALIVA 262 با اپراتور (5 تا 8 مترمکعب در ساعت) با نازل","دستگاه ساعت",278095.59999999998,null,null,{"$f":"SUMIF(Report!C:C,B149,Report!J:J)","v":0},0,0,{"$f":"COUNTIF(Report!C:C,B149)","v":0}]
[149,22020805,"فینیشرمخصوص بتن به ظرظیت حدود 120 مترمکعب درساعت باراننده","دستگاه -  ساعت",15200000,null,null,{"$f":"SUMIF(Report!C:C,B150,Report!J:J)","v":0},0,0,{"$f":"COUNTIF(Report!C:C,B150)","v":0}]
[150,22020811,"دستگاه TCM برای رویه بتنی","دستگاه -  ساعت",3040000,null,null,{"$f":"SUMIF(Report!C:C,B151,Report!J:J)","v":0},0,0,{"$f":"COUNTIF(Report!C:C,B151)","v":0}]
[151,22030103,"کارخانه آسفالت باظرفيت حدود 120 تن","دستگاه-ساعت",5538051.29,null,null,{"$f":"SUMIF(Report!C:C,B152,Report!J:J)","v":0},0,0,{"$f":"COUNTIF(Report!C:C,B152)","v":0}]
[152,22030201,"ماشین آسفالت پخش کنی فینیشر زنجیری با راننده","دستگاه ساعت",1087051,1144808,null,{"$f":"SUMIF(Report!C:C,B153,Report!J:J)","v":0},0,0,{"$f":"COUNTIF(Report!C:C,B153)","v":0}]
[153,22030202,"ماشین آسفالت پخش کنی فینیشر لاستیکی با راننده","دستگاه ساعت",1217497,null,null,{"$f":"SUMIF(Report!C:C,B154,Report!J:J)","v":0},0,0,{"$f":"COUNTIF(Report!C:C,B154)","v":0}]
[154,22030301,"قیرپاش حدود5000 لیتری باخودرو وراننده","دستگاه-ساعت",790580,731650,null,{"$f":"SUMIF(Report!C:C,B155,Report!J:J)","v":0},0,0,{"$f":"COUNTIF(Report!C:C,B155)","v":0}]
[155,22030311,"ماشین آسفالت تراش","دستگاه ساعت",861500,null,null,{"$f":"SUMIF(Report!C:C,B156,Report!J:J)","v":0},0,0,{"$f":"COUNTIF(Report!C:C,B156)","v":0}]
[156,22030321,"ماشین بازیافت آسفالت","دستگاه ساعت",4103921.03,null,null,{"$f":"SUMIF(Report!C:C,B157,Report!J:J)","v":0},0,0,{"$f":"COUNTIF(Report!C:C,B157)","v":0}]
[157,22030401,"دستگاه پخش کننده مصالح سنگی آسفالت سطحی اسپریدر","دستگاه ساعت",91474.1,null,null,{"$f":"SUMIF(Report!C:C,B158,Report!J:J)","v":0},0,0,{"$f":"COUNTIF(Report!C:C,B158)","v":0}]
[158,22030602,"ماشین خط کشی آسفالت اچ 33 با راننده","دستگاه ساعت",780724.7,null,null,{"$f":"SUMIF(Report!C:C,B159,Report!J:J)","v":0},0,0,{"$f":"COUNTIF(Report!C:C,B159)","v":0}]
[159,22030603,"ماشین خط کشی آسفالت اچ 75 با راننده","دستگاه ساعت",3356315.93,null,null,{"$f":"SUMIF(Report!C:C,B160,Report!J:J)","v":0},0,0,{"$f":"COUNTIF(Report!C:C,B160)","v":0}]
[160,22030701,"دستگاه برش آسفالت (کاتر)","دستگاه ساعت",60855.3,null,null,{"$f":"SUMIF(Report!C:C,B161,Report!J:J)","v":0},0,0,{"$f":"COUNTIF(Report!C:C,B161)","v":0}]
[161,22030702,"تیغه برش کاتر","عدد",2950940.2,null,null,{"$f":"SUMIF(Report!C:C,B162,Report!J:J)","v":0},0,0,{"$f":"COUNTIF(Report!C:C,B162)","v":0}]
[162,22030704,"ديسک کاتر دستگاه تي. بي. ام نوع E.P.B","عدد",132560.4,null,null,{"$f":"SUMIF(Report!C:C,B163,Report!J:J)","v":0},0,0,{"$f":"COUNTIF(Report!C:C,B163)","v":0}]
[163,22030705,"ديسک کاتر دستگاه تي. بي. ام نوع Hard Rock","عدد",203708.79999999999,null,null,{"$f":"SUMIF(Report!C:C,B164,Report!J:J)","v":0},0,0,{"$f":"COUNTIF(Report!C:C,B164)","v":0}]
[164,22030801,"ماشین شیار زن","دستگاه ساعت",1207000,null,null,{"$f":"SUMIF(Report!C:C,B165,Report!J:J)","v":0},0,0,{"$f":"COUNTIF(Report!C:C,B165)","v":0}]
[165,22030802,"ناخن ماشین شیار زن","عدد",366530.9,null,null,{"$f":"SUMIF(Report!C:C,B166,Report!J:J)","v":0},0,0,{"$f":"COUNTIF(Report!C:C,B166)","v":0}]
[166,22031001,"ماشين پيش‌گرم‌کن آسفالت با هواي گرم","دستگاه -  ساعت",4106761.9,null,null,{"$f":"SUMIF(Report!C:C,B167,Report!J:J)","v":0},0,0,{"$f":"COUNTIF(Report!C:C,B167)","v":0}]
[167,22031002,"ماشين تراش با پيش‌گرم‌کن آسفالت با هواي گرم","دستگاه -  ساعت",5961428.5700000003,null,null,{"$f":"SUMIF(Report!C:C,B168,Report!J:J)","v":0},0,0,{"$f":"COUNTIF(Report!C:C,B168)","v":0}]
[168,22031003,"ماشين ميکسر با پيش‌گرم‌کن آسفالت با هواي گرم","دستگاه -  ساعت",5961428.5700000003,null,null,{"$f":"SUMIF(Report!C:C,B169,Report!J:J)","v":0},0,0,{"$f":"COUNTIF(Report!C:C,B169)","v":0}]
[169,22031004,"غلتک ويبره چرخ آهني 10 تا 12 تن براي تراکم آسفالت","دستگاه -  ساعت",563690.80000000005,null,null,{"$f":"SUMIF(Report!C:C,B170,Report!J:J)","v":0},0,0,{"$f":"COUNTIF(Report!C:C,B170)","v":0}]
[170,22040101,"استهلاک ساختمان","مترمربع",null,null,null,{"$f":"SUMIF(Report!C:C,B171,Report!J:J)","v":0},0,0,{"$f":"COUNTIF(Report!C:C,B171)","v":0}]
[171,22040102,"تجهيزات توليد بتن","ست",9703506113.6100006,null,null,{"$f":"SUMIF(Report!C:C,B172,Report!J:J)","v":0},0,0,{"$f":"COUNTIF(Report!C:C,B172)","v":0}]
[172,22040103,"قالب‌ها","رينگ 8",null,null,null,{"$f":"SUMIF(Report!C:C,B173,Report!J:J)","v":0},0,0,{"$f":"COUNTIF(Report!C:C,B173)","v":0}]
[173,22040104,"تاسيسات توليد بخار","مجموعه",8733155502.25,null,null,{"$f":"SUMIF(Report!C:C,B174,Report!J:J)","v":0},0,0,{"$f":"COUNTIF(Report!C:C,B174)","v":0}]
[174,22040105,"ماشين‌آلات حمل بتن","مجموعه",null,null,null,{"$f":"SUMIF(Report!C:C,B175,Report!J:J)","v":0},0,0,{"$f":"COUNTIF(Report!C:C,B175)","v":0}]
[175,22040202,"قطار براي حمل سگمنت","دستگاه -  ساعت",5875000.4800000004,null,null,{"$f":"SUMIF(Report!C:C,B176,Report!J:J)","v":0},0,0,{"$f":"COUNTIF(Report!C:C,B176)","v":0}]
[176,22040203,"ترابري ريلي","ساعت",9710263.5600000005,null,null,{"$f":"SUMIF(Report!C:C,B177,Report!J:J)","v":0},0,0,{"$f":"COUNTIF(Report!C:C,B177)","v":0}]
[177,22040204,"نوار نقاله","دستگاه -  ساعت",25793805.600000001,null,null,{"$f":"SUMIF(Report!C:C,B178,Report!J:J)","v":0},0,0,{"$f":"COUNTIF(Report!C:C,B178)","v":0}]
[178,22040205,"ريل و متعلقات","كیلوگرم",44654.15,null,null,{"$f":"SUMIF(Report!C:C,B179,Report!J:J)","v":0},0,0,{"$f":"COUNTIF(Report!C:C,B179)","v":0}]
[179,22040206,"دستگاه حفاري تي. بي. ام E.P.B","دستگاه -  ساعت",74095796.019999996,null,null,{"$f":"SUMIF(Report!C:C,B180,Report!J:J)","v":0},0,0,{"$f":"COUNTIF(Report!C:C,B180)","v":0}]
[180,22040207,"دستگاه حفاري تي. بي. ام Hard Rock","دستگاه -  ساعت",68640779.799999997,null,null,{"$f":"SUMIF(Report!C:C,B181,Report!J:J)","v":0},0,0,{"$f":"COUNTIF(Report!C:C,B181)","v":0}]
[181,23010301,"ماشین سواری لندرور یا مشابه با راننده","دستگاه ساعت",215653.6,211327,null,{"$f":"SUMIF(Report!C:C,B182,Report!J:J)","v":0},0,0,{"$f":"COUNTIF(Report!C:C,B182)","v":0}]
[182,23010402,"ماشین سواری استیشن چهاردر  باراننده","دستگاه ساعت",350443.8,229631,null,{"$f":"SUMIF(Report!C:C,B183,Report!J:J)","v":0},0,0,{"$f":"COUNTIF(Report!C:C,B183)","v":0}]
[183,23010501,"وانت نیم تن باراننده","دستگاه-ساعت",179710.2,null,null,{"$f":"SUMIF(Report!C:C,B184,Report!J:J)","v":0},0,0,{"$f":"COUNTIF(Report!C:C,B184)","v":0}]
[184,23010502,"وانت یک تن باراننده","دستگاه-ساعت",206677.7,233825,null,{"$f":"SUMIF(Report!C:C,B185,Report!J:J)","v":0},0,0,{"$f":"COUNTIF(Report!C:C,B185)","v":0}]
[185,23010503,"وانت 5 /1 تن باراننده","دستگاه-ساعت",233639.7,null,null,{"$f":"SUMIF(Report!C:C,B186,Report!J:J)","v":0},0,0,{"$f":"COUNTIF(Report!C:C,B186)","v":0}]
[186,23020101,"کامیون به ظرفیت حدود3 تن  باراننده","دستگاه-ساعت",275630.7,null,null,{"$f":"SUMIF(Report!C:C,B187,Report!J:J)","v":0},0,0,{"$f":"COUNTIF(Report!C:C,B187)","v":0}]
[187,23020102,"کاميون به ظرفيت حدود 5 تن  باراننده","دستگاه-ساعت",399606.5,null,null,{"$f":"SUMIF(Report!C:C,B188,Report!J:J)","v":0},0,0,{"$f":"COUNTIF(Report!C:C,B188)","v":0}]
[188,23020202,"کامیون کمپرسی به ظرفیت حدود5  تن باراننده","دستگاه-ساعت",394477.6,null,null,{"$f":"SUMIF(Report!C:C,B189,Report!J:J)","v":0},0,0,{"$f":"COUNTIF(Report!C:C,B189)","v":0}]
[189,23020204,"کامیون کمپرسی به ظرفیت حدود 10 تن با راننده","دستگاه-ساعت",461084.4,613863,null,{"$f":"SUMIF(Report!C:C,B190,Report!J:J)","v":0},0,0,{"$f":"COUNTIF(Report!C:C,B190)","v":0}]
[190,23020204,"کامیون کمپرسی به ظرفیت حدود10  تن باراننده","دستگاه-ساعت",461084.4,613863,null,{"$f":"SUMIF(Report!C:C,B191,Report!J:J)","v":0},0,0,{"$f":"COUNTIF(Report!C:C,B191)","v":0}]
[191,23020205,"کامیون کمپرسی به ظرفیت حدود 16 تن با راننده","دستگاه ساعت",476453.9,732989,null,{"$f":"SUMIF(Report!C:C,B192,Report!J:J)","v":0},0,0,{"$f":"COUNTIF(Report!C:C,B192)","v":0}]
[192,23020206,"کامیون کمپرسی تریلر به ظرفیت حدود 25 تن با راننده","دستگاه -  ساعت",553301.30000000005,null,null,{"$f":"SUMIF(Report!C:C,B193,Report!J:J)","v":0},0,0,{"$f":"COUNTIF(Report!C:C,B193)","v":0}]
[193,23020302,"تریلی دو محوره با ظرفیت 24 تن باراننده","دستگاه-ساعت",621141.5,null,null,{"$f":"SUMIF(Report!C:C,B194,Report!J:J)","v":0},0,0,{"$f":"COUNTIF(Report!C:C,B194)","v":0}]
[194,23020306,"تریلی5 محور کشویی با راننده","دستگاه ساعت",1153537.8999999999,null,null,{"$f":"SUMIF(Report!C:C,B195,Report!J:J)","v":0},{"$f":"IF($M$1=$L$1,H195*E195,+IF($M$1=$L$2,H195*F195,H195*G195))","v":0},{"$f":"IFERROR(I195/SUM($I$2:$I$2499),0)","v":0},{"$f":"COUNTIF(Report!C:C,B195)","v":0}]
[195,23020307,"تریلی6 محور لوله بر با راننده","دستگاه ساعت",1331002,null,null,{"$f":"SUMIF(Report!C:C,B196,Report!J:J)","v":0},0,0,{"$f":"COUNTIF(Report!C:C,B196)","v":0}]
[196,23020309,"تریلی9 محور لوله بر با راننده","دستگاه ساعت",2129582.5,null,null,{"$f":"SUMIF(Report!C:C,B197,Report!J:J)","v":0},0,0,{"$f":"COUNTIF(Report!C:C,B197)","v":0}]
[197,23020310,"تریلی11محور لوله بر با راننده","دستگاه ساعت",2621872.54,null,null,{"$f":"SUMIF(Report!C:C,B198,Report!J:J)","v":0},0,0,{"$f":"COUNTIF(Report!C:C,B198)","v":0}]
[198,23020311,"بوژی6 محور با کشنده جمعا9 محور با راننده","دستگاه ساعت",3401311.11,null,null,{"$f":"SUMIF(Report!C:C,B199,Report!J:J)","v":0},0,0,{"$f":"COUNTIF(Report!C:C,B199)","v":0}]
[199,23020501,"تانکر آب پاش به ظرفيت حدود 5000 ليتر باراننده","دستگاه-ساعت",237003.6,385880,null,{"$f":"SUMIF(Report!C:C,B200,Report!J:J)","v":0},0,0,{"$f":"COUNTIF(Report!C:C,B200)","v":0}]
[200,23020502,"تانکر آب پاش به ظرفيت حدود 10000 ليتر باراننده","دستگاه-ساعت",326908.40000000002,483777,null,{"$f":"SUMIF(Report!C:C,B201,Report!J:J)","v":0},0,0,{"$f":"COUNTIF(Report!C:C,B201)","v":0}]
[201,23020503,"تانکراب پاش به ظرفیت حدود 15000 لیتر باراننده","دستگاه-ساعت",392292,536049,null,{"$f":"SUMIF(Report!C:C,B202,Report!J:J)","v":0},0,0,{"$f":"COUNTIF(Report!C:C,B202)","v":0}]
[202,23020504,"تانکر آب پاش به ظرفيت حدود 20000 ليتر باراننده","دستگاه-ساعت",408647.1,583399,null,{"$f":"SUMIF(Report!C:C,B203,Report!J:J)","v":0},0,0,{"$f":"COUNTIF(Report!C:C,B203)","v":0}]
[203,23020801,"تراکتور تک دیفرانسیل با راننده","دستگاه ساعت",128670.7,261263,null,{"$f":"SUMIF(Report!C:C,B204,Report!J:J)","v":0},0,0,{"$f":"COUNTIF(Report!C:C,B204)","v":0}]
[204,23020802,"تراکتور جفت دیفرانسیل با راننده","دستگاه ساعت",159730.29999999999,null,null,{"$f":"SUMIF(Report!C:C,B205,Report!J:J)","v":0},0,0,{"$f":"COUNTIF(Report!C:C,B205)","v":0}]
[205,23020803,"تراکتور تک دیفرانسیل با تریلر و راننده","دستگاه ساعت",190795.9,null,null,{"$f":"SUMIF(Report!C:C,B206,Report!J:J)","v":0},0,0,{"$f":"COUNTIF(Report!C:C,B206)","v":0}]
[206,23020901,"تریلر کفی به ظرفیت حدود 5  تن بدون کشنده","دستگاه-ساعت",62931.5,444252,null,{"$f":"SUMIF(Report!C:C,B207,Report!J:J)","v":0},0,0,{"$f":"COUNTIF(Report!C:C,B207)","v":0}]
[207,23020902,"تريلر کفي به ظرفيت حدود10 تن بدون کشنده","دستگاه ساعت",90345.9,545237,null,{"$f":"SUMIF(Report!C:C,B208,Report!J:J)","v":0},0,0,{"$f":"COUNTIF(Report!C:C,B208)","v":0}]
[208,23021102,"دامپر2 تن هیدرولیکی باراننده","دستگاه ساعت",141973.5,257185,null,{"$f":"SUMIF(Report!C:C,B209,Report!J:J)","v":0},0,0,{"$f":"COUNTIF(Report!C:C,B209)","v":0}]
[209,24010101,"جرثقیل کفی 3 تن باکامیون 3 تن با راننده","دستگاه-ساعت",322664.5,null,null,{"$f":"SUMIF(Report!C:C,B210,Report!J:J)","v":0},0,0,{"$f":"COUNTIF(Report!C:C,B210)","v":0}]
[210,24010102,"جرثقیل کفی 3 تن باکامیون 5 تن با راننده","دستگاه-ساعت",371062.9,null,null,{"$f":"SUMIF(Report!C:C,B211,Report!J:J)","v":0},0,0,{"$f":"COUNTIF(Report!C:C,B211)","v":0}]
[211,24010103,"جرثقیل کفی 3 تن باکامیون 7 تن با راننده","دستگاه-ساعت",395276.2,null,null,{"$f":"SUMIF(Report!C:C,B212,Report!J:J)","v":0},0,0,{"$f":"COUNTIF(Report!C:C,B212)","v":0}]
[212,24010104,"جرثقیل کفی5 تن با کامیون10 تن با راننده","دستگاه ساعت",443674,715606,null,{"$f":"SUMIF(Report!C:C,B213,Report!J:J)","v":0},0,0,{"$f":"COUNTIF(Report!C:C,B213)","v":0}]
[213,24010106,"جرثقيل کفي10 تن با کاميون 16 تن با راننده","دستگاه ساعت",564661,1033522,null,{"$f":"SUMIF(Report!C:C,B214,Report!J:J)","v":0},0,0,{"$f":"COUNTIF(Report!C:C,B214)","v":0}]
[214,24010201,"جرثقيل کاميوني دو کابينه حدود 15 تن باراننده","دستگاه-ساعت",806659.9,null,null,{"$f":"SUMIF(Report!C:C,B215,Report!J:J)","v":0},0,0,{"$f":"COUNTIF(Report!C:C,B215)","v":0}]
[215,24010202,"جرثقيل کاميوني دو کابينه حدود 20 تن با راننده","دستگاه ساعت",927672.4,1481751,null,{"$f":"SUMIF(Report!C:C,B216,Report!J:J)","v":0},0,0,{"$f":"COUNTIF(Report!C:C,B216)","v":0}]
[216,24010204,"جرثقيل کاميوني دو کابينه حدود 30 تن با راننده","دستگاه ساعت",1129324.7,1869992,null,{"$f":"SUMIF(Report!C:C,B217,Report!J:J)","v":0},0,0,{"$f":"COUNTIF(Report!C:C,B217)","v":0}]
[217,24010205,"جرثقيل کاميوني دو کابينه حدود 40 تن با راننده","دستگاه ساعت",1734332.2,null,null,{"$f":"SUMIF(Report!C:C,B218,Report!J:J)","v":0},0,0,{"$f":"COUNTIF(Report!C:C,B218)","v":0}]
[218,24010206,"جرثقيل کاميوني دو کابينه حدود 50 تن با راننده","دستگاه ساعت",2218330.4,2463305,null,{"$f":"SUMIF(Report!C:C,B219,Report!J:J)","v":0},0,0,{"$f":"COUNTIF(Report!C:C,B219)","v":0}]
[219,24010302,"جرثقیل خودرو چرخ لاستیکی حدود20 تن با راننده","دستگاه ساعت",887325.2,null,null,{"$f":"SUMIF(Report!C:C,B220,Report!J:J)","v":0},0,0,{"$f":"COUNTIF(Report!C:C,B220)","v":0}]
[220,24010304,"جرثقیل خودرو چرخ لاستیکی حدود30 تن با راننده","دستگاه ساعت",1048659.1000000001,null,null,{"$f":"SUMIF(Report!C:C,B221,Report!J:J)","v":0},0,0,{"$f":"COUNTIF(Report!C:C,B221)","v":0}]
[221,24010306,"جرثقیل خودرو چرخ لاستیکی حدود50 تن با راننده","دستگاه ساعت",2177983.5,null,null,{"$f":"SUMIF(Report!C:C,B222,Report!J:J)","v":0},0,0,{"$f":"COUNTIF(Report!C:C,B222)","v":0}]
[222,24010307,"جرثقیل خودرو چرخ لاستیکی حدود 60 تن با راننده","دستگاه ساعت",2419979.5,2999867,null,{"$f":"SUMIF(Report!C:C,B223,Report!J:J)","v":0},0,0,{"$f":"COUNTIF(Report!C:C,B223)","v":0}]
[223,24010308,"جرثقیل خودرو چرخ لاستیکی حدود 80 تن با راننده","دستگاه ساعت",3145974.2,null,null,{"$f":"SUMIF(Report!C:C,B224,Report!J:J)","v":0},0,0,{"$f":"COUNTIF(Report!C:C,B224)","v":0}]
[224,24010402,"جرثقيل خودرو چرخ زنجيري حدود20 تن با راننده","دستگاه ساعت",887325.2,1433000,null,{"$f":"SUMIF(Report!C:C,B225,Report!J:J)","v":0},0,0,{"$f":"COUNTIF(Report!C:C,B225)","v":0}]
[225,24010404,"جرثقیل خودرو چرخ زنجیری حدود30 تن با راننده","دستگاه ساعت",1048659.1000000001,null,null,{"$f":"SUMIF(Report!C:C,B226,Report!J:J)","v":0},0,0,{"$f":"COUNTIF(Report!C:C,B226)","v":0}]
[226,24010405,"جرثقیل خودرو چرخ زنجیری حدود40 تن با راننده","دستگاه ساعت",1693988.3,1969020,null,{"$f":"SUMIF(Report!C:C,B227,Report!J:J)","v":0},0,0,{"$f":"COUNTIF(Report!C:C,B227)","v":0}]
[227,24010602,"تاور کرین حدود 110 تن متر","دستگاه ساعت",518454.4,null,null,{"$f":"SUMIF(Report!C:C,B228,Report!J:J)","v":0},0,0,{"$f":"COUNTIF(Report!C:C,B228)","v":0}]
[228,24011002,"جرثقیل سقفی حدود15 تن با راننده","دستگاه ساعت",403327.3,null,null,{"$f":"SUMIF(Report!C:C,B229,Report!J:J)","v":0},0,0,{"$f":"COUNTIF(Report!C:C,B229)","v":0}]
[229,24011003,"جرثقیل سقفی حدود20 تن با راننده","دستگاه ساعت",524342.4,null,null,{"$f":"SUMIF(Report!C:C,B230,Report!J:J)","v":0},0,0,{"$f":"COUNTIF(Report!C:C,B230)","v":0}]
[230,24011301,"ریل و ارابه مخصوص حمل تیرهای بتنی پیش ساخته","دستگاه ساعت",238769.7,null,null,{"$f":"SUMIF(Report!C:C,B231,Report!J:J)","v":0},0,0,{"$f":"COUNTIF(Report!C:C,B231)","v":0}]
[231,24011302,"پوتر لانسمان تیر مشبک فولادی","دستگاه ساعت",451728.2,null,null,{"$f":"SUMIF(Report!C:C,B232,Report!J:J)","v":0},0,0,{"$f":"COUNTIF(Report!C:C,B232)","v":0}]
[232,24011303,"دستگاه شاریو","دستگاه ساعت",480285.2,null,null,{"$f":"SUMIF(Report!C:C,B233,Report!J:J)","v":0},0,0,{"$f":"COUNTIF(Report!C:C,B233)","v":0}]
[233,25010202,"بيل مکانيکي چرخ لاستيکي یا زنجیری به قدرت حدود100 اسب بخار با راننده","دستگاه ساعت",564138.4,769106,null,{"$f":"SUMIF(Report!C:C,B234,Report!J:J)","v":0},0,0,{"$f":"COUNTIF(Report!C:C,B234)","v":0}]
[234,25010202,"بيل مکانيکي چرخ لاستيکي يازنجيري  به قدرت حدود100 اسب بخار با راننده","دستگاه-ساعت",564138.4,769106,null,{"$f":"SUMIF(Report!C:C,B235,Report!J:J)","v":0},0,0,{"$f":"COUNTIF(Report!C:C,B235)","v":0}]
[235,25010204,"بیل مکانیکی چرخ زنجیری به قدرت حدود150 اسب بخار باراننده","دستگاه-ساعت",725316.6,null,null,{"$f":"SUMIF(Report!C:C,B236,Report!J:J)","v":0},0,0,{"$f":"COUNTIF(Report!C:C,B236)","v":0}]
[236,25010205,"بیل مکانیکی چرخ زنجیری به قدرت حدود200 اسب بخار باراننده","دستگاه-ساعت",1105224.3999999999,1330935,null,{"$f":"SUMIF(Report!C:C,B237,Report!J:J)","v":0},0,0,{"$f":"COUNTIF(Report!C:C,B237)","v":0}]
[237,25010211,"بیل مکانیکی 200 اسب بخار چرخ زنجیری و مجهز به چکش هیدرولیکی با فشار 160 تا180 کیلوگرم بر سانتی متر مربع","دستگاه ساعت",1105224.3999999999,null,null,{"$f":"SUMIF(Report!C:C,B238,Report!J:J)","v":0},0,0,{"$f":"COUNTIF(Report!C:C,B238)","v":0}]
[238,25010602,"بولدوزر به قدرت حدود 150 اسب بخار با راننده","ساعت",505875.5,952759,null,{"$f":"SUMIF(Report!C:C,B239,Report!J:J)","v":8.8000000000000023E-3},4451.7044000000014,0,{"$f":"COUNTIF(Report!C:C,B239)","v":1}]
[239,25010603,"بولدوزر به قدرت حدود 200  اسب بخار باراننده","دستگاه-ساعت",737735,1207912,null,{"$f":"SUMIF(Report!C:C,B240,Report!J:J)","v":0},0,0,{"$f":"COUNTIF(Report!C:C,B240)","v":0}]
[240,25010604,"بولدوزر به قدرت حدود250 اسب بخار با راننده","دستگاه ساعت",874743,1414838,null,{"$f":"SUMIF(Report!C:C,B241,Report!J:J)","v":0},0,0,{"$f":"COUNTIF(Report!C:C,B241)","v":0}]
[241,25010605,"بولدوزر به قدرت حدود 300  اسب بخار باراننده","دستگاه-ساعت",1150515.3999999999,1907813,null,{"$f":"SUMIF(Report!C:C,B242,Report!J:J)","v":0},0,0,{"$f":"COUNTIF(Report!C:C,B242)","v":0}]
[242,25010606,"بولدوزر به قدرت حدود350 اسب بخار با راننده","دستگاه ساعت",1426287.7,2110272,null,{"$f":"SUMIF(Report!C:C,B243,Report!J:J)","v":0},0,0,{"$f":"COUNTIF(Report!C:C,B243)","v":0}]
[243,25010607,"بولدوزر به قدرت حدود 400  اسب بخار باراننده","دستگاه-ساعت",1976008.7,null,null,{"$f":"SUMIF(Report!C:C,B244,Report!J:J)","v":0},0,0,{"$f":"COUNTIF(Report!C:C,B244)","v":0}]
[244,25010701,"لودرچرخ زنجیری به قدرت حدود200  اسب بخار باراننده","دستگاه-ساعت",1105224.3999999999,1127844,null,{"$f":"SUMIF(Report!C:C,B245,Report!J:J)","v":0},0,0,{"$f":"COUNTIF(Report!C:C,B245)","v":0}]
[245,25010802,"لودرچرخ لاستيکي به قدرت حدود150  اسب بخار باراننده","دستگاه-ساعت",552613.80000000005,911566,null,{"$f":"SUMIF(Report!C:C,B246,Report!J:J)","v":{"$error":"#N/A"}},{"$error":"#N/A"},0,{"$f":"COUNTIF(Report!C:C,B246)","v":2}]
[246,25010803,"لودر چرخ لاستيکي به قدرت حدود200  اسب بخار باراننده","دستگاه-ساعت",736817.3,null,null,{"$f":"SUMIF(Report!C:C,B247,Report!J:J)","v":0},0,0,{"$f":"COUNTIF(Report!C:C,B247)","v":0}]
[247,25010804,"لودر چرخ لاستیکی به قدرت حدود 250 اسب بخار با راننده","دستگاه ساعت",1151269.8999999999,1213430,null,{"$f":"SUMIF(Report!C:C,B248,Report!J:J)","v":0},0,0,{"$f":"COUNTIF(Report!C:C,B248)","v":0}]
[248,25010901,"گریدر به قدرت حدود150 اسب بخار باراننده","دستگاه-ساعت",598656.1,992662,null,{"$f":"SUMIF(Report!C:C,B249,Report!J:J)","v":0},0,0,{"$f":"COUNTIF(Report!C:C,B249)","v":0}]
[249,25010902,"گریدر به قدرت حدود180 اسب بخار باراننده","دستگاه-ساعت",644729.59999999998,1186799,null,{"$f":"SUMIF(Report!C:C,B250,Report!J:J)","v":9.7999999999999997E-3},6318.3500799999993,0,{"$f":"COUNTIF(Report!C:C,B250)","v":1}]
[250,25010904,"گریدر به قدرت حدود220 اسب بخار باراننده","دستگاه-ساعت",874975.5,1454576,null,{"$f":"SUMIF(Report!C:C,B251,Report!J:J)","v":0},0,0,{"$f":"COUNTIF(Report!C:C,B251)","v":0}]
[251,25011001,"فینیشر پخش بالاست","دستگاه ساعت",165796.6,null,null,{"$f":"SUMIF(Report!C:C,B252,Report!J:J)","v":0},0,0,{"$f":"COUNTIF(Report!C:C,B252)","v":0}]
[252,25011101,"دستگاه هوشمند ليزري با کشنده موتوري مانند تراکتور با راننده","دستگاه -  ساعت",161178.20000000001,null,null,{"$f":"SUMIF(Report!C:C,B253,Report!J:J)","v":0},0,0,{"$f":"COUNTIF(Report!C:C,B253)","v":0}]
[253,25020301,"دستگاه حفاري شمع هاي درجا","دستگاه ساعت",5049402.01,null,null,{"$f":"SUMIF(Report!C:C,B254,Report!J:J)","v":{"$error":"#N/A"}},{"$error":"#N/A"},0,{"$f":"COUNTIF(Report!C:C,B254)","v":2}]
[254,25020401,"دستگاه مخلوط کن گل بنتونیت","دستگاه ساعت",100475.6,null,null,{"$f":"SUMIF(Report!C:C,B255,Report!J:J)","v":0},0,0,{"$f":"COUNTIF(Report!C:C,B255)","v":0}]
[255,25020601,"سپرکوب هیدرولیکی ویبره ای به قدرت کشش تا20 تن","دستگاه ساعت",2387099.7999999998,null,null,{"$f":"SUMIF(Report!C:C,B256,Report!J:J)","v":0},0,0,{"$f":"COUNTIF(Report!C:C,B256)","v":0}]
[256,25020703,"دستگاه شمع کوب به ظرفیت حدود5  تن","دستگاه-ساعت",316098.7,null,null,{"$f":"SUMIF(Report!C:C,B257,Report!J:J)","v":0},0,0,{"$f":"COUNTIF(Report!C:C,B257)","v":0}]
[257,25030101,"کمپکتورصفحه ای","دستگاه-ساعت",26603.3,null,null,{"$f":"SUMIF(Report!C:C,B258,Report!J:J)","v":0},0,0,{"$f":"COUNTIF(Report!C:C,B258)","v":0}]
[258,25030102,"غلطک دستی موتوردار","دستگاه ساعت",88653.5,null,null,{"$f":"SUMIF(Report!C:C,B259,Report!J:J)","v":0},{"$f":"IF($M$1=$L$1,H259*E259,+IF($M$1=$L$2,H259*F259,H259*G259))","v":0},{"$f":"IFERROR(I259/SUM($I$2:$I$2499),0)","v":0},{"$f":"COUNTIF(Report!C:C,B259)","v":0}]
[259,25030201,"غلطک استاتیک چرخ اهنی حدود6 تا 8 تن باراننده","دستگاه-ساعت",169232.8,null,null,{"$f":"SUMIF(Report!C:C,B260,Report!J:J)","v":0},0,0,{"$f":"COUNTIF(Report!C:C,B260)","v":0}]
[260,25030203,"غلطک استاتیک چرخ اهنی حدود 10 تا12 تن باراننده","دستگاه-ساعت",257886.1,606658,null,{"$f":"SUMIF(Report!C:C,B261,Report!J:J)","v":0},0,0,{"$f":"COUNTIF(Report!C:C,B261)","v":0}]
[261,25030204,"غلطک استاتیک چرخ اهنی حدود 12 تا14 تن باراننده","دستگاه-ساعت",290121.40000000002,616033,null,{"$f":"SUMIF(Report!C:C,B262,Report!J:J)","v":0},0,0,{"$f":"COUNTIF(Report!C:C,B262)","v":0}]
[262,25030301,"غلطک چرخ لاستکي آسفالت حدود 16 تا20 تن باراننده","دستگاه-ساعت",443247.4,650306,null,{"$f":"SUMIF(Report!C:C,B263,Report!J:J)","v":0},0,0,{"$f":"COUNTIF(Report!C:C,B263)","v":0}]
[263,25030401,"غلطک ویبره کششی حدود6 تن","دستگاه ساعت",184203.6,null,null,{"$f":"SUMIF(Report!C:C,B264,Report!J:J)","v":0},0,0,{"$f":"COUNTIF(Report!C:C,B264)","v":0}]
[264,25030402,"غلطک ویبره کششی حدود 8 تن","دستگاه ساعت",198041.1,null,null,{"$f":"SUMIF(Report!C:C,B265,Report!J:J)","v":0},0,0,{"$f":"COUNTIF(Report!C:C,B265)","v":0}]
[265,25030501,"غلطک ویبره خودروکمرشکن چرخ اهنی لاستیکی حدود10 تن باراننده","دستگاه-ساعت",552613.80000000005,668003,null,{"$f":"SUMIF(Report!C:C,B266,Report!J:J)","v":0},0,0,{"$f":"COUNTIF(Report!C:C,B266)","v":0}]
[266,25030601,"پروف رولینگ","دستگاه ساعت",184203.6,null,null,{"$f":"SUMIF(Report!C:C,B267,Report!J:J)","v":0},0,0,{"$f":"COUNTIF(Report!C:C,B267)","v":0}]
[267,25030701,"دستگاه ترپان با وزن حدود1000کیلو","دستگاه ساعت",87514.8,null,null,{"$f":"SUMIF(Report!C:C,B268,Report!J:J)","v":0},0,0,{"$f":"COUNTIF(Report!C:C,B268)","v":0}]
[268,25030703,"دستگاه ترپان با وزن حدود3000کیلو","دستگاه ساعت",105922.3,null,null,{"$f":"SUMIF(Report!C:C,B269,Report!J:J)","v":0},0,0,{"$f":"COUNTIF(Report!C:C,B269)","v":0}]
[269,25030705,"دستگاه ترپان با وزن حدود5000 کیلو","دستگاه ساعت",133557.4,null,null,{"$f":"SUMIF(Report!C:C,B270,Report!J:J)","v":0},0,0,{"$f":"COUNTIF(Report!C:C,B270)","v":0}]
[270,25040101,"کمپرسور باظرفیت حدود 2 متر مکعب دردقیقه (70 سی اف ام) با شیلنگ مربوط.","دستگاه-ساعت",100475.6,null,null,{"$f":"SUMIF(Report!C:C,B271,Report!J:J)","v":0},0,0,{"$f":"COUNTIF(Report!C:C,B271)","v":0}]
[271,25040102,"کمپرسور باظرفیت حدود 5 متر مکعب دردقیقه (180 سی اف ام) با شیلنگ مربوط","دستگاه-ساعت",150712.1,null,null,{"$f":"SUMIF(Report!C:C,B272,Report!J:J)","v":0},0,0,{"$f":"COUNTIF(Report!C:C,B272)","v":1}]
[272,25040103,"کمپرسور با ظرفیت حدود7 متر مکعب در دقیقه (250 سی اف ام ) با شیلنگ مربوط","دستگاه ساعت",200948.1,null,null,{"$f":"SUMIF(Report!C:C,B273,Report!J:J)","v":0},0,0,{"$f":"COUNTIF(Report!C:C,B273)","v":0}]
[273,25040104,"کمپرسور با ظرفيت حدود11 متر در دقيقه (390 سي اف ام) با شيلنگ مربوط","دستگاه ساعت",351662.8,null,null,{"$f":"SUMIF(Report!C:C,B274,Report!J:J)","v":0},0,0,{"$f":"COUNTIF(Report!C:C,B274)","v":0}]
[274,25040108,"کمپرسور با ظرفیت حدود25 متر مکعب در دقیقه با شیلنگ مربوط","دستگاه ساعت",750000,null,null,{"$f":"SUMIF(Report!C:C,B275,Report!J:J)","v":0},0,0,{"$f":"COUNTIF(Report!C:C,B275)","v":0}]
[275,25040202,"سيستم هواي فشرده","دستگاه -  ساعت",1515142.7,null,null,{"$f":"SUMIF(Report!C:C,B276,Report!J:J)","v":0},0,0,{"$f":"COUNTIF(Report!C:C,B276)","v":0}]
[276,25050303,"جامبو دریل Paramatic تک بوم TAMROCK با اپراتور، راد و سر مته","دستگاه ساعت",2691765.3,null,null,{"$f":"SUMIF(Report!C:C,B277,Report!J:J)","v":0},0,0,{"$f":"COUNTIF(Report!C:C,B277)","v":0}]
[277,25050304,"جامبو دریل Paramatic دو بوم TAMROCK با اپراتور، راد و سر مته","دستگاه ساعت",3196329.05,null,null,{"$f":"SUMIF(Report!C:C,B278,Report!J:J)","v":0},0,0,{"$f":"COUNTIF(Report!C:C,B278)","v":0}]
[278,25050311,"سر مته پیشرو (PILOT BIT)","عدد",83823153.799999997,null,null,{"$f":"SUMIF(Report!C:C,B279,Report!J:J)","v":0},0,0,{"$f":"COUNTIF(Report!C:C,B279)","v":0}]
[279,25050321,"هزینه (RING BIT, CASING SHOE, RETANER)","عدد",8679125.4000000004,null,null,{"$f":"SUMIF(Report!C:C,B280,Report!J:J)","v":0},0,0,{"$f":"COUNTIF(Report!C:C,B280)","v":0}]
[280,25050601,"دستگاه انفجار چاشنی","دستگاه ساعت",77420.899999999994,null,null,{"$f":"SUMIF(Report!C:C,B281,Report!J:J)","v":0},0,0,{"$f":"COUNTIF(Report!C:C,B281)","v":0}]
[281,26010201,"موتور پمپ دیزلی تخلیه آب 4 اینچ","دستگاه ساعت",46042.6,null,null,{"$f":"SUMIF(Report!C:C,B282,Report!J:J)","v":0},0,0,{"$f":"COUNTIF(Report!C:C,B282)","v":0}]
[282,26010301,"پمپ لجن کش دیزلی4 اینچ","دستگاه ساعت",78312.7,null,null,{"$f":"SUMIF(Report!C:C,B283,Report!J:J)","v":0},0,0,{"$f":"COUNTIF(Report!C:C,B283)","v":0}]
[283,26010503,"موتور دیزلی دورانی به قدرت حدود 200 اسب بخار","دستگاه ساعت",101318.3,null,null,{"$f":"SUMIF(Report!C:C,B284,Report!J:J)","v":0},0,0,{"$f":"COUNTIF(Report!C:C,B284)","v":0}]
[284,26011501,"واتر جت","دستگاه ساعت",18415.7,null,null,{"$f":"SUMIF(Report!C:C,B285,Report!J:J)","v":0},0,0,{"$f":"COUNTIF(Report!C:C,B285)","v":0}]
[285,26011521,"جت فن با قطر 120 سانتیمتر و قدرت 55 کیلووات و هوادهی 15-30 متر مکعب در ثانیه و فشار استاتیکی 2500-2000 پاسکال","دستگاه ساعت",401964105.57999998,null,null,{"$f":"SUMIF(Report!C:C,B286,Report!J:J)","v":0},0,0,{"$f":"COUNTIF(Report!C:C,B286)","v":0}]
[286,26020302,"ترانس جوشکاری تا400 آمپر","دستگاه ساعت",24267,null,null,{"$f":"SUMIF(Report!C:C,B287,Report!J:J)","v":0},0,0,{"$f":"COUNTIF(Report!C:C,B287)","v":0}]
[287,26020501,"موتور جوش100 تا150 آمپر","دستگاه ساعت",26965,205660,null,{"$f":"SUMIF(Report!C:C,B288,Report!J:J)","v":0},0,0,{"$f":"COUNTIF(Report!C:C,B288)","v":0}]
[288,26020502,"موتور جوش150 تا250 آمپر","دستگاه ساعت",53927,255013,null,{"$f":"SUMIF(Report!C:C,B289,Report!J:J)","v":{"$error":"#N/A"}},{"$error":"#N/A"},0,{"$f":"COUNTIF(Report!C:C,B289)","v":2}]
[289,26020503,"موتور جوش دیزلی 400 آمپر","دستگاه ساعت",143771.9,320465,null,{"$f":"SUMIF(Report!C:C,B290,Report!J:J)","v":0},0,0,{"$f":"COUNTIF(Report!C:C,B290)","v":0}]
[290,26020504,"موتور جوش دیزلی500 آمپر","دستگاه ساعت",161752.5,null,null,{"$f":"SUMIF(Report!C:C,B291,Report!J:J)","v":0},0,0,{"$f":"COUNTIF(Report!C:C,B291)","v":0}]
[291,26021202,"دیگ بخار با ظرفیت 1000 پوند بخار در ساعت","دستگاه ساعت",180470.7,null,null,{"$f":"SUMIF(Report!C:C,B292,Report!J:J)","v":0},0,0,{"$f":"COUNTIF(Report!C:C,B292)","v":0}]
[292,26021301,"هویه جوشکاری","دستگاه ساعت",13192.7,null,null,{"$f":"SUMIF(Report!C:C,B293,Report!J:J)","v":0},0,0,{"$f":"COUNTIF(Report!C:C,B293)","v":0}]
[293,26030105,"مولد برق به قدرت30 کیلو وات","دستگاه ساعت",78312.7,null,null,{"$f":"SUMIF(Report!C:C,B294,Report!J:J)","v":0},0,0,{"$f":"COUNTIF(Report!C:C,B294)","v":0}]
[294,26030115,"مولد برق به قدرت 400 کيلو وات","دستگاه ساعت",644729.59999999998,null,null,{"$f":"SUMIF(Report!C:C,B295,Report!J:J)","v":0},0,0,{"$f":"COUNTIF(Report!C:C,B295)","v":0}]
[295,26030116,"مولد برق به قدرت500 کیلووات","دستگاه ساعت",782859.7,null,null,{"$f":"SUMIF(Report!C:C,B296,Report!J:J)","v":0},0,0,{"$f":"COUNTIF(Report!C:C,B296)","v":0}]
[296,26030119,"ژنراتور 450KAW","دستگاه ساعت",1991884.6,null,null,{"$f":"SUMIF(Report!C:C,B297,Report!J:J)","v":0},0,0,{"$f":"COUNTIF(Report!C:C,B297)","v":0}]
[297,26030121,"ژنراتور 350KAVA","دستگاه ساعت",1390477.6,null,null,{"$f":"SUMIF(Report!C:C,B298,Report!J:J)","v":0},0,0,{"$f":"COUNTIF(Report!C:C,B298)","v":0}]
[298,26030122,"ژنراتور 140KAV","دستگاه ساعت",695240.2,null,null,{"$f":"SUMIF(Report!C:C,B299,Report!J:J)","v":0},0,0,{"$f":"COUNTIF(Report!C:C,B299)","v":0}]
[299,26030123,"ژنراتور 120KAVA","دستگاه ساعت",556191.1,null,null,{"$f":"SUMIF(Report!C:C,B300,Report!J:J)","v":0},0,0,{"$f":"COUNTIF(Report!C:C,B300)","v":0}]
[300,26030124,"ژنراتور 125","دستگاه ساعت",556191.1,null,null,{"$f":"SUMIF(Report!C:C,B301,Report!J:J)","v":0},0,0,{"$f":"COUNTIF(Report!C:C,B301)","v":0}]
[301,26030125,"ژنراتور جهت ویبره های قالب و بچینگ 450KAV","دستگاه ساعت",1991884.6,null,null,{"$f":"SUMIF(Report!C:C,B302,Report!J:J)","v":0},0,0,{"$f":"COUNTIF(Report!C:C,B302)","v":0}]
[302,27020401,"نازل سند بلاست","عدد",12488438.300000001,null,null,{"$f":"SUMIF(Report!C:C,B303,Report!J:J)","v":0},0,0,{"$f":"COUNTIF(Report!C:C,B303)","v":0}]
[303,28040403,"دستگاه اره نواری نیمه اتوماتیک","دستگاه -  ساعت",152000,null,null,{"$f":"SUMIF(Report!C:C,B304,Report!J:J)","v":0},0,0,{"$f":"COUNTIF(Report!C:C,B304)","v":0}]
[304,28040501,"فرزاهن ساب","دستگاه -  ساعت",12464,null,null,{"$f":"SUMIF(Report!C:C,B305,Report!J:J)","v":0},0,0,{"$f":"COUNTIF(Report!C:C,B305)","v":0}]
[305,28040701,"سنگ ساب اهن","عدد",76000,null,null,{"$f":"SUMIF(Report!C:C,B306,Report!J:J)","v":0},0,0,{"$f":"COUNTIF(Report!C:C,B306)","v":0}]
[306,28060203,"اره بنزینی متحرک چوب","دستگاه ساعت",2638.9,null,null,{"$f":"SUMIF(Report!C:C,B307,Report!J:J)","v":0},0,0,{"$f":"COUNTIF(Report!C:C,B307)","v":0}]
[307,28070101,"بیل","عدد",250800,null,null,{"$f":"SUMIF(Report!C:C,B308,Report!J:J)","v":0},0,0,{"$f":"COUNTIF(Report!C:C,B308)","v":1}]
[308,28070301,"زنبه","عدد",318884.26,null,null,{"$f":"SUMIF(Report!C:C,B309,Report!J:J)","v":0},0,0,{"$f":"COUNTIF(Report!C:C,B309)","v":0}]
[309,28070501,"سطل آهني","عدد",71687.8,null,null,{"$f":"SUMIF(Report!C:C,B310,Report!J:J)","v":0},0,0,{"$f":"COUNTIF(Report!C:C,B310)","v":0}]
[310,28070601,"فرگون","دستگاه",1596000,null,null,{"$f":"SUMIF(Report!C:C,B311,Report!J:J)","v":0},0,0,{"$f":"COUNTIF(Report!C:C,B311)","v":0}]
[311,28070701,"کلنگ دو سر","عدد",288800,null,null,{"$f":"SUMIF(Report!C:C,B312,Report!J:J)","v":0},0,0,{"$f":"COUNTIF(Report!C:C,B312)","v":1}]
[312,28070702,"کلنگ یک سر","عدد",202666.2,null,null,{"$f":"SUMIF(Report!C:C,B313,Report!J:J)","v":0},0,0,{"$f":"COUNTIF(Report!C:C,B313)","v":0}]
[313,28071001,"فرز سنگ بری برقی دستی","دستگاه ساعت",7144,null,null,{"$f":"SUMIF(Report!C:C,B314,Report!J:J)","v":0},0,0,{"$f":"COUNTIF(Report!C:C,B314)","v":0}]
[314,28071601,"سنگ برای برش بتن","عدد",101509.7,null,null,{"$f":"SUMIF(Report!C:C,B315,Report!J:J)","v":0},0,0,{"$f":"COUNTIF(Report!C:C,B315)","v":0}]
[315,28071602,"سنگ برش سنگ","عدد",108069.4,null,null,{"$f":"SUMIF(Report!C:C,B316,Report!J:J)","v":0},0,0,{"$f":"COUNTIF(Report!C:C,B316)","v":0}]
[316,28080201,"سمباده زبر15*25","ورق",35844,null,null,{"$f":"SUMIF(Report!C:C,B317,Report!J:J)","v":0},0,0,{"$f":"COUNTIF(Report!C:C,B317)","v":0}]
[317,28080701,"پمپ رنگ پاشی با متعلقات","دستگاه ساعت",3306.9,null,null,{"$f":"SUMIF(Report!C:C,B318,Report!J:J)","v":0},0,0,{"$f":"COUNTIF(Report!C:C,B318)","v":0}]
[318,28080902,"کاردک","عدد",108761.2,null,null,{"$f":"SUMIF(Report!C:C,B319,Report!J:J)","v":0},0,0,{"$f":"COUNTIF(Report!C:C,B319)","v":0}]
[319,28090101,"سر مته حلزونی مخصوص حفاریهای سنگین","دستگاه ساعت",38525.599999999999,null,null,{"$f":"SUMIF(Report!C:C,B320,Report!J:J)","v":0},0,0,{"$f":"COUNTIF(Report!C:C,B320)","v":0}]
[320,28100101,"ویبراتوردیزلی","دستگاه-ساعت",42476.6,null,null,{"$f":"SUMIF(Report!C:C,B321,Report!J:J)","v":0},0,0,{"$f":"COUNTIF(Report!C:C,B321)","v":0}]
[321,28100201,"ویبراتور بنزینی","دستگاه ساعت",32674.7,null,null,{"$f":"SUMIF(Report!C:C,B322,Report!J:J)","v":0},0,0,{"$f":"COUNTIF(Report!C:C,B322)","v":0}]
[322,28100301,"ویبراتور برقی","دستگاه ساعت",263871.09999999998,null,null,{"$f":"SUMIF(Report!C:C,B323,Report!J:J)","v":0},{"$f":"IF($M$1=$L$1,H323*E323,+IF($M$1=$L$2,H323*F323,H323*G323))","v":0},{"$f":"IFERROR(I323/SUM($I$2:$I$2499),0)","v":0},{"$f":"COUNTIF(Report!C:C,B323)","v":0}]
[323,28110101,"چکش دج بر 32 کیلوگرم","دستگاه ساعت",16803.8,null,null,{"$f":"SUMIF(Report!C:C,B324,Report!J:J)","v":0},0,0,{"$f":"COUNTIF(Report!C:C,B324)","v":1}]
[324,28110103,"چکش حفاری حدود17 کیلوگرم","دستگاه ساعت",11679.5,null,null,{"$f":"SUMIF(Report!C:C,B325,Report!J:J)","v":0},0,0,{"$f":"COUNTIF(Report!C:C,B325)","v":0}]
[325,28110201,"چکش هیدرولیکی بافشار 120 تا140 کیلوگرم بر سانتیمتر مربع","دستگاه ساعت",351302.40000000002,null,null,{"$f":"SUMIF(Report!C:C,B326,Report!J:J)","v":0},0,0,{"$f":"COUNTIF(Report!C:C,B326)","v":0}]
[326,28110211,"قلم چکش هیدرولیکی","عدد",48800006.700000003,null,null,{"$f":"SUMIF(Report!C:C,B327,Report!J:J)","v":0},0,0,{"$f":"COUNTIF(Report!C:C,B327)","v":0}]
[327,28110301,"هیلتی (میخکوب)","دستگاه ساعت",54238.2,null,null,{"$f":"SUMIF(Report!C:C,B328,Report!J:J)","v":0},0,0,{"$f":"COUNTIF(Report!C:C,B328)","v":0}]
[328,28150201,"جک هیدرولیکی 60 تن تست کشش","دستگاه ساعت",182523.7,null,null,{"$f":"SUMIF(Report!C:C,B329,Report!J:J)","v":0},0,0,{"$f":"COUNTIF(Report!C:C,B329)","v":0}]
[329,28150203,"جک هیدرولیک 12 تن دو سر پیچ","عدد",55246128.549999997,null,null,{"$f":"SUMIF(Report!C:C,B330,Report!J:J)","v":0},0,0,{"$f":"COUNTIF(Report!C:C,B330)","v":0}]
[330,28202101,"باکت بی مخصوص حفاری سنگین","دستگاه",36805.699999999997,null,null,{"$f":"SUMIF(Report!C:C,B331,Report!J:J)","v":0},0,0,{"$f":"COUNTIF(Report!C:C,B331)","v":0}]
[331,28202302,"فوم حفاري T.B.M","كیلوگرم",52556.53,null,null,{"$f":"SUMIF(Report!C:C,B332,Report!J:J)","v":0},0,0,{"$f":"COUNTIF(Report!C:C,B332)","v":0}]
[332,28230405,"دوربین نقشه برداری 3600 Trimble همراه با ژالون، منشور، سه پایه","دستگاه ساعت",176192,null,null,{"$f":"SUMIF(Report!C:C,B333,Report!J:J)","v":0},0,0,{"$f":"COUNTIF(Report!C:C,B333)","v":0}]
[333,28260101,"دستگاه تهویه چاه ومتعلقات","دستگاه-ساعت",5028.2,null,null,{"$f":"SUMIF(Report!C:C,B334,Report!J:J)","v":0},0,0,{"$f":"COUNTIF(Report!C:C,B334)","v":0}]
[334,28311301,"ماشین حفاری و پمپ  آب با متعلقات برای حفاری تا 25 متر","دستگاه ساعت",372599.96,null,null,{"$f":"SUMIF(Report!C:C,B335,Report!J:J)","v":0},0,0,{"$f":"COUNTIF(Report!C:C,B335)","v":0}]
[335,28320404,"پمپ تزریق سیمان پیستونی معمولی با 6 متر مکعب در ساعت","دستگاه ساعت",180073.9,null,null,{"$f":"SUMIF(Report!C:C,B336,Report!J:J)","v":0},0,0,{"$f":"COUNTIF(Report!C:C,B336)","v":0}]
[336,28320604,"شیلنگ آب فشار قوی سه چهارم اینچ","متر طول",672662.1,null,null,{"$f":"SUMIF(Report!C:C,B337,Report!J:J)","v":0},0,0,{"$f":"COUNTIF(Report!C:C,B337)","v":0}]
[337,28325701,"دریل هیلتی","دستگاه ساعت",37468.75,null,null,{"$f":"SUMIF(Report!C:C,B338,Report!J:J)","v":0},0,0,{"$f":"COUNTIF(Report!C:C,B338)","v":0}]
[338,28990701,"لوازم بتن ریزی شمع شامل لوله ترمی قیف و سایر متعلقات","دستگاه ساعت",8510.6,null,null,{"$f":"SUMIF(Report!C:C,B339,Report!J:J)","v":0},0,0,{"$f":"COUNTIF(Report!C:C,B339)","v":0}]
[339,28991001,"چراغ کوره ای","دستگاه",5087256.05,null,null,{"$f":"SUMIF(Report!C:C,B340,Report!J:J)","v":0},0,0,{"$f":"COUNTIF(Report!C:C,B340)","v":0}]
[340,28991201,"چرخ چاه ومتعلقات","دستگاه",7745199.0700000003,null,null,{"$f":"SUMIF(Report!C:C,B341,Report!J:J)","v":0},0,0,{"$f":"COUNTIF(Report!C:C,B341)","v":0}]
[341,28991301,"طناب پلاستیکی","كیلوگرم",15750,null,null,{"$f":"SUMIF(Report!C:C,B342,Report!J:J)","v":0},0,0,{"$f":"COUNTIF(Report!C:C,B342)","v":0}]
[342,28991401,"روغن قالب بندی","لیتر",10000,null,null,{"$f":"SUMIF(Report!C:C,B343,Report!J:J)","v":0},0,0,{"$f":"COUNTIF(Report!C:C,B343)","v":0}]
[343,28992303,"صفحه پمپ شاتکریت","عدد",7774637.4500000002,null,null,{"$f":"SUMIF(Report!C:C,B344,Report!J:J)","v":0},0,0,{"$f":"COUNTIF(Report!C:C,B344)","v":0}]
[344,28992401,"داربست فلزی","متر مربع",15000,null,null,{"$f":"SUMIF(Report!C:C,B345,Report!J:J)","v":0},0,0,{"$f":"COUNTIF(Report!C:C,B345)","v":0}]
[345,28992701,"بهای پرکردن کپسول 40 لیتری   اکسیژن","عدد",143759.1,null,null,{"$f":"SUMIF(Report!C:C,B346,Report!J:J)","v":0},0,0,{"$f":"COUNTIF(Report!C:C,B346)","v":0}]
[346,28992702,"بهای پرکردن کپسول 11 کیلویی  بوتان وپروپان","عدد",29863.200000000001,null,null,{"$f":"SUMIF(Report!C:C,B347,Report!J:J)","v":0},0,0,{"$f":"COUNTIF(Report!C:C,B347)","v":0}]
[347,28992801,"لوله غلاف کیسینگ","كیلوگرم",25696.7,null,null,{"$f":"SUMIF(Report!C:C,B348,Report!J:J)","v":0},0,0,{"$f":"COUNTIF(Report!C:C,B348)","v":0}]
[348,28993211,"سیم بوکسل نمره 6","متر طول",20547.400000000001,null,null,{"$f":"SUMIF(Report!C:C,B349,Report!J:J)","v":0},0,0,{"$f":"COUNTIF(Report!C:C,B349)","v":0}]
[349,29090611,"ویبره بدنه","عدد",23688140.77,null,null,{"$f":"SUMIF(Report!C:C,B350,Report!J:J)","v":0},0,0,{"$f":"COUNTIF(Report!C:C,B350)","v":0}]
[350,29130311,"پمپ لجن کش 6 اینچ با دبی 360 مترمکعب در ساعت و 75KW و توان 1500","دستگاه ساعت",363223.5,null,null,{"$f":"SUMIF(Report!C:C,B351,Report!J:J)","v":0},0,0,{"$f":"COUNTIF(Report!C:C,B351)","v":0}]
[351,29690602,"استقرار دستگاه حفاری برای هر گمانه","گمانه",3222859.23,null,null,{"$f":"SUMIF(Report!C:C,B352,Report!J:J)","v":0},0,0,{"$f":"COUNTIF(Report!C:C,B352)","v":0}]
[352,31010101,"آب لوله کشی شهری","مترمكعب",35000,null,null,{"$f":"SUMIF(Report!C:C,B353,Report!J:J)","v":0},0,0,{"$f":"COUNTIF(Report!C:C,B353)","v":0}]
[353,31010201,"آب رودخانه","مترمكعب",1763,null,null,{"$f":"SUMIF(Report!C:C,B354,Report!J:J)","v":0},0,0,{"$f":"COUNTIF(Report!C:C,B354)","v":0}]
[354,31010301,"آب چاه و قنات","مترمكعب",13449,null,null,{"$f":"SUMIF(Report!C:C,B355,Report!J:J)","v":0},0,0,{"$f":"COUNTIF(Report!C:C,B355)","v":0}]
[355,31030202,"ماسه شسته","مترمكعب",242060,275000,null,{"$f":"SUMIF(Report!C:C,B356,Report!J:J)","v":0},0,0,{"$f":"COUNTIF(Report!C:C,B356)","v":0}]
[356,31030203,"ماسه شسته دانه بندی شده","مترمكعب",278875,249286,null,{"$f":"SUMIF(Report!C:C,B357,Report!J:J)","v":0},0,0,{"$f":"COUNTIF(Report!C:C,B357)","v":0}]
[357,31030301,"ماسه شسته دانه بندی شده (تولید کارگاه)","مترمكعب",250000,null,null,{"$f":"SUMIF(Report!C:C,B358,Report!J:J)","v":0},0,0,{"$f":"COUNTIF(Report!C:C,B358)","v":0}]
[358,31030302,"ماسه شسته دانه بندی شده از سنگ کوهی تولید کارگاه","مترمكعب",265373,null,null,{"$f":"SUMIF(Report!C:C,B359,Report!J:J)","v":0},0,0,{"$f":"COUNTIF(Report!C:C,B359)","v":0}]
[359,31030501,"شن شسته دانه بندی شده47.5 میلیمتر","مترمكعب",190000,null,null,{"$f":"SUMIF(Report!C:C,B360,Report!J:J)","v":0},0,0,{"$f":"COUNTIF(Report!C:C,B360)","v":0}]
[360,31030504,"شن شسته دانه بندی شده 19 میلیمتر","مترمكعب",190000,null,null,{"$f":"SUMIF(Report!C:C,B361,Report!J:J)","v":0},0,0,{"$f":"COUNTIF(Report!C:C,B361)","v":0}]
[361,31030505,"شن شسته دانه بندی شده25 میلیمتر","مترمكعب",190000,null,null,{"$f":"SUMIF(Report!C:C,B362,Report!J:J)","v":0},0,0,{"$f":"COUNTIF(Report!C:C,B362)","v":0}]
[362,31030602,"شن شسته شده دانه بندی شده12.5میلیمتر تولید کارگاه","مترمكعب",180000,null,null,{"$f":"SUMIF(Report!C:C,B363,Report!J:J)","v":0},0,0,{"$f":"COUNTIF(Report!C:C,B363)","v":0}]
[363,31030604,"شن شسته دانه بندی شده25 میلیمتر تولید کارگاه","مترمكعب",180000,null,null,{"$f":"SUMIF(Report!C:C,B364,Report!J:J)","v":0},0,0,{"$f":"COUNTIF(Report!C:C,B364)","v":0}]
[364,31030608,"شن شسته دانه بندی شده25 میلیمتر تهیه شده از سنگ کوهی تولید کارگاه","مترمكعب",187200,null,null,{"$f":"SUMIF(Report!C:C,B365,Report!J:J)","v":0},0,0,{"$f":"COUNTIF(Report!C:C,B365)","v":0}]
[365,31030702,"سنگ قلوه تولید کارگاه","مترمكعب",41264,null,null,{"$f":"SUMIF(Report!C:C,B366,Report!J:J)","v":0},0,0,{"$f":"COUNTIF(Report!C:C,B366)","v":0}]
[366,31030901,"ارزش قبل ازاستخراج مصالح رودخانه ای","مترمكعب",6000,null,null,{"$f":"SUMIF(Report!C:C,B367,Report!J:J)","v":0},0,0,{"$f":"COUNTIF(Report!C:C,B367)","v":0}]
[367,31040301,"مصالح زیراساس تهیه شده ازمصالح رودخانه ای بادانه بندی صفرتا   50 میلیمتر تولیدکارگاه","مترمكعب",77908,null,null,{"$f":"SUMIF(Report!C:C,B368,Report!J:J)","v":0},0,0,{"$f":"COUNTIF(Report!C:C,B368)","v":0}]
[368,31040302,"مصالح زیراساس تهیه شده ازمصالح رودخانه ای بادانه بندی صفرتا    37/5  میلیمتر تولیدکارگاه","مترمكعب",80343,null,null,{"$f":"SUMIF(Report!C:C,B369,Report!J:J)","v":0},0,0,{"$f":"COUNTIF(Report!C:C,B369)","v":0}]
[369,31040303,"مصالح زیراساس تهیه شده ازمصالح رودخانه ای بادانه بندی صفرتا 25  میلیمتر تولیدکارگاه","مترمكعب",87879,null,null,{"$f":"SUMIF(Report!C:C,B370,Report!J:J)","v":0},0,0,{"$f":"COUNTIF(Report!C:C,B370)","v":0}]
[370,31040401,"مصالح اساس با شکستگی75 درصد و در دو جبهه تهیه شده از مصالح رودخانه ای با دانه بندی0 تا50 میلیمتر تولید کارگاه","مترمكعب",123196,null,null,{"$f":"SUMIF(Report!C:C,B371,Report!J:J)","v":0},0,0,{"$f":"COUNTIF(Report!C:C,B371)","v":0}]
[371,31040402,"مصالح اساس با شکستگی 75 درصد در دو جبهه تهیه شده از مصالح رودخانه‌ای با دانه بندی صفر تا  37/5 میلیمتر  تولید کارگاه","مترمكعب",129619,null,null,{"$f":"SUMIF(Report!C:C,B372,Report!J:J)","v":0},0,0,{"$f":"COUNTIF(Report!C:C,B372)","v":0}]
[372,31040403,"مصالح اساس با شکستگی 75 درصد در دو جبهه تهیه شده از مصالح رودخانه‌ای با دانه بندی صفر تا 25 میلیمتر تولید کارگاه","مترمكعب",131016,null,null,{"$f":"SUMIF(Report!C:C,B373,Report!J:J)","v":0},0,0,{"$f":"COUNTIF(Report!C:C,B373)","v":0}]
[373,31040501,"مصالح اساس با شکستگی 100 درصد در دو جبهه تهیه شده از سنگ کوهی با دانه بندی صفر تا 50 میلیمتر تولید کارگاه","مترمكعب",204973,null,null,{"$f":"SUMIF(Report!C:C,B374,Report!J:J)","v":0},0,0,{"$f":"COUNTIF(Report!C:C,B374)","v":0}]
[374,31040502,"مصالح اساس با شکستگی 100 درصد در دو جبهه تهیه شده از سنگ کوهی با دانه بندی صفر تا  37/5 میلیمتر تولید کارگاه","مترمكعب",217936,null,null,{"$f":"SUMIF(Report!C:C,B375,Report!J:J)","v":0},0,0,{"$f":"COUNTIF(Report!C:C,B375)","v":0}]
[375,31040503,"مصالح اساس با شکستگی 100 درصد در دو جبهه تهیه شده از سنگ کوهی با دانه بندی صفر تا 25 میلیمتر تولید کارگاه","مترمكعب",223843,null,null,{"$f":"SUMIF(Report!C:C,B376,Report!J:J)","v":0},0,0,{"$f":"COUNTIF(Report!C:C,B376)","v":0}]
[376,31040601,"مصالح سنگی آسفالت سطحی نوع 2و4با شکستگی 60 درصد تهیه شده از مصالح رودخانه ای با دانه بندی صفر تا12.5میلیمتر و صفر تا 25 میلیمتر تولید کارگاه","مترمكعب",357120,null,null,{"$f":"SUMIF(Report!C:C,B377,Report!J:J)","v":0},0,0,{"$f":"COUNTIF(Report!C:C,B377)","v":0}]
[377,31040602,"مصالح سنگی آسفالت سطحی نوع 1و3با شکستگی 60 درصد تهیه شده از مصالح رودخانه ای با دانه بندی صفر تا9.5میلیمتر و صفر تا 19 میلیمتر تولید کارگاه","مترمكعب",431140,null,null,{"$f":"SUMIF(Report!C:C,B378,Report!J:J)","v":0},0,0,{"$f":"COUNTIF(Report!C:C,B378)","v":0}]
[378,31040603,"مصالح سنگی آسفالت سطحی نوع 4 با شکستگی 60 درصد تهیه شده از مصالح رودخانه‌ای با دانه بندی صفر تا 12/5 میلیمتر تولید کارگاه","مترمكعب",470723,null,null,{"$f":"SUMIF(Report!C:C,B379,Report!J:J)","v":0},0,0,{"$f":"COUNTIF(Report!C:C,B379)","v":0}]
[379,31040604,"مصالح سنگی آسفالت سطحی نوع 5 با شکستگی 60 درصد تهیه شده از مصالح رودخانه‌ای با دانه بندی صفر تا 9/5 میلیمتر تولید کارگاه","مترمكعب",492098,null,null,{"$f":"SUMIF(Report!C:C,B380,Report!J:J)","v":0},0,0,{"$f":"COUNTIF(Report!C:C,B380)","v":0}]
[380,31040701,"مصالح سنگی آسفالت سرد مخلوط در محل (ردمیکس) رودخانه ای با دانه بندی پیوسته 0 تا 25میلیمتر تولید کارگاه","مترمكعب",150063,null,null,{"$f":"SUMIF(Report!C:C,B381,Report!J:J)","v":0},0,0,{"$f":"COUNTIF(Report!C:C,B381)","v":0}]
[381,31040702,"مصالح سنگی آسفالت سرد مخلوط در محل (ردمیکس) رودخانه ای با دانه بندی پیوسته 0 تا 19 میلیمتر تولید کارگاه","مترمكعب",171221,null,null,{"$f":"SUMIF(Report!C:C,B382,Report!J:J)","v":0},0,0,{"$f":"COUNTIF(Report!C:C,B382)","v":0}]
[382,31040801,"مصالح سنگی اساس قیری با شکستگی 50 درصد تهیه شده از مصالح رودخانه‌ای با دانه بندی صفر تا  37/5 میلیمتر تولید کارگاه","مترمكعب",169084,null,null,{"$f":"SUMIF(Report!C:C,B383,Report!J:J)","v":0},0,0,{"$f":"COUNTIF(Report!C:C,B383)","v":0}]
[383,31040802,"مصالح سنگی اساس قیری با شکستگی 50 درصد تهیه شده از مصالح رودخانه‌ای با دانه بندی صفر تا 25  میلیمتر تولید کارگاه","مترمكعب",165665,null,null,{"$f":"SUMIF(Report!C:C,B384,Report!J:J)","v":0},0,0,{"$f":"COUNTIF(Report!C:C,B384)","v":0}]
[384,31040901,"مصالح سنگی قشر آستر (بیندر) با شکستگی 80 درصد تهیه شده از مصالح رودخانه‌ای با دانه بندی صفر تا 25 میلیمتر تولید کارگاه","مترمكعب",274260,null,null,{"$f":"SUMIF(Report!C:C,B385,Report!J:J)","v":0},0,0,{"$f":"COUNTIF(Report!C:C,B385)","v":0}]
[385,31040902,"مصالح سنگی قشر آستر (بیندر) با شکستگی 80 درصد تهیه شده از مصالح رودخانه‌ای با دانه بندی صفر تا  19 میلیمتر تولید کارگاه","مترمكعب",313846,null,null,{"$f":"SUMIF(Report!C:C,B386,Report!J:J)","v":0},0,0,{"$f":"COUNTIF(Report!C:C,B386)","v":0}]
[386,31041001,"مصالح سنگی قشر رویه (توپکا) با شکستگی 90 درصد تهیه شده از مصالح رودخانه‌ای با دانه بندی صفر تا 19 میلیمتر تولید کارگاه","مترمكعب",323077,null,null,{"$f":"SUMIF(Report!C:C,B387,Report!J:J)","v":0},{"$f":"IF($M$1=$L$1,H387*E387,+IF($M$1=$L$2,H387*F387,H387*G387))","v":0},{"$f":"IFERROR(I387/SUM($I$2:$I$2499),0)","v":0},{"$f":"COUNTIF(Report!C:C,B387)","v":0}]
[387,31041002,"مصالح سنگی قشر رویه (توپکا) با شکستگی 90 درصد تهیه شده از مصالح رودخانه‌ای با دانه بندی صفر 12/5 میلیمتر تولید کارگاه","مترمكعب",319763,null,null,{"$f":"SUMIF(Report!C:C,B388,Report!J:J)","v":0},0,0,{"$f":"COUNTIF(Report!C:C,B388)","v":0}]
[388,31041102,"بالاست تهیه شده از قلوه سنگ رودخانه ای  تولید کارگاه","مترمكعب",233009,null,null,{"$f":"SUMIF(Report!C:C,B389,Report!J:J)","v":0},0,0,{"$f":"COUNTIF(Report!C:C,B389)","v":0}]
[389,31041104,"بالاست تهیه شده از سنگ کوهی تولید کارگاه","مترمكعب",334650,null,null,{"$f":"SUMIF(Report!C:C,B390,Report!J:J)","v":0},0,0,{"$f":"COUNTIF(Report!C:C,B390)","v":0}]
[390,31050101,"ارزش قبل از استخراج سنگ لاشه","مترمكعب",3800,null,null,{"$f":"SUMIF(Report!C:C,B391,Report!J:J)","v":0},0,0,{"$f":"COUNTIF(Report!C:C,B391)","v":0}]
[391,31050202,"سنگ لاشه بنایی  تولیدکارگاه","مترمكعب",275000,null,null,{"$f":"SUMIF(Report!C:C,B392,Report!J:J)","v":0},0,0,{"$f":"COUNTIF(Report!C:C,B392)","v":0}]
[392,31050402,"سنگ لاشه قواره شده چهار گوش تولید کارگاه","مترمكعب",510000,null,null,{"$f":"SUMIF(Report!C:C,B393,Report!J:J)","v":0},0,0,{"$f":"COUNTIF(Report!C:C,B393)","v":0}]
[393,31050502,"سنگ بادبر تولید کارگاه","مترمكعب",370000,null,null,{"$f":"SUMIF(Report!C:C,B394,Report!J:J)","v":0},0,0,{"$f":"COUNTIF(Report!C:C,B394)","v":0}]
[394,31050601,"سنگ سرتراش یارگه کلنگی تولید کارگاه","مترمكعب",550000,null,null,{"$f":"SUMIF(Report!C:C,B395,Report!J:J)","v":0},0,0,{"$f":"COUNTIF(Report!C:C,B395)","v":0}]
[395,31050801,"سنگ نیم تراش  تولیدکارگاه","مترمكعب",600000,null,null,{"$f":"SUMIF(Report!C:C,B396,Report!J:J)","v":0},0,0,{"$f":"COUNTIF(Report!C:C,B396)","v":0}]
[396,31050901,"سنگ تمام تراش تولید کارگاه","مترمكعب",700000,null,null,{"$f":"SUMIF(Report!C:C,B397,Report!J:J)","v":0},0,0,{"$f":"COUNTIF(Report!C:C,B397)","v":0}]
[397,31061101,"پودر سنگ معمولی","تن",800000,1252,null,{"$f":"SUMIF(Report!C:C,B398,Report!J:J)","v":0},0,0,{"$f":"COUNTIF(Report!C:C,B398)","v":0}]
[398,31080101,"سیمان پرتلند نوع یک (سیمان معمولی)  پاکتی","تن",1678000,null,null,{"$f":"SUMIF(Report!C:C,B399,Report!J:J)","v":0},0,0,{"$f":"COUNTIF(Report!C:C,B399)","v":0}]
[399,31080102,"سیمان پرتلند نوع یک (سیمان معمولی) فله","تن",1340000,null,null,{"$f":"SUMIF(Report!C:C,B400,Report!J:J)","v":0},0,0,{"$f":"COUNTIF(Report!C:C,B400)","v":0}]
[400,31080103,"سیمان پرتلند نوع یک (سیمان معمولی) پاکتی و فله","تن",1475200,null,null,{"$f":"SUMIF(Report!C:C,B401,Report!J:J)","v":0},0,0,{"$f":"COUNTIF(Report!C:C,B401)","v":0}]
[401,31080201,"سیمان پرتلند نوع دو (متوسط پاکتی)","تن",1668000,null,null,{"$f":"SUMIF(Report!C:C,B402,Report!J:J)","v":0},0,0,{"$f":"COUNTIF(Report!C:C,B402)","v":0}]
[402,31080202,"سیمان پرتلند نوع دو (متوسط فله)","تن",1330000,null,null,{"$f":"SUMIF(Report!C:C,B403,Report!J:J)","v":0},0,0,{"$f":"COUNTIF(Report!C:C,B403)","v":0}]
[403,31080203,"سیمان پرتلند نوع دو (متوسط) پاکتی وفله","تن",1465200,null,null,{"$f":"SUMIF(Report!C:C,B404,Report!J:J)","v":0},0,0,{"$f":"COUNTIF(Report!C:C,B404)","v":0}]
[404,31080501,"سیمان پرتلند نوع پنج (ضدسولفات) پاکتی","تن",1678000,null,null,{"$f":"SUMIF(Report!C:C,B405,Report!J:J)","v":0},0,0,{"$f":"COUNTIF(Report!C:C,B405)","v":0}]
[405,31080502,"سیمان پرتلند نوع پنج (ضدسولفات) فله","تن",1340000,null,null,{"$f":"SUMIF(Report!C:C,B406,Report!J:J)","v":0},0,0,{"$f":"COUNTIF(Report!C:C,B406)","v":0}]
[406,31080503,"سیمان پرتلند نوع پنج (ضدسولفات) پاکتی وفله","تن",1475200,null,null,{"$f":"SUMIF(Report!C:C,B407,Report!J:J)","v":0},0,0,{"$f":"COUNTIF(Report!C:C,B407)","v":0}]
[407,31090101,"کلوخه آهک زنده سنگ آهک پخته","تن",1027500,null,null,{"$f":"SUMIF(Report!C:C,B408,Report!J:J)","v":0},0,0,{"$f":"COUNTIF(Report!C:C,B408)","v":0}]
[408,31090104,"پودر آهک (هیدراته ) فله","تن",1500000,null,null,{"$f":"SUMIF(Report!C:C,B409,Report!J:J)","v":0},0,0,{"$f":"COUNTIF(Report!C:C,B409)","v":0}]
[409,31131001,"مواد شیمیایی هوازا حباب هوازا","کیلو گرم",50000,null,null,{"$f":"SUMIF(Report!C:C,B410,Report!J:J)","v":0},0,0,{"$f":"COUNTIF(Report!C:C,B410)","v":0}]
[410,31131002,"مواد افزودنی شیمیایی","کیلوگرم",32193,null,null,{"$f":"SUMIF(Report!C:C,B411,Report!J:J)","v":0},0,0,{"$f":"COUNTIF(Report!C:C,B411)","v":0}]
[411,31131101,"روان کننده بتن","كیلوگرم",110000,null,null,{"$f":"SUMIF(Report!C:C,B412,Report!J:J)","v":0},0,0,{"$f":"COUNTIF(Report!C:C,B412)","v":0}]
[412,31131104,"الياف مرکب پليمري به شکل تک رشته‌اي متشکل از ريز رشته هاي به هم چسبيده - تارهاي شبکه‌اي ماکرو از جنس پلي‌اليفين","كیلوگرم",480000,null,null,{"$f":"SUMIF(Report!C:C,B413,Report!J:J)","v":0},0,0,{"$f":"COUNTIF(Report!C:C,B413)","v":0}]
[413,31131502,"الياف مرکب آراميد - پلي‌اليفين","كیلوگرم",1368000,null,null,{"$f":"SUMIF(Report!C:C,B414,Report!J:J)","v":0},0,0,{"$f":"COUNTIF(Report!C:C,B414)","v":0}]
[414,31140102,"ملات ماسه سیمان 1:5","مترمكعب",1232623,null,null,{"$f":"SUMIF(Report!C:C,B415,Report!J:J)","v":0},0,0,{"$f":"COUNTIF(Report!C:C,B415)","v":0}]
[415,31140401,"ملات ماسه بادی و سیمان 1:4","مترمكعب",1401806,null,null,{"$f":"SUMIF(Report!C:C,B416,Report!J:J)","v":0},0,0,{"$f":"COUNTIF(Report!C:C,B416)","v":0}]
[416,31140402,"ملات ماسه بادی و سیمان14 با ماسه بادی تولید کارگاه","مترمكعب",1192935,null,null,{"$f":"SUMIF(Report!C:C,B417,Report!J:J)","v":0},0,0,{"$f":"COUNTIF(Report!C:C,B417)","v":0}]
[417,31141202,"ملات ماسه سیمان 1:5با ماسه تولید کارگاه","مترمكعب",1099841,null,null,{"$f":"SUMIF(Report!C:C,B418,Report!J:J)","v":0},0,0,{"$f":"COUNTIF(Report!C:C,B418)","v":0}]
[418,31141203,"ملات ماسه سیمان1:4 با ماسه تولید کارگاه","مترمكعب",1196891,null,null,{"$f":"SUMIF(Report!C:C,B419,Report!J:J)","v":0},0,0,{"$f":"COUNTIF(Report!C:C,B419)","v":0}]
[419,31141204,"ملات ماسه سیمان1:3 با ماسه تولید کارگاه","مترمكعب",1319778,null,null,{"$f":"SUMIF(Report!C:C,B420,Report!J:J)","v":0},0,0,{"$f":"COUNTIF(Report!C:C,B420)","v":0}]
[420,31150611,"جدول بتنی پیش‌ساخته ماشینی پرسی","مترمكعب",2894400,null,null,{"$f":"SUMIF(Report!C:C,B421,Report!J:J)","v":0},0,0,{"$f":"COUNTIF(Report!C:C,B421)","v":0}]
[421,31150801,"لوله سیمانی معمولی نمره 10","متر طول",42390,48375,null,{"$f":"SUMIF(Report!C:C,B422,Report!J:J)","v":0},0,0,{"$f":"COUNTIF(Report!C:C,B422)","v":0}]
[422,31150802,"لوله سيماني معمولي نمره 15","متر طول",49291,72143,null,{"$f":"SUMIF(Report!C:C,B423,Report!J:J)","v":0},0,0,{"$f":"COUNTIF(Report!C:C,B423)","v":0}]
[423,31150803,"لوله سیمانی معمولی نمره 20","متر طول",87980,104444,null,{"$f":"SUMIF(Report!C:C,B424,Report!J:J)","v":0},0,0,{"$f":"COUNTIF(Report!C:C,B424)","v":0}]
[424,31150804,"لوله سیمانی معمولی نمره25","متر طول",116997,null,null,{"$f":"SUMIF(Report!C:C,B425,Report!J:J)","v":0},0,0,{"$f":"COUNTIF(Report!C:C,B425)","v":0}]
[425,31150805,"لوله بتنی معمولی نمره30 به ضخامت6 سانتیمتر","متر طول",249891,null,null,{"$f":"SUMIF(Report!C:C,B426,Report!J:J)","v":0},0,0,{"$f":"COUNTIF(Report!C:C,B426)","v":0}]
[426,31150806,"لوله بتنی معمولی نمره40 به ضخامت6 سانتیمتر","متر طول",337460,null,null,{"$f":"SUMIF(Report!C:C,B427,Report!J:J)","v":0},0,0,{"$f":"COUNTIF(Report!C:C,B427)","v":0}]
[427,31150807,"لوله بتنی معمولی نمره 50 به ضخامت 6 سانتیمتر","متر طول",487146,null,null,{"$f":"SUMIF(Report!C:C,B428,Report!J:J)","v":0},0,0,{"$f":"COUNTIF(Report!C:C,B428)","v":0}]
[428,31170401,"آسفالت نرم پشت بامی (ماسه آسفالت)","تن",3300000,null,null,{"$f":"SUMIF(Report!C:C,B429,Report!J:J)","v":0},0,0,{"$f":"COUNTIF(Report!C:C,B429)","v":0}]
[429,31200101,"قیر70 - 60","كیلوگرم",30200,null,null,{"$f":"SUMIF(Report!C:C,B430,Report!J:J)","v":0},0,0,{"$f":"COUNTIF(Report!C:C,B430)","v":0}]
[430,31200102,"قیر 70-60 مظروف","کیلو گرم",29777.21,null,null,{"$f":"SUMIF(Report!C:C,B431,Report!J:J)","v":0},0,0,{"$f":"COUNTIF(Report!C:C,B431)","v":0}]
[431,31200105,"قیر رده عملکردی pg 64-22","کیلوگرم",30200,null,null,{"$f":"SUMIF(Report!C:C,B432,Report!J:J)","v":0},0,0,{"$f":"COUNTIF(Report!C:C,B432)","v":0}]
[432,31200201,"قیر 25-85 مظروف","کیلو گرم",30403.4,null,null,{"$f":"SUMIF(Report!C:C,B433,Report!J:J)","v":0},0,0,{"$f":"COUNTIF(Report!C:C,B433)","v":0}]
[433,31200401,"قیر 15 - 9","كیلوگرم",30200,null,null,{"$f":"SUMIF(Report!C:C,B434,Report!J:J)","v":0},0,0,{"$f":"COUNTIF(Report!C:C,B434)","v":0}]
[434,31200501,"قیرام سی 2","كیلوگرم",36200,null,null,{"$f":"SUMIF(Report!C:C,B435,Report!J:J)","v":0},0,0,{"$f":"COUNTIF(Report!C:C,B435)","v":0}]
[435,31200504,"قیر ام سی250","كیلوگرم",36200,null,null,{"$f":"SUMIF(Report!C:C,B436,Report!J:J)","v":0},0,0,{"$f":"COUNTIF(Report!C:C,B436)","v":0}]
[436,31200508,"امولسیون قیر دیر شکن","كیلوگرم",32300,null,null,{"$f":"SUMIF(Report!C:C,B437,Report!J:J)","v":0},0,0,{"$f":"COUNTIF(Report!C:C,B437)","v":0}]
[437,31200510,"مواد جوان کننده قير","كیلوگرم",200000,null,null,{"$f":"SUMIF(Report!C:C,B438,Report!J:J)","v":0},0,0,{"$f":"COUNTIF(Report!C:C,B438)","v":0}]
[438,31200511,"فيبر سلولزي","كیلوگرم",220000,null,null,{"$f":"SUMIF(Report!C:C,B439,Report!J:J)","v":0},0,0,{"$f":"COUNTIF(Report!C:C,B439)","v":0}]
[439,31200520,"قیر امولسیون کاتیونیک CSS با قیر باقیمانده 57 درصد آزمایش تقطیر","کیلوگرم",32300,null,null,{"$f":"SUMIF(Report!C:C,B440,Report!J:J)","v":0},0,0,{"$f":"COUNTIF(Report!C:C,B440)","v":0}]
[440,31200521,"قیر امولسیون کاتیونیک CRS با قیر باقیمانده 60 درصد آزمایش تقطیر","کیلوگرم",27534,null,null,{"$f":"SUMIF(Report!C:C,B441,Report!J:J)","v":0},0,0,{"$f":"COUNTIF(Report!C:C,B441)","v":0}]
[441,31200522,"قیر امولسیون کاتیونیک CMS با قیر باقیمانده 65 درصد آزمایش تقطیر","کیلوگرم",35367,null,null,{"$f":"SUMIF(Report!C:C,B442,Report!J:J)","v":0},0,0,{"$f":"COUNTIF(Report!C:C,B442)","v":0}]
[442,31200523,"قیر امولسیون آنیونیک SS با قیر باقیمانده 57 درصد آزمایش تقطیر","کیلوگرم",28005,null,null,{"$f":"SUMIF(Report!C:C,B443,Report!J:J)","v":0},0,0,{"$f":"COUNTIF(Report!C:C,B443)","v":0}]
[443,31200524,"قیر امولسیون آنیونیک RS با قیر باقیمانده 55 درصد آزمایش تقطیر","کیلوگرم",21136,null,null,{"$f":"SUMIF(Report!C:C,B444,Report!J:J)","v":0},0,0,{"$f":"COUNTIF(Report!C:C,B444)","v":0}]
[444,31200525,"قیر امولسیون آنیونیک MS با قیر باقیمانده 55 درصد آزمایش تقطیر","کیلوگرم",25984,null,null,{"$f":"SUMIF(Report!C:C,B445,Report!J:J)","v":0},0,0,{"$f":"COUNTIF(Report!C:C,B445)","v":0}]
[445,31200601,"بیتو پلاستیک","كیلوگرم",107985,null,null,{"$f":"SUMIF(Report!C:C,B446,Report!J:J)","v":0},0,0,{"$f":"COUNTIF(Report!C:C,B446)","v":0}]
[446,31210101,"گونی چتایی 7 ×0  4","مترمربع",52800,64571,null,{"$f":"SUMIF(Report!C:C,B447,Report!J:J)","v":0},0,0,{"$f":"COUNTIF(Report!C:C,B447)","v":0}]
[447,31210101,"گونی چتایی 7 ×0 4","متر مربع",52800,64571,null,{"$f":"SUMIF(Report!C:C,B448,Report!J:J)","v":0},0,0,{"$f":"COUNTIF(Report!C:C,B448)","v":0}]
[448,31210104,"گونی چتایی11*45","متر مربع",91834,null,null,{"$f":"SUMIF(Report!C:C,B449,Report!J:J)","v":0},0,0,{"$f":"COUNTIF(Report!C:C,B449)","v":0}]
[449,31230101,"الکترود معمولی","كیلوگرم",82153,null,null,{"$f":"SUMIF(Report!C:C,B450,Report!J:J)","v":0},0,0,{"$f":"COUNTIF(Report!C:C,B450)","v":0}]
[450,31240101,"انواع تیرآهن","كیلوگرم",40356,null,null,{"$f":"SUMIF(Report!C:C,B451,Report!J:J)","v":0},{"$f":"IF($M$1=$L$1,H451*E451,+IF($M$1=$L$2,H451*F451,H451*G451))","v":0},{"$f":"IFERROR(I451/SUM($I$2:$I$2499),0)","v":0},{"$f":"COUNTIF(Report!C:C,B451)","v":0}]
[451,31240201,"تیراهن بال پهن","كیلوگرم",84250,null,null,{"$f":"SUMIF(Report!C:C,B452,Report!J:J)","v":0},0,0,{"$f":"COUNTIF(Report!C:C,B452)","v":0}]
[452,31240301,"انواع ناودانی","كیلوگرم",43500,null,null,{"$f":"SUMIF(Report!C:C,B453,Report!J:J)","v":0},0,0,{"$f":"COUNTIF(Report!C:C,B453)","v":0}]
[453,31240401,"انواع نبشی","کیلو گرم",43500,null,null,{"$f":"SUMIF(Report!C:C,B454,Report!J:J)","v":0},0,0,{"$f":"COUNTIF(Report!C:C,B454)","v":0}]
[454,31240501,"سپری","كیلوگرم",43500,null,null,{"$f":"SUMIF(Report!C:C,B455,Report!J:J)","v":0},0,0,{"$f":"COUNTIF(Report!C:C,B455)","v":0}]
[455,31240601,"قوطی.","كیلوگرم",48940,null,null,{"$f":"SUMIF(Report!C:C,B456,Report!J:J)","v":0},0,0,{"$f":"COUNTIF(Report!C:C,B456)","v":0}]
[456,31240701,"31240701 - تسمه تخت (بریده شده)","كیلوگرم",43700,null,null,{"$f":"SUMIF(Report!C:C,B457,Report!J:J)","v":0},0,0,{"$f":"COUNTIF(Report!C:C,B457)","v":0}]
[457,31240801,"لوله غلاف (کیسینگ)","كیلوگرم",45800,null,null,{"$f":"SUMIF(Report!C:C,B458,Report!J:J)","v":0},0,0,{"$f":"COUNTIF(Report!C:C,B458)","v":0}]
[458,31240901,"سپر فلزی","كیلوگرم",43500,null,null,{"$f":"SUMIF(Report!C:C,B459,Report!J:J)","v":0},0,0,{"$f":"COUNTIF(Report!C:C,B459)","v":0}]
[459,31250101,"31250101 - میلگرد ساده نمره 10 و کمتر","كیلوگرم",42300,null,null,{"$f":"SUMIF(Report!C:C,B460,Report!J:J)","v":0},0,0,{"$f":"COUNTIF(Report!C:C,B460)","v":0}]
[460,31250102,"31250102 - میلگرد ساده نمره 12 تا 18","كیلوگرم",48400,null,null,{"$f":"SUMIF(Report!C:C,B461,Report!J:J)","v":0},0,0,{"$f":"COUNTIF(Report!C:C,B461)","v":0}]
[461,31250103,"ميلگرد ساده نمره 20 به بالا","كیلوگرم",48400,null,null,{"$f":"SUMIF(Report!C:C,B462,Report!J:J)","v":0},0,0,{"$f":"COUNTIF(Report!C:C,B462)","v":0}]
[462,31250201,"میلگرد آجدار AII نمره 10 و کمتر","كیلوگرم",38650,null,null,{"$f":"SUMIF(Report!C:C,B463,Report!J:J)","v":0},0,0,{"$f":"COUNTIF(Report!C:C,B463)","v":0}]
[463,31250202,"میلگرد آجدار AII نمره 12 تا 18","كیلوگرم",37250,null,null,{"$f":"SUMIF(Report!C:C,B464,Report!J:J)","v":0},0,0,{"$f":"COUNTIF(Report!C:C,B464)","v":0}]
[464,31250203,"میلگرد آجدار AII نمره 20 به بالا","كیلوگرم",37150,null,null,{"$f":"SUMIF(Report!C:C,B465,Report!J:J)","v":0},0,0,{"$f":"COUNTIF(Report!C:C,B465)","v":0}]
[465,31250204,"میلگرد آجدار AIII نمره 10 و کمتر","كیلوگرم",39033,null,null,{"$f":"SUMIF(Report!C:C,B466,Report!J:J)","v":0},0,0,{"$f":"COUNTIF(Report!C:C,B466)","v":0}]
[466,31250205,"میلگرد آجدار AIII نمره 12 تا 18","كیلوگرم",37663,null,null,{"$f":"SUMIF(Report!C:C,B467,Report!J:J)","v":0},0,0,{"$f":"COUNTIF(Report!C:C,B467)","v":0}]
[467,31250206,"میلگرد آجدار AIII نمره 20 به بالا","كیلوگرم",37555,null,null,{"$f":"SUMIF(Report!C:C,B468,Report!J:J)","v":0},0,0,{"$f":"COUNTIF(Report!C:C,B468)","v":0}]
[468,31250301,"شبکه جوشی مش فولادی با میلگرد ساده","كیلوگرم",63781.8,null,null,{"$f":"SUMIF(Report!C:C,B469,Report!J:J)","v":0},0,0,{"$f":"COUNTIF(Report!C:C,B469)","v":0}]
[469,31250302,"شبکه جوشی مش فولادی با میلگرد آجدار","كیلوگرم",58301.8,null,null,{"$f":"SUMIF(Report!C:C,B470,Report!J:J)","v":0},0,0,{"$f":"COUNTIF(Report!C:C,B470)","v":0}]
[470,31250401,"مفتول سیاه","كیلوگرم",50000,null,null,{"$f":"SUMIF(Report!C:C,B471,Report!J:J)","v":0},0,0,{"$f":"COUNTIF(Report!C:C,B471)","v":0}]
[471,31260101,"ورق سیاه به ضخامت 3  میلیمتر و کمتر","كیلوگرم",45160,null,null,{"$f":"SUMIF(Report!C:C,B472,Report!J:J)","v":0},0,0,{"$f":"COUNTIF(Report!C:C,B472)","v":0}]
[472,31260102,"ورق سياه به ضخامت بيش از 3 ميلي متر","كیلوگرم",42261,541420,null,{"$f":"SUMIF(Report!C:C,B473,Report!J:J)","v":0},0,0,{"$f":"COUNTIF(Report!C:C,B473)","v":0}]
[473,39060101,"پروفیل و قوطی معمولی","کیلو گرم",48752.800000000003,null,null,{"$f":"SUMIF(Report!C:C,B474,Report!J:J)","v":0},0,0,{"$f":"COUNTIF(Report!C:C,B474)","v":0}]
[474,31290202,"گاردریل(جان پناه ایمنی فلزی ) از ورق گالوانیزه ساخت داخل","کیلو گرم",80000,null,null,{"$f":"SUMIF(Report!C:C,B475,Report!J:J)","v":0},0,0,{"$f":"COUNTIF(Report!C:C,B475)","v":0}]
[475,31290302,"کلاهک داول","عدد",18138,null,null,{"$f":"SUMIF(Report!C:C,B476,Report!J:J)","v":0},0,0,{"$f":"COUNTIF(Report!C:C,B476)","v":0}]
[476,31290501,"دریچه چدنی حوضچه‌ها و منهول‌ها","كیلوگرم",52800,null,null,{"$f":"SUMIF(Report!C:C,B477,Report!J:J)","v":0},0,0,{"$f":"COUNTIF(Report!C:C,B477)","v":0}]
[477,31290701,"لگنچه و درپوش چدنی","كیلوگرم",55885,null,null,{"$f":"SUMIF(Report!C:C,B478,Report!J:J)","v":0},0,0,{"$f":"COUNTIF(Report!C:C,B478)","v":0}]
[478,31290801,"سیم خاردار2*2.5","كیلوگرم",70000,null,null,{"$f":"SUMIF(Report!C:C,B479,Report!J:J)","v":0},0,0,{"$f":"COUNTIF(Report!C:C,B479)","v":0}]
[479,31290902,"تور سیمی حصاری با مفتول گالوانیزه","كیلوگرم",70000,null,null,{"$f":"SUMIF(Report!C:C,B480,Report!J:J)","v":0},0,0,{"$f":"COUNTIF(Report!C:C,B480)","v":0}]
[480,31290906,"توری گالوانیزه گابیون","كیلوگرم",70000,null,null,{"$f":"SUMIF(Report!C:C,B481,Report!J:J)","v":0},0,0,{"$f":"COUNTIF(Report!C:C,B481)","v":0}]
[481,31291003,"رابیتس 2*1","برگ",119928,null,null,{"$f":"SUMIF(Report!C:C,B482,Report!J:J)","v":0},0,0,{"$f":"COUNTIF(Report!C:C,B482)","v":0}]
[482,31300111,"سیم بکسل نمره 6","مترطول",32640,null,null,{"$f":"SUMIF(Report!C:C,B483,Report!J:J)","v":0},0,0,{"$f":"COUNTIF(Report!C:C,B483)","v":0}]
[483,31330401,"تخته و الوار ایرانی","مترمكعب",12000000,null,null,{"$f":"SUMIF(Report!C:C,B484,Report!J:J)","v":0},0,0,{"$f":"COUNTIF(Report!C:C,B484)","v":0}]
[484,31330501,"چوب گرد سفید خشک","كیلوگرم",16000,null,null,{"$f":"SUMIF(Report!C:C,B485,Report!J:J)","v":0},0,0,{"$f":"COUNTIF(Report!C:C,B485)","v":0}]
[485,31330512,"چوب گرد کوتاه","متر مکعب",642534.19999999995,null,null,{"$f":"SUMIF(Report!C:C,B486,Report!J:J)","v":0},0,0,{"$f":"COUNTIF(Report!C:C,B486)","v":0}]
[486,31330602,"چهارتراش","عدد",10071,null,null,{"$f":"SUMIF(Report!C:C,B487,Report!J:J)","v":0},0,0,{"$f":"COUNTIF(Report!C:C,B487)","v":0}]
[487,31330717,"چوب چهار تراش ایرانی 5*5","متر مکعب",2505918.4,null,null,{"$f":"SUMIF(Report!C:C,B488,Report!J:J)","v":0},0,0,{"$f":"COUNTIF(Report!C:C,B488)","v":0}]
[488,31390101,"نوار آب بند از نوع پی وی سی به عرض 15 سانتیمتر","متر طول",98615,null,null,{"$f":"SUMIF(Report!C:C,B489,Report!J:J)","v":0},0,0,{"$f":"COUNTIF(Report!C:C,B489)","v":0}]
[489,31390102,"نوار آب بند از نوع پی وی سی به عرض 20 سانتیمتر","متر طول",133436,null,null,{"$f":"SUMIF(Report!C:C,B490,Report!J:J)","v":0},0,0,{"$f":"COUNTIF(Report!C:C,B490)","v":0}]
[490,31390201,"نوار آب بند از نوع لاستیک به عرض 15 سانتیمتر","متر طول",132192,null,null,{"$f":"SUMIF(Report!C:C,B491,Report!J:J)","v":0},0,0,{"$f":"COUNTIF(Report!C:C,B491)","v":0}]
[491,31390202,"نوار آب بند از نوع لاستیک به عرض20 سانتیمتر","متر مربع",153000,null,null,{"$f":"SUMIF(Report!C:C,B492,Report!J:J)","v":0},0,0,{"$f":"COUNTIF(Report!C:C,B492)","v":0}]
[492,31390901,"طناب لاستیکی برای پر کردن درزهای بتنی","دسیمترمربع",146916,null,null,{"$f":"SUMIF(Report!C:C,B493,Report!J:J)","v":0},0,0,{"$f":"COUNTIF(Report!C:C,B493)","v":0}]
[493,31391401,"پلاستوفوم ( یونولیت ) با وزن مخصوص 20 کیلوگرم در متر مکعب","مترمكعب",2300000,4590000,null,{"$f":"SUMIF(Report!C:C,B494,Report!J:J)","v":0},0,0,{"$f":"COUNTIF(Report!C:C,B494)","v":0}]
[494,31391701,"ایرولاستیک","دسیمترمکعب",208481,null,null,{"$f":"SUMIF(Report!C:C,B495,Report!J:J)","v":0},0,0,{"$f":"COUNTIF(Report!C:C,B495)","v":0}]
[495,31391801,"بالشتکهای تکیه‌گاهی از جنس کائوچو به‌ابعاد تقریبی 2×8/5×10 سانتیمتر","عدد",39710,null,null,{"$f":"SUMIF(Report!C:C,B496,Report!J:J)","v":0},0,0,{"$f":"COUNTIF(Report!C:C,B496)","v":0}]
[496,31391901,"فوم پلی‌یورتان دارای سلول باز به‌مقطع 40×40 میلیمتر","مترطول",11167,null,null,{"$f":"SUMIF(Report!C:C,B497,Report!J:J)","v":0},0,0,{"$f":"COUNTIF(Report!C:C,B497)","v":0}]
[497,31410101,"ضد زنگ معمولی","كیلوگرم",91000,null,null,{"$f":"SUMIF(Report!C:C,B498,Report!J:J)","v":0},0,0,{"$f":"COUNTIF(Report!C:C,B498)","v":0}]
[498,31410102,"ضد زنگ برای رنگ اپوکسی","كیلوگرم",162900,null,null,{"$f":"SUMIF(Report!C:C,B499,Report!J:J)","v":0},0,0,{"$f":"COUNTIF(Report!C:C,B499)","v":0}]
[499,31410401,"رنگ روغنی","كیلوگرم",174000,null,null,{"$f":"SUMIF(Report!C:C,B500,Report!J:J)","v":0},0,0,{"$f":"COUNTIF(Report!C:C,B500)","v":0}]
[500,31410421,"رنگ زینک ریچ","کیلو گرم",270000,null,null,{"$f":"SUMIF(Report!C:C,B501,Report!J:J)","v":0},0,0,{"$f":"COUNTIF(Report!C:C,B501)","v":0}]
[501,31410601,"رنگ اپوکسی","كیلوگرم",225000,null,null,{"$f":"SUMIF(Report!C:C,B502,Report!J:J)","v":0},0,0,{"$f":"COUNTIF(Report!C:C,B502)","v":0}]
[502,31410701,"رنگ اکلیل آلومینیومی","كیلوگرم",203000,null,null,{"$f":"SUMIF(Report!C:C,B503,Report!J:J)","v":0},0,0,{"$f":"COUNTIF(Report!C:C,B503)","v":0}]
[503,31410802,"رنگ ترافیک سرد با زرین اکریلیک","كیلوگرم",142200,null,null,{"$f":"SUMIF(Report!C:C,B504,Report!J:J)","v":0},0,0,{"$f":"COUNTIF(Report!C:C,B504)","v":0}]
[504,31410803,"رنگ ترافیک سرد با لاستیک کلردار شده","كیلوگرم",193476.6,null,null,{"$f":"SUMIF(Report!C:C,B505,Report!J:J)","v":0},0,0,{"$f":"COUNTIF(Report!C:C,B505)","v":0}]
[505,31410902,"رنگ دو جزئی با رزین اکریلیک","كیلوگرم",267300,null,null,{"$f":"SUMIF(Report!C:C,B506,Report!J:J)","v":0},0,0,{"$f":"COUNTIF(Report!C:C,B506)","v":0}]
[506,31411001,"رنگ اسپری پلاستیک ترافیک","كیلوگرم",116100,null,null,{"$f":"SUMIF(Report!C:C,B507,Report!J:J)","v":0},0,0,{"$f":"COUNTIF(Report!C:C,B507)","v":0}]
[507,31411301,"رنگ شبرنگ","كیلوگرم",196201.8,null,null,{"$f":"SUMIF(Report!C:C,B508,Report!J:J)","v":0},0,0,{"$f":"COUNTIF(Report!C:C,B508)","v":0}]
[508,31411701,"تینر روغنی","كیلوگرم",52000,null,null,{"$f":"SUMIF(Report!C:C,B509,Report!J:J)","v":0},0,0,{"$f":"COUNTIF(Report!C:C,B509)","v":0}]
[509,31411702,"تینر برای ضد زنگ اپوکسی","كیلوگرم",65500,null,null,{"$f":"SUMIF(Report!C:C,B510,Report!J:J)","v":0},0,0,{"$f":"COUNTIF(Report!C:C,B510)","v":0}]
[510,31411704,"تینر مخصوص رنگ ترافیک","كیلوگرم",100000,null,null,{"$f":"SUMIF(Report!C:C,B511,Report!J:J)","v":0},0,0,{"$f":"COUNTIF(Report!C:C,B511)","v":0}]
[511,31411705,"تینر رنگ اپوکسی","كیلوگرم",120000,null,null,{"$f":"SUMIF(Report!C:C,B512,Report!J:J)","v":0},0,0,{"$f":"COUNTIF(Report!C:C,B512)","v":0}]
[512,31411706,"تینر رنگ شبرنگ","كیلوگرم",54900,null,null,{"$f":"SUMIF(Report!C:C,B513,Report!J:J)","v":0},0,0,{"$f":"COUNTIF(Report!C:C,B513)","v":0}]
[513,31411901,"هاردنر اپوکسی","كیلوگرم",208980,null,null,{"$f":"SUMIF(Report!C:C,B514,Report!J:J)","v":0},0,0,{"$f":"COUNTIF(Report!C:C,B514)","v":0}]
[514,31411921,"هاردنر رنگ زینک ریچ","كیلوگرم",241380,null,null,{"$f":"SUMIF(Report!C:C,B515,Report!J:J)","v":0},{"$f":"IF($M$1=$L$1,H515*E515,+IF($M$1=$L$2,H515*F515,H515*G515))","v":0},{"$f":"IFERROR(I515/SUM($I$2:$I$2499),0)","v":0},{"$f":"COUNTIF(Report!C:C,B515)","v":0}]
[515,31412510,"پرایمر برای خط کشی با رنگ گرم","كیلوگرم",112014,null,null,{"$f":"SUMIF(Report!C:C,B516,Report!J:J)","v":0},0,0,{"$f":"COUNTIF(Report!C:C,B516)","v":0}]
[516,31412701,"گلاسبید","كیلوگرم",196560,null,null,{"$f":"SUMIF(Report!C:C,B517,Report!J:J)","v":0},0,0,{"$f":"COUNTIF(Report!C:C,B517)","v":0}]
[517,31420101,"امولایت کارتریجی","كیلوگرم",83620,null,null,{"$f":"SUMIF(Report!C:C,B518,Report!J:J)","v":0},0,0,{"$f":"COUNTIF(Report!C:C,B518)","v":0}]
[518,31420501,"فتیله باروتی خارجی (کورتکس)","متر طول",7056,null,null,{"$f":"SUMIF(Report!C:C,B519,Report!J:J)","v":0},0,0,{"$f":"COUNTIF(Report!C:C,B519)","v":0}]
[519,31420503,"فتیله باروتی ایرانی","متر طول",7056,null,null,{"$f":"SUMIF(Report!C:C,B520,Report!J:J)","v":0},0,0,{"$f":"COUNTIF(Report!C:C,B520)","v":0}]
[520,31420601,"چاشنی معمولی","عدد",11880,null,null,{"$f":"SUMIF(Report!C:C,B521,Report!J:J)","v":0},0,0,{"$f":"COUNTIF(Report!C:C,B521)","v":0}]
[521,31420602,"چاشنی الکتریکی فوری","عدد",40150,null,null,{"$f":"SUMIF(Report!C:C,B522,Report!J:J)","v":0},0,0,{"$f":"COUNTIF(Report!C:C,B522)","v":0}]
[522,31420605,"فتیله انفجاری","متر طول",9072,null,null,{"$f":"SUMIF(Report!C:C,B523,Report!J:J)","v":0},0,0,{"$f":"COUNTIF(Report!C:C,B523)","v":0}]
[523,31420606,"چاشنی الکتریکی با طول 11 متر","عدد",70000,null,null,{"$f":"SUMIF(Report!C:C,B524,Report!J:J)","v":0},0,0,{"$f":"COUNTIF(Report!C:C,B524)","v":0}]
[524,31420607,"سیستم نانل با طول 12 متر","عدد",155940,null,null,{"$f":"SUMIF(Report!C:C,B525,Report!J:J)","v":0},0,0,{"$f":"COUNTIF(Report!C:C,B525)","v":0}]
[525,31430101,"میخ جور","كیلوگرم",110000,null,null,{"$f":"SUMIF(Report!C:C,B526,Report!J:J)","v":0},0,0,{"$f":"COUNTIF(Report!C:C,B526)","v":0}]
[526,31430102,"قلاب آهنگری شده به وزن 85 گرم","عدد",31907,null,null,{"$f":"SUMIF(Report!C:C,B527,Report!J:J)","v":0},0,0,{"$f":"COUNTIF(Report!C:C,B527)","v":0}]
[527,31430703,"مهره و واشر","عدد",45263,null,null,{"$f":"SUMIF(Report!C:C,B528,Report!J:J)","v":0},0,0,{"$f":"COUNTIF(Report!C:C,B528)","v":0}]
[528,31430801,"پیچ و مهره گالوانیزه جور","كیلوگرم",90000,null,null,{"$f":"SUMIF(Report!C:C,B529,Report!J:J)","v":0},0,0,{"$f":"COUNTIF(Report!C:C,B529)","v":0}]
[529,31430803,"پیچ و مهره معمولی (سخت) 10/9","كیلوگرم",160000,null,null,{"$f":"SUMIF(Report!C:C,B530,Report!J:J)","v":0},0,0,{"$f":"COUNTIF(Report!C:C,B530)","v":0}]
[530,31430901,"پیچ و مهره سیاه جور","كیلوگرم",90000,null,null,{"$f":"SUMIF(Report!C:C,B531,Report!J:J)","v":0},0,0,{"$f":"COUNTIF(Report!C:C,B531)","v":0}]
[531,31430902,"پیچ و مهره گالوانیزه 8.8","كیلوگرم",232700,null,null,{"$f":"SUMIF(Report!C:C,B532,Report!J:J)","v":0},0,0,{"$f":"COUNTIF(Report!C:C,B532)","v":0}]
[532,31430903,"پیچ و مهره گالوانیزه 10.9","كیلوگرم",250000,null,null,{"$f":"SUMIF(Report!C:C,B533,Report!J:J)","v":0},0,0,{"$f":"COUNTIF(Report!C:C,B533)","v":0}]
[533,31431201,"واشر جور","كیلوگرم",80000,null,null,{"$f":"SUMIF(Report!C:C,B534,Report!J:J)","v":0},0,0,{"$f":"COUNTIF(Report!C:C,B534)","v":0}]
[534,31431301,"بست اسپیت و چاشنی","عدد",9982.5,null,null,{"$f":"SUMIF(Report!C:C,B535,Report!J:J)","v":0},0,0,{"$f":"COUNTIF(Report!C:C,B535)","v":0}]
[535,31700301,"سرب","كیلوگرم",149572.5,null,null,{"$f":"SUMIF(Report!C:C,B536,Report!J:J)","v":0},0,0,{"$f":"COUNTIF(Report!C:C,B536)","v":0}]
[536,31700501,"پلاستوفوم","مترمكعب",894432,null,null,{"$f":"SUMIF(Report!C:C,B537,Report!J:J)","v":0},0,0,{"$f":"COUNTIF(Report!C:C,B537)","v":0}]
[537,31701401,"کنف","كیلوگرم",29348.6,null,null,{"$f":"SUMIF(Report!C:C,B538,Report!J:J)","v":0},0,0,{"$f":"COUNTIF(Report!C:C,B538)","v":0}]
[538,31705001,"شیلنگ تراز کولری نوع 6","کیلو گرم",72672.600000000006,null,null,{"$f":"SUMIF(Report!C:C,B539,Report!J:J)","v":0},0,0,{"$f":"COUNTIF(Report!C:C,B539)","v":0}]
[539,31705002,"شیلنگ تراز کولری نوع 10","کیلو گرم",72672.600000000006,null,null,{"$f":"SUMIF(Report!C:C,B540,Report!J:J)","v":0},0,0,{"$f":"COUNTIF(Report!C:C,B540)","v":0}]
[540,31705003,"شيلنگ تزريق","مترطول",3913.1,null,null,{"$f":"SUMIF(Report!C:C,B541,Report!J:J)","v":0},0,0,{"$f":"COUNTIF(Report!C:C,B541)","v":0}]
[541,31705004,"شيلنگ هوا","مترطول",3074.7,null,null,{"$f":"SUMIF(Report!C:C,B542,Report!J:J)","v":0},0,0,{"$f":"COUNTIF(Report!C:C,B542)","v":0}]
[542,31705005,"شيلنگ آب 6 اينچ فشار قوي","مترطول",165469.9,null,null,{"$f":"SUMIF(Report!C:C,B543,Report!J:J)","v":0},0,0,{"$f":"COUNTIF(Report!C:C,B543)","v":0}]
[543,31705101,"اينزرت کانکشن","عدد",12000,null,null,{"$f":"SUMIF(Report!C:C,B544,Report!J:J)","v":0},0,0,{"$f":"COUNTIF(Report!C:C,B544)","v":0}]
[544,31705102,"اينزرت کپسولي","عدد",41000,null,null,{"$f":"SUMIF(Report!C:C,B545,Report!J:J)","v":0},0,0,{"$f":"COUNTIF(Report!C:C,B545)","v":0}]
[545,31705103,"اسپيرال","عدد",4100,null,null,{"$f":"SUMIF(Report!C:C,B546,Report!J:J)","v":0},0,0,{"$f":"COUNTIF(Report!C:C,B546)","v":0}]
[546,31705104,"اسپيسر 3","عدد",42000,null,null,{"$f":"SUMIF(Report!C:C,B547,Report!J:J)","v":0},0,0,{"$f":"COUNTIF(Report!C:C,B547)","v":0}]
[547,31705105,"اسپيسر 3/5","عدد",650,null,null,{"$f":"SUMIF(Report!C:C,B548,Report!J:J)","v":0},0,0,{"$f":"COUNTIF(Report!C:C,B548)","v":0}]
[548,31705106,"کانکشن","عدد",300000,null,null,{"$f":"SUMIF(Report!C:C,B549,Report!J:J)","v":0},0,0,{"$f":"COUNTIF(Report!C:C,B549)","v":0}]
[549,31705107,"گسگت","مترطول",84000,null,null,{"$f":"SUMIF(Report!C:C,B550,Report!J:J)","v":0},0,0,{"$f":"COUNTIF(Report!C:C,B550)","v":0}]
[550,32010105,"لوله فولادی سیاه درزداربه قطرنامی یک و یک دوم اینچ","كیلوگرم",48175.3,null,null,{"$f":"SUMIF(Report!C:C,B551,Report!J:J)","v":0},0,0,{"$f":"COUNTIF(Report!C:C,B551)","v":0}]
[551,32010106,"لوله فولادی سیاه درزدار به قطر نامی2 اینچ","كیلوگرم",48221.8,null,null,{"$f":"SUMIF(Report!C:C,B552,Report!J:J)","v":0},0,0,{"$f":"COUNTIF(Report!C:C,B552)","v":0}]
[552,32010108,"لوله فولادی سیاه درزداربه قطرنامی3 اینچ","كیلوگرم",45271.8,null,null,{"$f":"SUMIF(Report!C:C,B553,Report!J:J)","v":0},0,0,{"$f":"COUNTIF(Report!C:C,B553)","v":0}]
[553,32010113,"لوله فولادی درزدار به قطر نامی10 اینچ","كیلوگرم",47132.6,null,null,{"$f":"SUMIF(Report!C:C,B554,Report!J:J)","v":0},0,0,{"$f":"COUNTIF(Report!C:C,B554)","v":0}]
[554,32010305,"لوله گالوانیزه به قطر نامی یک و یک دوم اینچ","كیلوگرم",72760,null,null,{"$f":"SUMIF(Report!C:C,B555,Report!J:J)","v":0},0,0,{"$f":"COUNTIF(Report!C:C,B555)","v":0}]
[555,32010306,"لوله گالوانیزه به قطر نامی دو اینچ","كیلوگرم",72760,null,null,{"$f":"SUMIF(Report!C:C,B556,Report!J:J)","v":0},0,0,{"$f":"COUNTIF(Report!C:C,B556)","v":0}]
[556,32020205,"لوله چدنی بدون سرکاسه به قطرنامی150 میلیمتر","كیلوگرم",47520,null,null,{"$f":"SUMIF(Report!C:C,B557,Report!J:J)","v":0},0,0,{"$f":"COUNTIF(Report!C:C,B557)","v":0}]
[557,32030101,"لوله پی وی سی سخت با فشار کار 16 بار به قطر خارجی 20 میلیمتر","كیلوگرم",90000,null,null,{"$f":"SUMIF(Report!C:C,B558,Report!J:J)","v":0},0,0,{"$f":"COUNTIF(Report!C:C,B558)","v":0}]
[558,32032106,"لوله پلی اتیلن PE80 با فشار کار PN 10 به قطر 50 میلیمتر","کیلو گرم",125000,null,null,{"$f":"SUMIF(Report!C:C,B559,Report!J:J)","v":0},0,0,{"$f":"COUNTIF(Report!C:C,B559)","v":0}]
[559,33052505,"نور افکن با بدنه آلومینیوم اکسترود شده، رفلکتور آلومینیوم آنودایز شده، شیشه سکوریت، با ایگناتور سه سیمه و دو عدد لامپ 400 وات بخار سدیم و با درجه حفاظت IP54","عدد",14498000,null,null,{"$f":"SUMIF(Report!C:C,B560,Report!J:J)","v":0},0,0,{"$f":"COUNTIF(Report!C:C,B560)","v":0}]
[560,33070401,"کابل زمینی سه ونیم سیمه باعایق و روکش ترموپلاستیک مطابق با استاندارد (13) 607 ISIRI  ایران یا 0271 VDE المان از نوع NYY با ولتاژ نامی 1000 ولت و به ‌مقطع  16+ 25*3 میلیمترمربع","متر طول",578740,null,null,{"$f":"SUMIF(Report!C:C,B561,Report!J:J)","v":0},0,0,{"$f":"COUNTIF(Report!C:C,B561)","v":0}]
[561,33070402,"کابل زمینی سه ونیم سیمه باعایق و روکش ترموپلاستیک مطابق با استاندارد (13) 607 ISIRI  ایران یا 0271 VDE المان از نوع NYY با ولتاژ نامی 1000 ولت و به ‌مقطع  16+ 35*3 میلیمترمربع","متر طول",745850,null,null,{"$f":"SUMIF(Report!C:C,B562,Report!J:J)","v":0},0,0,{"$f":"COUNTIF(Report!C:C,B562)","v":0}]
[562,33070406,"کابل زمینی سه ونیم سیمه باعایق و روکش ترموپلاستیک مطابق با استاندارد (13) 607 ISIRI  ایران یا 0271 VDE المان از نوع NYY با ولتاژ نامی 1000 ولت و به ‌مقطع  70 + 120 *3  میلیمترمربع","متر طول",2477340,null,null,{"$f":"SUMIF(Report!C:C,B563,Report!J:J)","v":0},0,0,{"$f":"COUNTIF(Report!C:C,B563)","v":0}]
[563,33070502,"کابل زمینی چهار سیمه باعایق وروکش ترموپلاستیک مطابق بااستاندارد60713 ایران یا0271 آلمان از نوعNYY با ولتاژ نامی1000ولت وبه مقطع2.5*4میلیمتر مربع","متر طول",86960,null,null,{"$f":"SUMIF(Report!C:C,B564,Report!J:J)","v":0},0,0,{"$f":"COUNTIF(Report!C:C,B564)","v":0}]
[564,33330901,"سیم تلفن تابیده دولابه قطر0.6میلیمترباروکش پلاستیکی0","متر طول",3195.8,null,null,{"$f":"SUMIF(Report!C:C,B565,Report!J:J)","v":0},0,0,{"$f":"COUNTIF(Report!C:C,B565)","v":0}]
[565,34010301,"گازوییل","لیتر",3000,null,null,{"$f":"SUMIF(Report!C:C,B566,Report!J:J)","v":0},0,0,{"$f":"COUNTIF(Report!C:C,B566)","v":0}]
[566,34010803,"گريس HBW","كیلوگرم",300000,null,null,{"$f":"SUMIF(Report!C:C,B567,Report!J:J)","v":0},0,0,{"$f":"COUNTIF(Report!C:C,B567)","v":0}]
[567,34010804,"گريس شيلد","كیلوگرم",220000,null,null,{"$f":"SUMIF(Report!C:C,B568,Report!J:J)","v":0},0,0,{"$f":"COUNTIF(Report!C:C,B568)","v":0}]
[568,34010805,"گريس EP2","كیلوگرم",90000,null,null,{"$f":"SUMIF(Report!C:C,B569,Report!J:J)","v":0},0,0,{"$f":"COUNTIF(Report!C:C,B569)","v":0}]
[569,34021101,"چسب پلاستوفوم","كیلوگرم",32340,null,null,{"$f":"SUMIF(Report!C:C,B570,Report!J:J)","v":0},0,0,{"$f":"COUNTIF(Report!C:C,B570)","v":0}]
[570,34050301,"مسدودکننده پکر مکانیکی  به قطر 76  میلیمتر","عدد",4320000,null,null,{"$f":"SUMIF(Report!C:C,B571,Report!J:J)","v":0},0,0,{"$f":"COUNTIF(Report!C:C,B571)","v":0}]
[571,39010102,"تخته نراد خارجی","مترمكعب",26000000,null,null,{"$f":"SUMIF(Report!C:C,B572,Report!J:J)","v":0},0,0,{"$f":"COUNTIF(Report!C:C,B572)","v":0}]
[572,39010202,"تخته الوار ایرانی","مترمكعب",12000000,null,null,{"$f":"SUMIF(Report!C:C,B573,Report!J:J)","v":0},0,0,{"$f":"COUNTIF(Report!C:C,B573)","v":0}]
[573,39010301,"39010301 - چوب گرد سفید خشک","كیلوگرم",16000,null,null,{"$f":"SUMIF(Report!C:C,B574,Report!J:J)","v":0},0,0,{"$f":"COUNTIF(Report!C:C,B574)","v":0}]
[574,39020101,"میلگرد ساده نمره10 و کمتر","كیلوگرم",42300,null,null,{"$f":"SUMIF(Report!C:C,B575,Report!J:J)","v":0},0,0,{"$f":"COUNTIF(Report!C:C,B575)","v":0}]
[575,39020102,"میلگرد ساده نمره 12 تا  18","كیلوگرم",48400,null,null,{"$f":"SUMIF(Report!C:C,B576,Report!J:J)","v":0},0,0,{"$f":"COUNTIF(Report!C:C,B576)","v":0}]
[576,31150611,"میلگرد ساده نمره 20 به بالا","كیلوگرم",2894400,null,null,{"$f":"SUMIF(Report!C:C,B577,Report!J:J)","v":0},0,0,{"$f":"COUNTIF(Report!C:C,B577)","v":0}]
[577,39030101,"39030101 - مفتول سیاه","كیلوگرم",50000,null,null,{"$f":"SUMIF(Report!C:C,B578,Report!J:J)","v":0},0,0,{"$f":"COUNTIF(Report!C:C,B578)","v":0}]
[578,39040101,"39040101 - ورق سیاه به ضخامت 3 میلیمتر و کمتر","كیلوگرم",45160,null,null,{"$f":"SUMIF(Report!C:C,B579,Report!J:J)","v":0},{"$f":"IF($M$1=$L$1,H579*E579,+IF($M$1=$L$2,H579*F579,H579*G579))","v":0},{"$f":"IFERROR(I579/SUM($I$2:$I$2499),0)","v":0},{"$f":"COUNTIF(Report!C:C,B579)","v":0}]
[579,39040102,"ورق سیاه به ضخامت بیش از 3 میلیمتر","كیلوگرم",42261,null,null,{"$f":"SUMIF(Report!C:C,B580,Report!J:J)","v":0},0,0,{"$f":"COUNTIF(Report!C:C,B580)","v":0}]
[580,39050201,"ناودانی","كیلوگرم",43500,null,null,{"$f":"SUMIF(Report!C:C,B581,Report!J:J)","v":0},0,0,{"$f":"COUNTIF(Report!C:C,B581)","v":0}]
[581,39050301,"نبشی","كیلوگرم",43500,null,null,{"$f":"SUMIF(Report!C:C,B582,Report!J:J)","v":0},0,0,{"$f":"COUNTIF(Report!C:C,B582)","v":0}]
[582,39050501,"قوطی","كیلوگرم",48940,null,null,{"$f":"SUMIF(Report!C:C,B583,Report!J:J)","v":0},0,0,{"$f":"COUNTIF(Report!C:C,B583)","v":0}]
[583,39050601,"تسمه تخت (بریده شده)","كیلوگرم",43700,null,null,{"$f":"SUMIF(Report!C:C,B584,Report!J:J)","v":0},0,0,{"$f":"COUNTIF(Report!C:C,B584)","v":0}]
[584,39050701,"پروفیل ناودانی سردخم شده","كیلوگرم",49000,null,null,{"$f":"SUMIF(Report!C:C,B585,Report!J:J)","v":0},0,0,{"$f":"COUNTIF(Report!C:C,B585)","v":0}]
[585,39060101,"پروفیل و قوطی معمولی","كیلوگرم",48752.800000000003,null,null,{"$f":"SUMIF(Report!C:C,B586,Report!J:J)","v":0},0,0,{"$f":"COUNTIF(Report!C:C,B586)","v":0}]
[586,39060201,"پروفیل زهوار و قوطی ریز سبک","كیلوگرم",49328,null,null,{"$f":"SUMIF(Report!C:C,B587,Report!J:J)","v":0},0,0,{"$f":"COUNTIF(Report!C:C,B587)","v":0}]
[587,39070201,"لوله 4 اینچ فولادی","كیلوگرم",54869,null,null,{"$f":"SUMIF(Report!C:C,B588,Report!J:J)","v":0},0,0,{"$f":"COUNTIF(Report!C:C,B588)","v":0}]
[588,39070202,"لوله یک و یک دوم فولادی","كیلوگرم",54869,null,null,{"$f":"SUMIF(Report!C:C,B589,Report!J:J)","v":0},0,0,{"$f":"COUNTIF(Report!C:C,B589)","v":0}]
[589,39070203,"لوله2 اینچ فولادی","كیلوگرم",54869,null,null,{"$f":"SUMIF(Report!C:C,B590,Report!J:J)","v":0},0,0,{"$f":"COUNTIF(Report!C:C,B590)","v":0}]
[590,39080101,"لوله پی وی سی21","كیلوگرم",61600,null,null,{"$f":"SUMIF(Report!C:C,B591,Report!J:J)","v":0},0,0,{"$f":"COUNTIF(Report!C:C,B591)","v":0}]
[591,39080102,"لوله پی وی سی 29 pg","کیلو گرم",58520,null,null,{"$f":"SUMIF(Report!C:C,B592,Report!J:J)","v":0},0,0,{"$f":"COUNTIF(Report!C:C,B592)","v":0}]
[592,39080103,"لوله پی وی سی 36 pg","کیلو گرم",64240,null,null,{"$f":"SUMIF(Report!C:C,B593,Report!J:J)","v":0},0,0,{"$f":"COUNTIF(Report!C:C,B593)","v":0}]
[593,39100102,"ماسه سند بلاست","كیلوگرم",445,null,null,{"$f":"SUMIF(Report!C:C,B594,Report!J:J)","v":0},0,0,{"$f":"COUNTIF(Report!C:C,B594)","v":0}]
[594,39110103,"قالب فلزی لوله بتنی به قطر 60 سانتیمتر","عدد",5436287.2000000002,null,null,{"$f":"SUMIF(Report!C:C,B595,Report!J:J)","v":0},0,0,{"$f":"COUNTIF(Report!C:C,B595)","v":0}]
[595,39110104,"قالب فلزی لوله بتنی به قطر 80 سانتیمتر","عدد",7455479.5999999996,null,null,{"$f":"SUMIF(Report!C:C,B596,Report!J:J)","v":0},0,0,{"$f":"COUNTIF(Report!C:C,B596)","v":0}]
[596,39110105,"قالب فلزی لوله بتنی به قطر 100 سانتیمتر","عدد",9847446,null,null,{"$f":"SUMIF(Report!C:C,B597,Report!J:J)","v":0},0,0,{"$f":"COUNTIF(Report!C:C,B597)","v":0}]
[597,39110201,"قالب فلزی کول بتنی پیش ساخته سه تکه ای","عدد",10996832.4,null,null,{"$f":"SUMIF(Report!C:C,B598,Report!J:J)","v":0},0,0,{"$f":"COUNTIF(Report!C:C,B598)","v":0}]
[598,39110401,"قالب فلزی جدول و دال بتنی پیش ساخته","مترمكعب",29511.3,null,null,{"$f":"SUMIF(Report!C:C,B599,Report!J:J)","v":0},0,0,{"$f":"COUNTIF(Report!C:C,B599)","v":0}]
[599,39120101,"الکترود","كیلوگرم",82153,null,null,{"$f":"SUMIF(Report!C:C,B600,Report!J:J)","v":0},0,0,{"$f":"COUNTIF(Report!C:C,B600)","v":0}]
[600,39130101,"ضدزنگ روغنی","كیلوگرم",91154.7,null,null,{"$f":"SUMIF(Report!C:C,B601,Report!J:J)","v":0},0,0,{"$f":"COUNTIF(Report!C:C,B601)","v":0}]
[601,39140101,"39140101 - پیچ و مهره سیاه جور","كیلوگرم",90000,null,null,{"$f":"SUMIF(Report!C:C,B602,Report!J:J)","v":0},0,0,{"$f":"COUNTIF(Report!C:C,B602)","v":0}]
[602,39150101,"بست دار بست","عدد",33932,null,null,{"$f":"SUMIF(Report!C:C,B603,Report!J:J)","v":0},0,0,{"$f":"COUNTIF(Report!C:C,B603)","v":0}]
[603,39160101,"گل حفاری بنتونیت","تن",3800000,null,null,{"$f":"SUMIF(Report!C:C,B604,Report!J:J)","v":0},0,0,{"$f":"COUNTIF(Report!C:C,B604)","v":0}]
[604,39200111,"کیسه فن به قطر 120 سانتیمتر کره ای","متر طول",555390,null,null,{"$f":"SUMIF(Report!C:C,B605,Report!J:J)","v":0},0,0,{"$f":"COUNTIF(Report!C:C,B605)","v":0}]
[605,41010101,"حمل آب چاه قنات و رودخانه","مترمكعب",51866.94,null,null,{"$f":"SUMIF(Report!C:C,B606,Report!J:J)","v":0},0,0,{"$f":"COUNTIF(Report!C:C,B606)","v":0}]
[606,41020101,"حمل خاک شن  ماسه و مخلوط شن و ماسه","مترمكعب",96508.61,null,null,{"$f":"SUMIF(Report!C:C,B607,Report!J:J)","v":0},0,0,{"$f":"COUNTIF(Report!C:C,B607)","v":0}]
[607,41030101,"حمل سنگهای ریشه دار و سنگ آهک زنده","مترمكعب",109044.61,null,null,{"$f":"SUMIF(Report!C:C,B608,Report!J:J)","v":0},0,0,{"$f":"COUNTIF(Report!C:C,B608)","v":0}]
[608,41040102,"حمل کفپوش بتني","تن",59310.95,null,null,{"$f":"SUMIF(Report!C:C,B609,Report!J:J)","v":0},0,0,{"$f":"COUNTIF(Report!C:C,B609)","v":0}]
[609,41060101,"حمل سیمان فله","تن",126060.1,null,null,{"$f":"SUMIF(Report!C:C,B610,Report!J:J)","v":0},0,0,{"$f":"COUNTIF(Report!C:C,B610)","v":0}]
[610,41060201,"حمل سیمان گچ و آهک پاکتی","تن",128532.74,null,null,{"$f":"SUMIF(Report!C:C,B611,Report!J:J)","v":0},0,0,{"$f":"COUNTIF(Report!C:C,B611)","v":0}]
[611,41060301,"حمل سیمان فله و پاکتی","تن",120472.5,null,null,{"$f":"SUMIF(Report!C:C,B612,Report!J:J)","v":0},0,0,{"$f":"COUNTIF(Report!C:C,B612)","v":0}]
[612,41060501,"حمل خاک سنگ، پودر سنگ و ماسه سندبلاست","تن",192614.48,null,null,{"$f":"SUMIF(Report!C:C,B613,Report!J:J)","v":0},0,0,{"$f":"COUNTIF(Report!C:C,B613)","v":0}]
[613,41080101,"حمل قیر به وسیله تانکر","كیلوگرم",129.41,null,null,{"$f":"SUMIF(Report!C:C,B614,Report!J:J)","v":0},0,0,{"$f":"COUNTIF(Report!C:C,B614)","v":0}]
[614,41080201,"حمل قیر مظروف","كیلوگرم",388.93,null,null,{"$f":"SUMIF(Report!C:C,B615,Report!J:J)","v":0},0,0,{"$f":"COUNTIF(Report!C:C,B615)","v":0}]
[615,41090101,"حمل مواد منفجره","كیلوگرم",1691.17,null,null,{"$f":"SUMIF(Report!C:C,B616,Report!J:J)","v":0},0,0,{"$f":"COUNTIF(Report!C:C,B616)","v":0}]
[616,41090201,"حمل فتیله","متر طول",177.53,null,null,{"$f":"SUMIF(Report!C:C,B617,Report!J:J)","v":0},0,0,{"$f":"COUNTIF(Report!C:C,B617)","v":0}]
[617,41090301,"حمل چاشنی","عدد",96.29,null,null,{"$f":"SUMIF(Report!C:C,B618,Report!J:J)","v":0},0,0,{"$f":"COUNTIF(Report!C:C,B618)","v":0}]
[618,41110101,"حمل مصالح فلزی مورد مصرف در سازه","كیلوگرم",261.79000000000002,null,null,{"$f":"SUMIF(Report!C:C,B619,Report!J:J)","v":0},0,0,{"$f":"COUNTIF(Report!C:C,B619)","v":0}]
[619,41110201,"حمل پروفیل های فولادی در و پنجره","كیلوگرم",289.22000000000003,null,null,{"$f":"SUMIF(Report!C:C,B620,Report!J:J)","v":0},0,0,{"$f":"COUNTIF(Report!C:C,B620)","v":0}]
[620,41110301,"حمل فراورده‌های فولادی توری، شبکه‌های فلزی، میخ، پرچ و الکترود","كیلوگرم",790.24,null,null,{"$f":"SUMIF(Report!C:C,B621,Report!J:J)","v":0},0,0,{"$f":"COUNTIF(Report!C:C,B621)","v":0}]
[621,41110401,"حمل قالب‌های فلزی بتن","كیلوگرم",429.3,null,null,{"$f":"SUMIF(Report!C:C,B622,Report!J:J)","v":0},0,0,{"$f":"COUNTIF(Report!C:C,B622)","v":0}]
[622,41130301,"حمل لوله های سیمانی و بتنی","متر طول",81108.63,null,null,{"$f":"SUMIF(Report!C:C,B623,Report!J:J)","v":0},0,0,{"$f":"COUNTIF(Report!C:C,B623)","v":0}]
[623,41160101,"حمل آسفالت","تن",124866.82,null,null,{"$f":"SUMIF(Report!C:C,B624,Report!J:J)","v":0},0,0,{"$f":"COUNTIF(Report!C:C,B624)","v":0}]
[624,41170201,"حمل مواد مصرفی در نقاشی و چسبها","كیلوگرم",848.77,null,null,{"$f":"SUMIF(Report!C:C,B625,Report!J:J)","v":0},0,0,{"$f":"COUNTIF(Report!C:C,B625)","v":0}]
[625,41180101,"حمل مواد سوختی گازوییل، نفت و بنزین","لیتر",139.34,null,null,{"$f":"SUMIF(Report!C:C,B626,Report!J:J)","v":0},0,0,{"$f":"COUNTIF(Report!C:C,B626)","v":0}]
[626,41190101,"حمل تخته ، الوار و MDF","مترمكعب",174375.06,null,null,{"$f":"SUMIF(Report!C:C,B627,Report!J:J)","v":0},0,0,{"$f":"COUNTIF(Report!C:C,B627)","v":0}]
[627,41190201,"حمل چوب گرد","كیلوگرم",313.07,null,null,{"$f":"SUMIF(Report!C:C,B628,Report!J:J)","v":0},0,0,{"$f":"COUNTIF(Report!C:C,B628)","v":0}]
[628,41200201,"حمل عایق‌های رطوبتی چتایی و کنف","مترمربع",299.72000000000003,null,null,{"$f":"SUMIF(Report!C:C,B629,Report!J:J)","v":0},0,0,{"$f":"COUNTIF(Report!C:C,B629)","v":0}]
[629,41200401,"حمل پلاستوفوم","مترمكعب",136290.44,null,null,{"$f":"SUMIF(Report!C:C,B630,Report!J:J)","v":0},0,0,{"$f":"COUNTIF(Report!C:C,B630)","v":0}]
[630,41210301,"حمل نوار آب بند","متر طول",983.94,null,null,{"$f":"SUMIF(Report!C:C,B631,Report!J:J)","v":0},0,0,{"$f":"COUNTIF(Report!C:C,B631)","v":0}]
[631,41500101,"حمل مازاد آهن‌آلات و سيمان پاکتي براي مسافت 300 کيلومتر","تن -  کیلومتر‏",1015.02,null,null,{"$f":"SUMIF(Report!C:C,B632,Report!J:J)","v":0},0,0,{"$f":"COUNTIF(Report!C:C,B632)","v":0}]
[632,41500301,"حمل مازاد قیر فله برای مسافت300 کیلومتر","تن -  کیلومتر‏",951.32,null,null,{"$f":"SUMIF(Report!C:C,B633,Report!J:J)","v":0},0,0,{"$f":"COUNTIF(Report!C:C,B633)","v":0}]
[633,42010101,"حمل لوله های فولادی یک دوم اینچ تا 4 اینچ","كیلوگرم",306,null,null,{"$f":"SUMIF(Report!C:C,B634,Report!J:J)","v":0},0,0,{"$f":"COUNTIF(Report!C:C,B634)","v":0}]
[634,42010201,"حمل لوله های فولادی5 اینچ به بالا","كیلوگرم",345.44,null,null,{"$f":"SUMIF(Report!C:C,B635,Report!J:J)","v":0},0,0,{"$f":"COUNTIF(Report!C:C,B635)","v":0}]
[635,42010301,"حمل اتصالات لوله های فولادی","كیلوگرم",469.07,null,null,{"$f":"SUMIF(Report!C:C,B636,Report!J:J)","v":0},0,0,{"$f":"COUNTIF(Report!C:C,B636)","v":0}]
[636,42020101,"حمل لوله های چدنی فاضلابی","كیلوگرم",291.02,null,null,{"$f":"SUMIF(Report!C:C,B637,Report!J:J)","v":0},0,0,{"$f":"COUNTIF(Report!C:C,B637)","v":0}]
[637,42020301,"حمل اتصالات چدنی","كیلوگرم",504.73,null,null,{"$f":"SUMIF(Report!C:C,B638,Report!J:J)","v":0},0,0,{"$f":"COUNTIF(Report!C:C,B638)","v":0}]
[638,42040101,"حمل لوله ها و اتصالات پی وی سی","كیلوگرم",724.37,null,null,{"$f":"SUMIF(Report!C:C,B639,Report!J:J)","v":0},0,0,{"$f":"COUNTIF(Report!C:C,B639)","v":0}]
[null,null,null,null,null,null,null,{"$f":"SUMIF(Report!C:C,B640,Report!J:J)","v":0},0,0,{"$f":"COUNTIF(Report!C:C,B640)","v":0}]
[null,null,null,null,null,null,null,{"$f":"SUMIF(Report!C:C,B641,Report!J:J)","v":0},0,0,{"$f":"COUNTIF(Report!C:C,B641)","v":0}]
[null,null,null,null,null,null,null,{"$f":"SUMIF(Report!C:C,B642,Report!J:J)","v":0},0,0,{"$f":"COUNTIF(Report!C:C,B642)","v":0}]
[null,null,null,null,null,null,null,{"$f":"SUMIF(Report!C:C,B643,Report!J:J)","v":0},{"$f":"IF($M$1=$L$1,H643*E643,+IF($M$1=$L$2,H643*F643,H643*G643))","v":0},{"$f":"IFERROR(I643/SUM($I$2:$I$2499),0)","v":0},{"$f":"COUNTIF(Report!C:C,B643)","v":0}]
[null,null,null,null,null,null,null,{"$f":"SUMIF(Report!C:C,B644,Report!J:J)","v":0},0,0,{"$f":"COUNTIF(Report!C:C,B644)","v":0}]
[null,null,null,null,null,null,null,{"$f":"SUMIF(Report!C:C,B645,Report!J:J)","v":0},0,0,{"$f":"COUNTIF(Report!C:C,B645)","v":0}]
[null,null,null,null,null,null,null,{"$f":"SUMIF(Report!C:C,B646,Report!J:J)","v":0},0,0,{"$f":"COUNTIF(Report!C:C,B646)","v":0}]
[null,null,null,null,null,null,null,{"$f":"SUMIF(Report!C:C,B647,Report!J:J)","v":0},0,0,{"$f":"COUNTIF(Report!C:C,B647)","v":0}]
[null,null,null,null,null,null,null,{"$f":"SUMIF(Report!C:C,B648,Report!J:J)","v":0},0,0,{"$f":"COUNTIF(Report!C:C,B648)","v":0}]
[null,null,null,null,null,null,null,{"$f":"SUMIF(Report!C:C,B649,Report!J:J)","v":0},0,0,{"$f":"COUNTIF(Report!C:C,B649)","v":0}]
[null,null,null,null,null,null,null,{"$f":"SUMIF(Report!C:C,B650,Report!J:J)","v":0},0,0,{"$f":"COUNTIF(Report!C:C,B650)","v":0}]
[null,null,null,null,null,null,null,{"$f":"SUMIF(Report!C:C,B651,Report!J:J)","v":0},0,0,{"$f":"COUNTIF(Report!C:C,B651)","v":0}]
[null,null,null,null,null,null,null,{"$f":"SUMIF(Report!C:C,B652,Report!J:J)","v":0},0,0,{"$f":"COUNTIF(Report!C:C,B652)","v":0}]
[null,null,null,null,null,null,null,{"$f":"SUMIF(Report!C:C,B653,Report!J:J)","v":0},0,0,{"$f":"COUNTIF(Report!C:C,B653)","v":0}]
[null,null,null,null,null,null,null,{"$f":"SUMIF(Report!C:C,B654,Report!J:J)","v":0},0,0,{"$f":"COUNTIF(Report!C:C,B654)","v":0}]
[null,null,null,null,null,null,null,{"$f":"SUMIF(Report!C:C,B655,Report!J:J)","v":0},0,0,{"$f":"COUNTIF(Report!C:C,B655)","v":0}]
[null,null,null,null,null,null,null,{"$f":"SUMIF(Report!C:C,B656,Report!J:J)","v":0},0,0,{"$f":"COUNTIF(Report!C:C,B656)","v":0}]
[null,null,null,null,null,null,null,{"$f":"SUMIF(Report!C:C,B657,Report!J:J)","v":0},0,0,{"$f":"COUNTIF(Report!C:C,B657)","v":0}]
[null,null,null,null,null,null,null,{"$f":"SUMIF(Report!C:C,B658,Report!J:J)","v":0},0,0,{"$f":"COUNTIF(Report!C:C,B658)","v":0}]
[null,null,null,null,null,null,null,{"$f":"SUMIF(Report!C:C,B659,Report!J:J)","v":0},0,0,{"$f":"COUNTIF(Report!C:C,B659)","v":0}]
[null,null,null,null,null,null,null,{"$f":"SUMIF(Report!C:C,B660,Report!J:J)","v":0},0,0,{"$f":"COUNTIF(Report!C:C,B660)","v":0}]
[null,null,null,null,null,null,null,{"$f":"SUMIF(Report!C:C,B661,Report!J:J)","v":0},0,0,{"$f":"COUNTIF(Report!C:C,B661)","v":0}]
[null,null,null,null,null,null,null,{"$f":"SUMIF(Report!C:C,B662,Report!J:J)","v":0},0,0,{"$f":"COUNTIF(Report!C:C,B662)","v":0}]
[null,null,null,null,null,null,null,{"$f":"SUMIF(Report!C:C,B663,Report!J:J)","v":0},0,0,{"$f":"COUNTIF(Report!C:C,B663)","v":0}]
[null,null,null,null,null,null,null,{"$f":"SUMIF(Report!C:C,B664,Report!J:J)","v":0},0,0,{"$f":"COUNTIF(Report!C:C,B664)","v":0}]
[null,null,null,null,null,null,null,{"$f":"SUMIF(Report!C:C,B665,Report!J:J)","v":0},0,0,{"$f":"COUNTIF(Report!C:C,B665)","v":0}]
[null,null,null,null,null,null,null,{"$f":"SUMIF(Report!C:C,B666,Report!J:J)","v":0},0,0,{"$f":"COUNTIF(Report!C:C,B666)","v":0}]
[null,null,null,null,null,null,null,{"$f":"SUMIF(Report!C:C,B667,Report!J:J)","v":0},0,0,{"$f":"COUNTIF(Report!C:C,B667)","v":0}]
[null,null,null,null,null,null,null,{"$f":"SUMIF(Report!C:C,B668,Report!J:J)","v":0},0,0,{"$f":"COUNTIF(Report!C:C,B668)","v":0}]
[null,null,null,null,null,null,null,{"$f":"SUMIF(Report!C:C,B669,Report!J:J)","v":0},0,0,{"$f":"COUNTIF(Report!C:C,B669)","v":0}]
[null,null,null,null,null,null,null,{"$f":"SUMIF(Report!C:C,B670,Report!J:J)","v":0},0,0,{"$f":"COUNTIF(Report!C:C,B670)","v":0}]
[null,null,null,null,null,null,null,{"$f":"SUMIF(Report!C:C,B671,Report!J:J)","v":0},0,0,{"$f":"COUNTIF(Report!C:C,B671)","v":0}]
[null,null,null,null,null,null,null,{"$f":"SUMIF(Report!C:C,B672,Report!J:J)","v":0},0,0,{"$f":"COUNTIF(Report!C:C,B672)","v":0}]
[null,null,null,null,null,null,null,{"$f":"SUMIF(Report!C:C,B673,Report!J:J)","v":0},0,0,{"$f":"COUNTIF(Report!C:C,B673)","v":0}]
[null,null,null,null,null,null,null,{"$f":"SUMIF(Report!C:C,B674,Report!J:J)","v":0},0,0,{"$f":"COUNTIF(Report!C:C,B674)","v":0}]
[null,null,null,null,null,null,null,{"$f":"SUMIF(Report!C:C,B675,Report!J:J)","v":0},0,0,{"$f":"COUNTIF(Report!C:C,B675)","v":0}]
[null,null,null,null,null,null,null,{"$f":"SUMIF(Report!C:C,B676,Report!J:J)","v":0},0,0,{"$f":"COUNTIF(Report!C:C,B676)","v":0}]
[null,null,null,null,null,null,null,{"$f":"SUMIF(Report!C:C,B677,Report!J:J)","v":0},0,0,{"$f":"COUNTIF(Report!C:C,B677)","v":0}]
[null,null,null,null,null,null,null,{"$f":"SUMIF(Report!C:C,B678,Report!J:J)","v":0},0,0,{"$f":"COUNTIF(Report!C:C,B678)","v":0}]
[null,null,null,null,null,null,null,{"$f":"SUMIF(Report!C:C,B679,Report!J:J)","v":0},0,0,{"$f":"COUNTIF(Report!C:C,B679)","v":0}]
[null,null,null,null,null,null,null,{"$f":"SUMIF(Report!C:C,B680,Report!J:J)","v":0},0,0,{"$f":"COUNTIF(Report!C:C,B680)","v":0}]
[null,null,null,null,null,null,null,{"$f":"SUMIF(Report!C:C,B681,Report!J:J)","v":0},0,0,{"$f":"COUNTIF(Report!C:C,B681)","v":0}]
[null,null,null,null,null,null,null,{"$f":"SUMIF(Report!C:C,B682,Report!J:J)","v":0},0,0,{"$f":"COUNTIF(Report!C:C,B682)","v":0}]
[null,null,null,null,null,null,null,{"$f":"SUMIF(Report!C:C,B683,Report!J:J)","v":0},0,0,{"$f":"COUNTIF(Report!C:C,B683)","v":0}]
[null,null,null,null,null,null,null,{"$f":"SUMIF(Report!C:C,B684,Report!J:J)","v":0},0,0,{"$f":"COUNTIF(Report!C:C,B684)","v":0}]
[null,null,null,null,null,null,null,{"$f":"SUMIF(Report!C:C,B685,Report!J:J)","v":0},0,0,{"$f":"COUNTIF(Report!C:C,B685)","v":0}]
[null,null,null,null,null,null,null,{"$f":"SUMIF(Report!C:C,B686,Report!J:J)","v":0},0,0,{"$f":"COUNTIF(Report!C:C,B686)","v":0}]
[null,null,null,null,null,null,null,{"$f":"SUMIF(Report!C:C,B687,Report!J:J)","v":0},0,0,{"$f":"COUNTIF(Report!C:C,B687)","v":0}]
[null,null,null,null,null,null,null,{"$f":"SUMIF(Report!C:C,B688,Report!J:J)","v":0},0,0,{"$f":"COUNTIF(Report!C:C,B688)","v":0}]
[null,null,null,null,null,null,null,{"$f":"SUMIF(Report!C:C,B689,Report!J:J)","v":0},0,0,{"$f":"COUNTIF(Report!C:C,B689)","v":0}]
[null,null,null,null,null,null,null,{"$f":"SUMIF(Report!C:C,B690,Report!J:J)","v":0},0,0,{"$f":"COUNTIF(Report!C:C,B690)","v":0}]
[null,null,null,null,null,null,null,{"$f":"SUMIF(Report!C:C,B691,Report!J:J)","v":0},0,0,{"$f":"COUNTIF(Report!C:C,B691)","v":0}]
[null,null,null,null,null,null,null,{"$f":"SUMIF(Report!C:C,B692,Report!J:J)","v":0},0,0,{"$f":"COUNTIF(Report!C:C,B692)","v":0}]
[null,null,null,null,null,null,null,{"$f":"SUMIF(Report!C:C,B693,Report!J:J)","v":0},0,0,{"$f":"COUNTIF(Report!C:C,B693)","v":0}]
[null,null,null,null,null,null,null,{"$f":"SUMIF(Report!C:C,B694,Report!J:J)","v":0},0,0,{"$f":"COUNTIF(Report!C:C,B694)","v":0}]
[null,null,null,null,null,null,null,{"$f":"SUMIF(Report!C:C,B695,Report!J:J)","v":0},0,0,{"$f":"COUNTIF(Report!C:C,B695)","v":0}]
[null,null,null,null,null,null,null,{"$f":"SUMIF(Report!C:C,B696,Report!J:J)","v":0},0,0,{"$f":"COUNTIF(Report!C:C,B696)","v":0}]
[null,null,null,null,null,null,null,{"$f":"SUMIF(Report!C:C,B697,Report!J:J)","v":0},0,0,{"$f":"COUNTIF(Report!C:C,B697)","v":0}]
[null,null,null,null,null,null,null,{"$f":"SUMIF(Report!C:C,B698,Report!J:J)","v":0},0,0,{"$f":"COUNTIF(Report!C:C,B698)","v":0}]
[null,null,null,null,null,null,null,{"$f":"SUMIF(Report!C:C,B699,Report!J:J)","v":0},0,0,{"$f":"COUNTIF(Report!C:C,B699)","v":0}]
[null,null,null,null,null,null,null,{"$f":"SUMIF(Report!C:C,B700,Report!J:J)","v":0},0,0,{"$f":"COUNTIF(Report!C:C,B700)","v":0}]
[null,null,null,null,null,null,null,{"$f":"SUMIF(Report!C:C,B701,Report!J:J)","v":0},0,0,{"$f":"COUNTIF(Report!C:C,B701)","v":0}]
[null,null,null,null,null,null,null,{"$f":"SUMIF(Report!C:C,B702,Report!J:J)","v":0},0,0,{"$f":"COUNTIF(Report!C:C,B702)","v":0}]
[null,null,null,null,null,null,null,{"$f":"SUMIF(Report!C:C,B703,Report!J:J)","v":0},0,0,{"$f":"COUNTIF(Report!C:C,B703)","v":0}]
[null,null,null,null,null,null,null,{"$f":"SUMIF(Report!C:C,B704,Report!J:J)","v":0},0,0,{"$f":"COUNTIF(Report!C:C,B704)","v":0}]
[null,null,null,null,null,null,null,{"$f":"SUMIF(Report!C:C,B705,Report!J:J)","v":0},0,0,{"$f":"COUNTIF(Report!C:C,B705)","v":0}]
[null,null,null,null,null,null,null,{"$f":"SUMIF(Report!C:C,B706,Report!J:J)","v":0},0,0,{"$f":"COUNTIF(Report!C:C,B706)","v":0}]
[null,null,null,null,null,null,null,{"$f":"SUMIF(Report!C:C,B707,Report!J:J)","v":0},{"$f":"IF($M$1=$L$1,H707*E707,+IF($M$1=$L$2,H707*F707,H707*G707))","v":0},{"$f":"IFERROR(I707/SUM($I$2:$I$2499),0)","v":0},{"$f":"COUNTIF(Report!C:C,B707)","v":0}]
[null,null,null,null,null,null,null,{"$f":"SUMIF(Report!C:C,B708,Report!J:J)","v":0},0,0,{"$f":"COUNTIF(Report!C:C,B708)","v":0}]
[null,null,null,null,null,null,null,{"$f":"SUMIF(Report!C:C,B709,Report!J:J)","v":0},0,0,{"$f":"COUNTIF(Report!C:C,B709)","v":0}]
[null,null,null,null,null,null,null,{"$f":"SUMIF(Report!C:C,B710,Report!J:J)","v":0},0,0,{"$f":"COUNTIF(Report!C:C,B710)","v":0}]
[null,null,null,null,null,null,null,{"$f":"SUMIF(Report!C:C,B711,Report!J:J)","v":0},0,0,{"$f":"COUNTIF(Report!C:C,B711)","v":0}]
[null,null,null,null,null,null,null,{"$f":"SUMIF(Report!C:C,B712,Report!J:J)","v":0},0,0,{"$f":"COUNTIF(Report!C:C,B712)","v":0}]
[null,null,null,null,null,null,null,{"$f":"SUMIF(Report!C:C,B713,Report!J:J)","v":0},0,0,{"$f":"COUNTIF(Report!C:C,B713)","v":0}]
[null,null,null,null,null,null,null,{"$f":"SUMIF(Report!C:C,B714,Report!J:J)","v":0},0,0,{"$f":"COUNTIF(Report!C:C,B714)","v":0}]
[null,null,null,null,null,null,null,{"$f":"SUMIF(Report!C:C,B715,Report!J:J)","v":0},0,0,{"$f":"COUNTIF(Report!C:C,B715)","v":0}]
[null,null,null,null,null,null,null,{"$f":"SUMIF(Report!C:C,B716,Report!J:J)","v":0},0,0,{"$f":"COUNTIF(Report!C:C,B716)","v":0}]
[null,null,null,null,null,null,null,{"$f":"SUMIF(Report!C:C,B717,Report!J:J)","v":0},0,0,{"$f":"COUNTIF(Report!C:C,B717)","v":0}]
[null,null,null,null,null,null,null,{"$f":"SUMIF(Report!C:C,B718,Report!J:J)","v":0},0,0,{"$f":"COUNTIF(Report!C:C,B718)","v":0}]
[null,null,null,null,null,null,null,{"$f":"SUMIF(Report!C:C,B719,Report!J:J)","v":0},0,0,{"$f":"COUNTIF(Report!C:C,B719)","v":0}]
[null,null,null,null,null,null,null,{"$f":"SUMIF(Report!C:C,B720,Report!J:J)","v":0},0,0,{"$f":"COUNTIF(Report!C:C,B720)","v":0}]
[null,null,null,null,null,null,null,{"$f":"SUMIF(Report!C:C,B721,Report!J:J)","v":0},0,0,{"$f":"COUNTIF(Report!C:C,B721)","v":0}]
[null,null,null,null,null,null,null,{"$f":"SUMIF(Report!C:C,B722,Report!J:J)","v":0},0,0,{"$f":"COUNTIF(Report!C:C,B722)","v":0}]
[null,null,null,null,null,null,null,{"$f":"SUMIF(Report!C:C,B723,Report!J:J)","v":0},0,0,{"$f":"COUNTIF(Report!C:C,B723)","v":0}]
[null,null,null,null,null,null,null,{"$f":"SUMIF(Report!C:C,B724,Report!J:J)","v":0},0,0,{"$f":"COUNTIF(Report!C:C,B724)","v":0}]
[null,null,null,null,null,null,null,{"$f":"SUMIF(Report!C:C,B725,Report!J:J)","v":0},0,0,{"$f":"COUNTIF(Report!C:C,B725)","v":0}]
[null,null,null,null,null,null,null,{"$f":"SUMIF(Report!C:C,B726,Report!J:J)","v":0},0,0,{"$f":"COUNTIF(Report!C:C,B726)","v":0}]
[null,null,null,null,null,null,null,{"$f":"SUMIF(Report!C:C,B727,Report!J:J)","v":0},0,0,{"$f":"COUNTIF(Report!C:C,B727)","v":0}]
[null,null,null,null,null,null,null,{"$f":"SUMIF(Report!C:C,B728,Report!J:J)","v":0},0,0,{"$f":"COUNTIF(Report!C:C,B728)","v":0}]
[null,null,null,null,null,null,null,{"$f":"SUMIF(Report!C:C,B729,Report!J:J)","v":0},0,0,{"$f":"COUNTIF(Report!C:C,B729)","v":0}]
[null,null,null,null,null,null,null,{"$f":"SUMIF(Report!C:C,B730,Report!J:J)","v":0},0,0,{"$f":"COUNTIF(Report!C:C,B730)","v":0}]
[null,null,null,null,null,null,null,{"$f":"SUMIF(Report!C:C,B731,Report!J:J)","v":0},0,0,{"$f":"COUNTIF(Report!C:C,B731)","v":0}]
[null,null,null,null,null,null,null,{"$f":"SUMIF(Report!C:C,B732,Report!J:J)","v":0},0,0,{"$f":"COUNTIF(Report!C:C,B732)","v":0}]
[null,null,null,null,null,null,null,{"$f":"SUMIF(Report!C:C,B733,Report!J:J)","v":0},0,0,{"$f":"COUNTIF(Report!C:C,B733)","v":0}]
[null,null,null,null,null,null,null,{"$f":"SUMIF(Report!C:C,B734,Report!J:J)","v":0},0,0,{"$f":"COUNTIF(Report!C:C,B734)","v":0}]
[null,null,null,null,null,null,null,{"$f":"SUMIF(Report!C:C,B735,Report!J:J)","v":0},0,0,{"$f":"COUNTIF(Report!C:C,B735)","v":0}]
[null,null,null,null,null,null,null,{"$f":"SUMIF(Report!C:C,B736,Report!J:J)","v":0},0,0,{"$f":"COUNTIF(Report!C:C,B736)","v":0}]
[null,null,null,null,null,null,null,{"$f":"SUMIF(Report!C:C,B737,Report!J:J)","v":0},0,0,{"$f":"COUNTIF(Report!C:C,B737)","v":0}]
[null,null,null,null,null,null,null,{"$f":"SUMIF(Report!C:C,B738,Report!J:J)","v":0},0,0,{"$f":"COUNTIF(Report!C:C,B738)","v":0}]
[null,null,null,null,null,null,null,{"$f":"SUMIF(Report!C:C,B739,Report!J:J)","v":0},0,0,{"$f":"COUNTIF(Report!C:C,B739)","v":0}]
[null,null,null,null,null,null,null,{"$f":"SUMIF(Report!C:C,B740,Report!J:J)","v":0},0,0,{"$f":"COUNTIF(Report!C:C,B740)","v":0}]
[null,null,null,null,null,null,null,{"$f":"SUMIF(Report!C:C,B741,Report!J:J)","v":0},0,0,{"$f":"COUNTIF(Report!C:C,B741)","v":0}]
[null,null,null,null,null,null,null,{"$f":"SUMIF(Report!C:C,B742,Report!J:J)","v":0},0,0,{"$f":"COUNTIF(Report!C:C,B742)","v":0}]
[null,null,null,null,null,null,null,{"$f":"SUMIF(Report!C:C,B743,Report!J:J)","v":0},0,0,{"$f":"COUNTIF(Report!C:C,B743)","v":0}]
[null,null,null,null,null,null,null,{"$f":"SUMIF(Report!C:C,B744,Report!J:J)","v":0},0,0,{"$f":"COUNTIF(Report!C:C,B744)","v":0}]
[null,null,null,null,null,null,null,{"$f":"SUMIF(Report!C:C,B745,Report!J:J)","v":0},0,0,{"$f":"COUNTIF(Report!C:C,B745)","v":0}]
[null,null,null,null,null,null,null,{"$f":"SUMIF(Report!C:C,B746,Report!J:J)","v":0},0,0,{"$f":"COUNTIF(Report!C:C,B746)","v":0}]
[null,null,null,null,null,null,null,{"$f":"SUMIF(Report!C:C,B747,Report!J:J)","v":0},0,0,{"$f":"COUNTIF(Report!C:C,B747)","v":0}]
[null,null,null,null,null,null,null,{"$f":"SUMIF(Report!C:C,B748,Report!J:J)","v":0},0,0,{"$f":"COUNTIF(Report!C:C,B748)","v":0}]
[null,null,null,null,null,null,null,{"$f":"SUMIF(Report!C:C,B749,Report!J:J)","v":0},0,0,{"$f":"COUNTIF(Report!C:C,B749)","v":0}]
[null,null,null,null,null,null,null,{"$f":"SUMIF(Report!C:C,B750,Report!J:J)","v":0},0,0,{"$f":"COUNTIF(Report!C:C,B750)","v":0}]
[null,null,null,null,null,null,null,{"$f":"SUMIF(Report!C:C,B751,Report!J:J)","v":0},0,0,{"$f":"COUNTIF(Report!C:C,B751)","v":0}]
[null,null,null,null,null,null,null,{"$f":"SUMIF(Report!C:C,B752,Report!J:J)","v":0},0,0,{"$f":"COUNTIF(Report!C:C,B752)","v":0}]
[null,null,null,null,null,null,null,{"$f":"SUMIF(Report!C:C,B753,Report!J:J)","v":0},0,0,{"$f":"COUNTIF(Report!C:C,B753)","v":0}]
[null,null,null,null,null,null,null,{"$f":"SUMIF(Report!C:C,B754,Report!J:J)","v":0},0,0,{"$f":"COUNTIF(Report!C:C,B754)","v":0}]
[null,null,null,null,null,null,null,{"$f":"SUMIF(Report!C:C,B755,Report!J:J)","v":0},0,0,{"$f":"COUNTIF(Report!C:C,B755)","v":0}]
[null,null,null,null,null,null,null,{"$f":"SUMIF(Report!C:C,B756,Report!J:J)","v":0},0,0,{"$f":"COUNTIF(Report!C:C,B756)","v":0}]
[null,null,null,null,null,null,null,{"$f":"SUMIF(Report!C:C,B757,Report!J:J)","v":0},0,0,{"$f":"COUNTIF(Report!C:C,B757)","v":0}]
[null,null,null,null,null,null,null,{"$f":"SUMIF(Report!C:C,B758,Report!J:J)","v":0},0,0,{"$f":"COUNTIF(Report!C:C,B758)","v":0}]
[null,null,null,null,null,null,null,{"$f":"SUMIF(Report!C:C,B759,Report!J:J)","v":0},0,0,{"$f":"COUNTIF(Report!C:C,B759)","v":0}]
[null,null,null,null,null,null,null,{"$f":"SUMIF(Report!C:C,B760,Report!J:J)","v":0},0,0,{"$f":"COUNTIF(Report!C:C,B760)","v":0}]
[null,null,null,null,null,null,null,{"$f":"SUMIF(Report!C:C,B761,Report!J:J)","v":0},0,0,{"$f":"COUNTIF(Report!C:C,B761)","v":0}]
[null,null,null,null,null,null,null,{"$f":"SUMIF(Report!C:C,B762,Report!J:J)","v":0},0,0,{"$f":"COUNTIF(Report!C:C,B762)","v":0}]
[null,null,null,null,null,null,null,{"$f":"SUMIF(Report!C:C,B763,Report!J:J)","v":0},0,0,{"$f":"COUNTIF(Report!C:C,B763)","v":0}]
[null,null,null,null,null,null,null,{"$f":"SUMIF(Report!C:C,B764,Report!J:J)","v":0},0,0,{"$f":"COUNTIF(Report!C:C,B764)","v":0}]
[null,null,null,null,null,null,35000,{"$f":"SUMIF(Report!C:C,B765,Report!J:J)","v":0},0,0,{"$f":"COUNTIF(Report!C:C,B765)","v":0}]
[null,null,null,null,null,null,null,{"$f":"SUMIF(Report!C:C,B766,Report!J:J)","v":0},0,0,{"$f":"COUNTIF(Report!C:C,B766)","v":0}]
[null,null,null,null,null,null,null,{"$f":"SUMIF(Report!C:C,B767,Report!J:J)","v":0},0,0,{"$f":"COUNTIF(Report!C:C,B767)","v":0}]
[null,null,null,null,null,null,null,{"$f":"SUMIF(Report!C:C,B768,Report!J:J)","v":0},0,0,{"$f":"COUNTIF(Report!C:C,B768)","v":0}]
[null,null,null,null,null,null,null,{"$f":"SUMIF(Report!C:C,B769,Report!J:J)","v":0},0,0,{"$f":"COUNTIF(Report!C:C,B769)","v":0}]
[null,null,null,null,null,null,null,{"$f":"SUMIF(Report!C:C,B770,Report!J:J)","v":0},0,0,{"$f":"COUNTIF(Report!C:C,B770)","v":0}]
[null,null,null,null,null,null,null,{"$f":"SUMIF(Report!C:C,B771,Report!J:J)","v":0},{"$f":"IF($M$1=$L$1,H771*E771,+IF($M$1=$L$2,H771*F771,H771*G771))","v":0},{"$f":"IFERROR(I771/SUM($I$2:$I$2499),0)","v":0},{"$f":"COUNTIF(Report!C:C,B771)","v":0}]
[null,null,null,null,null,null,null,{"$f":"SUMIF(Report!C:C,B772,Report!J:J)","v":0},0,0,{"$f":"COUNTIF(Report!C:C,B772)","v":0}]
[null,null,null,null,null,null,null,{"$f":"SUMIF(Report!C:C,B773,Report!J:J)","v":0},0,0,{"$f":"COUNTIF(Report!C:C,B773)","v":0}]
[null,null,null,null,null,null,null,{"$f":"SUMIF(Report!C:C,B774,Report!J:J)","v":0},0,0,{"$f":"COUNTIF(Report!C:C,B774)","v":0}]
[null,null,null,null,null,null,null,{"$f":"SUMIF(Report!C:C,B775,Report!J:J)","v":0},0,0,{"$f":"COUNTIF(Report!C:C,B775)","v":0}]
[null,null,null,null,null,null,null,{"$f":"SUMIF(Report!C:C,B776,Report!J:J)","v":0},0,0,{"$f":"COUNTIF(Report!C:C,B776)","v":0}]
[null,null,null,null,null,null,null,{"$f":"SUMIF(Report!C:C,B777,Report!J:J)","v":0},0,0,{"$f":"COUNTIF(Report!C:C,B777)","v":0}]
[null,null,null,null,null,null,null,{"$f":"SUMIF(Report!C:C,B778,Report!J:J)","v":0},0,0,{"$f":"COUNTIF(Report!C:C,B778)","v":0}]
[null,null,null,null,null,null,null,{"$f":"SUMIF(Report!C:C,B779,Report!J:J)","v":0},0,0,{"$f":"COUNTIF(Report!C:C,B779)","v":0}]
[null,null,null,null,null,null,null,{"$f":"SUMIF(Report!C:C,B780,Report!J:J)","v":0},0,0,{"$f":"COUNTIF(Report!C:C,B780)","v":0}]
[null,null,null,null,null,null,null,{"$f":"SUMIF(Report!C:C,B781,Report!J:J)","v":0},0,0,{"$f":"COUNTIF(Report!C:C,B781)","v":0}]
[null,null,null,null,null,null,null,{"$f":"SUMIF(Report!C:C,B782,Report!J:J)","v":0},0,0,{"$f":"COUNTIF(Report!C:C,B782)","v":0}]
[null,null,null,null,null,null,null,{"$f":"SUMIF(Report!C:C,B783,Report!J:J)","v":0},0,0,{"$f":"COUNTIF(Report!C:C,B783)","v":0}]
[null,null,null,null,null,null,null,{"$f":"SUMIF(Report!C:C,B784,Report!J:J)","v":0},0,0,{"$f":"COUNTIF(Report!C:C,B784)","v":0}]
[null,null,null,null,null,null,null,{"$f":"SUMIF(Report!C:C,B785,Report!J:J)","v":0},0,0,{"$f":"COUNTIF(Report!C:C,B785)","v":0}]
[null,null,null,null,null,null,null,{"$f":"SUMIF(Report!C:C,B786,Report!J:J)","v":0},0,0,{"$f":"COUNTIF(Report!C:C,B786)","v":0}]
[null,null,null,null,null,null,null,{"$f":"SUMIF(Report!C:C,B787,Report!J:J)","v":0},0,0,{"$f":"COUNTIF(Report!C:C,B787)","v":0}]
[null,null,null,null,null,null,null,{"$f":"SUMIF(Report!C:C,B788,Report!J:J)","v":0},0,0,{"$f":"COUNTIF(Report!C:C,B788)","v":0}]
[null,null,null,null,null,null,null,{"$f":"SUMIF(Report!C:C,B789,Report!J:J)","v":0},0,0,{"$f":"COUNTIF(Report!C:C,B789)","v":0}]
[null,null,null,null,null,null,null,{"$f":"SUMIF(Report!C:C,B790,Report!J:J)","v":0},0,0,{"$f":"COUNTIF(Report!C:C,B790)","v":0}]
[null,null,null,null,null,null,null,{"$f":"SUMIF(Report!C:C,B791,Report!J:J)","v":0},0,0,{"$f":"COUNTIF(Report!C:C,B791)","v":0}]
[null,null,null,null,null,null,null,{"$f":"SUMIF(Report!C:C,B792,Report!J:J)","v":0},0,0,{"$f":"COUNTIF(Report!C:C,B792)","v":0}]
[null,null,null,null,null,null,null,{"$f":"SUMIF(Report!C:C,B793,Report!J:J)","v":0},0,0,{"$f":"COUNTIF(Report!C:C,B793)","v":0}]
[null,null,null,null,null,null,null,{"$f":"SUMIF(Report!C:C,B794,Report!J:J)","v":0},0,0,{"$f":"COUNTIF(Report!C:C,B794)","v":0}]
[null,null,null,null,null,null,null,{"$f":"SUMIF(Report!C:C,B795,Report!J:J)","v":0},0,0,{"$f":"COUNTIF(Report!C:C,B795)","v":0}]
[null,null,null,null,null,null,null,{"$f":"SUMIF(Report!C:C,B796,Report!J:J)","v":0},0,0,{"$f":"COUNTIF(Report!C:C,B796)","v":0}]
[null,null,null,null,null,null,null,{"$f":"SUMIF(Report!C:C,B797,Report!J:J)","v":0},0,0,{"$f":"COUNTIF(Report!C:C,B797)","v":0}]
[null,null,null,null,null,null,null,{"$f":"SUMIF(Report!C:C,B798,Report!J:J)","v":0},0,0,{"$f":"COUNTIF(Report!C:C,B798)","v":0}]
[null,null,null,null,null,null,null,{"$f":"SUMIF(Report!C:C,B799,Report!J:J)","v":0},0,0,{"$f":"COUNTIF(Report!C:C,B799)","v":0}]
[null,null,null,null,null,null,null,{"$f":"SUMIF(Report!C:C,B800,Report!J:J)","v":0},0,0,{"$f":"COUNTIF(Report!C:C,B800)","v":0}]
[null,null,null,null,null,null,null,{"$f":"SUMIF(Report!C:C,B801,Report!J:J)","v":0},0,0,{"$f":"COUNTIF(Report!C:C,B801)","v":0}]
[null,null,null,null,null,null,null,{"$f":"SUMIF(Report!C:C,B802,Report!J:J)","v":0},0,0,{"$f":"COUNTIF(Report!C:C,B802)","v":0}]
[null,null,null,null,null,null,null,{"$f":"SUMIF(Report!C:C,B803,Report!J:J)","v":0},0,0,{"$f":"COUNTIF(Report!C:C,B803)","v":0}]
[null,null,null,null,null,null,null,{"$f":"SUMIF(Report!C:C,B804,Report!J:J)","v":0},0,0,{"$f":"COUNTIF(Report!C:C,B804)","v":0}]
[null,null,null,null,null,null,null,{"$f":"SUMIF(Report!C:C,B805,Report!J:J)","v":0},0,0,{"$f":"COUNTIF(Report!C:C,B805)","v":0}]
[null,null,null,null,null,null,null,{"$f":"SUMIF(Report!C:C,B806,Report!J:J)","v":0},0,0,{"$f":"COUNTIF(Report!C:C,B806)","v":0}]
[null,null,null,null,null,null,null,{"$f":"SUMIF(Report!C:C,B807,Report!J:J)","v":0},0,0,{"$f":"COUNTIF(Report!C:C,B807)","v":0}]
[null,null,null,null,null,null,null,{"$f":"SUMIF(Report!C:C,B808,Report!J:J)","v":0},0,0,{"$f":"COUNTIF(Report!C:C,B808)","v":0}]
[null,null,null,null,null,null,null,{"$f":"SUMIF(Report!C:C,B809,Report!J:J)","v":0},0,0,{"$f":"COUNTIF(Report!C:C,B809)","v":0}]
[null,null,null,null,null,null,null,{"$f":"SUMIF(Report!C:C,B810,Report!J:J)","v":0},0,0,{"$f":"COUNTIF(Report!C:C,B810)","v":0}]
[null,null,null,null,null,null,null,{"$f":"SUMIF(Report!C:C,B811,Report!J:J)","v":0},0,0,{"$f":"COUNTIF(Report!C:C,B811)","v":0}]
[null,null,null,null,null,null,null,{"$f":"SUMIF(Report!C:C,B812,Report!J:J)","v":0},0,0,{"$f":"COUNTIF(Report!C:C,B812)","v":0}]
[null,null,null,null,null,null,null,{"$f":"SUMIF(Report!C:C,B813,Report!J:J)","v":0},0,0,{"$f":"COUNTIF(Report!C:C,B813)","v":0}]
[null,null,null,null,null,null,null,{"$f":"SUMIF(Report!C:C,B814,Report!J:J)","v":0},0,0,{"$f":"COUNTIF(Report!C:C,B814)","v":0}]
[null,null,null,null,null,null,null,{"$f":"SUMIF(Report!C:C,B815,Report!J:J)","v":0},0,0,{"$f":"COUNTIF(Report!C:C,B815)","v":0}]
[null,null,null,null,null,null,null,{"$f":"SUMIF(Report!C:C,B816,Report!J:J)","v":0},0,0,{"$f":"COUNTIF(Report!C:C,B816)","v":0}]
[null,null,null,null,null,null,null,{"$f":"SUMIF(Report!C:C,B817,Report!J:J)","v":0},0,0,{"$f":"COUNTIF(Report!C:C,B817)","v":0}]
[null,null,null,null,null,null,null,{"$f":"SUMIF(Report!C:C,B818,Report!J:J)","v":0},0,0,{"$f":"COUNTIF(Report!C:C,B818)","v":0}]
[null,null,null,null,null,null,null,{"$f":"SUMIF(Report!C:C,B819,Report!J:J)","v":0},0,0,{"$f":"COUNTIF(Report!C:C,B819)","v":0}]
[null,null,null,null,null,null,null,{"$f":"SUMIF(Report!C:C,B820,Report!J:J)","v":0},0,0,{"$f":"COUNTIF(Report!C:C,B820)","v":0}]
[null,null,null,null,null,null,null,{"$f":"SUMIF(Report!C:C,B821,Report!J:J)","v":0},0,0,{"$f":"COUNTIF(Report!C:C,B821)","v":0}]
[null,null,null,null,null,null,null,{"$f":"SUMIF(Report!C:C,B822,Report!J:J)","v":0},0,0,{"$f":"COUNTIF(Report!C:C,B822)","v":0}]
[null,null,null,null,null,null,null,{"$f":"SUMIF(Report!C:C,B823,Report!J:J)","v":0},0,0,{"$f":"COUNTIF(Report!C:C,B823)","v":0}]
[null,null,null,null,null,null,null,{"$f":"SUMIF(Report!C:C,B824,Report!J:J)","v":0},0,0,{"$f":"COUNTIF(Report!C:C,B824)","v":0}]
[null,null,null,null,null,null,null,{"$f":"SUMIF(Report!C:C,B825,Report!J:J)","v":0},0,0,{"$f":"COUNTIF(Report!C:C,B825)","v":0}]
[null,null,null,null,null,null,null,{"$f":"SUMIF(Report!C:C,B826,Report!J:J)","v":0},0,0,{"$f":"COUNTIF(Report!C:C,B826)","v":0}]
[null,null,null,null,null,null,null,{"$f":"SUMIF(Report!C:C,B827,Report!J:J)","v":0},0,0,{"$f":"COUNTIF(Report!C:C,B827)","v":0}]
[null,null,null,null,null,null,null,{"$f":"SUMIF(Report!C:C,B828,Report!J:J)","v":0},0,0,{"$f":"COUNTIF(Report!C:C,B828)","v":0}]
[null,null,null,null,null,null,null,{"$f":"SUMIF(Report!C:C,B829,Report!J:J)","v":0},0,0,{"$f":"COUNTIF(Report!C:C,B829)","v":0}]
[null,null,null,null,null,null,null,{"$f":"SUMIF(Report!C:C,B830,Report!J:J)","v":0},0,0,{"$f":"COUNTIF(Report!C:C,B830)","v":0}]
[null,null,null,null,null,null,null,{"$f":"SUMIF(Report!C:C,B831,Report!J:J)","v":0},0,0,{"$f":"COUNTIF(Report!C:C,B831)","v":0}]
[null,null,null,null,null,null,null,{"$f":"SUMIF(Report!C:C,B832,Report!J:J)","v":0},0,0,{"$f":"COUNTIF(Report!C:C,B832)","v":0}]
[null,null,null,null,null,null,null,{"$f":"SUMIF(Report!C:C,B833,Report!J:J)","v":0},0,0,{"$f":"COUNTIF(Report!C:C,B833)","v":0}]
[null,null,null,null,null,null,null,{"$f":"SUMIF(Report!C:C,B834,Report!J:J)","v":0},0,0,{"$f":"COUNTIF(Report!C:C,B834)","v":0}]
[null,null,null,null,null,null,null,{"$f":"SUMIF(Report!C:C,B835,Report!J:J)","v":0},{"$f":"IF($M$1=$L$1,H835*E835,+IF($M$1=$L$2,H835*F835,H835*G835))","v":0},{"$f":"IFERROR(I835/SUM($I$2:$I$2499),0)","v":0},{"$f":"COUNTIF(Report!C:C,B835)","v":0}]
[null,null,null,null,null,null,null,{"$f":"SUMIF(Report!C:C,B836,Report!J:J)","v":0},0,0,{"$f":"COUNTIF(Report!C:C,B836)","v":0}]
[null,null,null,null,null,null,null,{"$f":"SUMIF(Report!C:C,B837,Report!J:J)","v":0},0,0,{"$f":"COUNTIF(Report!C:C,B837)","v":0}]
[null,null,null,null,null,null,null,{"$f":"SUMIF(Report!C:C,B838,Report!J:J)","v":0},0,0,{"$f":"COUNTIF(Report!C:C,B838)","v":0}]
[null,null,null,null,null,null,null,{"$f":"SUMIF(Report!C:C,B839,Report!J:J)","v":0},0,0,{"$f":"COUNTIF(Report!C:C,B839)","v":0}]
[null,null,null,null,null,null,null,{"$f":"SUMIF(Report!C:C,B840,Report!J:J)","v":0},0,0,{"$f":"COUNTIF(Report!C:C,B840)","v":0}]
[null,null,null,null,null,null,null,{"$f":"SUMIF(Report!C:C,B841,Report!J:J)","v":0},0,0,{"$f":"COUNTIF(Report!C:C,B841)","v":0}]
[null,null,null,null,null,null,null,{"$f":"SUMIF(Report!C:C,B842,Report!J:J)","v":0},0,0,{"$f":"COUNTIF(Report!C:C,B842)","v":0}]
[null,null,null,null,null,null,null,{"$f":"SUMIF(Report!C:C,B843,Report!J:J)","v":0},0,0,{"$f":"COUNTIF(Report!C:C,B843)","v":0}]
[null,null,null,null,null,null,null,{"$f":"SUMIF(Report!C:C,B844,Report!J:J)","v":0},0,0,{"$f":"COUNTIF(Report!C:C,B844)","v":0}]
[null,null,null,null,null,null,null,{"$f":"SUMIF(Report!C:C,B845,Report!J:J)","v":0},0,0,{"$f":"COUNTIF(Report!C:C,B845)","v":0}]
[null,null,null,null,null,null,null,{"$f":"SUMIF(Report!C:C,B846,Report!J:J)","v":0},0,0,{"$f":"COUNTIF(Report!C:C,B846)","v":0}]
[null,null,null,null,null,null,null,{"$f":"SUMIF(Report!C:C,B847,Report!J:J)","v":0},0,0,{"$f":"COUNTIF(Report!C:C,B847)","v":0}]
[null,null,null,null,null,null,null,{"$f":"SUMIF(Report!C:C,B848,Report!J:J)","v":0},0,0,{"$f":"COUNTIF(Report!C:C,B848)","v":0}]
[null,null,null,null,null,null,null,{"$f":"SUMIF(Report!C:C,B849,Report!J:J)","v":0},0,0,{"$f":"COUNTIF(Report!C:C,B849)","v":0}]
[null,null,null,null,null,null,null,{"$f":"SUMIF(Report!C:C,B850,Report!J:J)","v":0},0,0,{"$f":"COUNTIF(Report!C:C,B850)","v":0}]
[null,null,null,null,null,null,null,{"$f":"SUMIF(Report!C:C,B851,Report!J:J)","v":0},0,0,{"$f":"COUNTIF(Report!C:C,B851)","v":0}]
[null,null,null,null,null,null,null,{"$f":"SUMIF(Report!C:C,B852,Report!J:J)","v":0},0,0,{"$f":"COUNTIF(Report!C:C,B852)","v":0}]
[null,null,null,null,null,null,null,{"$f":"SUMIF(Report!C:C,B853,Report!J:J)","v":0},0,0,{"$f":"COUNTIF(Report!C:C,B853)","v":0}]
[null,null,null,null,null,null,null,{"$f":"SUMIF(Report!C:C,B854,Report!J:J)","v":0},0,0,{"$f":"COUNTIF(Report!C:C,B854)","v":0}]
[null,null,null,null,null,null,null,{"$f":"SUMIF(Report!C:C,B855,Report!J:J)","v":0},0,0,{"$f":"COUNTIF(Report!C:C,B855)","v":0}]
[null,null,null,null,null,null,null,{"$f":"SUMIF(Report!C:C,B856,Report!J:J)","v":0},0,0,{"$f":"COUNTIF(Report!C:C,B856)","v":0}]
[null,null,null,null,null,null,null,{"$f":"SUMIF(Report!C:C,B857,Report!J:J)","v":0},0,0,{"$f":"COUNTIF(Report!C:C,B857)","v":0}]
[null,null,null,null,null,null,null,{"$f":"SUMIF(Report!C:C,B858,Report!J:J)","v":0},0,0,{"$f":"COUNTIF(Report!C:C,B858)","v":0}]
[null,null,null,null,null,null,null,{"$f":"SUMIF(Report!C:C,B859,Report!J:J)","v":0},0,0,{"$f":"COUNTIF(Report!C:C,B859)","v":0}]
[null,null,null,null,null,null,null,{"$f":"SUMIF(Report!C:C,B860,Report!J:J)","v":0},0,0,{"$f":"COUNTIF(Report!C:C,B860)","v":0}]
[null,null,null,null,null,null,null,{"$f":"SUMIF(Report!C:C,B861,Report!J:J)","v":0},0,0,{"$f":"COUNTIF(Report!C:C,B861)","v":0}]
[null,null,null,null,null,null,null,{"$f":"SUMIF(Report!C:C,B862,Report!J:J)","v":0},0,0,{"$f":"COUNTIF(Report!C:C,B862)","v":0}]
[null,null,null,null,null,null,null,{"$f":"SUMIF(Report!C:C,B863,Report!J:J)","v":0},0,0,{"$f":"COUNTIF(Report!C:C,B863)","v":0}]
[null,null,null,null,null,null,null,{"$f":"SUMIF(Report!C:C,B864,Report!J:J)","v":0},0,0,{"$f":"COUNTIF(Report!C:C,B864)","v":0}]
[null,null,null,null,null,null,null,{"$f":"SUMIF(Report!C:C,B865,Report!J:J)","v":0},0,0,{"$f":"COUNTIF(Report!C:C,B865)","v":0}]
[null,null,null,null,null,null,null,{"$f":"SUMIF(Report!C:C,B866,Report!J:J)","v":0},0,0,{"$f":"COUNTIF(Report!C:C,B866)","v":0}]
[null,null,null,null,null,null,null,{"$f":"SUMIF(Report!C:C,B867,Report!J:J)","v":0},0,0,{"$f":"COUNTIF(Report!C:C,B867)","v":0}]
[null,null,null,null,null,null,null,{"$f":"SUMIF(Report!C:C,B868,Report!J:J)","v":0},0,0,{"$f":"COUNTIF(Report!C:C,B868)","v":0}]
[null,null,null,null,null,null,null,{"$f":"SUMIF(Report!C:C,B869,Report!J:J)","v":0},0,0,{"$f":"COUNTIF(Report!C:C,B869)","v":0}]
[null,null,null,null,null,null,null,{"$f":"SUMIF(Report!C:C,B870,Report!J:J)","v":0},0,0,{"$f":"COUNTIF(Report!C:C,B870)","v":0}]
[null,null,null,null,null,null,null,{"$f":"SUMIF(Report!C:C,B871,Report!J:J)","v":0},0,0,{"$f":"COUNTIF(Report!C:C,B871)","v":0}]
[null,null,null,null,null,null,null,{"$f":"SUMIF(Report!C:C,B872,Report!J:J)","v":0},0,0,{"$f":"COUNTIF(Report!C:C,B872)","v":0}]
[null,null,null,null,null,null,null,{"$f":"SUMIF(Report!C:C,B873,Report!J:J)","v":0},0,0,{"$f":"COUNTIF(Report!C:C,B873)","v":0}]
[null,null,null,null,null,null,null,{"$f":"SUMIF(Report!C:C,B874,Report!J:J)","v":0},0,0,{"$f":"COUNTIF(Report!C:C,B874)","v":0}]
[null,null,null,null,null,null,null,{"$f":"SUMIF(Report!C:C,B875,Report!J:J)","v":0},0,0,{"$f":"COUNTIF(Report!C:C,B875)","v":0}]
[null,null,null,null,null,null,null,{"$f":"SUMIF(Report!C:C,B876,Report!J:J)","v":0},0,0,{"$f":"COUNTIF(Report!C:C,B876)","v":0}]
[null,null,null,null,null,null,null,{"$f":"SUMIF(Report!C:C,B877,Report!J:J)","v":0},0,0,{"$f":"COUNTIF(Report!C:C,B877)","v":0}]
[null,null,null,null,null,null,null,{"$f":"SUMIF(Report!C:C,B878,Report!J:J)","v":0},0,0,{"$f":"COUNTIF(Report!C:C,B878)","v":0}]
[null,null,null,null,null,null,null,{"$f":"SUMIF(Report!C:C,B879,Report!J:J)","v":0},0,0,{"$f":"COUNTIF(Report!C:C,B879)","v":0}]
[null,null,null,null,null,null,null,{"$f":"SUMIF(Report!C:C,B880,Report!J:J)","v":0},0,0,{"$f":"COUNTIF(Report!C:C,B880)","v":0}]
[null,null,null,null,null,null,null,{"$f":"SUMIF(Report!C:C,B881,Report!J:J)","v":0},0,0,{"$f":"COUNTIF(Report!C:C,B881)","v":0}]
[null,null,null,null,null,null,null,{"$f":"SUMIF(Report!C:C,B882,Report!J:J)","v":0},0,0,{"$f":"COUNTIF(Report!C:C,B882)","v":0}]
[null,null,null,null,null,null,null,{"$f":"SUMIF(Report!C:C,B883,Report!J:J)","v":0},0,0,{"$f":"COUNTIF(Report!C:C,B883)","v":0}]
[null,null,null,null,null,null,null,{"$f":"SUMIF(Report!C:C,B884,Report!J:J)","v":0},0,0,{"$f":"COUNTIF(Report!C:C,B884)","v":0}]
[null,null,null,null,null,null,null,{"$f":"SUMIF(Report!C:C,B885,Report!J:J)","v":0},0,0,{"$f":"COUNTIF(Report!C:C,B885)","v":0}]
[null,null,null,null,null,null,null,{"$f":"SUMIF(Report!C:C,B886,Report!J:J)","v":0},0,0,{"$f":"COUNTIF(Report!C:C,B886)","v":0}]
[null,null,null,null,null,null,null,{"$f":"SUMIF(Report!C:C,B887,Report!J:J)","v":0},0,0,{"$f":"COUNTIF(Report!C:C,B887)","v":0}]
[null,null,null,null,null,null,null,{"$f":"SUMIF(Report!C:C,B888,Report!J:J)","v":0},0,0,{"$f":"COUNTIF(Report!C:C,B888)","v":0}]
[null,null,null,null,null,null,null,{"$f":"SUMIF(Report!C:C,B889,Report!J:J)","v":0},0,0,{"$f":"COUNTIF(Report!C:C,B889)","v":0}]
[null,null,null,null,null,null,null,{"$f":"SUMIF(Report!C:C,B890,Report!J:J)","v":0},0,0,{"$f":"COUNTIF(Report!C:C,B890)","v":0}]
[null,null,null,null,null,null,null,{"$f":"SUMIF(Report!C:C,B891,Report!J:J)","v":0},0,0,{"$f":"COUNTIF(Report!C:C,B891)","v":0}]
[null,null,null,null,null,null,null,{"$f":"SUMIF(Report!C:C,B892,Report!J:J)","v":0},0,0,{"$f":"COUNTIF(Report!C:C,B892)","v":0}]
[null,null,null,null,null,null,null,{"$f":"SUMIF(Report!C:C,B893,Report!J:J)","v":0},0,0,{"$f":"COUNTIF(Report!C:C,B893)","v":0}]
[null,null,null,null,null,null,null,{"$f":"SUMIF(Report!C:C,B894,Report!J:J)","v":0},0,0,{"$f":"COUNTIF(Report!C:C,B894)","v":0}]
[null,null,null,null,null,null,null,{"$f":"SUMIF(Report!C:C,B895,Report!J:J)","v":0},0,0,{"$f":"COUNTIF(Report!C:C,B895)","v":0}]
[null,null,null,null,null,null,null,{"$f":"SUMIF(Report!C:C,B896,Report!J:J)","v":0},0,0,{"$f":"COUNTIF(Report!C:C,B896)","v":0}]
[null,null,null,null,null,null,null,{"$f":"SUMIF(Report!C:C,B897,Report!J:J)","v":0},0,0,{"$f":"COUNTIF(Report!C:C,B897)","v":0}]
[null,null,null,null,null,null,null,{"$f":"SUMIF(Report!C:C,B898,Report!J:J)","v":0},0,0,{"$f":"COUNTIF(Report!C:C,B898)","v":0}]
[null,null,null,null,null,null,null,{"$f":"SUMIF(Report!C:C,B899,Report!J:J)","v":0},{"$f":"IF($M$1=$L$1,H899*E899,+IF($M$1=$L$2,H899*F899,H899*G899))","v":0},{"$f":"IFERROR(I899/SUM($I$2:$I$2499),0)","v":0},{"$f":"COUNTIF(Report!C:C,B899)","v":0}]
[null,null,null,null,null,null,null,{"$f":"SUMIF(Report!C:C,B900,Report!J:J)","v":0},0,0,{"$f":"COUNTIF(Report!C:C,B900)","v":0}]
[null,null,null,null,null,null,null,{"$f":"SUMIF(Report!C:C,B901,Report!J:J)","v":0},0,0,{"$f":"COUNTIF(Report!C:C,B901)","v":0}]
[null,null,null,null,null,null,null,{"$f":"SUMIF(Report!C:C,B902,Report!J:J)","v":0},0,0,{"$f":"COUNTIF(Report!C:C,B902)","v":0}]
[null,null,null,null,null,null,null,{"$f":"SUMIF(Report!C:C,B903,Report!J:J)","v":0},0,0,{"$f":"COUNTIF(Report!C:C,B903)","v":0}]
[null,null,null,null,null,null,null,{"$f":"SUMIF(Report!C:C,B904,Report!J:J)","v":0},0,0,{"$f":"COUNTIF(Report!C:C,B904)","v":0}]
[null,null,null,null,null,null,null,{"$f":"SUMIF(Report!C:C,B905,Report!J:J)","v":0},0,0,{"$f":"COUNTIF(Report!C:C,B905)","v":0}]
[null,null,null,null,null,null,null,{"$f":"SUMIF(Report!C:C,B906,Report!J:J)","v":0},0,0,{"$f":"COUNTIF(Report!C:C,B906)","v":0}]
[null,null,null,null,null,null,null,{"$f":"SUMIF(Report!C:C,B907,Report!J:J)","v":0},0,0,{"$f":"COUNTIF(Report!C:C,B907)","v":0}]
[null,null,null,null,null,null,null,{"$f":"SUMIF(Report!C:C,B908,Report!J:J)","v":0},0,0,{"$f":"COUNTIF(Report!C:C,B908)","v":0}]
[null,null,null,null,null,null,null,{"$f":"SUMIF(Report!C:C,B909,Report!J:J)","v":0},0,0,{"$f":"COUNTIF(Report!C:C,B909)","v":0}]
[null,null,null,null,null,null,null,{"$f":"SUMIF(Report!C:C,B910,Report!J:J)","v":0},0,0,{"$f":"COUNTIF(Report!C:C,B910)","v":0}]
[null,null,null,null,null,null,null,{"$f":"SUMIF(Report!C:C,B911,Report!J:J)","v":0},0,0,{"$f":"COUNTIF(Report!C:C,B911)","v":0}]
[null,null,null,null,null,null,null,{"$f":"SUMIF(Report!C:C,B912,Report!J:J)","v":0},0,0,{"$f":"COUNTIF(Report!C:C,B912)","v":0}]
[null,null,null,null,null,null,null,{"$f":"SUMIF(Report!C:C,B913,Report!J:J)","v":0},0,0,{"$f":"COUNTIF(Report!C:C,B913)","v":0}]
[null,null,null,null,null,null,null,{"$f":"SUMIF(Report!C:C,B914,Report!J:J)","v":0},0,0,{"$f":"COUNTIF(Report!C:C,B914)","v":0}]
[null,null,null,null,null,null,null,{"$f":"SUMIF(Report!C:C,B915,Report!J:J)","v":0},0,0,{"$f":"COUNTIF(Report!C:C,B915)","v":0}]
[null,null,null,null,null,null,null,{"$f":"SUMIF(Report!C:C,B916,Report!J:J)","v":0},0,0,{"$f":"COUNTIF(Report!C:C,B916)","v":0}]
[null,null,null,null,null,null,null,{"$f":"SUMIF(Report!C:C,B917,Report!J:J)","v":0},0,0,{"$f":"COUNTIF(Report!C:C,B917)","v":0}]
[null,null,null,null,null,null,null,{"$f":"SUMIF(Report!C:C,B918,Report!J:J)","v":0},0,0,{"$f":"COUNTIF(Report!C:C,B918)","v":0}]
[null,null,null,null,null,null,null,{"$f":"SUMIF(Report!C:C,B919,Report!J:J)","v":0},0,0,{"$f":"COUNTIF(Report!C:C,B919)","v":0}]
[null,null,null,null,null,null,null,{"$f":"SUMIF(Report!C:C,B920,Report!J:J)","v":0},0,0,{"$f":"COUNTIF(Report!C:C,B920)","v":0}]
[null,null,null,null,null,null,null,{"$f":"SUMIF(Report!C:C,B921,Report!J:J)","v":0},0,0,{"$f":"COUNTIF(Report!C:C,B921)","v":0}]
[null,null,null,null,null,null,null,{"$f":"SUMIF(Report!C:C,B922,Report!J:J)","v":0},0,0,{"$f":"COUNTIF(Report!C:C,B922)","v":0}]
[null,null,null,null,null,null,null,{"$f":"SUMIF(Report!C:C,B923,Report!J:J)","v":0},0,0,{"$f":"COUNTIF(Report!C:C,B923)","v":0}]
[null,null,null,null,null,null,null,{"$f":"SUMIF(Report!C:C,B924,Report!J:J)","v":0},0,0,{"$f":"COUNTIF(Report!C:C,B924)","v":0}]
[null,null,null,null,null,null,null,{"$f":"SUMIF(Report!C:C,B925,Report!J:J)","v":0},0,0,{"$f":"COUNTIF(Report!C:C,B925)","v":0}]
[null,null,null,null,null,null,null,{"$f":"SUMIF(Report!C:C,B926,Report!J:J)","v":0},0,0,{"$f":"COUNTIF(Report!C:C,B926)","v":0}]
[null,null,null,null,null,null,null,{"$f":"SUMIF(Report!C:C,B927,Report!J:J)","v":0},0,0,{"$f":"COUNTIF(Report!C:C,B927)","v":0}]
[null,null,null,null,null,null,null,{"$f":"SUMIF(Report!C:C,B928,Report!J:J)","v":0},0,0,{"$f":"COUNTIF(Report!C:C,B928)","v":0}]
[null,null,null,null,null,null,null,{"$f":"SUMIF(Report!C:C,B929,Report!J:J)","v":0},0,0,{"$f":"COUNTIF(Report!C:C,B929)","v":0}]
[null,null,null,null,null,null,null,{"$f":"SUMIF(Report!C:C,B930,Report!J:J)","v":0},0,0,{"$f":"COUNTIF(Report!C:C,B930)","v":0}]
[null,null,null,null,null,null,null,{"$f":"SUMIF(Report!C:C,B931,Report!J:J)","v":0},0,0,{"$f":"COUNTIF(Report!C:C,B931)","v":0}]
[null,null,null,null,null,null,null,{"$f":"SUMIF(Report!C:C,B932,Report!J:J)","v":0},0,0,{"$f":"COUNTIF(Report!C:C,B932)","v":0}]
[null,null,null,null,null,null,null,{"$f":"SUMIF(Report!C:C,B933,Report!J:J)","v":0},0,0,{"$f":"COUNTIF(Report!C:C,B933)","v":0}]
[null,null,null,null,null,null,null,{"$f":"SUMIF(Report!C:C,B934,Report!J:J)","v":0},0,0,{"$f":"COUNTIF(Report!C:C,B934)","v":0}]
[null,null,null,null,null,null,null,{"$f":"SUMIF(Report!C:C,B935,Report!J:J)","v":0},0,0,{"$f":"COUNTIF(Report!C:C,B935)","v":0}]
[null,null,null,null,null,null,null,{"$f":"SUMIF(Report!C:C,B936,Report!J:J)","v":0},0,0,{"$f":"COUNTIF(Report!C:C,B936)","v":0}]
[null,null,null,null,null,null,null,{"$f":"SUMIF(Report!C:C,B937,Report!J:J)","v":0},0,0,{"$f":"COUNTIF(Report!C:C,B937)","v":0}]
[null,null,null,null,null,null,null,{"$f":"SUMIF(Report!C:C,B938,Report!J:J)","v":0},0,0,{"$f":"COUNTIF(Report!C:C,B938)","v":0}]
[null,null,null,null,null,null,null,{"$f":"SUMIF(Report!C:C,B939,Report!J:J)","v":0},0,0,{"$f":"COUNTIF(Report!C:C,B939)","v":0}]
[null,null,null,null,null,null,null,{"$f":"SUMIF(Report!C:C,B940,Report!J:J)","v":0},0,0,{"$f":"COUNTIF(Report!C:C,B940)","v":0}]
[null,null,null,null,null,null,null,{"$f":"SUMIF(Report!C:C,B941,Report!J:J)","v":0},0,0,{"$f":"COUNTIF(Report!C:C,B941)","v":0}]
[null,null,null,null,null,null,null,{"$f":"SUMIF(Report!C:C,B942,Report!J:J)","v":0},0,0,{"$f":"COUNTIF(Report!C:C,B942)","v":0}]
[null,null,null,null,null,null,null,{"$f":"SUMIF(Report!C:C,B943,Report!J:J)","v":0},0,0,{"$f":"COUNTIF(Report!C:C,B943)","v":0}]
[null,null,null,null,null,null,null,{"$f":"SUMIF(Report!C:C,B944,Report!J:J)","v":0},0,0,{"$f":"COUNTIF(Report!C:C,B944)","v":0}]
[null,null,null,null,null,null,null,{"$f":"SUMIF(Report!C:C,B945,Report!J:J)","v":0},0,0,{"$f":"COUNTIF(Report!C:C,B945)","v":0}]
[null,null,null,null,null,null,null,{"$f":"SUMIF(Report!C:C,B946,Report!J:J)","v":0},0,0,{"$f":"COUNTIF(Report!C:C,B946)","v":0}]
[null,null,null,null,null,null,null,{"$f":"SUMIF(Report!C:C,B947,Report!J:J)","v":0},0,0,{"$f":"COUNTIF(Report!C:C,B947)","v":0}]
[null,null,null,null,null,null,null,{"$f":"SUMIF(Report!C:C,B948,Report!J:J)","v":0},0,0,{"$f":"COUNTIF(Report!C:C,B948)","v":0}]
[null,null,null,null,null,null,null,{"$f":"SUMIF(Report!C:C,B949,Report!J:J)","v":0},0,0,{"$f":"COUNTIF(Report!C:C,B949)","v":0}]
[null,null,null,null,null,null,null,{"$f":"SUMIF(Report!C:C,B950,Report!J:J)","v":0},0,0,{"$f":"COUNTIF(Report!C:C,B950)","v":0}]
[null,null,null,null,null,null,null,{"$f":"SUMIF(Report!C:C,B951,Report!J:J)","v":0},0,0,{"$f":"COUNTIF(Report!C:C,B951)","v":0}]
[null,null,null,null,null,null,null,{"$f":"SUMIF(Report!C:C,B952,Report!J:J)","v":0},0,0,{"$f":"COUNTIF(Report!C:C,B952)","v":0}]
[null,null,null,null,null,null,null,{"$f":"SUMIF(Report!C:C,B953,Report!J:J)","v":0},0,0,{"$f":"COUNTIF(Report!C:C,B953)","v":0}]
[null,null,null,null,null,null,null,{"$f":"SUMIF(Report!C:C,B954,Report!J:J)","v":0},0,0,{"$f":"COUNTIF(Report!C:C,B954)","v":0}]
[null,null,null,null,null,null,null,{"$f":"SUMIF(Report!C:C,B955,Report!J:J)","v":0},0,0,{"$f":"COUNTIF(Report!C:C,B955)","v":0}]
[null,null,null,null,null,null,null,{"$f":"SUMIF(Report!C:C,B956,Report!J:J)","v":0},0,0,{"$f":"COUNTIF(Report!C:C,B956)","v":0}]
[null,null,null,null,null,null,null,{"$f":"SUMIF(Report!C:C,B957,Report!J:J)","v":0},0,0,{"$f":"COUNTIF(Report!C:C,B957)","v":0}]
[null,null,null,null,null,null,null,{"$f":"SUMIF(Report!C:C,B958,Report!J:J)","v":0},0,0,{"$f":"COUNTIF(Report!C:C,B958)","v":0}]
[null,null,null,null,null,null,null,{"$f":"SUMIF(Report!C:C,B959,Report!J:J)","v":0},0,0,{"$f":"COUNTIF(Report!C:C,B959)","v":0}]
[null,null,null,null,null,null,null,{"$f":"SUMIF(Report!C:C,B960,Report!J:J)","v":0},0,0,{"$f":"COUNTIF(Report!C:C,B960)","v":0}]
[null,null,null,null,null,null,null,{"$f":"SUMIF(Report!C:C,B961,Report!J:J)","v":0},0,0,{"$f":"COUNTIF(Report!C:C,B961)","v":0}]
[null,null,null,null,null,null,null,{"$f":"SUMIF(Report!C:C,B962,Report!J:J)","v":0},0,0,{"$f":"COUNTIF(Report!C:C,B962)","v":0}]
[null,null,null,null,null,null,null,{"$f":"SUMIF(Report!C:C,B963,Report!J:J)","v":0},{"$f":"IF($M$1=$L$1,H963*E963,+IF($M$1=$L$2,H963*F963,H963*G963))","v":0},{"$f":"IFERROR(I963/SUM($I$2:$I$2499),0)","v":0},{"$f":"COUNTIF(Report!C:C,B963)","v":0}]
[null,null,null,null,null,null,null,{"$f":"SUMIF(Report!C:C,B964,Report!J:J)","v":0},0,0,{"$f":"COUNTIF(Report!C:C,B964)","v":0}]
[null,null,null,null,null,null,null,{"$f":"SUMIF(Report!C:C,B965,Report!J:J)","v":0},0,0,{"$f":"COUNTIF(Report!C:C,B965)","v":0}]
[null,null,null,null,null,null,null,{"$f":"SUMIF(Report!C:C,B966,Report!J:J)","v":0},0,0,{"$f":"COUNTIF(Report!C:C,B966)","v":0}]
[null,null,null,null,null,null,null,{"$f":"SUMIF(Report!C:C,B967,Report!J:J)","v":0},0,0,{"$f":"COUNTIF(Report!C:C,B967)","v":0}]
[null,null,null,null,null,null,null,{"$f":"SUMIF(Report!C:C,B968,Report!J:J)","v":0},0,0,{"$f":"COUNTIF(Report!C:C,B968)","v":0}]
[null,null,null,null,null,null,null,{"$f":"SUMIF(Report!C:C,B969,Report!J:J)","v":0},0,0,{"$f":"COUNTIF(Report!C:C,B969)","v":0}]
[null,null,null,null,null,null,null,{"$f":"SUMIF(Report!C:C,B970,Report!J:J)","v":0},0,0,{"$f":"COUNTIF(Report!C:C,B970)","v":0}]
[null,null,null,null,null,null,null,{"$f":"SUMIF(Report!C:C,B971,Report!J:J)","v":0},0,0,{"$f":"COUNTIF(Report!C:C,B971)","v":0}]
[null,null,null,null,null,null,null,{"$f":"SUMIF(Report!C:C,B972,Report!J:J)","v":0},0,0,{"$f":"COUNTIF(Report!C:C,B972)","v":0}]
[null,null,null,null,null,null,null,{"$f":"SUMIF(Report!C:C,B973,Report!J:J)","v":0},0,0,{"$f":"COUNTIF(Report!C:C,B973)","v":0}]
[null,null,null,null,null,null,null,{"$f":"SUMIF(Report!C:C,B974,Report!J:J)","v":0},0,0,{"$f":"COUNTIF(Report!C:C,B974)","v":0}]
[null,null,null,null,null,null,null,{"$f":"SUMIF(Report!C:C,B975,Report!J:J)","v":0},0,0,{"$f":"COUNTIF(Report!C:C,B975)","v":0}]
[null,null,null,null,null,null,null,{"$f":"SUMIF(Report!C:C,B976,Report!J:J)","v":0},0,0,{"$f":"COUNTIF(Report!C:C,B976)","v":0}]
[null,null,null,null,null,null,null,{"$f":"SUMIF(Report!C:C,B977,Report!J:J)","v":0},0,0,{"$f":"COUNTIF(Report!C:C,B977)","v":0}]
[null,null,null,null,null,null,null,{"$f":"SUMIF(Report!C:C,B978,Report!J:J)","v":0},0,0,{"$f":"COUNTIF(Report!C:C,B978)","v":0}]
[null,null,null,null,null,null,null,{"$f":"SUMIF(Report!C:C,B979,Report!J:J)","v":0},0,0,{"$f":"COUNTIF(Report!C:C,B979)","v":0}]
[null,null,null,null,null,null,null,{"$f":"SUMIF(Report!C:C,B980,Report!J:J)","v":0},0,0,{"$f":"COUNTIF(Report!C:C,B980)","v":0}]
[null,null,null,null,null,null,null,{"$f":"SUMIF(Report!C:C,B981,Report!J:J)","v":0},0,0,{"$f":"COUNTIF(Report!C:C,B981)","v":0}]
[null,null,null,null,null,null,null,{"$f":"SUMIF(Report!C:C,B982,Report!J:J)","v":0},0,0,{"$f":"COUNTIF(Report!C:C,B982)","v":0}]
[null,null,null,null,null,null,null,{"$f":"SUMIF(Report!C:C,B983,Report!J:J)","v":0},0,0,{"$f":"COUNTIF(Report!C:C,B983)","v":0}]
[null,null,null,null,null,null,null,{"$f":"SUMIF(Report!C:C,B984,Report!J:J)","v":0},0,0,{"$f":"COUNTIF(Report!C:C,B984)","v":0}]
[null,null,null,null,null,null,null,{"$f":"SUMIF(Report!C:C,B985,Report!J:J)","v":0},0,0,{"$f":"COUNTIF(Report!C:C,B985)","v":0}]
[null,null,null,null,null,null,null,{"$f":"SUMIF(Report!C:C,B986,Report!J:J)","v":0},0,0,{"$f":"COUNTIF(Report!C:C,B986)","v":0}]
[null,null,null,null,null,null,null,{"$f":"SUMIF(Report!C:C,B987,Report!J:J)","v":0},0,0,{"$f":"COUNTIF(Report!C:C,B987)","v":0}]
[null,null,null,null,null,null,null,{"$f":"SUMIF(Report!C:C,B988,Report!J:J)","v":0},0,0,{"$f":"COUNTIF(Report!C:C,B988)","v":0}]
[null,null,null,null,null,null,null,{"$f":"SUMIF(Report!C:C,B989,Report!J:J)","v":0},0,0,{"$f":"COUNTIF(Report!C:C,B989)","v":0}]
[null,null,null,null,null,null,null,{"$f":"SUMIF(Report!C:C,B990,Report!J:J)","v":0},0,0,{"$f":"COUNTIF(Report!C:C,B990)","v":0}]
[null,null,null,null,null,null,null,{"$f":"SUMIF(Report!C:C,B991,Report!J:J)","v":0},0,0,{"$f":"COUNTIF(Report!C:C,B991)","v":0}]
[null,null,null,null,null,null,null,{"$f":"SUMIF(Report!C:C,B992,Report!J:J)","v":0},0,0,{"$f":"COUNTIF(Report!C:C,B992)","v":0}]
[null,null,null,null,null,null,null,{"$f":"SUMIF(Report!C:C,B993,Report!J:J)","v":0},0,0,{"$f":"COUNTIF(Report!C:C,B993)","v":0}]
[null,null,null,null,null,null,null,{"$f":"SUMIF(Report!C:C,B994,Report!J:J)","v":0},0,0,{"$f":"COUNTIF(Report!C:C,B994)","v":0}]
[null,null,null,null,null,null,null,{"$f":"SUMIF(Report!C:C,B995,Report!J:J)","v":0},0,0,{"$f":"COUNTIF(Report!C:C,B995)","v":0}]
[null,null,null,null,null,null,null,{"$f":"SUMIF(Report!C:C,B996,Report!J:J)","v":0},0,0,{"$f":"COUNTIF(Report!C:C,B996)","v":0}]
[null,null,null,null,null,null,null,{"$f":"SUMIF(Report!C:C,B997,Report!J:J)","v":0},0,0,{"$f":"COUNTIF(Report!C:C,B997)","v":0}]
[null,null,null,null,null,null,null,{"$f":"SUMIF(Report!C:C,B998,Report!J:J)","v":0},0,0,{"$f":"COUNTIF(Report!C:C,B998)","v":0}]
[null,null,null,null,null,null,null,{"$f":"SUMIF(Report!C:C,B999,Report!J:J)","v":0},0,0,{"$f":"COUNTIF(Report!C:C,B999)","v":0}]
[null,null,null,null,null,null,null,{"$f":"SUMIF(Report!C:C,B1000,Report!J:J)","v":0},0,0,{"$f":"COUNTIF(Report!C:C,B1000)","v":0}]
[null,null,null,null,null,null,null,{"$f":"SUMIF(Report!C:C,B1001,Report!J:J)","v":0},0,0,{"$f":"COUNTIF(Report!C:C,B1001)","v":0}]
[null,null,null,null,null,null,null,{"$f":"SUMIF(Report!C:C,B1002,Report!J:J)","v":0},0,0,{"$f":"COUNTIF(Report!C:C,B1002)","v":0}]
[null,null,null,null,null,null,null,{"$f":"SUMIF(Report!C:C,B1003,Report!J:J)","v":0},0,0,{"$f":"COUNTIF(Report!C:C,B1003)","v":0}]
[null,null,null,null,null,null,null,{"$f":"SUMIF(Report!C:C,B1004,Report!J:J)","v":0},0,0,{"$f":"COUNTIF(Report!C:C,B1004)","v":0}]
[null,null,null,null,null,null,null,{"$f":"SUMIF(Report!C:C,B1005,Report!J:J)","v":0},0,0,{"$f":"COUNTIF(Report!C:C,B1005)","v":0}]
[null,null,null,null,null,null,null,{"$f":"SUMIF(Report!C:C,B1006,Report!J:J)","v":0},0,0,{"$f":"COUNTIF(Report!C:C,B1006)","v":0}]
[null,null,null,null,null,null,null,{"$f":"SUMIF(Report!C:C,B1007,Report!J:J)","v":0},0,0,{"$f":"COUNTIF(Report!C:C,B1007)","v":0}]
[null,null,null,null,null,null,null,{"$f":"SUMIF(Report!C:C,B1008,Report!J:J)","v":0},0,0,{"$f":"COUNTIF(Report!C:C,B1008)","v":0}]
[null,null,null,null,null,null,null,{"$f":"SUMIF(Report!C:C,B1009,Report!J:J)","v":0},0,0,{"$f":"COUNTIF(Report!C:C,B1009)","v":0}]
[null,null,null,null,null,null,null,{"$f":"SUMIF(Report!C:C,B1010,Report!J:J)","v":0},0,0,{"$f":"COUNTIF(Report!C:C,B1010)","v":0}]
[null,null,null,null,null,null,null,{"$f":"SUMIF(Report!C:C,B1011,Report!J:J)","v":0},0,0,{"$f":"COUNTIF(Report!C:C,B1011)","v":0}]
[null,null,null,null,null,null,null,{"$f":"SUMIF(Report!C:C,B1012,Report!J:J)","v":0},0,0,{"$f":"COUNTIF(Report!C:C,B1012)","v":0}]
[null,null,null,null,null,null,null,{"$f":"SUMIF(Report!C:C,B1013,Report!J:J)","v":0},0,0,{"$f":"COUNTIF(Report!C:C,B1013)","v":0}]
[null,null,null,null,null,null,null,{"$f":"SUMIF(Report!C:C,B1014,Report!J:J)","v":0},0,0,{"$f":"COUNTIF(Report!C:C,B1014)","v":0}]
[null,null,null,null,null,null,null,{"$f":"SUMIF(Report!C:C,B1015,Report!J:J)","v":0},0,0,{"$f":"COUNTIF(Report!C:C,B1015)","v":0}]
[null,null,null,null,null,null,null,{"$f":"SUMIF(Report!C:C,B1016,Report!J:J)","v":0},{"$f":"IF($M$1=$L$1,H1016*E1016,+IF($M$1=$L$2,H1016*F1016,H1016*G1016))","v":0},0,{"$f":"COUNTIF(Report!C:C,B1016)","v":0}]
[null,null,null,null,null,null,null,{"$f":"SUMIF(Report!C:C,B1017,Report!J:J)","v":0},{"$f":"IF($M$1=$L$1,H1017*E1017,+IF($M$1=$L$2,H1017*F1017,H1017*G1017))","v":0},0,{"$f":"COUNTIF(Report!C:C,B1017)","v":0}]
[null,null,null,null,null,null,null,{"$f":"SUMIF(Report!C:C,B1018,Report!J:J)","v":0},0,0,{"$f":"COUNTIF(Report!C:C,B1018)","v":0}]
[null,null,null,null,null,null,null,{"$f":"SUMIF(Report!C:C,B1019,Report!J:J)","v":0},0,0,{"$f":"COUNTIF(Report!C:C,B1019)","v":0}]
[null,null,null,null,null,null,null,{"$f":"SUMIF(Report!C:C,B1020,Report!J:J)","v":0},0,0,{"$f":"COUNTIF(Report!C:C,B1020)","v":0}]
[null,null,null,null,null,null,null,{"$f":"SUMIF(Report!C:C,B1021,Report!J:J)","v":0},0,0,{"$f":"COUNTIF(Report!C:C,B1021)","v":0}]
[null,null,null,null,null,null,null,{"$f":"SUMIF(Report!C:C,B1022,Report!J:J)","v":0},0,0,{"$f":"COUNTIF(Report!C:C,B1022)","v":0}]
[null,null,null,null,null,null,null,null,0,0,{"$f":"COUNTIF(Report!C:C,B1023)","v":0}]
[null,null,null,null,null,null,null,null,0,0]
[null,null,null,null,null,null,null,null,0,0]
[null,null,null,null,null,null,null,null,0,0]
[null,null,null,null,null,null,null,null,0,{"$f":"IFERROR(I1027/SUM($I$2:$I$2499),0)","v":0}]
[null,null,null,null,null,null,null,null,0,0]
[null,null,null,null,null,null,null,null,0,0]
[null,null,null,null,null,null,null,null,0,0]
[null,null,null,null,null,null,null,null,0,0]
[null,null,null,null,null,null,null,null,0,0]
[null,null,null,null,null,null,null,null,0,0]
[null,null,null,null,null,null,null,null,0,0]
[null,null,null,null,null,null,null,null,0,0]
[null,null,null,null,null,null,null,null,0,0]
[null,null,null,null,null,null,null,null,0,0]
[null,null,null,null,null,null,null,null,0,0]
[null,null,null,null,null,null,null,null,0,0]
[null,null,null,null,null,null,null,null,0,0]
[null,null,null,null,null,null,null,null,0,0]
[null,null,null,null,null,null,null,null,0,0]
[null,null,null,null,null,null,null,null,0,0]
[null,null,null,null,null,null,null,null,0,0]
[null,null,null,null,null,null,null,null,0,0]
[null,null,null,null,null,null,null,null,0,0]
[null,null,null,null,null,null,null,null,0,0]
[null,null,null,null,null,null,null,null,0,0]
[null,null,null,null,null,null,null,null,0,0]
[null,null,null,null,null,null,null,null,0,0]
[null,null,null,null,null,null,null,null,0,0]
[null,null,null,null,null,null,null,null,0,0]
[null,null,null,null,null,null,null,null,0,0]
[null,null,null,null,null,null,null,null,0,0]
[null,null,null,null,null,null,null,null,0,0]
[null,null,null,null,null,null,null,null,0,0]
[null,null,null,null,null,null,null,null,0,0]
[null,null,null,null,null,null,null,null,0,0]
[null,null,null,null,null,null,null,null,0,0]
[null,null,null,null,null,null,null,null,0,0]
[null,null,null,null,null,null,null,null,0,0]
[null,null,null,null,null,null,null,null,0,0]
[null,null,null,null,null,null,null,null,0,0]
[null,null,null,null,null,null,null,null,0,0]
[null,null,null,null,null,null,null,null,0,0]
[null,null,null,null,null,null,null,null,0,0]
[null,null,null,null,null,null,null,null,0,0]
[null,null,null,null,null,null,null,null,0,0]
[null,null,null,null,null,null,null,null,0,0]
[null,null,null,null,null,null,null,null,0,0]
[null,null,null,null,null,null,null,null,0,0]
[null,null,null,null,null,null,null,null,0,0]
[null,null,null,null,null,null,null,null,0,0]
[null,null,null,null,null,null,null,null,0,0]
[null,null,null,null,null,null,null,null,0,0]
[null,null,null,null,null,null,null,null,0,0]
[null,null,null,null,null,null,null,null,0,0]
[null,null,null,null,null,null,null,null,0,0]
[null,null,null,null,null,null,null,null,0,0]
[null,null,null,null,null,null,null,null,0,0]
[null,null,null,null,null,null,null,null,{"$f":"IF($M$1=$L$1,H1081*E1081,+IF($M$1=$L$2,H1081*F1081,H1081*G1081))","v":0},0]
[null,null,null,null,null,null,null,null,0,0]
[null,null,null,null,null,null,null,null,0,0]
[null,null,null,null,null,null,null,null,0,0]
[null,null,null,null,null,null,null,null,0,0]
[null,null,null,null,null,null,null,null,0,0]
[null,null,null,null,null,null,null,null,0,0]
[null,null,null,null,null,null,null,null,0,0]
[null,null,null,null,null,null,null,null,0,0]
[null,null,null,null,null,null,null,null,0,0]
[null,null,null,null,null,null,null,null,0,{"$f":"IFERROR(I1091/SUM($I$2:$I$2499),0)","v":0}]
[null,null,null,null,null,null,null,null,0,0]
[null,null,null,null,null,null,null,null,0,0]
[null,null,null,null,null,null,null,null,0,0]
[null,null,null,null,null,null,null,null,0,0]
[null,null,null,null,null,null,null,null,0,0]
[null,null,null,null,null,null,null,null,0,0]
[null,null,null,null,null,null,null,null,0,0]
[null,null,null,null,null,null,null,null,0,0]
[null,null,null,null,null,null,null,null,0,0]
[null,null,null,null,null,null,null,null,0,0]
[null,null,null,null,null,null,null,null,0,0]
[null,null,null,null,null,null,null,null,0,0]
[null,null,null,null,null,null,null,null,0,0]
[null,null,null,null,null,null,null,null,0,0]
[null,null,null,null,null,null,null,null,0,0]
[null,null,null,null,null,null,null,null,0,0]
[null,null,null,null,null,null,null,null,0,0]
[null,null,null,null,null,null,null,null,0,0]
[null,null,null,null,null,null,null,null,0,0]
[null,null,null,null,null,null,null,null,0,0]
[null,null,null,null,null,null,null,null,0,0]
[null,null,null,null,null,null,null,null,0,0]
[null,null,null,null,null,null,null,null,0,0]
[null,null,null,null,null,null,null,null,0,0]
[null,null,null,null,null,null,null,null,0,0]
[null,null,null,null,null,null,null,null,0,0]
[null,null,null,null,null,null,null,null,0,0]
[null,null,null,null,null,null,null,null,0,0]
[null,null,null,null,null,null,null,null,0,0]
[null,null,null,null,null,null,null,null,0,0]
[null,null,null,null,null,null,null,null,0,0]
[null,null,null,null,null,null,null,null,0,0]
[null,null,null,null,null,null,null,null,0,0]
[null,null,null,null,null,null,null,null,0,0]
[null,null,null,null,null,null,null,null,0,0]
[null,null,null,null,null,null,null,null,0,0]
[null,null,null,null,null,null,null,null,0,0]
[null,null,null,null,null,null,null,null,0,0]
[null,null,null,null,null,null,null,null,0,0]
[null,null,null,null,null,null,null,null,0,0]
[null,null,null,null,null,null,null,null,0,0]
[null,null,null,null,null,null,null,null,0,0]
[null,null,null,null,null,null,null,null,0,0]
[null,null,null,null,null,null,null,null,0,0]
[null,null,null,null,null,null,null,null,0,0]
[null,null,null,null,null,null,null,null,0,0]
[null,null,null,null,null,null,null,null,0,0]
[null,null,null,null,null,null,null,null,0,0]
[null,null,null,null,null,null,null,null,0,0]
[null,null,null,null,null,null,null,null,0,0]
[null,null,null,null,null,null,null,null,0,0]
[null,null,null,null,null,null,null,null,0,0]
[null,null,null,null,null,null,null,null,0,0]
[null,null,null,null,null,null,null,null,{"$f":"IF($M$1=$L$1,H1145*E1145,+IF($M$1=$L$2,H1145*F1145,H1145*G1145))","v":0},0]
[null,null,null,null,null,null,null,null,0,0]
[null,null,null,null,null,null,null,null,0,0]
[null,null,null,null,null,null,null,null,0,0]
[null,null,null,null,null,null,null,null,0,0]
[null,null,null,null,null,null,null,null,0,0]
[null,null,null,null,null,null,null,null,0,0]
[null,null,null,null,null,null,null,null,0,0]
[null,null,null,null,null,null,null,null,0,0]
[null,null,null,null,null,null,null,null,0,0]
[null,null,null,null,null,null,null,null,0,{"$f":"IFERROR(I1155/SUM($I$2:$I$2499),0)","v":0}]
[null,null,null,null,null,null,null,null,0,0]
[null,null,null,null,null,null,null,null,0,0]
[null,null,null,null,null,null,null,null,0,0]
[null,null,null,null,null,null,null,null,0,0]
[null,null,null,null,null,null,null,null,0,0]
[null,null,null,null,null,null,null,null,0,0]
[null,null,null,null,null,null,null,null,0,0]
[null,null,null,null,null,null,null,null,0,0]
[null,null,null,null,null,null,null,null,0,0]
[null,null,null,null,null,null,null,null,0,0]
[null,null,null,null,null,null,null,null,0,0]
[null,null,null,null,null,null,null,null,0,0]
[null,null,null,null,null,null,null,null,0,0]
[null,null,null,null,null,null,null,null,0,0]
[null,null,null,null,null,null,null,null,0,0]
[null,null,null,null,null,null,null,null,0,0]
[null,null,null,null,null,null,null,null,0,0]
[null,null,null,null,null,null,null,null,0,0]
[null,null,null,null,null,null,null,null,0,0]
[null,null,null,null,null,null,null,null,0,0]
[null,null,null,null,null,null,null,null,0,0]
[null,null,null,null,null,null,null,null,0,0]
[null,null,null,null,null,null,null,null,0,0]
[null,null,null,null,null,null,null,null,0,0]
[null,null,null,null,null,null,null,null,0,0]
[null,null,null,null,null,null,null,null,0,0]
[null,null,null,null,null,null,null,null,0,0]
[null,null,null,null,null,null,null,null,0,0]
[null,null,null,null,null,null,null,null,0,0]
[null,null,null,null,null,null,null,null,0,0]
[null,null,null,null,null,null,null,null,0,0]
[null,null,null,null,null,null,null,null,0,0]
[null,null,null,null,null,null,null,null,0,0]
[null,null,null,null,null,null,null,null,0,0]
[null,null,null,null,null,null,null,null,0,0]
[null,null,null,null,null,null,null,null,0,0]
[null,null,null,null,null,null,null,null,0,0]
[null,null,null,null,null,null,null,null,0,0]
[null,null,null,null,null,null,null,null,0,0]
[null,null,null,null,null,null,null,null,0,0]
[null,null,null,null,null,null,null,null,0,0]
[null,null,null,null,null,null,null,null,0,0]
[null,null,null,null,null,null,null,null,0,0]
[null,null,null,null,null,null,null,null,0,0]
[null,null,null,null,null,null,null,null,0,0]
[null,null,null,null,null,null,null,null,0,0]
[null,null,null,null,null,null,null,null,0,0]
[null,null,null,null,null,null,null,null,0,0]
[null,null,null,null,null,null,null,null,0,0]
[null,null,null,null,null,null,null,null,0,0]
[null,null,null,null,null,null,null,null,0,0]
[null,null,null,null,null,null,null,null,0,0]
[null,null,null,null,null,null,null,null,0,0]
[null,null,null,null,null,null,null,null,{"$f":"IF($M$1=$L$1,H1209*E1209,+IF($M$1=$L$2,H1209*F1209,H1209*G1209))","v":0},0]
[null,null,null,null,null,null,null,null,0,0]
[null,null,null,null,null,null,null,null,0,0]
[null,null,null,null,null,null,null,null,0,0]
[null,null,null,null,null,null,null,null,0,0]
[null,null,null,null,null,null,null,null,0,0]
[null,null,null,null,null,null,null,null,0,0]
[null,null,null,null,null,null,null,null,0,0]
[null,null,null,null,null,null,null,null,0,0]
[null,null,null,null,null,null,null,null,0,0]
[null,null,null,null,null,null,null,null,0,{"$f":"IFERROR(I1219/SUM($I$2:$I$2499),0)","v":0}]
[null,null,null,null,null,null,null,null,0,0]
[null,null,null,null,null,null,null,null,0,0]
[null,null,null,null,null,null,null,null,0,0]
[null,null,null,null,null,null,null,null,0,0]
[null,null,null,null,null,null,null,null,0,0]
[null,null,null,null,null,null,null,null,0,0]
[null,null,null,null,null,null,null,null,0,0]
[null,null,null,null,null,null,null,null,0,0]
[null,null,null,null,null,null,null,null,0,0]
[null,null,null,null,null,null,null,null,0,0]
[null,null,null,null,null,null,null,null,0,0]
[null,null,null,null,null,null,null,null,0,0]
[null,null,null,null,null,null,null,null,0,0]
[null,null,null,null,null,null,null,null,0,0]
[null,null,null,null,null,null,null,null,0,0]
[null,null,null,null,null,null,null,null,0,0]
[null,null,null,null,null,null,null,null,0,0]
[null,null,null,null,null,null,null,null,0,0]
[null,null,null,null,null,null,null,null,0,0]
[null,null,null,null,null,null,null,null,0,0]
[null,null,null,null,null,null,null,null,0,0]
[null,null,null,null,null,null,null,null,0,0]
[null,null,null,null,null,null,null,null,0,0]
[null,null,null,null,null,null,null,null,0,0]
[null,null,null,null,null,null,null,null,0,0]
[null,null,null,null,null,null,null,null,0,0]
[null,null,null,null,null,null,null,null,0,0]
[null,null,null,null,null,null,null,null,0,0]
[null,null,null,null,null,null,null,null,0,0]
[null,null,null,null,null,null,null,null,0,0]
[null,null,null,null,null,null,null,null,0,0]
[null,null,null,null,null,null,null,null,0,0]
[null,null,null,null,null,null,null,null,0,0]
[null,null,null,null,null,null,null,null,0,0]
[null,null,null,null,null,null,null,null,0,0]
[null,null,null,null,null,null,null,null,0,0]
[null,null,null,null,null,null,null,null,0,0]
[null,null,null,null,null,null,null,null,0,0]
[null,null,null,null,null,null,null,null,0,0]
[null,null,null,null,null,null,null,null,0,0]
[null,null,null,null,null,null,null,null,0,0]
[null,null,null,null,null,null,null,null,0,0]
[null,null,null,null,null,null,null,null,0,0]
[null,null,null,null,null,null,null,null,0,0]
[null,null,null,null,null,null,null,null,0,0]
[null,null,null,null,null,null,null,null,0,0]
[null,null,null,null,null,null,null,null,0,0]
[null,null,null,null,null,null,null,null,0,0]
[null,null,null,null,null,null,null,null,0,0]
[null,null,null,null,null,null,null,null,0,0]
[null,null,null,null,null,null,null,null,0,0]
[null,null,null,null,null,null,null,null,0,0]
[null,null,null,null,null,null,null,null,0,0]
[null,null,null,null,null,null,null,null,{"$f":"IF($M$1=$L$1,H1273*E1273,+IF($M$1=$L$2,H1273*F1273,H1273*G1273))","v":0},0]
[null,null,null,null,null,null,null,null,0,0]
[null,null,null,null,null,null,null,null,0,0]
[null,null,null,null,null,null,null,null,0,0]
[null,null,null,null,null,null,null,null,0,0]
[null,null,null,null,null,null,null,null,0,0]
[null,null,null,null,null,null,null,null,0,0]
[null,null,null,null,null,null,null,null,0,0]
[null,null,null,null,null,null,null,null,0,0]
[null,null,null,null,null,null,null,null,0,0]
[null,null,null,null,null,null,null,null,0,{"$f":"IFERROR(I1283/SUM($I$2:$I$2499),0)","v":0}]
[null,null,null,null,null,null,null,null,0,0]
[null,null,null,null,null,null,null,null,0,0]
[null,null,null,null,null,null,null,null,0,0]
[null,null,null,null,null,null,null,null,0,0]
[null,null,null,null,null,null,null,null,0,0]
[null,null,null,null,null,null,null,null,0,0]
[null,null,null,null,null,null,null,null,0,0]
[null,null,null,null,null,null,null,null,0,0]
[null,null,null,null,null,null,null,null,0,0]
[null,null,null,null,null,null,null,null,0,0]
[null,null,null,null,null,null,null,null,0,0]
[null,null,null,null,null,null,null,null,0,0]
[null,null,null,null,null,null,null,null,0,0]
[null,null,null,null,null,null,null,null,0,0]
[null,null,null,null,null,null,null,null,0,0]
[null,null,null,null,null,null,null,null,0,0]
[null,null,null,null,null,null,null,null,0,0]
[null,null,null,null,null,null,null,null,0,0]
[null,null,null,null,null,null,null,null,0,0]
[null,null,null,null,null,null,null,null,0,0]
[null,null,null,null,null,null,null,null,0,0]
[null,null,null,null,null,null,null,null,0,0]
[null,null,null,null,null,null,null,null,0,0]
[null,null,null,null,null,null,null,null,0,0]
[null,null,null,null,null,null,null,null,0,0]
[null,null,null,null,null,null,null,null,0,0]
[null,null,null,null,null,null,null,null,0,0]
[null,null,null,null,null,null,null,null,0,0]
[null,null,null,null,null,null,null,null,0,0]
[null,null,null,null,null,null,null,null,0,0]
[null,null,null,null,null,null,null,null,0,0]
[null,null,null,null,null,null,null,null,0,0]
[null,null,null,null,null,null,null,null,0,0]
[null,null,null,null,null,null,null,null,0,0]
[null,null,null,null,null,null,null,null,0,0]
[null,null,null,null,null,null,null,null,0,0]
[null,null,null,null,null,null,null,null,0,0]
[null,null,null,null,null,null,null,null,0,0]
[null,null,null,null,null,null,null,null,0,0]
[null,null,null,null,null,null,null,null,0,0]
[null,null,null,null,null,null,null,null,0,0]
[null,null,null,null,null,null,null,null,0,0]
[null,null,null,null,null,null,null,null,0,0]
[null,null,null,null,null,null,null,null,0,0]
[null,null,null,null,null,null,null,null,0,0]
[null,null,null,null,null,null,null,null,0,0]
[null,null,null,null,null,null,null,null,0,0]
[null,null,null,null,null,null,null,null,0,0]
[null,null,null,null,null,null,null,null,0,0]
[null,null,null,null,null,null,null,null,0,0]
[null,null,null,null,null,null,null,null,0,0]
[null,null,null,null,null,null,null,null,0,0]
[null,null,null,null,null,null,null,null,0,0]
[null,null,null,null,null,null,null,null,{"$f":"IF($M$1=$L$1,H1337*E1337,+IF($M$1=$L$2,H1337*F1337,H1337*G1337))","v":0},0]
[null,null,null,null,null,null,null,null,0,0]
[null,null,null,null,null,null,null,null,0,0]
[null,null,null,null,null,null,null,null,0,0]
[null,null,null,null,null,null,null,null,0,0]
[null,null,null,null,null,null,null,null,0,0]
[null,null,null,null,null,null,null,null,0,0]
[null,null,null,null,null,null,null,null,0,0]
[null,null,null,null,null,null,null,null,0,0]
[null,null,null,null,null,null,null,null,0,0]
[null,null,null,null,null,null,null,null,0,{"$f":"IFERROR(I1347/SUM($I$2:$I$2499),0)","v":0}]
[null,null,null,null,null,null,null,null,0,0]
[null,null,null,null,null,null,null,null,0,0]
[null,null,null,null,null,null,null,null,0,0]
[null,null,null,null,null,null,null,null,0,0]
[null,null,null,null,null,null,null,null,0,0]
[null,null,null,null,null,null,null,null,0,0]
[null,null,null,null,null,null,null,null,0,0]
[null,null,null,null,null,null,null,null,0,0]
[null,null,null,null,null,null,null,null,0,0]
[null,null,null,null,null,null,null,null,0,0]
[null,null,null,null,null,null,null,null,0,0]
[null,null,null,null,null,null,null,null,0,0]
[null,null,null,null,null,null,null,null,0,0]
[null,null,null,null,null,null,null,null,0,0]
[null,null,null,null,null,null,null,null,0,0]
[null,null,null,null,null,null,null,null,0,0]
[null,null,null,null,null,null,null,null,0,0]
[null,null,null,null,null,null,null,null,0,0]
[null,null,null,null,null,null,null,null,0,0]
[null,null,null,null,null,null,null,null,0,0]
[null,null,null,null,null,null,null,null,0,0]
[null,null,null,null,null,null,null,null,0,0]
[null,null,null,null,null,null,null,null,0,0]
[null,null,null,null,null,null,null,null,0,0]
[null,null,null,null,null,null,null,null,0,0]
[null,null,null,null,null,null,null,null,0,0]
[null,null,null,null,null,null,null,null,0,0]
[null,null,null,null,null,null,null,null,0,0]
[null,null,null,null,null,null,null,null,0,0]
[null,null,null,null,null,null,null,null,0,0]
[null,null,null,null,null,null,null,null,0,0]
[null,null,null,null,null,null,null,null,0,0]
[null,null,null,null,null,null,null,null,0,0]
[null,null,null,null,null,null,null,null,0,0]
[null,null,null,null,null,null,null,null,0,0]
[null,null,null,null,null,null,null,null,0,0]
[null,null,null,null,null,null,null,null,0,0]
[null,null,null,null,null,null,null,null,0,0]
[null,null,null,null,null,null,null,null,0,0]
[null,null,null,null,null,null,null,null,0,0]
[null,null,null,null,null,null,null,null,0,0]
[null,null,null,null,null,null,null,null,0,0]
[null,null,null,null,null,null,null,null,0,0]
[null,null,null,null,null,null,null,null,0,0]
[null,null,null,null,null,null,null,null,0,0]
[null,null,null,null,null,null,null,null,0,0]
[null,null,null,null,null,null,null,null,0,0]
[null,null,null,null,null,null,null,null,0,0]
[null,null,null,null,null,null,null,null,0,0]
[null,null,null,null,null,null,null,null,0,0]
[null,null,null,null,null,null,null,null,0,0]
[null,null,null,null,null,null,null,null,0,0]
[null,null,null,null,null,null,null,null,0,0]
[null,null,null,null,null,null,null,null,{"$f":"IF($M$1=$L$1,H1401*E1401,+IF($M$1=$L$2,H1401*F1401,H1401*G1401))","v":0},0]
[null,null,null,null,null,null,null,null,0,0]
[null,null,null,null,null,null,null,null,0,0]
[null,null,null,null,null,null,null,null,0,0]
[null,null,null,null,null,null,null,null,0,0]
[null,null,null,null,null,null,null,null,0,0]
[null,null,null,null,null,null,null,null,0,0]
[null,null,null,null,null,null,null,null,0,0]
[null,null,null,null,null,null,null,null,0,0]
[null,null,null,null,null,null,null,null,0,0]
[null,null,null,null,null,null,null,null,0,{"$f":"IFERROR(I1411/SUM($I$2:$I$2499),0)","v":0}]
[null,null,null,null,null,null,null,null,0,0]
[null,null,null,null,null,null,null,null,0,0]
[null,null,null,null,null,null,null,null,0,0]
[null,null,null,null,null,null,null,null,0,0]
[null,null,null,null,null,null,null,null,0,0]
[null,null,null,null,null,null,null,null,0,0]
[null,null,null,null,null,null,null,null,0,0]
[null,null,null,null,null,null,null,null,0,0]
[null,null,null,null,null,null,null,null,0,0]
[null,null,null,null,null,null,null,null,0,0]
[null,null,null,null,null,null,null,null,0,0]
[null,null,null,null,null,null,null,null,0,0]
[null,null,null,null,null,null,null,null,0,0]
[null,null,null,null,null,null,null,null,0,0]
[null,null,null,null,null,null,null,null,0,0]
[null,null,null,null,null,null,null,null,0,0]
[null,null,null,null,null,null,null,null,0,0]
[null,null,null,null,null,null,null,null,0,0]
[null,null,null,null,null,null,null,null,0,0]
[null,null,null,null,null,null,null,null,0,0]
[null,null,null,null,null,null,null,null,0,0]
[null,null,null,null,null,null,null,null,0,0]
[null,null,null,null,null,null,null,null,0,0]
[null,null,null,null,null,null,null,null,0,0]
[null,null,null,null,null,null,null,null,0,0]
[null,null,null,null,null,null,null,null,0,0]
[null,null,null,null,null,null,null,null,0,0]
[null,null,null,null,null,null,null,null,0,0]
[null,null,null,null,null,null,null,null,0,0]
[null,null,null,null,null,null,null,null,0,0]
[null,null,null,null,null,null,null,null,0,0]
[null,null,null,null,null,null,null,null,0,0]
[null,null,null,null,null,null,null,null,0,0]
[null,null,null,null,null,null,null,null,0,0]
[null,null,null,null,null,null,null,null,0,0]
[null,null,null,null,null,null,null,null,0,0]
[null,null,null,null,null,null,null,null,0,0]
[null,null,null,null,null,null,null,null,0,0]
[null,null,null,null,null,null,null,null,0,0]
[null,null,null,null,null,null,null,null,0,0]
[null,null,null,null,null,null,null,null,0,0]
[null,null,null,null,null,null,null,null,0,0]
[null,null,null,null,null,null,null,null,0,0]
[null,null,null,null,null,null,null,null,0,0]
[null,null,null,null,null,null,null,null,0,0]
[null,null,null,null,null,null,null,null,0,0]
[null,null,null,null,null,null,null,null,0,0]
[null,null,null,null,null,null,null,null,0,0]
[null,null,null,null,null,null,null,null,0,0]
[null,null,null,null,null,null,null,null,0,0]
[null,null,null,null,null,null,null,null,0,0]
[null,null,null,null,null,null,null,null,0,0]
[null,null,null,null,null,null,null,null,0,0]
[null,null,null,null,null,null,null,null,{"$f":"IF($M$1=$L$1,H1465*E1465,+IF($M$1=$L$2,H1465*F1465,H1465*G1465))","v":0},0]
[null,null,null,null,null,null,null,null,0,0]
[null,null,null,null,null,null,null,null,0,0]
[null,null,null,null,null,null,null,null,0,0]
[null,null,null,null,null,null,null,null,0,0]
[null,null,null,null,null,null,null,null,0,0]
[null,null,null,null,null,null,null,null,0,0]
[null,null,null,null,null,null,null,null,0,0]
[null,null,null,null,null,null,null,null,0,0]
[null,null,null,null,null,null,null,null,0,0]
[null,null,null,null,null,null,null,null,0,{"$f":"IFERROR(I1475/SUM($I$2:$I$2499),0)","v":0}]
[null,null,null,null,null,null,null,null,0,0]
[null,null,null,null,null,null,null,null,0,0]
[null,null,null,null,null,null,null,null,0,0]
[null,null,null,null,null,null,null,null,0,0]
[null,null,null,null,null,null,null,null,0,0]
[null,null,null,null,null,null,null,null,0,0]
[null,null,null,null,null,null,null,null,0,0]
[null,null,null,null,null,null,null,null,0,0]
[null,null,null,null,null,null,null,null,0,0]
[null,null,null,null,null,null,null,null,0,0]
[null,null,null,null,null,null,null,null,0,0]
[null,null,null,null,null,null,null,null,0,0]
[null,null,null,null,null,null,null,null,0,0]
[null,null,null,null,null,null,null,null,0,0]
[null,null,null,null,null,null,null,null,0,0]
[null,null,null,null,null,null,null,null,0,0]
[null,null,null,null,null,null,null,null,0,0]
[null,null,null,null,null,null,null,null,0,0]
[null,null,null,null,null,null,null,null,0,0]
[null,null,null,null,null,null,null,null,0,0]
[null,null,null,null,null,null,null,null,0,0]
[null,null,null,null,null,null,null,null,0,0]
[null,null,null,null,null,null,null,null,0,0]
[null,null,null,null,null,null,null,null,0,0]
[null,null,null,null,null,null,null,null,null,0]
[]
[]
[]
[]
[]
[]
[]
[]
[]
[]
[]
[]
[]
[]
[]
[]
[]
[]
[]
[]
[]
[]
[]
[]
[]
[]
[]
[]
[]
[]
[]
[]
[]
[]
[]
[]
[]
[]
[]
[]
[]
[]
[]
[]
[]
[]
[]
[]
[]
[]
[]
[]
[]
[]
[]
[]
[]
[]
[]
[]
[]
[]
[]
[]
[]
[]
[]
[]
[]
[]
[]
[]
[]
[]
[]
[]
[]
[]
[]
[]
[]
[]
[]
[]
[]
[]
[]
[]
[]
[]
[]
[]
[]
[]
[]
[]
[]
[]
[]
[]
[]
[]
[]
[]
[]
[]
[]
[]
[]
[]
[]
[]
[]
[]
[]
[]
[]
[]
[]
[]
[]
[]
[]
[]
[]
[]
[]
[]
[]
[]
[]
[]
[]
[]
[]
[]
[]
[]
[]
[]
[]
[]
[]
[]
[]
[]
[]
[]
[]
[]
[]
[]
[]
[]
[]
[]
[]
[]
[]
[]
[]
[]
[]
[]
[]
[]
[]
[]
[]
[]
[]
[]
[]
[]
[]
[]
[]
[]
[]
[]
[]
[]
[]
[]
[]
[]
[]
[]
[]
[]
[]
[]
[]
[]
[]
[]
[]
[]
[]
[]
[]
[]
[]
[]
[]
[]
[]
[]
[]
[]
[]
[]
[]
[]
[]
[]
[]
[]
[]
[]
[]
[]
[]
[]
[]
[]
[]
[]
[]
[]
[]
[]
[]
[]
[]
[]
[]
[]
[]
[]
[]
[]
[]
[]
[]
[]
[]
[]
[]
[]
[]
[]
[]
[]
[]
[]
[]
[]
[]
[]
[]
[]
[]
[]
[]
[]
[]
[]
[]
[]
[]
[]
[]
[]
[]
[]
[]
[]
[]
[]
[]
[]
[]
[]
[]
[]
[]
[]
[]
[]
[]
[]
[]
[]
[]
[]
[]
[]
[]
[]
[]
[]
[]
[]
[]
[]
[]
[]
[]
[]
[]
[]
[]
[]
[]
[]
[]
[]
[]
[]
[]
[]
[]
[]
[]
[]
[]
[]
[]
[]
[]
[]
[]
[]
[]
[]
[]
[]
[]
[]
[]
[]
[]
[]
[]
[]
[]
[]
[]
[]
[]
[]
[]
[]
[]
[]
[]
[]
[]
[]
[]
[]
[]
[]
[]
[]
[]
[]
[]
[]
[]
[]
[]
[]
[]
[]
[]
[]
[]
[]
[]
[]
[]
[]
[]
[]
[]
[]
[]
[]
[]
[]
[]
[]
[]
[]
[]
[]
[]
[]
[]
[]
[]
[]
[]
[]
[]
[]
[]
[]
[]
[]
[]
[]
[]
[]
[]
[]
[]
[]
[]
[]
[]
[]
[]
[]
[]
[]
[]
[]
[]
[]
[]
[]
[]
[]
[]
[]
[]
[]
[]
[]
[]
[]
[]
[]
[]
[]
[]
[]
[]
[]
[]
[]
[]
[]
[]
[]
[]
[]
[]
[]
[]
[]
[]
[]
[]
[]
[]
[]
[]
[]
[]
[]
[]
[]
[]
[]
[]
[]
[]
[]
[]
[]
[]
[]
[]
[]
[]
[]
[]
[]
[]
[]
[]
[]
[]
[]
[]
[]
[]
[]
[]
[]
[]
[]
[]
[]
[]
[]
[]
[]
[]
[]
[]
[]
[]
[]
[]
[]
[]
[]
[]
[]
[]
[]
[]
[]
[]
[]
[]
[]
[]
[]
[]
[]
[]
[]
[]
[]
[]
[]
[]
[]
[]
[]
[]
[]
[]
[]
[]
[]
[]
[]
[]
[]
[]
[]
[]
[]
[]
[]
[]
[]
[]
[]
[]
[]
[]
[]
[]
[]
[]
[]
[]
[]
[]
[]
[]
[]
[]
[]
[]
[]
[]
[]
[]
[]
[]
[]
[]
[]
[]
[]
[]
[]
[]
[]
[]
[]
[]
[]
[]
[]
[]
[]
[]
[]
[]
[]
[]
[]
[]
[]
[]
[]
[]
[]
[]
[]
[]
[]
[]
[]
[]
[]
[]
[]
[]
[]
[]
[]
[]
[]
[]
[]
[]
[]
[]
[]
[]
[]
[]
[]
[]
[]
[]
[]
[]
[]
[]
[]
[]
[]
[]
[]
[]
[]
[]
[]
[]
[]
[]
[]
[]
[]
[]
[]
[]
[]
[]
[]
[]
[]
[]
[]
[]
[]
[]
[]
[]
[]
[]
[]
[]
[]
[]
[]
[]
[]
[]
[]
[]
[]
[]
[]
[]
[]
[]
[]
[]
[]
[]
[]
[]
[]
[]
[]
[]
[]
[]
[]
[]
[]
[]
[]
[]
[]
[]
[]
[]
[]
[]
[]
[]
[]
[]
[]
[]
[]
[]
[]
[]
[]
[]
[]
[]
[]
[]
[]
[]
[]
[]
[]
[]
[]
[]
[]
[]
[]
[]
[]
[]
[]
[]
[]
[]
[]
[]
[]
[]
[]
[]
[]
[]
[]
[]
[]
[]
[]
[]
[]
[]
[]
[]
[]
[]
[]
[]
[]
[]
[]
[]
[]
[]
[]
[]
[]
[]
[]
[]
[]
[]
[]
[]
[]
[]
[]
[]
[]
[]
[]
[]
[]
[]
[]
[]
[]
[]
[]
[]
[]
[]
[]
[]
[]
[]
[]
[]
[]
[]
[]
[]
[]
[]
[]
[]
[]
[]
[]
[]
[]
[]
[]
[]
[]
[]
[]
[]
[]
[]
[]
[]
[]
[]
[]
[]
[]
[]
[]
[]
[]
[]
[]
[]
[]
[]
[]
[]
[]
[]
[]
[]
[]
[]
[]
[]
[]
[]
[]
[]
[]
[]
[]
[]
[]
[]
[]
[]
[]
[]
[]
[]
[]
[]
[]
[]
[]
[]
[]
[]
[]
[]
[]
[]
[]
[]
[]
[]
[]
[]
[]
[]
[]
[]
[]
[]
[]
[]
[]
[]
[]
[]
[]
[]
[]
[]
[]
[]
[]
[]
[]
[]
[]
[]
[]
[]
[]
[]
[]
[]
[]
[]
[]
[]
[]
[]
[]
[]
[]
[]
[]
[]
[]
[]
[]
[]
[]
[]
[]
[]
[]
[]
[]
[]
[]
[]
[]
[]
[]
[]
[]
[]
[]
[]
[]
[]
[]
[]
[]
[]
[]
[]
[]
[]
[]
[]
[]
[]
[]
[]
[]
[]
[]
[]
[]
[]
[]
[]
[]
[]
[]
[]
[]
[]
[]
[]
[]
[]
[]
[]
[]
[]
[]
[]
[]
[]
[]
[]
[]
[]
[]
[]
[]
[]
[]
[]
[]
[]
[]
[]
[]
[]
[]
[]
[]
[]
[]
[]
[]
[]
[]
[]
[]
[]
[]
[]
[]
[]
[]
[]
[]
[]
[]
[]
[]
[]
[]
[]
[]
[]
[]
[]
[]
[]
[]
[]
[]
[]
[]
[]
[]
[]
[]
[]
[]
[]
[]
[]
[]
[]
[]
[]
[]
[]
[]
[]
[]
[]
[]
[]
[]
[]
[]
[]
[]
[]
[]
[]
[]
[]
[]
[]
[]
[]
[]
[]
[]
[]
[]
[]
[]
[]
[]
[]
[]
[]
[]
[]
[]
[]
[]
[]
[]
[]
[]
[]
[]
[]
[]
[]
[]
[]
[]
[]
[]
[]
[]
[]
[]
[]
[]
[]
[]
[]
[]
[]
[]
[]
[]
[]
[]
[]
[]
[]
[]
[]
[]
[]
[]
[]
[]
[]
[]
[]
[]
[]
[]
[]
[]
[]
[]
[]
[]
[]
[]
[]
[]
[]
[]
[]
[]
[]
[]
[]
[]
[]
[]
[]
[]
[]
[]
[]
[]
[]
[]
[]
[]
[]
[]
[]
[]
[]
[]
[]
[]
[]
[]
[]
[]
[]
[]
[]
[]
[]
[]
[]
[]
[]
[]
[]
[]
[]
[]
[]
[]
[]
[]
[]
[]
[]
[]
[]
[]
[]
[]
[]
[]
[]
[]
[]
[]
[]
[]
[]
[]
[]
[]
[]
[]
[]
[]
[]
[]
[]
[]
[]
[]
[]
[]
[]
[]
[]
[]
[]
[]
[]
[]
[]
[]
[]
[]
[]
[]
[]
[]
[]
[]
[]
[]
[]
[]
[]
[]
[]
[]
[]
[null,null,0]

{"sheet":"Report","index":5,"n_rows":82,"n_cols":10,"rows_kept":82,"cut":false,"hidden":false,"merged":[[0,1,0,8],[1,1,1,8],[2,5,2,8],[3,5,3,8],[2,1,2,4],[3,1,3,4],[38,1,38,2],[38,4,38,7],[56,1,56,3],[56,6,56,7],[57,1,57,3],[57,4,57,7],[5,1,5,3],[5,4,7,8],[12,1,12,3],[12,6,12,7],[51,1,51,3],[51,6,51,7],[19,4,19,7],[18,1,18,3],[18,6,18,7],[19,1,19,3],[20,1,20,2],[20,4,20,7],[21,1,21,2],[21,4,21,7],[24,1,24,3],[24,4,26,8],[31,1,31,3],[31,6,31,7],[58,1,58,2],[58,4,58,7],[62,1,62,3],[62,4,64,8],[59,1,59,2],[59,4,59,7],[41,1,41,3],[41,4,43,8],[35,1,35,3],[35,6,35,7],[36,1,36,3],[36,4,36,7],[37,1,37,2],[37,4,37,7],[79,1,79,2],[79,4,79,7],[80,1,80,2],[80,4,80,7],[72,1,72,3],[72,6,72,7],[77,1,77,3],[77,6,77,7],[78,1,78,3],[78,4,78,7]]}
[null,"«جدول 5 . تجزیه بهای اقلام کار»"]
[null,{"$f":"'D2'!B1","v":"فهرست بهای واحد پایه رشته راه، باندفرودگاه و زیرسازی راه آهن رسته راه و ترابری سال 98"}]
[null,{"$f":"IF(desk!F12<>\"\",\"نام پروژه: \"&desk!F12,\"\")","v":""},null,null,null,{"$f":"IF(desk!F13<>\"\",\"نام دستگاه اجرایی: \"&desk!F13,\"\")","v":"نام دستگاه اجرایی: کارفرمای نمونه متن آزمایشی"}]
[null,{"$f":"IF(desk!F15<>\"\",\"نام پیمانکار: \"&desk!F15,\"\")","v":"نام پیمانکار: پیمانکار نمونه متن آزمایشی"},null,null,null,{"$f":"IF(desk!F14<>\"\",\"نام مشاور: \"&desk!F14,\"\")","v":"نام مشاور: مشاور نمونه متن آزمایشی"}]
[null," فصل 1 . عملیات تخریب"]
[null,"شرح ردیف : ",null,null,"تخریب بتن مسلح، با هر عیار سیمان و بریدن میلگردها با استفاده از کمپرسور، چنانچه بخشی از سازه تخریب شود.",null,null,null,null,2965544.3480000002]
[null,"شمـاره رديف آنـاليــز :   010308",null,null,null,null,null,null,null,2965544.3480000002]
[null,"واحـد :   مترمكعب",null," مقدار :            0",null,null,null,null,null,0]
[null,"رديف","کد عامل","نيروي انساني","واحد","مقیاس1","مقدار/مقیاس","بهای واحد عامل","بهاي کل"]
[null,1,13041001,"متصدی کمپرسور","نفر - ساعت",1,5.07,86212.5,437097.375,0]
[null,2,14010102,"كارگر ساده","نفر- ساعت",1,10.270000000000001,70696,726047.92,0]
[null,3,14240601,"چکش گیر (مینور)","نفر- ساعت",1,10.4,90969.1,946078.64000000013,0]
[null,"درصد وزنی",null,null,0.71120000000000005,null,"جمع نيروي انساني",null,2109223.9350000001]
[null,"رديف","کد عامل","ماشين آلات 2","واحد","مقیاس1","مقدار/مقیاس","بهای واحد عامل","بهاي کل"]
[null,1,25040102,"کمپرسور باظرفیت حدود 5 متر مکعب دردقیقه (180 سی اف ام) با شیلنگ مربوط","دستگاه-ساعت",1,5.07,150712.1,764110.34700000007,0]
[null,2,28070101,"بیل","عدد",1,1.3000000000000001E-2,250800,3260.4,0]
[null,3,28070701,"کلنگ دو سر","عدد",1,1.3000000000000001E-2,288800,3754.4000000000005,0]
[null,4,28110101,"چکش دج بر 32 کیلوگرم","دستگاه ساعت",1,5.07,16803.8,85195.266000000003,0]
[null,"درصد وزنی",null,null,0.2888,null,"جمع ماشين آلات ",null,856320.41300000018]
[null," شماره رديف يا رديفهاي معادل :                    010308",null,null,"بهای واحد کار:",null,null,null,2965544.3480000002]
[null," بهای واحد رديف :",null,2965000,"مقايسه پيشنهاد نسبت به برآورد (درصد)  ±",null,null,null,1.8000000000000001E-4]
[null," بهای کل کار:",null,0,"بهای کل کار:",null,null,null,0]
[null,"پ"]
[null," فصل 3 . عملیات خاکی باماشین"]
[null,"شرح ردیف : ",null,null," شخم زدن هرنوع زمين غيرسنگي با وسيله مکانيکي، به عمق تا 15 سانتيمتر ‎.‎",null,null,null,null,770.10879799999998]
[null,"شمـاره رديف آنـاليــز :   030101",null,null,null,null,null,null,null,770.10879799999998]
[null,"واحـد :   متر مربع",null," مقدار :            20",null,null,null,null,null,20]
[null,"رديف","کد عامل","نيروي انساني","واحد","مقیاس1","مقدار/مقیاس","بهای واحد عامل","بهاي کل"]
[null,1,14010101,"سر کارگر","نفر ساعت",1,9.2999999999999995E-4,81272.600000000006,75.583517999999998,1.8599999999999998E-2]
[null,2,14010102,"كارگر ساده","نفر- ساعت",1,9.2999999999999995E-4,70696,65.747279999999989,1.8599999999999998E-2]
[null,3,14240301,"مباشر عملیات خاکی با سابقه بیش از 10 سال","نفر- ساعت",1,4.6000000000000001E-4,196250.6,90.275276000000005,9.1999999999999998E-3]
[null,"درصد وزنی",null,null,0.30070000000000002,null,"جمع نيروي انساني",null,231.60607399999998]
[null,"رديف","کد عامل","ماشين آلات 2","واحد","مقیاس1","مقدار/مقیاس","بهای واحد عامل","بهاي کل"]
[null,1,25010602,"بولدوزر به قدرت حدود 150 اسب بخار با راننده","ساعت",1,4.4000000000000007E-4,505875.5,222.58522000000005,8.8000000000000023E-3]
[null,2,25010902,"گریدر به قدرت حدود180 اسب بخار باراننده","دستگاه-ساعت",1,4.8999999999999998E-4,644729.59999999998,315.91750399999995,9.7999999999999997E-3]
[null,"درصد وزنی",null,null,0.69930000000000003,null,"جمع ماشين آلات ",null,538.50272399999994]
[null," شماره رديف يا رديفهاي معادل :                    030101",null,null,"بهای واحد کار:",null,null,null,770.10879799999998]
[null," بهای واحد رديف :",null,770,"مقايسه پيشنهاد نسبت به برآورد (درصد)  ±",null,null,null,1.3999999999999999E-4]
[null," بهای کل کار:",null,15400,"بهای کل کار:",null,null,null,15402.17596]
[null,"پ"]
[null," فصل 5 . حفاری، شمع کوبی و سپرکوبی"]
[null,"شرح ردیف : ",null,null,"حفاری ماشینی محل شمع، با مقطع دایره ای و به قطر 60 سانتیمتر، به طور عمودی تا عمق 20 متر در زمین هایی که در آن ها 50 =>N باشد، بیرون آوردن مصالح و حمل آن ها به دپو تا فاصله 50 متری مرکز ثقل محل حفاری، با هر وسیله، و تمیزکردن محل عملیات.",null,null,null,null,1520851.2775000001]
[null,"شمـاره رديف آنـاليــز :   050101",null,null,null,null,null,null,null,1520851.2775000001]
[null,"واحـد :   مترطول",null," مقدار :            20",null,null,null,null,null,20]
[null,"رديف","کد عامل","نيروي انساني","واحد","مقیاس1","مقدار/مقیاس","بهای واحد عامل","بهاي کل"]
[null,1,13010402,"جوشکار درجه دو","نفر ساعت",1,0.15,109041.1,16356.165000000001,3]
[null,2,14010102,"كارگر ساده","نفر- ساعت",1,0.65,70696,45952.4,13]
[null,3,14250101,"تکنیسین عملیات حفاری و شمعکوبی","نفر- ساعت",1,0.1,207415.9,20741.59,2]
[null,4,14250201,"حفار درجه یک شمع های درجا","نفر ساعت",1,0.25,163546.5,40886.625,5]
[null,5,14250203,"کمک حفار شمع های درجا","نفر ساعت",1,0.25,92940.6,23235.15,5]
[null,6,14250204,"کارگر حفاری","نفر ساعت",1,0.25,81390.899999999994,20347.724999999999,5]
[null,"درصد وزنی",null,null,0.1101,null,"جمع نيروي انساني",null,167519.655]
[null,"رديف","کد عامل","ماشين آلات 2","واحد","مقیاس1","مقدار/مقیاس","بهای واحد عامل","بهاي کل"]
[null,1,25010802,"لودرچرخ لاستيکي به قدرت حدود150  اسب بخار باراننده","دستگاه-ساعت",1,0.15,552613.80000000005,82892.070000000007,3]
[null,2,25020301,"دستگاه حفاري شمع هاي درجا","دستگاه ساعت",1,0.25,5049402.01,1262350.5024999999,5]
[null,3,26020502,"موتور جوش150 تا250 آمپر","دستگاه ساعت",1,0.15,53927,8089.0499999999993,3]
[null,"درصد وزنی",null,null,0.88990000000000002,null,"جمع ماشين آلات ",null,1353331.6225000001]
[null," شماره رديف يا رديفهاي معادل :                    050101",null,null,"بهای واحد کار:",null,null,null,1520851.2775000001]
[null," بهای واحد رديف :",null,1553000,"مقايسه پيشنهاد نسبت به برآورد (درصد)  ±",null,null,null,-2.07E-2]
[null," بهای کل کار:",null,31060000,"بهای کل کار:",null,null,null,30417025.550000001]
[null,"پ"]
[null," فصل 5 . حفاری، شمع کوبی و سپرکوبی"]
[null,"شرح ردیف : ",null,null,"حفاری ماشینی محل شمع، با مقطع دایره ای و به قطر 60 سانتیمتر، به طور عمودی تا عمق 20 متر در زمین هایی که در آن ها 50 =>N باشد، بیرون آوردن مصالح و حمل آن ها به دپو تا فاصله 50 متری مرکز ثقل محل حفاری، با هر وسیله، و تمیزکردن محل عملیات.",null,null,null,null,1520851.2775000001]
[null,"شمـاره رديف آنـاليــز :   050101",null,null,null,null,null,null,null,1520851.2775000001]
[null,"واحـد :   مترطول",null,{"$error":"#N/A"},null,null,null,null,null,{"$error":"#N/A"}]
[null,"رديف","کد عامل","نيروي انساني","واحد","مقیاس1","مقدار/مقیاس","بهای واحد عامل","بهاي کل"]
[null,1,13010402,"جوشکار درجه دو","نفر ساعت",1,0.15,109041.1,16356.165000000001,{"$error":"#N/A"}]
[null,2,14010102,"كارگر ساده","نفر- ساعت",1,0.65,70696,45952.4,{"$error":"#N/A"}]
[null,3,14250101,"تکنیسین عملیات حفاری و شمعکوبی","نفر- ساعت",1,0.1,207415.9,20741.59,{"$error":"#N/A"}]
[null,4,14250201,"حفار درجه یک شمع های درجا","نفر ساعت",1,0.25,163546.5,40886.625,{"$error":"#N/A"}]
[null,5,14250203,"کمک حفار شمع های درجا","نفر ساعت",1,0.25,92940.6,23235.15,{"$error":"#N/A"}]
[null,6,14250204,"کارگر حفاری","نفر ساعت",1,0.25,81390.899999999994,20347.724999999999,{"$error":"#N/A"}]
[null,"درصد وزنی",null,null,0.1101,null,"جمع نيروي انساني",null,167519.655]
[null,"رديف","کد عامل","ماشين آلات 2","واحد","مقیاس1","مقدار/مقیاس","بهای واحد عامل","بهاي کل"]
[null,1,25010802,"لودرچرخ لاستيکي به قدرت حدود150  اسب بخار باراننده","دستگاه-ساعت",1,0.15,552613.80000000005,82892.070000000007,{"$error":"#N/A"}]
[null,2,25020301,"دستگاه حفاري شمع هاي درجا","دستگاه ساعت",1,0.25,5049402.01,1262350.5024999999,{"$error":"#N/A"}]
[null,3,26020502,"موتور جوش150 تا250 آمپر","دستگاه ساعت",1,0.15,53927,8089.0499999999993,{"$error":"#N/A"}]
[null,"درصد وزنی",null,null,0.88990000000000002,null,"جمع ماشين آلات ",null,1353331.6225000001]
[null," شماره رديف يا رديفهاي معادل :                    050101",null,null,"بهای واحد کار:",null,null,null,1520851.2775000001]
[null," بهای واحد رديف :",null,{"$error":"#N/A"},"مقايسه پيشنهاد نسبت به برآورد (درصد)  ±",null,null,null,{"$error":"#N/A"}]
[null," بهای کل کار:",null,{"$error":"#N/A"},"بهای کل کار:",null,null,null,{"$error":"#N/A"}]
[null,"پ"]

{"sheet":"desk","index":6,"n_rows":15,"n_cols":6,"rows_kept":15,"cut":false,"hidden":true,"merged":[]}
[null,null,{"$f":"COUNTA(B:B)","v":0}]
[]
[]
[]
[]
[]
[]
[]
[]
[]
[]
[null,null,null,null,"پروژه:"]
[null,null,null,null,"دستگاه اجرایی:","کارفرمای نمونه متن آزمایشی"]
[null,null,null,null,"نام مشاور:","مشاور نمونه متن آزمایشی"]
[null,null,null,null,"نام پیمانکار:","پیمانکار نمونه متن آزمایشی"]